{"text_format":"1","workbook":"xlsx","n_sheets":35,"sheets":["Home","Results","ResultsF","Points","Mens Hammer","Mens Discus","Mens Javelin","Mens Shot","Mens LJ","Mens TJ","Mens HJ","Mens PV","Womens Hammer","Womens Discus","Womens Javelin","Womens Shot","Womens LJ","Womens TJ","Womens HJ","Womens PV","Scores","Rounds","Declarations (M)","Declarations (F)","Match Day","Handbook","Track Lists","Track Lists (F)","Relay Lists","Relay Lists (F)","M_1500m","M_3000sc","M_5000m","F_1500m","F_3000m"],"not_rendered":{"charts":0,"images":1,"macros":1,"external_links":1,"defined_names":116,"comments":0,"pivot_tables":0},"unopened":[],"bounds":{"document_bytes":16777216,"sheet_cells":100000,"rows_first":2000,"rows_last":500,"rows_between":2000,"halvings":0,"cell_chars":16384,"cell_head_chars":4096},"cells_cut":0,"cells_raw":0,"read":"whole","date_system":"1900"}

{"sheet":"Home","index":0,"n_rows":36,"n_cols":37,"rows_kept":36,"cut":false,"hidden":false,"merged":[[7,39,7,40],[5,29,7,29],[5,30,7,30],[6,18,6,20],[5,24,7,24],[5,25,7,25],[5,18,5,20],[7,18,7,20],[7,33,7,35],[6,32,6,36],[6,27,6,28],[7,27,7,28],[5,32,5,36],[24,32,24,36],[26,10,26,13],[15,1,15,8],[16,1,16,8],[26,1,26,8],[18,1,18,8],[20,1,20,8],[19,1,19,8],[24,1,24,8],[25,1,25,8],[21,1,21,8],[22,1,22,8],[21,10,21,13],[20,10,20,13],[23,10,23,13],[24,10,24,13],[16,10,16,13],[0,1,0,8],[1,1,1,8],[21,32,21,36],[17,33,17,35],[11,33,11,35],[12,33,12,35],[14,33,14,35],[29,1,29,8],[25,10,25,13],[22,32,22,36],[16,33,16,35],[13,33,13,35],[27,1,27,8],[23,32,23,36],[20,32,20,36],[19,32,19,36],[23,1,23,8],[12,10,12,13],[13,10,13,13],[17,10,17,13],[18,10,18,13],[11,10,11,13],[15,10,15,13],[14,10,14,13],[0,32,0,36],[1,32,1,36],[3,32,3,36],[4,32,4,36],[2,32,2,36],[8,33,8,35],[9,33,9,35],[10,33,10,35],[3,10,3,30],[4,10,4,30],[6,22,6,23],[5,10,6,13],[8,10,8,13],[5,14,5,16],[7,14,7,16],[7,22,7,23],[5,27,5,28],[0,10,0,30],[1,10,1,30],[6,14,6,16],[2,1,2,8],[3,1,3,8],[4,1,4,8],[5,22,5,23],[2,10,2,30],[5,1,5,8],[6,1,6,8],[32,23,32,27],[36,23,36,26],[30,23,30,27],[31,23,31,27],[33,23,33,27],[34,23,34,27],[35,23,35,27],[8,1,8,8],[12,1,12,8],[13,1,13,8],[9,1,9,8],[10,1,10,8],[11,1,11,8],[14,1,14,8],[30,1,30,8],[31,1,31,8],[28,1,28,8],[34,10,34,13],[35,10,35,13],[33,10,33,13],[32,10,32,13],[9,10,9,13],[10,10,10,13],[7,10,7,13],[19,10,19,13],[22,10,22,13],[30,10,30,13],[31,10,31,13]]}
[null,{"$f":"'Match Day'!I4","v":"Northern T&F League"},null,null,null,null,null,null,null,null,{"$f":"CONCATENATE('Match Day'!I8,\" \",'Match Day'!I10,\"  - \",'Match Day'!I12)","v":"Division 4W Match 1  - Litherland"},null,null,null,null,null,null,null,null,null,null,null,null,null,null,null,null,null,null,null,null,null,{"$f":"'Match Day'!I6","v":"2014-05-04"}]
[null,"DECLARATIONS",null,null,null,null,null,null,null,null,"START LISTS, FIELD CARDS AND RESULTS",null,null,null,null,null,null,null,null,null,null,null,null,null,null,null,null,null,null,null,null,null,"POINTS AT A GLANCE"]
[null,"Select from the list below",null,null,null,null,null,null,null,null,"To PRINT out START LISTS or FIELD CARDS click on a YELLOW or ORANGE coloured box",null,null,null,null,null,null,null,null,null,null,null,null,null,null,null,null,null,null,null,null,null,"Click coloured box"]
[null,"the club whose athletes",null,null,null,null,null,null,null,null,"To VIEW START LISTS, FIELD CARDS or RESULTS click on the appropriate BLUE box",null,null,null,null,null,null,null,null,null,null,null,null,null,null,null,null,null,null,null,null,null," below to"]
[null,"you wish to DECLARE",null,null,null,null,null,null,null,null,"To process RESULTS click on X to access the Results Area or Field Card",null,null,null,null,null,null,null,null,null,null,null,null,null,null,null,null,null,null,null,null,null,"sort Clubs in"]
[null,"or AMEND",null,null,null,null,null,null,null,null,"EVENT",null,null,null,"Start Lists",null,null,null,"Start Lists",null,null,null,"Process",null,"  Print","    View",null,"Process",null,"  Print","    View",null," descending order"]
[null,"Teams ",null,null,null,null,null,null,null,null,null,null,null,null,"Field Cards",null,null,null,"Field Cards",null,null,null,"Results",null,null,null,null,"Results",null,null,null,null,"of points"]
[null,null,null,null,null,null,null,null,null,null,null,null,null,null,"Men's Match",null,null,null,"Women's Match",null,null,null,"Men",null,null,null,null,"Women",null,null,null,null,1,{"$f":"Scores!B6","v":""},null,null,{"$f":"Scores!C6","v":""}]
[null,"MALE TEAMS",null,null,null,null,null,null,null,null,"100m",null,null,null,null,null,null,null,null,null,null,null,"X",{"$f":"IF(OR(Results!G4<>\"\",Results!D4<>\"\"),\"þ\",\"\")","v":""},null,null,null,"X",{"$f":"IF(OR(ResultsF!G4<>\"\",ResultsF!D4<>\"\"),\"þ\",\"\")","v":""},null,null,null,2,{"$f":"Scores!B7","v":""},null,null,{"$f":"Scores!C7","v":""}]
[null,{"$f":"'Match Day'!C4","v":"Altrincham & District AC"},null,null,null,null,null,null,null,null,"200m",null,null,null,null,null,null,null,null,null,null,null,"X",{"$f":"IF(OR(Results!G14<>\"\",Results!D14<>\"\"),\"þ\",\"\")","v":""},null,null,null,"X",{"$f":"IF(OR(ResultsF!G14<>\"\",ResultsF!D14<>\"\"),\"þ\",\"\")","v":""},null,null,null,3,{"$f":"Scores!B8","v":""},null,null,{"$f":"Scores!C8","v":""}]
[null,{"$f":"'Match Day'!C6","v":"Crewe & Nantwich AC"},null,null,null,null,null,null,null,null,"400m",null,null,null,null,null,null,null,null,null,null,null,"X",{"$f":"IF(OR(Results!G24<>\"\",Results!D24<>\"\"),\"þ\",\"\")","v":""},null,null,null,"X",{"$f":"IF(OR(ResultsF!G24<>\"\",ResultsF!D24<>\"\"),\"þ\",\"\")","v":""},null,null,null,4,{"$f":"Scores!B9","v":""},null,null,{"$f":"Scores!C9","v":""}]
[null,{"$f":"'Match Day'!C8","v":"Isle of Man \"B\""},null,null,null,null,null,null,null,null,"800m",null,null,null,null,null,null,null,null,null,null,null,"X",{"$f":"IF(OR(Results!G34<>\"\",Results!D34<>\"\"),\"þ\",\"\")","v":""},null,null,null,"X",{"$f":"IF(OR(ResultsF!G34<>\"\",ResultsF!D34<>\"\"),\"þ\",\"\")","v":""},null,null,null,5,{"$f":"Scores!B10","v":""},null,null,{"$f":"Scores!C10","v":""}]
[null,{"$f":"'Match Day'!C10","v":"Salford Metropolitan AC"},null,null,null,null,null,null,null,null,"1500m",null,null,null,null,null,null,null,null,null,null,null,"X",{"$f":"IF(OR(Results!G44<>\"\",Results!D44<>\"\"),\"þ\",\"\")","v":""},null,null,null,"X",{"$f":"IF(OR(ResultsF!G44<>\"\",ResultsF!D44<>\"\"),\"þ\",\"\")","v":""},null,null,null,6,{"$f":"Scores!B11","v":""},null,null,{"$f":"Scores!C11","v":""}]
[null,{"$f":"'Match Day'!C12","v":"Southport Waterloo AC"},null,null,null,null,null,null,null,null,"3000m S/Chase",null,null,null,null,null,null,null,null,null,null,null,"X",{"$f":"IF(OR(Results!G54<>\"\",Results!D54<>\"\"),\"þ\",\"\")","v":""},null,null,null,null,null,null,null,null,7,{"$f":"Scores!B12","v":""},null,null,{"$f":"Scores!C12","v":""}]
[null,{"$f":"'Match Day'!C14","v":"Warrington AC"},null,null,null,null,null,null,null,null,"5000m/3000m",null,null,null,null,null,null,null,null,null,null,null,"X",{"$f":"IF(OR(Results!G64<>\"\",Results!D64<>\"\"),\"þ\",\"\")","v":""},null,null,null,"X",{"$f":"IF(OR(ResultsF!G64<>\"\",ResultsF!D64<>\"\"),\"þ\",\"\")","v":""},null,null,null,8,{"$f":"Scores!B13","v":""},null,null,{"$f":"Scores!C13","v":""}]
[null,{"$f":"'Match Day'!C16","v":"Wrexham AAC"},null,null,null,null,null,null,null,null,"400m Hurdles",null,null,null,null,null,null,null,null,null,null,null,"X",{"$f":"IF(OR(Results!G74<>\"\",Results!D74<>\"\"),\"þ\",\"\")","v":""},null,null,null,"X",{"$f":"IF(OR(ResultsF!G74<>\"\",ResultsF!D74<>\"\"),\"þ\",\"\")","v":""},null,null,null,null,"Unused Team",null,null,{"$f":"Points!$S$48","v":0}]
[null,{"$f":"'Match Day'!C18","v":" "},null,null,null,null,null,null,null,null,"110m/100m Hurdles",null,null,null,null,null,null,null,null,null,null,null,"X",{"$f":"IF(OR(Results!G84<>\"\",Results!D84<>\"\"),\"þ\",\"\")","v":""},null,null,null,"X",{"$f":"IF(OR(ResultsF!G84<>\"\",ResultsF!D84<>\"\"),\"þ\",\"\")","v":""},null,null,null,null,"Officials Points",null,null,{"$f":"Points!$S$49","v":0}]
[null,null,null,null,null,null,null,null,null,null,"Hammer",null,null,null,null,null,null,null,null,null,null,null,"X",{"$f":"IF(OR(Results!G94<>\"\",Results!D94<>\"\"),\"þ\",\"\")","v":""},null,null,null,"X",{"$f":"IF(OR(ResultsF!G94<>\"\",ResultsF!D94<>\"\"),\"þ\",\"\")","v":""},null,null,null,null,"TOTAL",null,null,{"$f":"Points!$U$50","v":0}]
[null,"FEMALE TEAMS",null,null,null,null,null,null,null,null,"Discus",null,null,null,null,null,null,null,null,null,null,null,"X",{"$f":"IF(OR(Results!G104<>\"\",Results!D104<>\"\"),\"þ\",\"\")","v":""},null,null,null,"X",{"$f":"IF(OR(ResultsF!G104<>\"\",ResultsF!D104<>\"\"),\"þ\",\"\")","v":""}]
[null,{"$f":"'Match Day'!C4","v":"Altrincham & District AC"},null,null,null,null,null,null,null,null,"Javelin",null,null,null,null,null,null,null,null,null,null,null,"X",{"$f":"IF(OR(Results!G114<>\"\",Results!D114<>\"\"),\"þ\",\"\")","v":""},null,null,null,"X",{"$f":"IF(OR(ResultsF!G114<>\"\",ResultsF!D114<>\"\"),\"þ\",\"\")","v":""}]
[null,{"$f":"'Match Day'!C6","v":"Crewe & Nantwich AC"},null,null,null,null,null,null,null,null,"Shot",null,null,null,null,null,null,null,null,null,null,null,"X",{"$f":"IF(OR(Results!G124<>\"\",Results!D124<>\"\"),\"þ\",\"\")","v":""},null,null,null,"X",{"$f":"IF(OR(ResultsF!G124<>\"\",ResultsF!D124<>\"\"),\"þ\",\"\")","v":""},null,null,null,"EVENTS"]
[null,{"$f":"'Match Day'!C8","v":"Isle of Man \"B\""},null,null,null,null,null,null,null,null,"Long Jump",null,null,null,null,null,null,null,null,null,null,null,"X",{"$f":"IF(OR(Results!G134<>\"\",Results!D134<>\"\"),\"þ\",\"\")","v":""},null,null,null,"X",{"$f":"IF(OR(ResultsF!G134<>\"\",ResultsF!D134<>\"\"),\"þ\",\"\")","v":""},null,null,null,"Scored"]
[null,{"$f":"'Match Day'!C10","v":"Salford Metropolitan AC"},null,null,null,null,null,null,null,null,"Triple Jump",null,null,null,null,null,null,null,null,null,null,null,"X",{"$f":"IF(OR(Results!G144<>\"\",Results!D144<>\"\"),\"þ\",\"\")","v":""},null,null,null,"X",{"$f":"IF(OR(ResultsF!G144<>\"\",ResultsF!D144<>\"\"),\"þ\",\"\")","v":""},null,null,null,{"$f":"Points!$X$24+Points!$X$45","v":0}]
[null,{"$f":"'Match Day'!C12","v":"Southport Waterloo AC"},null,null,null,null,null,null,null,null,"High Jump",null,null,null,null,null,null,null,null,null,null,null,"X",{"$f":"IF(OR(Results!G154<>\"\",Results!D154<>\"\"),\"þ\",\"\")","v":""},null,null,null,"X",{"$f":"IF(OR(ResultsF!G154<>\"\",ResultsF!D154<>\"\"),\"þ\",\"\")","v":""},null,null,null,"Events Left"]
[null,{"$f":"'Match Day'!C14","v":"Warrington AC"},null,null,null,null,null,null,null,null,"Pole Vault",null,null,null,null,null,null,null,null,null,null,null,"X",{"$f":"IF(OR(Results!G164<>\"\",Results!D164<>\"\"),\"þ\",\"\")","v":""},null,null,null,"X",{"$f":"IF(OR(ResultsF!G164<>\"\",ResultsF!D164<>\"\"),\"þ\",\"\")","v":""},null,null,null,{"$f":"19+18-AG23","v":37}]
[null,{"$f":"'Match Day'!C16","v":"Wrexham AAC"},null,null,null,null,null,null,null,null,"4x 100m Relay",null,null,null,null,null,null,null,null,null,null,null,"X",{"$f":"IF(OR(Results!G174<>\"\",Results!D174<>\"\"),\"þ\",\"\")","v":""},null,null,null,"X",{"$f":"IF(OR(ResultsF!G174<>\"\",ResultsF!D174<>\"\"),\"þ\",\"\")","v":""}]
[null,{"$f":"'Match Day'!C18","v":" "},null,null,null,null,null,null,null,null,"4x 400m Relay",null,null,null,null,null,null,null,null,null,null,null,"X",{"$f":"IF(OR(Results!G184<>\"\",Results!D184<>\"\"),\"þ\",\"\")","v":""},null,null,null,"X",{"$f":"IF(OR(ResultsF!G184<>\"\",ResultsF!D184<>\"\"),\"þ\",\"\")","v":""}]
[null,null,null,null,null,null,null,null,null,null,"ALL"]
[null,"IN CASE OF EMERGENCY"]
[null,"07920 056324 / 07507 853112",null,null,null,null,null,null,null,null,"Completed Results Pages (Composite Sheets for Result Packs)"]
[null,"Click box below to enter ",null,null,null,null,null,null,null,null,"Results Page 1M",null,null,null,{"$f":"IF(OR(Results!F4=\"\",Results!F14=\"\",Results!F24=\"\",Results!F34=\"\",Results!F44=\"\",Results!F54=\"\"),\"\",\"þ\")","v":""},null,null,null,null,null,null,null,null,"Results Page 1F",null,null,null,null,{"$f":"IF(OR(ResultsF!F4=\"\",ResultsF!F14=\"\",ResultsF!F24=\"\",ResultsF!F34=\"\",ResultsF!F44=\"\",ResultsF!F64=\"\"),\"\",\"þ\")","v":""}]
[null,null,null,null,null,null,null,null,null,null,"Results Page 2M",null,null,null,{"$f":"IF(OR(Results!F64=\"\",Results!F74=\"\",Results!F84=\"\",Results!F94=\"\",Results!F104=\"\",Results!F114=\"\"),\"\",\"þ\")","v":""},null,null,null,null,null,null,null,null,"Results Page 2F",null,null,null,null,{"$f":"IF(OR(ResultsF!F74=\"\",ResultsF!F84=\"\",ResultsF!F94=\"\",ResultsF!F104=\"\",ResultsF!F114=\"\",ResultsF!F124=\"\"),\"\",\"þ\")","v":""}]
[null,null,null,null,null,null,null,null,null,null,"Results Page 3M",null,null,null,{"$f":"IF(OR(Results!F124=\"\",Results!F134=\"\",Results!F144=\"\",Results!F154=\"\",Results!F164=\"\",Results!F174=\"\"),\"\",\"þ\")","v":""},null,null,null,null,null,null,null,null,"Results Page 3F",null,null,null,null,{"$f":"IF(OR(ResultsF!F134=\"\",ResultsF!F144=\"\",ResultsF!F154=\"\",ResultsF!F164=\"\",ResultsF!F174=\"\",ResultsF!F184=\"\"),\"\",\"þ\")","v":""}]
[null,null,null,null,null,null,null,null,null,null,"Results Page 4M",null,null,null,{"$f":"IF(OR(Results!F184=\"\"),\"\",\"þ\")","v":""},null,null,null,null,null,null,null,null,"Results Page 4F",null,null,null,null,{"$f":"IF(OR(ResultsF!F194=\"\"),\"\",\"þ\")","v":""}]
[null,null,null,null,null,null,null,null,null,null,"Results Men's",null,null,null,{"$f":"IF(OR(Results!F4=\"\",Results!F14=\"\",Results!F24=\"\",Results!F34=\"\",Results!F44=\"\",Results!F54=\"\",Results!F64=\"\",Results!F74=\"\",Results!F84=\"\",Results!F94=\"\",Results!F104=\"\",Results!F114=\"\",Results!F124=\"\",Results!F134=\"\",Results!F144=\"\",Results!F154=\"\",Results!F164=\"\",Results!F174=\"\",Results!F184=\"\"),\"\",\"þ\")","v":""},null,null,null,null,null,null,null,null,"Results Women's",null,null,null,null,{"$f":"IF(OR(ResultsF!F4=\"\",ResultsF!F14=\"\",ResultsF!F24=\"\",ResultsF!F34=\"\",ResultsF!F44=\"\",ResultsF!F64=\"\",ResultsF!F74=\"\",ResultsF!F84=\"\",ResultsF!F94=\"\",ResultsF!F104=\"\",ResultsF!F114=\"\",ResultsF!F124=\"\",ResultsF!F134=\"\",ResultsF!F144=\"\",ResultsF!F154=\"\",ResultsF!F164=\"\",ResultsF!F174=\"\",ResultsF!F184=\"\"),\"\",\"þ\")","v":""}]
[null,null,null,null,null,null,null,null,null,null,"Scorecard",null,null,null,{"$f":"IF(OR(Results!F4=\"\",Results!F14=\"\",Results!F24=\"\",Results!F34=\"\",Results!F44=\"\",Results!F54=\"\",Results!F64=\"\",Results!F74=\"\",Results!F84=\"\",Results!F94=\"\",Results!F104=\"\",Results!F114=\"\",Results!F124=\"\",Results!F134=\"\",Results!F144=\"\",Results!F154=\"\",Results!F164=\"\",Results!F174=\"\",Results!F184=\"\"),\"\",\"þ\")","v":""},null,null,null,null,null,null,null,null,null,null,null,null,null,{"$f":"IF(OR(Results!S175=\"\",Results!S185=\"\"),\"\",\"þ\")","v":""}]

{"sheet":"Results","index":1,"n_rows":212,"n_cols":47,"rows_kept":212,"cut":false,"hidden":false,"merged":[[196,14,196,15],[197,14,197,15],[198,14,198,15],[199,14,199,15],[201,5,201,6],[200,14,200,15],[203,4,203,6],[203,14,203,15],[194,5,194,6],[195,5,195,6],[196,5,196,6],[197,5,197,6],[198,5,198,6],[199,5,199,6],[201,14,201,15],[190,8,190,12],[190,13,190,15],[188,8,188,12],[188,13,188,15],[189,8,189,12],[187,8,187,12],[187,13,187,15],[200,5,200,6],[161,13,161,15],[180,13,180,15],[162,4,162,6],[162,14,162,15],[171,8,171,12],[189,13,189,15],[185,8,185,12],[161,8,161,12],[183,8,183,12],[185,13,185,15],[186,8,186,12],[186,13,186,15],[178,8,178,12],[193,14,193,15],[194,14,194,15],[195,14,195,15],[1,42,1,44],[161,16,161,18],[182,4,182,16],[184,8,184,12],[184,13,184,15],[183,13,183,15],[171,13,171,15],[172,4,172,16],[141,8,141,12],[141,13,141,15],[142,4,142,6],[142,14,142,15],[151,8,151,12],[151,13,151,15],[152,4,152,6],[152,14,152,15],[171,16,171,18],[32,14,32,15],[12,14,12,15],[22,14,22,15],[92,14,92,15],[111,13,111,15],[42,14,42,15],[62,14,62,15],[52,14,52,15],[132,4,132,6],[132,14,132,15],[42,4,42,6],[111,8,111,12],[72,4,72,6],[82,4,82,6],[131,8,131,12],[22,4,22,6],[32,4,32,6],[92,4,92,6],[102,4,102,6],[52,4,52,6],[62,4,62,6],[172,17,172,18],[121,8,121,12],[1,31,1,32],[122,4,122,6],[1,29,1,30],[2,14,2,15],[101,8,101,12],[101,13,101,15],[131,16,131,18],[151,16,151,18],[141,16,141,18],[121,16,121,18],[82,14,82,15],[72,14,72,15],[101,16,101,18],[131,13,131,15],[111,16,111,18],[102,14,102,15],[122,14,122,15],[2,4,2,6],[12,4,12,6],[121,13,121,15],[112,4,112,6],[112,14,112,15],[0,38,1,41],[0,31,0,34],[0,27,0,30],[0,16,0,18],[1,33,1,34],[1,14,1,15],[1,27,1,28],[1,4,1,7],[0,7,0,15],[0,4,0,6],[182,17,182,18],[178,13,178,15],[181,16,181,18],[173,8,173,12],[173,13,173,15],[174,8,174,12],[174,13,174,15],[180,8,180,12],[175,8,175,12],[179,8,179,12],[181,8,181,12],[181,13,181,15],[177,13,177,15],[175,13,175,15],[176,8,176,12],[176,13,176,15],[177,8,177,12],[179,13,179,15]]}
[null,null,null,null,"Home",null,null,{"$f":"'Match Day'!I4","v":"Northern T&F League"},null,null,null,null,null,null,null,null,"Home",null,null,null,null,null,null,null,null,null,null,"Grades",null,null,null,"Points",null,null,null,null,null,null,"Enter Club Letter, Performance and any Wind Readings in the Yellow Boxes. Times for 800m and above should be entered as mm:ss.0 Otherwise use ss.0"]
[null,null,null,null,{"$f":"CONCATENATE('Match Day'!I8,\" \",'Match Day'!I10,\" - \",'Match Day'!I12)","v":"Division 4W Match 1 - Litherland"},null,null,null,"Perf","Record","Wind","AW",null,null,{"$f":"'Match Day'!I6","v":"2014-05-04"},null,null,"Perf","Wind","AW","Prints","Record","Division","Grade 1","Grade 2","Grade 3","T/F","A String",null,"B String",null,"A String",null,"B String",null,"Row",null,"Validation",null,null,null,null,"Points"]
[null,null,null,null,{"$f":"CONCATENATE(VLOOKUP(A4,mens_handbook,3,FALSE),\" A\")","v":"Men's 100m A"},null,null,{"$f":"IF(A4=\"\",\"\",IF(VLOOKUP(A4,Handbook!$A$4:$AI$24,35,FALSE)=\"Y\",\"Wind=\",\"\"))","v":"Wind="},null,null,null,null,null,null,{"$f":"CONCATENATE(VLOOKUP(A4,mens_handbook,3,FALSE),\" B\")","v":"Men's 100m B"},{"$f":"CONCATENATE(VLOOKUP(M4,Handbook!$A$4:$C$24,3,FALSE),\" A\")","v":{"$error":"#N/A"}},{"$f":"H3","v":"Wind="},null,null,null,null,{"$f":"IF($A4=\"\",\"\",VLOOKUP($A4,Handbook!$A$4:$V$24,21,FALSE))","v":10.6},{"$f":"IF($A4=\"\",\"\",VLOOKUP($A4,Handbook!$A$4:$V$24,22,FALSE))","v":10.6},{"$f":"IF($A4=\"\",\"\",VLOOKUP($A4,Handbook!$A$4:$W$24,23,FALSE))","v":11.5},{"$f":"IF($A4=\"\",\"\",VLOOKUP($A4,Handbook!$A$4:$X$24,24,FALSE))","v":11.3},{"$f":"IF($A4=\"\",\"\",VLOOKUP($A4,Handbook!$A$4:$Y$24,25,FALSE))","v":11.3},{"$f":"IF($A4=\"\",\"\",VLOOKUP($A4,Handbook!$A$4:$AH$24,34,FALSE))","v":"T"},null,null,null,null,null,null,null,null,3,null,null,null,null,null,null,null,"A","B"]
[3,null,{"$f":"IF(F4=\"\",\"\",IF(F4>10,F4/11,F4))","v":""},{"$f":"IF(O4=\"\",\"\",IF(O4>10,O4/11,O4))","v":""},1,null,{"$f":"IF($F4=\"\",\"\",IF($F4>90,VLOOKUP(F4,eventcodes,2,FALSE),HLOOKUP(F4,mens_declare,B6,FALSE)))","v":""},{"$f":"IF($F4=\"\",\"\",IF($F4>90,\"\",VLOOKUP(C4,matchday,2,FALSE)))","v":""},null,{"$f":"IF(I4=\"\",\"\",IF(AA3=\"T\",V4,V5))","v":""},null,{"$f":"IF(AA3=\"T\",AB4,AC4)","v":""},null,1,null,{"$f":"IF($O4=\"\",\"\",HLOOKUP(O4,mens_declare,B6,FALSE))","v":""},{"$f":"IF($O4=\"\",\"\",VLOOKUP(D4,matchday,2,FALSE))","v":""},null,null,{"$f":"IF(AA3=\"T\",AD4,AE4)","v":""},null,{"$f":"IF(AA3=\"F\",\"\",IF(I4<V3,\"LR\",IF(I4=V3,\"=LR\",IF(I4<W3,\"DR\",IF(I4=W3,\"=DR\",\"\")))))","v":"LR"},null,null,null,null,null,{"$f":"IF(I4=\"\",\"\",IF(AA3=\"F\",\"\",IF(AA3=\"T\",IF(I4<=X3,\"þ\",IF(I4<=Y3,\"G2\",IF(I4<=Z3,\"G3\",\"\"))))))","v":""},{"$f":"IF(I4=\"\",\"\",IF(AA3=\"T\",\"\",IF(AA3=\"F\",IF(I4>=X3,\"þ\",IF(I4>=Y3,\"G2\",IF(I4>=Z3,\"G3\",\"\"))))))","v":""},{"$f":"IF(R4=\"\",\"\",IF(AA3=\"F\",\"\",IF(AA3=\"T\",IF(R4<=X3,\"þ\",IF(R4<=Y3,\"G2\",IF(R4<=Z3,\"G3\",\"\"))))))","v":""},{"$f":"IF(R4=\"\",\"\",IF(AA3=\"T\",\"\",IF(AA3=\"F\",IF(R4>=X3,\"þ\",IF(R4>=Y3,\"G2\",IF(R4>=Z3,\"G3\",\"\"))))))","v":""},{"$f":"C4","v":""},{"$f":"IF(F4=\"\",\"\",IF(LEFT(I4,1)=\"D\",0,VLOOKUP(E4,$AQ$4:$AR$40,2,FALSE)))","v":""},{"$f":"D4","v":""},{"$f":"IF(O4=\"\",\"\",IF(LEFT(R4,1)=\"D\",0,VLOOKUP(N4,$AQ$4:$AS$40,3,FALSE)))","v":""},4,null,{"$f":"'Match Day'!B4","v":1},null,null,null,null,"Posn","Points","Points"]
[null,{"$f":"VLOOKUP(A4,Handbook!$A$4:$AK$24,37,FALSE)","v":4},{"$f":"IF(F5=\"\",\"\",IF(F5>10,F5/11,F5))","v":""},{"$f":"IF(O5=\"\",\"\",IF(O5>10,O5/11,O5))","v":""},2,null,{"$f":"IF($F5=\"\",\"\",HLOOKUP(F5,mens_declare,B6,FALSE))","v":""},{"$f":"IF($F5=\"\",\"\",VLOOKUP(C5,matchday,2,FALSE))","v":""},null,{"$f":"IF(I5=\"\",\"\",IF(AND(AA3=\"T\",I5<I4),\"X\",IF(AND(AA3=\"F\",I5>I4),\"X\",\"\")))","v":""},null,{"$f":"IF(AA3=\"T\",AB5,AC5)","v":""},null,2,null,{"$f":"IF($O5=\"\",\"\",HLOOKUP(O5,mens_declare,B6,FALSE))","v":""},"",null,{"$f":"IF(R5=\"\",\"\",IF(AND(AA3=\"T\",R5<R4),\"X\",IF(AND(AA3=\"F\",R5>R4),\"X\",\"\")))","v":""},{"$f":"IF(AA3=\"T\",AD5,AE5)","v":""},null,{"$f":"IF(AA3=\"T\",\"\",IF(I4>V3,\"LR\",IF(I4=V3,\"=LR\",IF(I4>W3,\"DR\",IF(I4=W3,\"=DR\",\"\")))))","v":""},null,null,null,null,null,{"$f":"IF(I5=\"\",\"\",IF(AA3=\"F\",\"\",IF(AA3=\"T\",IF(I5<=X3,\"þ\",IF(I5<=Y3,\"G2\",IF(I5<=Z3,\"G3\",\"\"))))))","v":""},{"$f":"IF(I5=\"\",\"\",IF(AA3=\"T\",\"\",IF(AA3=\"F\",IF(I5>=X3,\"þ\",IF(I5>=Y3,\"G2\",IF(I5>=Z3,\"G3\",\"\"))))))","v":""},{"$f":"IF(R5=\"\",\"\",IF(AA3=\"F\",\"\",IF(AA3=\"T\",IF(R5<=X3,\"þ\",IF(R5<=Y3,\"G2\",IF(R5<=Z3,\"G3\",\"\"))))))","v":""},{"$f":"IF(R5=\"\",\"\",IF(AA3=\"T\",\"\",IF(AA3=\"F\",IF(R5>=X3,\"þ\",IF(R5>=Y3,\"G2\",IF(R5>=Z3,\"G3\",\"\"))))))","v":""},{"$f":"C5","v":""},"",{"$f":"D5","v":""},"",5,null,{"$f":"'Match Day'!B6","v":2},null,null,null,null,1,{"$f":"'Match Day'!C23","v":10},{"$f":"'Match Day'!D23","v":8}]
[null,{"$f":"VLOOKUP(A4,mens_declare,20,FALSE)","v":3},"","",3,null,{"$f":"IF($F6=\"\",\"\",HLOOKUP(F6,mens_declare,B6,FALSE))","v":""},"",null,{"$f":"IF(I6=\"\",\"\",IF(AND(AA3=\"T\",I6<I5),\"X\",IF(AND(AA3=\"F\",I6>I5),\"X\",\"\")))","v":""},null,{"$f":"IF(AA3=\"T\",AB6,AC6)","v":""},null,3,null,{"$f":"IF($O6=\"\",\"\",HLOOKUP(O6,mens_declare,B6,FALSE))","v":""},"",null,{"$f":"IF(R6=\"\",\"\",IF(AND(AA3=\"T\",R6<R5),\"X\",IF(AND(AA3=\"F\",R6>R5),\"X\",\"\")))","v":""},{"$f":"IF(AA3=\"T\",AD6,AE6)","v":""},null,null,null,null,null,null,null,{"$f":"IF(I6=\"\",\"\",IF(AA3=\"F\",\"\",IF(AA3=\"T\",IF(I6<=X3,\"þ\",IF(I6<=Y3,\"G2\",IF(I6<=Z3,\"G3\",\"\"))))))","v":""},{"$f":"IF(I6=\"\",\"\",IF(AA3=\"T\",\"\",IF(AA3=\"F\",IF(I6>=X3,\"þ\",IF(I6>=Y3,\"G2\",IF(I6>=Z3,\"G3\",\"\"))))))","v":""},{"$f":"IF(R6=\"\",\"\",IF(AA3=\"F\",\"\",IF(AA3=\"T\",IF(R6<=X3,\"þ\",IF(R6<=Y3,\"G2\",IF(R6<=Z3,\"G3\",\"\"))))))","v":""},{"$f":"IF(R6=\"\",\"\",IF(AA3=\"T\",\"\",IF(AA3=\"F\",IF(R6>=X3,\"þ\",IF(R6>=Y3,\"G2\",IF(R6>=Z3,\"G3\",\"\"))))))","v":""},"","","","",6,null,{"$f":"'Match Day'!B8","v":3},null,null,null,null,2,{"$f":"'Match Day'!C24","v":8},{"$f":"'Match Day'!D24","v":6}]
[null,null,"","",4,null,{"$f":"IF($F7=\"\",\"\",HLOOKUP(F7,mens_declare,B6,FALSE))","v":""},"",null,{"$f":"IF(I7=\"\",\"\",IF(AND(AA3=\"T\",I7<I6),\"X\",IF(AND(AA3=\"F\",I7>I6),\"X\",\"\")))","v":""},null,{"$f":"IF(AA3=\"T\",AB7,AC7)","v":""},null,4,null,{"$f":"IF($O7=\"\",\"\",HLOOKUP(O7,mens_declare,B6,FALSE))","v":""},"",null,{"$f":"IF(R7=\"\",\"\",IF(AND(AA3=\"T\",R7<R6),\"X\",IF(AND(AA3=\"F\",R7>R6),\"X\",\"\")))","v":""},{"$f":"IF(AA3=\"T\",AD7,AE7)","v":""},null,null,null,null,null,null,null,{"$f":"IF(I7=\"\",\"\",IF(AA3=\"F\",\"\",IF(AA3=\"T\",IF(I7<=X3,\"þ\",IF(I7<=Y3,\"G2\",IF(I7<=Z3,\"G3\",\"\"))))))","v":""},{"$f":"IF(I7=\"\",\"\",IF(AA3=\"T\",\"\",IF(AA3=\"F\",IF(I7>=X3,\"þ\",IF(I7>=Y3,\"G2\",IF(I7>=Z3,\"G3\",\"\"))))))","v":""},{"$f":"IF(R7=\"\",\"\",IF(AA3=\"F\",\"\",IF(AA3=\"T\",IF(R7<=X3,\"þ\",IF(R7<=Y3,\"G2\",IF(R7<=Z3,\"G3\",\"\"))))))","v":""},{"$f":"IF(R7=\"\",\"\",IF(AA3=\"T\",\"\",IF(AA3=\"F\",IF(R7>=X3,\"þ\",IF(R7>=Y3,\"G2\",IF(R7>=Z3,\"G3\",\"\"))))))","v":""},"","","","",7,null,{"$f":"'Match Day'!B10","v":4},null,null,null,null,3,{"$f":"'Match Day'!C25","v":7},{"$f":"'Match Day'!D25","v":5}]
[null,null,"","",5,null,{"$f":"IF($F8=\"\",\"\",HLOOKUP(F8,mens_declare,B6,FALSE))","v":""},"",null,{"$f":"IF(I8=\"\",\"\",IF(AND(AA3=\"T\",I8<I7),\"X\",IF(AND(AA3=\"F\",I8>I7),\"X\",\"\")))","v":""},null,{"$f":"IF(AA3=\"T\",AB8,AC8)","v":""},null,5,null,{"$f":"IF($O8=\"\",\"\",HLOOKUP(O8,mens_declare,B6,FALSE))","v":""},"",null,{"$f":"IF(R8=\"\",\"\",IF(AND(AA3=\"T\",R8<R7),\"X\",IF(AND(AA3=\"F\",R8>R7),\"X\",\"\")))","v":""},{"$f":"IF(AA3=\"T\",AD8,AE8)","v":""},null,null,null,null,null,null,null,{"$f":"IF(I8=\"\",\"\",IF(AA3=\"F\",\"\",IF(AA3=\"T\",IF(I8<=X3,\"þ\",IF(I8<=Y3,\"G2\",IF(I8<=Z3,\"G3\",\"\"))))))","v":""},{"$f":"IF(I8=\"\",\"\",IF(AA3=\"T\",\"\",IF(AA3=\"F\",IF(I8>=X3,\"þ\",IF(I8>=Y3,\"G2\",IF(I8>=Z3,\"G3\",\"\"))))))","v":""},{"$f":"IF(R8=\"\",\"\",IF(AA3=\"F\",\"\",IF(AA3=\"T\",IF(R8<=X3,\"þ\",IF(R8<=Y3,\"G2\",IF(R8<=Z3,\"G3\",\"\"))))))","v":""},{"$f":"IF(R8=\"\",\"\",IF(AA3=\"T\",\"\",IF(AA3=\"F\",IF(R8>=X3,\"þ\",IF(R8>=Y3,\"G2\",IF(R8>=Z3,\"G3\",\"\"))))))","v":""},"","","","",8,null,{"$f":"'Match Day'!B12","v":5},null,null,null,null,4,{"$f":"'Match Day'!C26","v":6},{"$f":"'Match Day'!D26","v":4}]
[null,null,"","",6,null,{"$f":"IF($F9=\"\",\"\",HLOOKUP(F9,mens_declare,B6,FALSE))","v":""},"",null,{"$f":"IF(I9=\"\",\"\",IF(AND(AA3=\"T\",I9<I8),\"X\",IF(AND(AA3=\"F\",I9>I8),\"X\",\"\")))","v":""},null,{"$f":"IF(AA3=\"T\",AB9,AC9)","v":""},null,6,null,{"$f":"IF($O9=\"\",\"\",HLOOKUP(O9,mens_declare,B6,FALSE))","v":""},"",null,{"$f":"IF(R9=\"\",\"\",IF(AND(AA3=\"T\",R9<R8),\"X\",IF(AND(AA3=\"F\",R9>R8),\"X\",\"\")))","v":""},{"$f":"IF(AA3=\"T\",AD9,AE9)","v":""},null,null,null,null,null,null,null,{"$f":"IF(I9=\"\",\"\",IF(AA3=\"F\",\"\",IF(AA3=\"T\",IF(I9<=X3,\"þ\",IF(I9<=Y3,\"G2\",IF(I9<=Z3,\"G3\",\"\"))))))","v":""},{"$f":"IF(I9=\"\",\"\",IF(AA3=\"T\",\"\",IF(AA3=\"F\",IF(I9>=X3,\"þ\",IF(I9>=Y3,\"G2\",IF(I9>=Z3,\"G3\",\"\"))))))","v":""},{"$f":"IF(R9=\"\",\"\",IF(AA3=\"F\",\"\",IF(AA3=\"T\",IF(R9<=X3,\"þ\",IF(R9<=Y3,\"G2\",IF(R9<=Z3,\"G3\",\"\"))))))","v":""},{"$f":"IF(R9=\"\",\"\",IF(AA3=\"T\",\"\",IF(AA3=\"F\",IF(R9>=X3,\"þ\",IF(R9>=Y3,\"G2\",IF(R9>=Z3,\"G3\",\"\"))))))","v":""},"","","","",9,null,{"$f":"'Match Day'!B14","v":6},null,null,null,null,5,{"$f":"'Match Day'!C27","v":5},{"$f":"'Match Day'!D27","v":3}]
[null,null,"","",7,null,{"$f":"IF($F10=\"\",\"\",HLOOKUP(F10,mens_declare,B6,FALSE))","v":""},"",null,{"$f":"IF(I10=\"\",\"\",IF(AND(AA3=\"T\",I10<I9),\"X\",IF(AND(AA3=\"F\",I10>I9),\"X\",\"\")))","v":""},null,{"$f":"IF(AA3=\"T\",AB10,AC10)","v":""},null,7,null,{"$f":"IF($O10=\"\",\"\",HLOOKUP(O10,mens_declare,B6,FALSE))","v":""},"",null,{"$f":"IF(R10=\"\",\"\",IF(AND(AA3=\"T\",R10<R9),\"X\",IF(AND(AA3=\"F\",R10>R9),\"X\",\"\")))","v":""},{"$f":"IF(AA3=\"T\",AD10,AE10)","v":""},null,null,null,null,null,null,null,{"$f":"IF(I10=\"\",\"\",IF(AA3=\"F\",\"\",IF(AA3=\"T\",IF(I10<=X3,\"þ\",IF(I10<=Y3,\"G2\",IF(I10<=Z3,\"G3\",\"\"))))))","v":""},{"$f":"IF(I10=\"\",\"\",IF(AA3=\"T\",\"\",IF(AA3=\"F\",IF(I10>=X3,\"þ\",IF(I10>=Y3,\"G2\",IF(I10>=Z3,\"G3\",\"\"))))))","v":""},{"$f":"IF(R10=\"\",\"\",IF(AA3=\"F\",\"\",IF(AA3=\"T\",IF(R10<=X3,\"þ\",IF(R10<=Y3,\"G2\",IF(R10<=Z3,\"G3\",\"\"))))))","v":""},{"$f":"IF(R10=\"\",\"\",IF(AA3=\"T\",\"\",IF(AA3=\"F\",IF(R10>=X3,\"þ\",IF(R10>=Y3,\"G2\",IF(R10>=Z3,\"G3\",\"\"))))))","v":""},"","","","",10,null,{"$f":"'Match Day'!B16","v":7},null,null,null,null,6,{"$f":"'Match Day'!C28","v":4},{"$f":"'Match Day'!D28","v":2}]
[null,null,"","",8,null,{"$f":"IF($F11=\"\",\"\",HLOOKUP(F11,mens_declare,B6,FALSE))","v":""},"",null,{"$f":"IF(I11=\"\",\"\",IF(AND(AA3=\"T\",I11<I10),\"X\",IF(AND(AA3=\"F\",I11>I10),\"X\",\"\")))","v":""},null,{"$f":"IF(AA3=\"T\",AB11,AC11)","v":""},null,8,null,{"$f":"IF($O11=\"\",\"\",HLOOKUP(O11,mens_declare,B6,FALSE))","v":""},"",null,{"$f":"IF(R11=\"\",\"\",IF(AND(AA3=\"T\",R11<R10),\"X\",IF(AND(AA3=\"F\",R11>R10),\"X\",\"\")))","v":""},{"$f":"IF(AA3=\"T\",AD11,AE11)","v":""},null,null,null,null,null,null,null,{"$f":"IF(I11=\"\",\"\",IF(AA3=\"F\",\"\",IF(AA3=\"T\",IF(I11<=X3,\"þ\",IF(I11<=Y3,\"G2\",IF(I11<=Z3,\"G3\",\"\"))))))","v":""},{"$f":"IF(I11=\"\",\"\",IF(AA3=\"T\",\"\",IF(AA3=\"F\",IF(I11>=X3,\"þ\",IF(I11>=Y3,\"G2\",IF(I11>=Z3,\"G3\",\"\"))))))","v":""},{"$f":"IF(R11=\"\",\"\",IF(AA3=\"F\",\"\",IF(AA3=\"T\",IF(R11<=X3,\"þ\",IF(R11<=Y3,\"G2\",IF(R11<=Z3,\"G3\",\"\"))))))","v":""},{"$f":"IF(R11=\"\",\"\",IF(AA3=\"T\",\"\",IF(AA3=\"F\",IF(R11>=X3,\"þ\",IF(R11>=Y3,\"G2\",IF(R11>=Z3,\"G3\",\"\"))))))","v":""},"","","","",11,null,{"$f":"'Match Day'!B18","v":8},null,null,null,null,7,{"$f":"'Match Day'!C29","v":3},{"$f":"'Match Day'!D29","v":1}]
[null,null,null,null,null,null,null,null,null,null,null,null,null,null,null,null,null,null,null,null,null,null,null,null,null,null,null,null,null,null,null,null,null,null,null,12,null,{"$f":"AL4*11","v":11},null,null,null,null,8,{"$f":"'Match Day'!C30","v":0},{"$f":"'Match Day'!D30","v":0},{"$f":"SUM(AR5:AR12)","v":43},{"$f":"SUM(AS5:AS12)","v":29}]
[null,null,null,null,{"$f":"CONCATENATE(VLOOKUP(A14,mens_handbook,3,FALSE),\" A\")","v":"Men's 200m A"},null,null,{"$f":"IF(A14=\"\",\"\",IF(VLOOKUP(A14,Handbook!$A$4:$AI$24,35,FALSE)=\"Y\",\"Wind=\",\"\"))","v":"Wind="},null,null,null,null,null,null,{"$f":"CONCATENATE(VLOOKUP(A14,mens_handbook,3,FALSE),\" B\")","v":"Men's 200m B"},{"$f":"CONCATENATE(VLOOKUP(M14,Handbook!$A$4:$C$24,3,FALSE),\" A\")","v":{"$error":"#N/A"}},{"$f":"H13","v":"Wind="},null,null,null,null,{"$f":"IF($A14=\"\",\"\",VLOOKUP($A14,Handbook!$A$4:$V$24,21,FALSE))","v":21},{"$f":"IF($A14=\"\",\"\",VLOOKUP($A14,Handbook!$A$4:$V$24,22,FALSE))","v":21},{"$f":"IF($A14=\"\",\"\",VLOOKUP($A14,Handbook!$A$4:$W$24,23,FALSE))","v":23.4},{"$f":"IF($A14=\"\",\"\",VLOOKUP($A14,Handbook!$A$4:$X$24,24,FALSE))","v":23},{"$f":"IF($A14=\"\",\"\",VLOOKUP($A14,Handbook!$A$4:$Y$24,25,FALSE))","v":23},{"$f":"IF($A14=\"\",\"\",VLOOKUP($A14,Handbook!$A$4:$AH$24,34,FALSE))","v":"T"},null,null,null,null,null,null,null,null,13,null,{"$f":"AL5*11","v":22},null,null,null,null,"1=",{"$f":"SUM($AR$5:AR6)/2","v":9},{"$f":"SUM($AS$5:AS6)/2","v":7}]
[7,null,{"$f":"IF(F14=\"\",\"\",IF(F14>10,F14/11,F14))","v":""},{"$f":"IF(O14=\"\",\"\",IF(O14>10,O14/11,O14))","v":""},1,null,{"$f":"IF($F14=\"\",\"\",IF($F14>90,VLOOKUP(F14,eventcodes,2,FALSE),HLOOKUP(F14,mens_declare,B16,FALSE)))","v":""},{"$f":"IF($F14=\"\",\"\",IF($F14>90,\"\",VLOOKUP(C14,matchday,2,FALSE)))","v":""},null,{"$f":"IF(I14=\"\",\"\",IF(AA13=\"T\",V14,V15))","v":""},null,{"$f":"IF(AA13=\"T\",AB14,AC14)","v":""},null,1,null,{"$f":"IF($O14=\"\",\"\",HLOOKUP(O14,mens_declare,B16,FALSE))","v":""},{"$f":"IF($O14=\"\",\"\",VLOOKUP(D14,matchday,2,FALSE))","v":""},null,null,{"$f":"IF(AA13=\"T\",AD14,AE14)","v":""},null,{"$f":"IF(AA13=\"F\",\"\",IF(I14<V13,\"LR\",IF(I14=V13,\"=LR\",IF(I14<W13,\"DR\",IF(I14=W13,\"=DR\",\"\")))))","v":"LR"},null,null,null,null,null,{"$f":"IF(I14=\"\",\"\",IF(AA13=\"F\",\"\",IF(AA13=\"T\",IF(I14<=X13,\"þ\",IF(I14<=Y13,\"G2\",IF(I14<=Z13,\"G3\",\"\"))))))","v":""},{"$f":"IF(I14=\"\",\"\",IF(AA13=\"T\",\"\",IF(AA13=\"F\",IF(I14>=X13,\"þ\",IF(I14>=Y13,\"G2\",IF(I14>=Z13,\"G3\",\"\"))))))","v":""},{"$f":"IF(R14=\"\",\"\",IF(AA13=\"F\",\"\",IF(AA13=\"T\",IF(R14<=X13,\"þ\",IF(R14<=Y13,\"G2\",IF(R14<=Z13,\"G3\",\"\"))))))","v":""},{"$f":"IF(R14=\"\",\"\",IF(AA13=\"T\",\"\",IF(AA13=\"F\",IF(R14>=X13,\"þ\",IF(R14>=Y13,\"G2\",IF(R14>=Z13,\"G3\",\"\"))))))","v":""},{"$f":"C14","v":""},{"$f":"IF(F14=\"\",\"\",IF(LEFT(I14,1)=\"D\",0,VLOOKUP(E14,$AQ$4:$AR$40,2,FALSE)))","v":""},{"$f":"D14","v":""},{"$f":"IF(O14=\"\",\"\",IF(LEFT(R14,1)=\"D\",0,VLOOKUP(N14,$AQ$4:$AS$40,3,FALSE)))","v":""},14,null,33,null,null,null,null,"1==",{"$f":"SUM($AR$5:AR7)/3","v":8.3333333333333339},{"$f":"SUM($AS$5:AS7)/3","v":6.333333333333333}]
[null,{"$f":"VLOOKUP(A14,Handbook!$A$4:$AK$24,37,FALSE)","v":8},{"$f":"IF(F15=\"\",\"\",IF(F15>10,F15/11,F15))","v":""},{"$f":"IF(O15=\"\",\"\",IF(O15>10,O15/11,O15))","v":""},2,null,{"$f":"IF($F15=\"\",\"\",HLOOKUP(F15,mens_declare,B16,FALSE))","v":""},{"$f":"IF($F15=\"\",\"\",VLOOKUP(C15,matchday,2,FALSE))","v":""},null,{"$f":"IF(I15=\"\",\"\",IF(AND(AA13=\"T\",I15<I14),\"X\",IF(AND(AA13=\"F\",I15>I14),\"X\",\"\")))","v":""},null,{"$f":"IF(AA13=\"T\",AB15,AC15)","v":""},null,2,null,{"$f":"IF($O15=\"\",\"\",HLOOKUP(O15,mens_declare,B16,FALSE))","v":""},"",null,{"$f":"IF(R15=\"\",\"\",IF(AND(AA13=\"T\",R15<R14),\"X\",IF(AND(AA13=\"F\",R15>R14),\"X\",\"\")))","v":""},{"$f":"IF(AA13=\"T\",AD15,AE15)","v":""},null,{"$f":"IF(AA13=\"T\",\"\",IF(I14>V13,\"LR\",IF(I14=V13,\"=LR\",IF(I14>W13,\"DR\",IF(I14=W13,\"=DR\",\"\")))))","v":""},null,null,null,null,null,{"$f":"IF(I15=\"\",\"\",IF(AA13=\"F\",\"\",IF(AA13=\"T\",IF(I15<=X13,\"þ\",IF(I15<=Y13,\"G2\",IF(I15<=Z13,\"G3\",\"\"))))))","v":""},{"$f":"IF(I15=\"\",\"\",IF(AA13=\"T\",\"\",IF(AA13=\"F\",IF(I15>=X13,\"þ\",IF(I15>=Y13,\"G2\",IF(I15>=Z13,\"G3\",\"\"))))))","v":""},{"$f":"IF(R15=\"\",\"\",IF(AA13=\"F\",\"\",IF(AA13=\"T\",IF(R15<=X13,\"þ\",IF(R15<=Y13,\"G2\",IF(R15<=Z13,\"G3\",\"\"))))))","v":""},{"$f":"IF(R15=\"\",\"\",IF(AA13=\"T\",\"\",IF(AA13=\"F\",IF(R15>=X13,\"þ\",IF(R15>=Y13,\"G2\",IF(R15>=Z13,\"G3\",\"\"))))))","v":""},{"$f":"C15","v":""},"",{"$f":"D15","v":""},"",15,null,44,null,null,null,null,"1===",{"$f":"SUM($AR$5:AR8)/4","v":7.75},{"$f":"SUM($AS$5:AS8)/4","v":5.75}]
[null,{"$f":"VLOOKUP(A14,mens_declare,20,FALSE)","v":4},"","",3,null,{"$f":"IF($F16=\"\",\"\",HLOOKUP(F16,mens_declare,B16,FALSE))","v":""},"",null,{"$f":"IF(I16=\"\",\"\",IF(AND(AA13=\"T\",I16<I15),\"X\",IF(AND(AA13=\"F\",I16>I15),\"X\",\"\")))","v":""},null,{"$f":"IF(AA13=\"T\",AB16,AC16)","v":""},null,3,null,{"$f":"IF($O16=\"\",\"\",HLOOKUP(O16,mens_declare,B16,FALSE))","v":""},"",null,{"$f":"IF(R16=\"\",\"\",IF(AND(AA13=\"T\",R16<R15),\"X\",IF(AND(AA13=\"F\",R16>R15),\"X\",\"\")))","v":""},{"$f":"IF(AA13=\"T\",AD16,AE16)","v":""},null,null,null,null,null,null,null,{"$f":"IF(I16=\"\",\"\",IF(AA13=\"F\",\"\",IF(AA13=\"T\",IF(I16<=X13,\"þ\",IF(I16<=Y13,\"G2\",IF(I16<=Z13,\"G3\",\"\"))))))","v":""},{"$f":"IF(I16=\"\",\"\",IF(AA13=\"T\",\"\",IF(AA13=\"F\",IF(I16>=X13,\"þ\",IF(I16>=Y13,\"G2\",IF(I16>=Z13,\"G3\",\"\"))))))","v":""},{"$f":"IF(R16=\"\",\"\",IF(AA13=\"F\",\"\",IF(AA13=\"T\",IF(R16<=X13,\"þ\",IF(R16<=Y13,\"G2\",IF(R16<=Z13,\"G3\",\"\"))))))","v":""},{"$f":"IF(R16=\"\",\"\",IF(AA13=\"T\",\"\",IF(AA13=\"F\",IF(R16>=X13,\"þ\",IF(R16>=Y13,\"G2\",IF(R16>=Z13,\"G3\",\"\"))))))","v":""},"","","","",16,null,55,null,null,null,null,"1====",{"$f":"SUM($AR$5:AR9)/5","v":7.2},{"$f":"SUM($AS$5:AS9)/5","v":5.2}]
[null,null,"","",4,null,{"$f":"IF($F17=\"\",\"\",HLOOKUP(F17,mens_declare,B16,FALSE))","v":""},"",null,{"$f":"IF(I17=\"\",\"\",IF(AND(AA13=\"T\",I17<I16),\"X\",IF(AND(AA13=\"F\",I17>I16),\"X\",\"\")))","v":""},null,{"$f":"IF(AA13=\"T\",AB17,AC17)","v":""},null,4,null,{"$f":"IF($O17=\"\",\"\",HLOOKUP(O17,mens_declare,B16,FALSE))","v":""},"",null,{"$f":"IF(R17=\"\",\"\",IF(AND(AA13=\"T\",R17<R16),\"X\",IF(AND(AA13=\"F\",R17>R16),\"X\",\"\")))","v":""},{"$f":"IF(AA13=\"T\",AD17,AE17)","v":""},null,null,null,null,null,null,null,{"$f":"IF(I17=\"\",\"\",IF(AA13=\"F\",\"\",IF(AA13=\"T\",IF(I17<=X13,\"þ\",IF(I17<=Y13,\"G2\",IF(I17<=Z13,\"G3\",\"\"))))))","v":""},{"$f":"IF(I17=\"\",\"\",IF(AA13=\"T\",\"\",IF(AA13=\"F\",IF(I17>=X13,\"þ\",IF(I17>=Y13,\"G2\",IF(I17>=Z13,\"G3\",\"\"))))))","v":""},{"$f":"IF(R17=\"\",\"\",IF(AA13=\"F\",\"\",IF(AA13=\"T\",IF(R17<=X13,\"þ\",IF(R17<=Y13,\"G2\",IF(R17<=Z13,\"G3\",\"\"))))))","v":""},{"$f":"IF(R17=\"\",\"\",IF(AA13=\"T\",\"\",IF(AA13=\"F\",IF(R17>=X13,\"þ\",IF(R17>=Y13,\"G2\",IF(R17>=Z13,\"G3\",\"\"))))))","v":""},"","","","",17,null,66,null,null,null,null,"1=====",{"$f":"SUM($AR$5:AR10)/6","v":6.666666666666667},{"$f":"SUM($AS$5:AS10)/6","v":4.666666666666667}]
[null,null,"","",5,null,{"$f":"IF($F18=\"\",\"\",HLOOKUP(F18,mens_declare,B16,FALSE))","v":""},"",null,{"$f":"IF(I18=\"\",\"\",IF(AND(AA13=\"T\",I18<I17),\"X\",IF(AND(AA13=\"F\",I18>I17),\"X\",\"\")))","v":""},null,{"$f":"IF(AA13=\"T\",AB18,AC18)","v":""},null,5,null,{"$f":"IF($O18=\"\",\"\",HLOOKUP(O18,mens_declare,B16,FALSE))","v":""},"",null,{"$f":"IF(R18=\"\",\"\",IF(AND(AA13=\"T\",R18<R17),\"X\",IF(AND(AA13=\"F\",R18>R17),\"X\",\"\")))","v":""},{"$f":"IF(AA13=\"T\",AD18,AE18)","v":""},null,null,null,null,null,null,null,{"$f":"IF(I18=\"\",\"\",IF(AA13=\"F\",\"\",IF(AA13=\"T\",IF(I18<=X13,\"þ\",IF(I18<=Y13,\"G2\",IF(I18<=Z13,\"G3\",\"\"))))))","v":""},{"$f":"IF(I18=\"\",\"\",IF(AA13=\"T\",\"\",IF(AA13=\"F\",IF(I18>=X13,\"þ\",IF(I18>=Y13,\"G2\",IF(I18>=Z13,\"G3\",\"\"))))))","v":""},{"$f":"IF(R18=\"\",\"\",IF(AA13=\"F\",\"\",IF(AA13=\"T\",IF(R18<=X13,\"þ\",IF(R18<=Y13,\"G2\",IF(R18<=Z13,\"G3\",\"\"))))))","v":""},{"$f":"IF(R18=\"\",\"\",IF(AA13=\"T\",\"\",IF(AA13=\"F\",IF(R18>=X13,\"þ\",IF(R18>=Y13,\"G2\",IF(R18>=Z13,\"G3\",\"\"))))))","v":""},"","","","",18,null,77,null,null,null,null,"1======",{"$f":"SUM($AR$5:AR11)/7","v":6.1428571428571432},{"$f":"SUM($AS$5:AS11)/7","v":4.1428571428571432}]
[null,null,"","",6,null,{"$f":"IF($F19=\"\",\"\",HLOOKUP(F19,mens_declare,B16,FALSE))","v":""},"",null,{"$f":"IF(I19=\"\",\"\",IF(AND(AA13=\"T\",I19<I18),\"X\",IF(AND(AA13=\"F\",I19>I18),\"X\",\"\")))","v":""},null,{"$f":"IF(AA13=\"T\",AB19,AC19)","v":""},null,6,null,{"$f":"IF($O19=\"\",\"\",HLOOKUP(O19,mens_declare,B16,FALSE))","v":""},"",null,{"$f":"IF(R19=\"\",\"\",IF(AND(AA13=\"T\",R19<R18),\"X\",IF(AND(AA13=\"F\",R19>R18),\"X\",\"\")))","v":""},{"$f":"IF(AA13=\"T\",AD19,AE19)","v":""},null,null,null,null,null,null,null,{"$f":"IF(I19=\"\",\"\",IF(AA13=\"F\",\"\",IF(AA13=\"T\",IF(I19<=X13,\"þ\",IF(I19<=Y13,\"G2\",IF(I19<=Z13,\"G3\",\"\"))))))","v":""},{"$f":"IF(I19=\"\",\"\",IF(AA13=\"T\",\"\",IF(AA13=\"F\",IF(I19>=X13,\"þ\",IF(I19>=Y13,\"G2\",IF(I19>=Z13,\"G3\",\"\"))))))","v":""},{"$f":"IF(R19=\"\",\"\",IF(AA13=\"F\",\"\",IF(AA13=\"T\",IF(R19<=X13,\"þ\",IF(R19<=Y13,\"G2\",IF(R19<=Z13,\"G3\",\"\"))))))","v":""},{"$f":"IF(R19=\"\",\"\",IF(AA13=\"T\",\"\",IF(AA13=\"F\",IF(R19>=X13,\"þ\",IF(R19>=Y13,\"G2\",IF(R19>=Z13,\"G3\",\"\"))))))","v":""},"","","","",19,null,88,null,null,null,null,"1=======",{"$f":"SUM($AR$5:AR12)/8","v":5.375},{"$f":"SUM($AS$5:AS12)/8","v":3.625}]
[null,null,"","",7,null,{"$f":"IF($F20=\"\",\"\",HLOOKUP(F20,mens_declare,B16,FALSE))","v":""},"",null,{"$f":"IF(I20=\"\",\"\",IF(AND(AA13=\"T\",I20<I19),\"X\",IF(AND(AA13=\"F\",I20>I19),\"X\",\"\")))","v":""},null,{"$f":"IF(AA13=\"T\",AB20,AC20)","v":""},null,7,null,{"$f":"IF($O20=\"\",\"\",HLOOKUP(O20,mens_declare,B16,FALSE))","v":""},"",null,{"$f":"IF(R20=\"\",\"\",IF(AND(AA13=\"T\",R20<R19),\"X\",IF(AND(AA13=\"F\",R20>R19),\"X\",\"\")))","v":""},{"$f":"IF(AA13=\"T\",AD20,AE20)","v":""},null,null,null,null,null,null,null,{"$f":"IF(I20=\"\",\"\",IF(AA13=\"F\",\"\",IF(AA13=\"T\",IF(I20<=X13,\"þ\",IF(I20<=Y13,\"G2\",IF(I20<=Z13,\"G3\",\"\"))))))","v":""},{"$f":"IF(I20=\"\",\"\",IF(AA13=\"T\",\"\",IF(AA13=\"F\",IF(I20>=X13,\"þ\",IF(I20>=Y13,\"G2\",IF(I20>=Z13,\"G3\",\"\"))))))","v":""},{"$f":"IF(R20=\"\",\"\",IF(AA13=\"F\",\"\",IF(AA13=\"T\",IF(R20<=X13,\"þ\",IF(R20<=Y13,\"G2\",IF(R20<=Z13,\"G3\",\"\"))))))","v":""},{"$f":"IF(R20=\"\",\"\",IF(AA13=\"T\",\"\",IF(AA13=\"F\",IF(R20>=X13,\"þ\",IF(R20>=Y13,\"G2\",IF(R20>=Z13,\"G3\",\"\"))))))","v":""},"","","","",20,null,99,null,null,null,null,"2=",{"$f":"SUM($AR$6:AR7)/2","v":7.5},{"$f":"SUM($AS$6:AS7)/2","v":5.5}]
[null,null,"","",8,null,{"$f":"IF($F21=\"\",\"\",HLOOKUP(F21,mens_declare,B16,FALSE))","v":""},"",null,{"$f":"IF(I21=\"\",\"\",IF(AND(AA13=\"T\",I21<I20),\"X\",IF(AND(AA13=\"F\",I21>I20),\"X\",\"\")))","v":""},null,{"$f":"IF(AA13=\"T\",AB21,AC21)","v":""},null,8,null,{"$f":"IF($O21=\"\",\"\",HLOOKUP(O21,mens_declare,B16,FALSE))","v":""},"",null,{"$f":"IF(R21=\"\",\"\",IF(AND(AA13=\"T\",R21<R20),\"X\",IF(AND(AA13=\"F\",R21>R20),\"X\",\"\")))","v":""},{"$f":"IF(AA13=\"T\",AD21,AE21)","v":""},null,null,null,null,null,null,null,{"$f":"IF(I21=\"\",\"\",IF(AA13=\"F\",\"\",IF(AA13=\"T\",IF(I21<=X13,\"þ\",IF(I21<=Y13,\"G2\",IF(I21<=Z13,\"G3\",\"\"))))))","v":""},{"$f":"IF(I21=\"\",\"\",IF(AA13=\"T\",\"\",IF(AA13=\"F\",IF(I21>=X13,\"þ\",IF(I21>=Y13,\"G2\",IF(I21>=Z13,\"G3\",\"\"))))))","v":""},{"$f":"IF(R21=\"\",\"\",IF(AA13=\"F\",\"\",IF(AA13=\"T\",IF(R21<=X13,\"þ\",IF(R21<=Y13,\"G2\",IF(R21<=Z13,\"G3\",\"\"))))))","v":""},{"$f":"IF(R21=\"\",\"\",IF(AA13=\"T\",\"\",IF(AA13=\"F\",IF(R21>=X13,\"þ\",IF(R21>=Y13,\"G2\",IF(R21>=Z13,\"G3\",\"\"))))))","v":""},"","","","",21,null,97,null,null,null,null,"2==",{"$f":"SUM($AR$6:AR8)/3","v":7},{"$f":"SUM($AS$6:AS8)/3","v":5}]
[null,null,null,null,null,null,null,null,null,null,null,null,null,null,null,null,null,null,null,null,null,null,null,null,null,null,null,null,null,null,null,null,null,null,null,22,null,98,null,null,null,null,"2===",{"$f":"SUM($AR$6:AR9)/4","v":6.5},{"$f":"SUM($AS$6:AS9)/4","v":4.5}]
[null,null,null,null,{"$f":"CONCATENATE(VLOOKUP(A24,mens_handbook,3,FALSE),\" A\")","v":"Men's 400m A"},null,null,{"$f":"IF(A24=\"\",\"\",IF(VLOOKUP(A24,Handbook!$A$4:$AI$24,35,FALSE)=\"Y\",\"Wind=\",\"\"))","v":""},null,null,null,null,null,null,{"$f":"CONCATENATE(VLOOKUP(A24,mens_handbook,3,FALSE),\" B\")","v":"Men's 400m B"},null,{"$f":"H23","v":""},null,null,null,null,{"$f":"IF($A24=\"\",\"\",VLOOKUP($A24,Handbook!$A$4:$V$24,21,FALSE))","v":46.7},{"$f":"IF($A24=\"\",\"\",VLOOKUP($A24,Handbook!$A$4:$V$24,22,FALSE))","v":46.7},{"$f":"IF($A24=\"\",\"\",VLOOKUP($A24,Handbook!$A$4:$W$24,23,FALSE))","v":53},{"$f":"IF($A24=\"\",\"\",VLOOKUP($A24,Handbook!$A$4:$X$24,24,FALSE))","v":51},{"$f":"IF($A24=\"\",\"\",VLOOKUP($A24,Handbook!$A$4:$Y$24,25,FALSE))","v":51},{"$f":"IF($A24=\"\",\"\",VLOOKUP($A24,Handbook!$A$4:$AH$24,34,FALSE))","v":"T"},null,null,null,null,null,null,null,null,23,null,96,null,null,null,null,"2====",{"$f":"SUM($AR$6:AR10)/5","v":6},{"$f":"SUM($AS$6:AS10)/5","v":4}]
[4,null,{"$f":"IF(F24=\"\",\"\",IF(F24>10,F24/11,F24))","v":""},{"$f":"IF(O24=\"\",\"\",IF(O24>10,O24/11,O24))","v":""},1,null,{"$f":"IF($F24=\"\",\"\",IF($F24>90,VLOOKUP(F24,eventcodes,2,FALSE),HLOOKUP(F24,mens_declare,B26,FALSE)))","v":""},{"$f":"IF($F24=\"\",\"\",IF($F24>90,\"\",VLOOKUP(C24,matchday,2,FALSE)))","v":""},null,{"$f":"IF(I24=\"\",\"\",IF(AA23=\"T\",V24,V25))","v":""},null,{"$f":"IF(AA23=\"T\",AB24,AC24)","v":""},null,1,null,{"$f":"IF($O24=\"\",\"\",HLOOKUP(O24,mens_declare,B26,FALSE))","v":""},{"$f":"IF($O24=\"\",\"\",VLOOKUP(D24,matchday,2,FALSE))","v":""},null,null,{"$f":"IF(AA23=\"T\",AD24,AE24)","v":""},null,{"$f":"IF(AA23=\"F\",\"\",IF(I24<V23,\"LR\",IF(I24=V23,\"=LR\",IF(I24<W23,\"DR\",IF(I24=W23,\"=DR\",\"\")))))","v":"LR"},null,null,null,null,null,{"$f":"IF(I24=\"\",\"\",IF(AA23=\"F\",\"\",IF(AA23=\"T\",IF(I24<=X23,\"þ\",IF(I24<=Y23,\"G2\",IF(I24<=Z23,\"G3\",\"\"))))))","v":""},{"$f":"IF(I24=\"\",\"\",IF(AA23=\"T\",\"\",IF(AA23=\"F\",IF(I24>=X23,\"þ\",IF(I24>=Y23,\"G2\",IF(I24>=Z23,\"G3\",\"\"))))))","v":""},{"$f":"IF(R24=\"\",\"\",IF(AA23=\"F\",\"\",IF(AA23=\"T\",IF(R24<=X23,\"þ\",IF(R24<=Y23,\"G2\",IF(R24<=Z23,\"G3\",\"\"))))))","v":""},{"$f":"IF(R24=\"\",\"\",IF(AA23=\"T\",\"\",IF(AA23=\"F\",IF(R24>=X23,\"þ\",IF(R24>=Y23,\"G2\",IF(R24>=Z23,\"G3\",\"\"))))))","v":""},{"$f":"C24","v":""},{"$f":"IF(F24=\"\",\"\",IF(LEFT(I24,1)=\"D\",0,VLOOKUP(E24,$AQ$4:$AR$40,2,FALSE)))","v":""},{"$f":"D24","v":""},{"$f":"IF(O24=\"\",\"\",IF(LEFT(R24,1)=\"D\",0,VLOOKUP(N24,$AQ$4:$AS$40,3,FALSE)))","v":""},24,null,"Events Not Held Codes",null,null,null,null,"2=====",{"$f":"SUM($AR$6:AR11)/6","v":5.5},{"$f":"SUM($AS$6:AS11)/6","v":3.5}]
[null,{"$f":"VLOOKUP(A24,Handbook!$A$4:$AK$24,37,FALSE)","v":5},{"$f":"IF(F25=\"\",\"\",IF(F25>10,F25/11,F25))","v":""},{"$f":"IF(O25=\"\",\"\",IF(O25>10,O25/11,O25))","v":""},2,null,{"$f":"IF($F25=\"\",\"\",HLOOKUP(F25,mens_declare,B26,FALSE))","v":""},{"$f":"IF($F25=\"\",\"\",VLOOKUP(C25,matchday,2,FALSE))","v":""},null,{"$f":"IF(I25=\"\",\"\",IF(AND(AA23=\"T\",I25<I24),\"X\",IF(AND(AA23=\"F\",I25>I24),\"X\",\"\")))","v":""},null,{"$f":"IF(AA23=\"T\",AB25,AC25)","v":""},null,2,null,{"$f":"IF($O25=\"\",\"\",HLOOKUP(O25,mens_declare,B26,FALSE))","v":""},"",null,{"$f":"IF(R25=\"\",\"\",IF(AND(AA23=\"T\",R25<R24),\"X\",IF(AND(AA23=\"F\",R25>R24),\"X\",\"\")))","v":""},{"$f":"IF(AA23=\"T\",AD25,AE25)","v":""},null,{"$f":"IF(AA23=\"T\",\"\",IF(I24>V23,\"LR\",IF(I24=V23,\"=LR\",IF(I24>W23,\"DR\",IF(I24=W23,\"=DR\",\"\")))))","v":""},null,null,null,null,null,{"$f":"IF(I25=\"\",\"\",IF(AA23=\"F\",\"\",IF(AA23=\"T\",IF(I25<=X23,\"þ\",IF(I25<=Y23,\"G2\",IF(I25<=Z23,\"G3\",\"\"))))))","v":""},{"$f":"IF(I25=\"\",\"\",IF(AA23=\"T\",\"\",IF(AA23=\"F\",IF(I25>=X23,\"þ\",IF(I25>=Y23,\"G2\",IF(I25>=Z23,\"G3\",\"\"))))))","v":""},{"$f":"IF(R25=\"\",\"\",IF(AA23=\"F\",\"\",IF(AA23=\"T\",IF(R25<=X23,\"þ\",IF(R25<=Y23,\"G2\",IF(R25<=Z23,\"G3\",\"\"))))))","v":""},{"$f":"IF(R25=\"\",\"\",IF(AA23=\"T\",\"\",IF(AA23=\"F\",IF(R25>=X23,\"þ\",IF(R25>=Y23,\"G2\",IF(R25>=Z23,\"G3\",\"\"))))))","v":""},{"$f":"C25","v":""},"",{"$f":"D25","v":""},"",25,97,"Open Heights Not Cleared",null,null,null,null,"2======",{"$f":"SUM($AR$6:AR12)/7","v":4.7142857142857144},{"$f":"SUM($AS$6:AS12)/7","v":3}]
[null,{"$f":"VLOOKUP(A24,mens_declare,20,FALSE)","v":5},"","",3,null,{"$f":"IF($F26=\"\",\"\",HLOOKUP(F26,mens_declare,B26,FALSE))","v":""},"",null,{"$f":"IF(I26=\"\",\"\",IF(AND(AA23=\"T\",I26<I25),\"X\",IF(AND(AA23=\"F\",I26>I25),\"X\",\"\")))","v":""},null,{"$f":"IF(AA23=\"T\",AB26,AC26)","v":""},null,3,null,{"$f":"IF($O26=\"\",\"\",HLOOKUP(O26,mens_declare,B26,FALSE))","v":""},"",null,{"$f":"IF(R26=\"\",\"\",IF(AND(AA23=\"T\",R26<R25),\"X\",IF(AND(AA23=\"F\",R26>R25),\"X\",\"\")))","v":""},{"$f":"IF(AA23=\"T\",AD26,AE26)","v":""},null,null,null,null,null,null,null,{"$f":"IF(I26=\"\",\"\",IF(AA23=\"F\",\"\",IF(AA23=\"T\",IF(I26<=X23,\"þ\",IF(I26<=Y23,\"G2\",IF(I26<=Z23,\"G3\",\"\"))))))","v":""},{"$f":"IF(I26=\"\",\"\",IF(AA23=\"T\",\"\",IF(AA23=\"F\",IF(I26>=X23,\"þ\",IF(I26>=Y23,\"G2\",IF(I26>=Z23,\"G3\",\"\"))))))","v":""},{"$f":"IF(R26=\"\",\"\",IF(AA23=\"F\",\"\",IF(AA23=\"T\",IF(R26<=X23,\"þ\",IF(R26<=Y23,\"G2\",IF(R26<=Z23,\"G3\",\"\"))))))","v":""},{"$f":"IF(R26=\"\",\"\",IF(AA23=\"T\",\"\",IF(AA23=\"F\",IF(R26>=X23,\"þ\",IF(R26>=Y23,\"G2\",IF(R26>=Z23,\"G3\",\"\"))))))","v":""},"","","","",26,98,"No Valid Performances",null,null,null,null,"3=",{"$f":"SUM($AR$7:AR8)/2","v":6.5},{"$f":"SUM($AS$7:AS8)/2","v":4.5}]
[null,null,"","",4,null,{"$f":"IF($F27=\"\",\"\",HLOOKUP(F27,mens_declare,B26,FALSE))","v":""},"",null,{"$f":"IF(I27=\"\",\"\",IF(AND(AA23=\"T\",I27<I26),\"X\",IF(AND(AA23=\"F\",I27>I26),\"X\",\"\")))","v":""},null,{"$f":"IF(AA23=\"T\",AB27,AC27)","v":""},null,4,null,{"$f":"IF($O27=\"\",\"\",HLOOKUP(O27,mens_declare,B26,FALSE))","v":""},"",null,{"$f":"IF(R27=\"\",\"\",IF(AND(AA23=\"T\",R27<R26),\"X\",IF(AND(AA23=\"F\",R27>R26),\"X\",\"\")))","v":""},{"$f":"IF(AA23=\"T\",AD27,AE27)","v":""},null,null,null,null,null,null,null,{"$f":"IF(I27=\"\",\"\",IF(AA23=\"F\",\"\",IF(AA23=\"T\",IF(I27<=X23,\"þ\",IF(I27<=Y23,\"G2\",IF(I27<=Z23,\"G3\",\"\"))))))","v":""},{"$f":"IF(I27=\"\",\"\",IF(AA23=\"T\",\"\",IF(AA23=\"F\",IF(I27>=X23,\"þ\",IF(I27>=Y23,\"G2\",IF(I27>=Z23,\"G3\",\"\"))))))","v":""},{"$f":"IF(R27=\"\",\"\",IF(AA23=\"F\",\"\",IF(AA23=\"T\",IF(R27<=X23,\"þ\",IF(R27<=Y23,\"G2\",IF(R27<=Z23,\"G3\",\"\"))))))","v":""},{"$f":"IF(R27=\"\",\"\",IF(AA23=\"T\",\"\",IF(AA23=\"F\",IF(R27>=X23,\"þ\",IF(R27>=Y23,\"G2\",IF(R27>=Z23,\"G3\",\"\"))))))","v":""},"","","","",27,99,"Event Cancelled",null,null,null,null,"3==",{"$f":"SUM($AR$7:AR9)/3","v":6},{"$f":"SUM($AS$7:AS9)/3","v":4}]
[null,null,"","",5,null,{"$f":"IF($F28=\"\",\"\",HLOOKUP(F28,mens_declare,B26,FALSE))","v":""},"",null,{"$f":"IF(I28=\"\",\"\",IF(AND(AA23=\"T\",I28<I27),\"X\",IF(AND(AA23=\"F\",I28>I27),\"X\",\"\")))","v":""},null,{"$f":"IF(AA23=\"T\",AB28,AC28)","v":""},null,5,null,{"$f":"IF($O28=\"\",\"\",HLOOKUP(O28,mens_declare,B26,FALSE))","v":""},"",null,{"$f":"IF(R28=\"\",\"\",IF(AND(AA23=\"T\",R28<R27),\"X\",IF(AND(AA23=\"F\",R28>R27),\"X\",\"\")))","v":""},{"$f":"IF(AA23=\"T\",AD28,AE28)","v":""},null,null,null,null,null,null,null,{"$f":"IF(I28=\"\",\"\",IF(AA23=\"F\",\"\",IF(AA23=\"T\",IF(I28<=X23,\"þ\",IF(I28<=Y23,\"G2\",IF(I28<=Z23,\"G3\",\"\"))))))","v":""},{"$f":"IF(I28=\"\",\"\",IF(AA23=\"T\",\"\",IF(AA23=\"F\",IF(I28>=X23,\"þ\",IF(I28>=Y23,\"G2\",IF(I28>=Z23,\"G3\",\"\"))))))","v":""},{"$f":"IF(R28=\"\",\"\",IF(AA23=\"F\",\"\",IF(AA23=\"T\",IF(R28<=X23,\"þ\",IF(R28<=Y23,\"G2\",IF(R28<=Z23,\"G3\",\"\"))))))","v":""},{"$f":"IF(R28=\"\",\"\",IF(AA23=\"T\",\"\",IF(AA23=\"F\",IF(R28>=X23,\"þ\",IF(R28>=Y23,\"G2\",IF(R28>=Z23,\"G3\",\"\"))))))","v":""},"","","","",28,96,"No Competitors Entered",null,null,null,null,"3===",{"$f":"SUM($AR$7:AR10)/4","v":5.5},{"$f":"SUM($AS$7:AS10)/4","v":3.5}]
[null,null,"","",6,null,{"$f":"IF($F29=\"\",\"\",HLOOKUP(F29,mens_declare,B26,FALSE))","v":""},"",null,{"$f":"IF(I29=\"\",\"\",IF(AND(AA23=\"T\",I29<I28),\"X\",IF(AND(AA23=\"F\",I29>I28),\"X\",\"\")))","v":""},null,{"$f":"IF(AA23=\"T\",AB29,AC29)","v":""},null,6,null,{"$f":"IF($O29=\"\",\"\",HLOOKUP(O29,mens_declare,B26,FALSE))","v":""},"",null,{"$f":"IF(R29=\"\",\"\",IF(AND(AA23=\"T\",R29<R28),\"X\",IF(AND(AA23=\"F\",R29>R28),\"X\",\"\")))","v":""},{"$f":"IF(AA23=\"T\",AD29,AE29)","v":""},null,null,null,null,null,null,null,{"$f":"IF(I29=\"\",\"\",IF(AA23=\"F\",\"\",IF(AA23=\"T\",IF(I29<=X23,\"þ\",IF(I29<=Y23,\"G2\",IF(I29<=Z23,\"G3\",\"\"))))))","v":""},{"$f":"IF(I29=\"\",\"\",IF(AA23=\"T\",\"\",IF(AA23=\"F\",IF(I29>=X23,\"þ\",IF(I29>=Y23,\"G2\",IF(I29>=Z23,\"G3\",\"\"))))))","v":""},{"$f":"IF(R29=\"\",\"\",IF(AA23=\"F\",\"\",IF(AA23=\"T\",IF(R29<=X23,\"þ\",IF(R29<=Y23,\"G2\",IF(R29<=Z23,\"G3\",\"\"))))))","v":""},{"$f":"IF(R29=\"\",\"\",IF(AA23=\"T\",\"\",IF(AA23=\"F\",IF(R29>=X23,\"þ\",IF(R29>=Y23,\"G2\",IF(R29>=Z23,\"G3\",\"\"))))))","v":""},"","","","",29,null,null,null,null,null,null,"3====",{"$f":"SUM($AR$7:AR11)/5","v":5},{"$f":"SUM($AS$7:AS11)/5","v":3}]
[null,null,"","",7,null,{"$f":"IF($F30=\"\",\"\",HLOOKUP(F30,mens_declare,B26,FALSE))","v":""},"",null,{"$f":"IF(I30=\"\",\"\",IF(AND(AA23=\"T\",I30<I29),\"X\",IF(AND(AA23=\"F\",I30>I29),\"X\",\"\")))","v":""},null,{"$f":"IF(AA23=\"T\",AB30,AC30)","v":""},null,7,null,{"$f":"IF($O30=\"\",\"\",HLOOKUP(O30,mens_declare,B26,FALSE))","v":""},"",null,{"$f":"IF(R30=\"\",\"\",IF(AND(AA23=\"T\",R30<R29),\"X\",IF(AND(AA23=\"F\",R30>R29),\"X\",\"\")))","v":""},{"$f":"IF(AA23=\"T\",AD30,AE30)","v":""},null,null,null,null,null,null,null,{"$f":"IF(I30=\"\",\"\",IF(AA23=\"F\",\"\",IF(AA23=\"T\",IF(I30<=X23,\"þ\",IF(I30<=Y23,\"G2\",IF(I30<=Z23,\"G3\",\"\"))))))","v":""},{"$f":"IF(I30=\"\",\"\",IF(AA23=\"T\",\"\",IF(AA23=\"F\",IF(I30>=X23,\"þ\",IF(I30>=Y23,\"G2\",IF(I30>=Z23,\"G3\",\"\"))))))","v":""},{"$f":"IF(R30=\"\",\"\",IF(AA23=\"F\",\"\",IF(AA23=\"T\",IF(R30<=X23,\"þ\",IF(R30<=Y23,\"G2\",IF(R30<=Z23,\"G3\",\"\"))))))","v":""},{"$f":"IF(R30=\"\",\"\",IF(AA23=\"T\",\"\",IF(AA23=\"F\",IF(R30>=X23,\"þ\",IF(R30>=Y23,\"G2\",IF(R30>=Z23,\"G3\",\"\"))))))","v":""},"","","","",30,null,null,null,null,null,null,"3=====",{"$f":"SUM($AR$7:AR12)/6","v":4.166666666666667},{"$f":"SUM($AS$7:AS12)/6","v":2.5}]
[null,null,"","",8,null,{"$f":"IF($F31=\"\",\"\",HLOOKUP(F31,mens_declare,B26,FALSE))","v":""},"",null,{"$f":"IF(I31=\"\",\"\",IF(AND(AA23=\"T\",I31<I30),\"X\",IF(AND(AA23=\"F\",I31>I30),\"X\",\"\")))","v":""},null,{"$f":"IF(AA23=\"T\",AB31,AC31)","v":""},null,8,null,{"$f":"IF($O31=\"\",\"\",HLOOKUP(O31,mens_declare,B26,FALSE))","v":""},"",null,{"$f":"IF(R31=\"\",\"\",IF(AND(AA23=\"T\",R31<R30),\"X\",IF(AND(AA23=\"F\",R31>R30),\"X\",\"\")))","v":""},{"$f":"IF(AA23=\"T\",AD31,AE31)","v":""},null,null,null,null,null,null,null,{"$f":"IF(I31=\"\",\"\",IF(AA23=\"F\",\"\",IF(AA23=\"T\",IF(I31<=X23,\"þ\",IF(I31<=Y23,\"G2\",IF(I31<=Z23,\"G3\",\"\"))))))","v":""},{"$f":"IF(I31=\"\",\"\",IF(AA23=\"T\",\"\",IF(AA23=\"F\",IF(I31>=X23,\"þ\",IF(I31>=Y23,\"G2\",IF(I31>=Z23,\"G3\",\"\"))))))","v":""},{"$f":"IF(R31=\"\",\"\",IF(AA23=\"F\",\"\",IF(AA23=\"T\",IF(R31<=X23,\"þ\",IF(R31<=Y23,\"G2\",IF(R31<=Z23,\"G3\",\"\"))))))","v":""},{"$f":"IF(R31=\"\",\"\",IF(AA23=\"T\",\"\",IF(AA23=\"F\",IF(R31>=X23,\"þ\",IF(R31>=Y23,\"G2\",IF(R31>=Z23,\"G3\",\"\"))))))","v":""},"","","","",31,null,null,null,null,null,null,"4=",{"$f":"SUM($AR$8:AR9)/2","v":5.5},{"$f":"SUM($AS$8:AS9)/2","v":3.5}]
[null,null,null,null,null,null,null,null,null,null,null,null,null,null,null,null,null,null,null,null,null,null,null,null,null,null,null,null,null,null,null,null,null,null,null,32,null,null,null,null,null,null,"4==",{"$f":"SUM($AR$8:AR10)/3","v":5},{"$f":"SUM($AS$8:AS10)/3","v":3}]
[null,null,null,null,{"$f":"CONCATENATE(VLOOKUP(A34,mens_handbook,3,FALSE),\" A\")","v":"Men's 800m A"},null,null,{"$f":"IF(A34=\"\",\"\",IF(VLOOKUP(A34,Handbook!$A$4:$AI$24,35,FALSE)=\"Y\",\"Wind=\",\"\"))","v":""},null,null,null,null,null,null,{"$f":"CONCATENATE(VLOOKUP(A34,mens_handbook,3,FALSE),\" B\")","v":"Men's 800m B"},{"$f":"CONCATENATE(VLOOKUP(M34,Handbook!$A$4:$C$24,3,FALSE),\" A\")","v":{"$error":"#N/A"}},{"$f":"H33","v":""},null,null,null,null,{"$f":"IF($A34=\"\",\"\",VLOOKUP($A34,Handbook!$A$4:$V$24,21,FALSE))","v":"00:01:46.100"},{"$f":"IF($A34=\"\",\"\",VLOOKUP($A34,Handbook!$A$4:$V$24,22,FALSE))","v":"00:01:46.100"},{"$f":"IF($A34=\"\",\"\",VLOOKUP($A34,Handbook!$A$4:$W$24,23,FALSE))","v":"00:02:04"},{"$f":"IF($A34=\"\",\"\",VLOOKUP($A34,Handbook!$A$4:$X$24,24,FALSE))","v":"00:02:00"},{"$f":"IF($A34=\"\",\"\",VLOOKUP($A34,Handbook!$A$4:$Y$24,25,FALSE))","v":"00:02:00"},{"$f":"IF($A34=\"\",\"\",VLOOKUP($A34,Handbook!$A$4:$AH$24,34,FALSE))","v":"T"},null,null,null,null,null,null,null,null,33,null,null,null,null,null,null,"4===",{"$f":"SUM($AR$8:AR11)/4","v":4.5},{"$f":"SUM($AS$8:AS11)/4","v":2.5}]
[2,null,{"$f":"IF(F34=\"\",\"\",IF(F34>10,F34/11,F34))","v":""},{"$f":"IF(O34=\"\",\"\",IF(O34>10,O34/11,O34))","v":""},1,null,{"$f":"IF($F34=\"\",\"\",IF($F34>90,VLOOKUP(F34,eventcodes,2,FALSE),HLOOKUP(F34,mens_declare,B36,FALSE)))","v":""},{"$f":"IF($F34=\"\",\"\",IF($F34>90,\"\",VLOOKUP(C34,matchday,2,FALSE)))","v":""},null,{"$f":"IF(I34=\"\",\"\",IF(AA33=\"T\",V34,V35))","v":""},null,{"$f":"IF(AA33=\"T\",AB34,AC34)","v":""},null,1,null,{"$f":"IF($O34=\"\",\"\",HLOOKUP(O34,mens_declare,B36,FALSE))","v":""},{"$f":"IF($O34=\"\",\"\",VLOOKUP(D34,matchday,2,FALSE))","v":""},null,null,{"$f":"IF(AA33=\"T\",AD34,AE34)","v":""},null,{"$f":"IF(AA33=\"F\",\"\",IF(I34<V33,\"LR\",IF(I34=V33,\"=LR\",IF(I34<W33,\"DR\",IF(I34=W33,\"=DR\",\"\")))))","v":"LR"},null,null,null,null,null,{"$f":"IF(I34=\"\",\"\",IF(AA33=\"F\",\"\",IF(AA33=\"T\",IF(I34<=X33,\"þ\",IF(I34<=Y33,\"G2\",IF(I34<=Z33,\"G3\",\"\"))))))","v":""},{"$f":"IF(I34=\"\",\"\",IF(AA33=\"T\",\"\",IF(AA33=\"F\",IF(I34>=X33,\"þ\",IF(I34>=Y33,\"G2\",IF(I34>=Z33,\"G3\",\"\"))))))","v":""},{"$f":"IF(R34=\"\",\"\",IF(AA33=\"F\",\"\",IF(AA33=\"T\",IF(R34<=X33,\"þ\",IF(R34<=Y33,\"G2\",IF(R34<=Z33,\"G3\",\"\"))))))","v":""},{"$f":"IF(R34=\"\",\"\",IF(AA33=\"T\",\"\",IF(AA33=\"F\",IF(R34>=X33,\"þ\",IF(R34>=Y33,\"G2\",IF(R34>=Z33,\"G3\",\"\"))))))","v":""},{"$f":"C34","v":""},{"$f":"IF(F34=\"\",\"\",IF(LEFT(I34,1)=\"D\",0,VLOOKUP(E34,$AQ$4:$AR$40,2,FALSE)))","v":""},{"$f":"D34","v":""},{"$f":"IF(O34=\"\",\"\",IF(LEFT(R34,1)=\"D\",0,VLOOKUP(N34,$AQ$4:$AS$40,3,FALSE)))","v":""},34,null,null,null,null,null,null,"4====",{"$f":"SUM($AR$8:AR12)/5","v":3.6},{"$f":"SUM($AS$8:AS12)/5","v":2}]
[null,{"$f":"VLOOKUP(A34,Handbook!$A$4:$AK$24,37,FALSE)","v":3},{"$f":"IF(F35=\"\",\"\",IF(F35>10,F35/11,F35))","v":""},{"$f":"IF(O35=\"\",\"\",IF(O35>10,O35/11,O35))","v":""},2,null,{"$f":"IF($F35=\"\",\"\",HLOOKUP(F35,mens_declare,B36,FALSE))","v":""},{"$f":"IF($F35=\"\",\"\",VLOOKUP(C35,matchday,2,FALSE))","v":""},null,{"$f":"IF(I35=\"\",\"\",IF(AND(AA33=\"T\",I35<I34),\"X\",IF(AND(AA33=\"F\",I35>I34),\"X\",\"\")))","v":""},null,{"$f":"IF(AA33=\"T\",AB35,AC35)","v":""},null,2,null,{"$f":"IF($O35=\"\",\"\",HLOOKUP(O35,mens_declare,B36,FALSE))","v":""},"",null,{"$f":"IF(R35=\"\",\"\",IF(AND(AA33=\"T\",R35<R34),\"X\",IF(AND(AA33=\"F\",R35>R34),\"X\",\"\")))","v":""},{"$f":"IF(AA33=\"T\",AD35,AE35)","v":""},null,{"$f":"IF(AA33=\"T\",\"\",IF(I34>V33,\"LR\",IF(I34=V33,\"=LR\",IF(I34>W33,\"DR\",IF(I34=W33,\"=DR\",\"\")))))","v":""},null,null,null,null,null,{"$f":"IF(I35=\"\",\"\",IF(AA33=\"F\",\"\",IF(AA33=\"T\",IF(I35<=X33,\"þ\",IF(I35<=Y33,\"G2\",IF(I35<=Z33,\"G3\",\"\"))))))","v":""},{"$f":"IF(I35=\"\",\"\",IF(AA33=\"T\",\"\",IF(AA33=\"F\",IF(I35>=X33,\"þ\",IF(I35>=Y33,\"G2\",IF(I35>=Z33,\"G3\",\"\"))))))","v":""},{"$f":"IF(R35=\"\",\"\",IF(AA33=\"F\",\"\",IF(AA33=\"T\",IF(R35<=X33,\"þ\",IF(R35<=Y33,\"G2\",IF(R35<=Z33,\"G3\",\"\"))))))","v":""},{"$f":"IF(R35=\"\",\"\",IF(AA33=\"T\",\"\",IF(AA33=\"F\",IF(R35>=X33,\"þ\",IF(R35>=Y33,\"G2\",IF(R35>=Z33,\"G3\",\"\"))))))","v":""},{"$f":"C35","v":""},"",{"$f":"D35","v":""},"",35,null,null,null,null,null,null,"5=",{"$f":"SUM($AR$9:AR10)/2","v":4.5},{"$f":"SUM($AS$9:AS10)/2","v":2.5}]
[null,{"$f":"VLOOKUP(A34,mens_declare,20,FALSE)","v":6},"","",3,null,{"$f":"IF($F36=\"\",\"\",HLOOKUP(F36,mens_declare,B36,FALSE))","v":""},"",null,{"$f":"IF(I36=\"\",\"\",IF(AND(AA33=\"T\",I36<I35),\"X\",IF(AND(AA33=\"F\",I36>I35),\"X\",\"\")))","v":""},null,{"$f":"IF(AA33=\"T\",AB36,AC36)","v":""},null,3,null,{"$f":"IF($O36=\"\",\"\",HLOOKUP(O36,mens_declare,B36,FALSE))","v":""},"",null,{"$f":"IF(R36=\"\",\"\",IF(AND(AA33=\"T\",R36<R35),\"X\",IF(AND(AA33=\"F\",R36>R35),\"X\",\"\")))","v":""},{"$f":"IF(AA33=\"T\",AD36,AE36)","v":""},null,null,null,null,null,null,null,{"$f":"IF(I36=\"\",\"\",IF(AA33=\"F\",\"\",IF(AA33=\"T\",IF(I36<=X33,\"þ\",IF(I36<=Y33,\"G2\",IF(I36<=Z33,\"G3\",\"\"))))))","v":""},{"$f":"IF(I36=\"\",\"\",IF(AA33=\"T\",\"\",IF(AA33=\"F\",IF(I36>=X33,\"þ\",IF(I36>=Y33,\"G2\",IF(I36>=Z33,\"G3\",\"\"))))))","v":""},{"$f":"IF(R36=\"\",\"\",IF(AA33=\"F\",\"\",IF(AA33=\"T\",IF(R36<=X33,\"þ\",IF(R36<=Y33,\"G2\",IF(R36<=Z33,\"G3\",\"\"))))))","v":""},{"$f":"IF(R36=\"\",\"\",IF(AA33=\"T\",\"\",IF(AA33=\"F\",IF(R36>=X33,\"þ\",IF(R36>=Y33,\"G2\",IF(R36>=Z33,\"G3\",\"\"))))))","v":""},"","","","",36,null,null,null,null,null,null,"5==",{"$f":"SUM($AR$9:AR11)/3","v":4},{"$f":"SUM($AS$9:AS11)/3","v":2}]
[null,null,"","",4,null,{"$f":"IF($F37=\"\",\"\",HLOOKUP(F37,mens_declare,B36,FALSE))","v":""},"",null,{"$f":"IF(I37=\"\",\"\",IF(AND(AA33=\"T\",I37<I36),\"X\",IF(AND(AA33=\"F\",I37>I36),\"X\",\"\")))","v":""},null,{"$f":"IF(AA33=\"T\",AB37,AC37)","v":""},null,4,null,{"$f":"IF($O37=\"\",\"\",HLOOKUP(O37,mens_declare,B36,FALSE))","v":""},"",null,{"$f":"IF(R37=\"\",\"\",IF(AND(AA33=\"T\",R37<R36),\"X\",IF(AND(AA33=\"F\",R37>R36),\"X\",\"\")))","v":""},{"$f":"IF(AA33=\"T\",AD37,AE37)","v":""},null,null,null,null,null,null,null,{"$f":"IF(I37=\"\",\"\",IF(AA33=\"F\",\"\",IF(AA33=\"T\",IF(I37<=X33,\"þ\",IF(I37<=Y33,\"G2\",IF(I37<=Z33,\"G3\",\"\"))))))","v":""},{"$f":"IF(I37=\"\",\"\",IF(AA33=\"T\",\"\",IF(AA33=\"F\",IF(I37>=X33,\"þ\",IF(I37>=Y33,\"G2\",IF(I37>=Z33,\"G3\",\"\"))))))","v":""},{"$f":"IF(R37=\"\",\"\",IF(AA33=\"F\",\"\",IF(AA33=\"T\",IF(R37<=X33,\"þ\",IF(R37<=Y33,\"G2\",IF(R37<=Z33,\"G3\",\"\"))))))","v":""},{"$f":"IF(R37=\"\",\"\",IF(AA33=\"T\",\"\",IF(AA33=\"F\",IF(R37>=X33,\"þ\",IF(R37>=Y33,\"G2\",IF(R37>=Z33,\"G3\",\"\"))))))","v":""},"","","","",37,null,null,null,null,null,null,"5===",{"$f":"SUM($AR$9:AR12)/4","v":3},{"$f":"SUM($AS$9:AS12)/4","v":1.5}]
[null,null,"","",5,null,{"$f":"IF($F38=\"\",\"\",HLOOKUP(F38,mens_declare,B36,FALSE))","v":""},"",null,{"$f":"IF(I38=\"\",\"\",IF(AND(AA33=\"T\",I38<I37),\"X\",IF(AND(AA33=\"F\",I38>I37),\"X\",\"\")))","v":""},null,{"$f":"IF(AA33=\"T\",AB38,AC38)","v":""},null,5,null,{"$f":"IF($O38=\"\",\"\",HLOOKUP(O38,mens_declare,B36,FALSE))","v":""},"",null,{"$f":"IF(R38=\"\",\"\",IF(AND(AA33=\"T\",R38<R37),\"X\",IF(AND(AA33=\"F\",R38>R37),\"X\",\"\")))","v":""},{"$f":"IF(AA33=\"T\",AD38,AE38)","v":""},null,null,null,null,null,null,null,{"$f":"IF(I38=\"\",\"\",IF(AA33=\"F\",\"\",IF(AA33=\"T\",IF(I38<=X33,\"þ\",IF(I38<=Y33,\"G2\",IF(I38<=Z33,\"G3\",\"\"))))))","v":""},{"$f":"IF(I38=\"\",\"\",IF(AA33=\"T\",\"\",IF(AA33=\"F\",IF(I38>=X33,\"þ\",IF(I38>=Y33,\"G2\",IF(I38>=Z33,\"G3\",\"\"))))))","v":""},{"$f":"IF(R38=\"\",\"\",IF(AA33=\"F\",\"\",IF(AA33=\"T\",IF(R38<=X33,\"þ\",IF(R38<=Y33,\"G2\",IF(R38<=Z33,\"G3\",\"\"))))))","v":""},{"$f":"IF(R38=\"\",\"\",IF(AA33=\"T\",\"\",IF(AA33=\"F\",IF(R38>=X33,\"þ\",IF(R38>=Y33,\"G2\",IF(R38>=Z33,\"G3\",\"\"))))))","v":""},"","","","",38,null,null,null,null,null,null,"6=",{"$f":"SUM($AR$10:AR11)/2","v":3.5},{"$f":"SUM($AS$10:AS11)/2","v":1.5}]
[null,null,"","",6,null,{"$f":"IF($F39=\"\",\"\",HLOOKUP(F39,mens_declare,B36,FALSE))","v":""},"",null,{"$f":"IF(I39=\"\",\"\",IF(AND(AA33=\"T\",I39<I38),\"X\",IF(AND(AA33=\"F\",I39>I38),\"X\",\"\")))","v":""},null,{"$f":"IF(AA33=\"T\",AB39,AC39)","v":""},null,6,null,{"$f":"IF($O39=\"\",\"\",HLOOKUP(O39,mens_declare,B36,FALSE))","v":""},"",null,{"$f":"IF(R39=\"\",\"\",IF(AND(AA33=\"T\",R39<R38),\"X\",IF(AND(AA33=\"F\",R39>R38),\"X\",\"\")))","v":""},{"$f":"IF(AA33=\"T\",AD39,AE39)","v":""},null,null,null,null,null,null,null,{"$f":"IF(I39=\"\",\"\",IF(AA33=\"F\",\"\",IF(AA33=\"T\",IF(I39<=X33,\"þ\",IF(I39<=Y33,\"G2\",IF(I39<=Z33,\"G3\",\"\"))))))","v":""},{"$f":"IF(I39=\"\",\"\",IF(AA33=\"T\",\"\",IF(AA33=\"F\",IF(I39>=X33,\"þ\",IF(I39>=Y33,\"G2\",IF(I39>=Z33,\"G3\",\"\"))))))","v":""},{"$f":"IF(R39=\"\",\"\",IF(AA33=\"F\",\"\",IF(AA33=\"T\",IF(R39<=X33,\"þ\",IF(R39<=Y33,\"G2\",IF(R39<=Z33,\"G3\",\"\"))))))","v":""},{"$f":"IF(R39=\"\",\"\",IF(AA33=\"T\",\"\",IF(AA33=\"F\",IF(R39>=X33,\"þ\",IF(R39>=Y33,\"G2\",IF(R39>=Z33,\"G3\",\"\"))))))","v":""},"","","","",39,null,null,null,null,null,null,"6==",{"$f":"SUM($AR$10:AR12)/3","v":2.3333333333333335},{"$f":"SUM($AS$10:AS12)/3","v":1}]
[null,null,"","",7,null,{"$f":"IF($F40=\"\",\"\",HLOOKUP(F40,mens_declare,B36,FALSE))","v":""},"",null,{"$f":"IF(I40=\"\",\"\",IF(AND(AA33=\"T\",I40<I39),\"X\",IF(AND(AA33=\"F\",I40>I39),\"X\",\"\")))","v":""},null,{"$f":"IF(AA33=\"T\",AB40,AC40)","v":""},null,7,null,{"$f":"IF($O40=\"\",\"\",HLOOKUP(O40,mens_declare,B36,FALSE))","v":""},"",null,{"$f":"IF(R40=\"\",\"\",IF(AND(AA33=\"T\",R40<R39),\"X\",IF(AND(AA33=\"F\",R40>R39),\"X\",\"\")))","v":""},{"$f":"IF(AA33=\"T\",AD40,AE40)","v":""},null,null,null,null,null,null,null,{"$f":"IF(I40=\"\",\"\",IF(AA33=\"F\",\"\",IF(AA33=\"T\",IF(I40<=X33,\"þ\",IF(I40<=Y33,\"G2\",IF(I40<=Z33,\"G3\",\"\"))))))","v":""},{"$f":"IF(I40=\"\",\"\",IF(AA33=\"T\",\"\",IF(AA33=\"F\",IF(I40>=X33,\"þ\",IF(I40>=Y33,\"G2\",IF(I40>=Z33,\"G3\",\"\"))))))","v":""},{"$f":"IF(R40=\"\",\"\",IF(AA33=\"F\",\"\",IF(AA33=\"T\",IF(R40<=X33,\"þ\",IF(R40<=Y33,\"G2\",IF(R40<=Z33,\"G3\",\"\"))))))","v":""},{"$f":"IF(R40=\"\",\"\",IF(AA33=\"T\",\"\",IF(AA33=\"F\",IF(R40>=X33,\"þ\",IF(R40>=Y33,\"G2\",IF(R40>=Z33,\"G3\",\"\"))))))","v":""},"","","","",40,null,null,null,null,null,null,"7=",{"$f":"SUM($AR$11:AR12)/2","v":1.5},{"$f":"SUM($AS$11:AS12)/2","v":0.5}]
[null,null,"","",8,null,{"$f":"IF($F41=\"\",\"\",HLOOKUP(F41,mens_declare,B36,FALSE))","v":""},"",null,{"$f":"IF(I41=\"\",\"\",IF(AND(AA33=\"T\",I41<I40),\"X\",IF(AND(AA33=\"F\",I41>I40),\"X\",\"\")))","v":""},null,{"$f":"IF(AA33=\"T\",AB41,AC41)","v":""},null,8,null,{"$f":"IF($O41=\"\",\"\",HLOOKUP(O41,mens_declare,B36,FALSE))","v":""},"",null,{"$f":"IF(R41=\"\",\"\",IF(AND(AA33=\"T\",R41<R40),\"X\",IF(AND(AA33=\"F\",R41>R40),\"X\",\"\")))","v":""},{"$f":"IF(AA33=\"T\",AD41,AE41)","v":""},null,null,null,null,null,null,null,{"$f":"IF(I41=\"\",\"\",IF(AA33=\"F\",\"\",IF(AA33=\"T\",IF(I41<=X33,\"þ\",IF(I41<=Y33,\"G2\",IF(I41<=Z33,\"G3\",\"\"))))))","v":""},{"$f":"IF(I41=\"\",\"\",IF(AA33=\"T\",\"\",IF(AA33=\"F\",IF(I41>=X33,\"þ\",IF(I41>=Y33,\"G2\",IF(I41>=Z33,\"G3\",\"\"))))))","v":""},{"$f":"IF(R41=\"\",\"\",IF(AA33=\"F\",\"\",IF(AA33=\"T\",IF(R41<=X33,\"þ\",IF(R41<=Y33,\"G2\",IF(R41<=Z33,\"G3\",\"\"))))))","v":""},{"$f":"IF(R41=\"\",\"\",IF(AA33=\"T\",\"\",IF(AA33=\"F\",IF(R41>=X33,\"þ\",IF(R41>=Y33,\"G2\",IF(R41>=Z33,\"G3\",\"\"))))))","v":""},"","","","",41]
[null,null,null,null,null,null,null,null,null,null,null,null,null,null,null,null,null,null,null,null,null,null,null,null,null,null,null,null,null,null,null,null,null,null,null,42]
[null,null,null,null,{"$f":"CONCATENATE(VLOOKUP(A44,mens_handbook,3,FALSE),\" A\")","v":"Men's 1500m A"},null,null,{"$f":"IF(A44=\"\",\"\",IF(VLOOKUP(A44,Handbook!$A$4:$AI$24,35,FALSE)=\"Y\",\"Wind=\",\"\"))","v":""},null,null,null,null,null,null,{"$f":"CONCATENATE(VLOOKUP(A44,mens_handbook,3,FALSE),\" B\")","v":"Men's 1500m B"},{"$f":"CONCATENATE(VLOOKUP(M44,Handbook!$A$4:$C$24,3,FALSE),\" A\")","v":{"$error":"#N/A"}},{"$f":"H43","v":""},null,null,null,null,{"$f":"IF($A44=\"\",\"\",VLOOKUP($A44,Handbook!$A$4:$V$24,21,FALSE))","v":"00:03:42"},{"$f":"IF($A44=\"\",\"\",VLOOKUP($A44,Handbook!$A$4:$V$24,22,FALSE))","v":"00:03:42"},{"$f":"IF($A44=\"\",\"\",VLOOKUP($A44,Handbook!$A$4:$W$24,23,FALSE))","v":"04:20:00"},{"$f":"IF($A44=\"\",\"\",VLOOKUP($A44,Handbook!$A$4:$X$24,24,FALSE))","v":"00:04:08"},{"$f":"IF($A44=\"\",\"\",VLOOKUP($A44,Handbook!$A$4:$Y$24,25,FALSE))","v":"00:04:08"},{"$f":"IF($A44=\"\",\"\",VLOOKUP($A44,Handbook!$A$4:$AH$24,34,FALSE))","v":"T"},null,null,null,null,null,null,null,null,43]
[8,null,{"$f":"IF(F44=\"\",\"\",IF(F44>10,F44/11,F44))","v":""},{"$f":"IF(O44=\"\",\"\",IF(O44>10,O44/11,O44))","v":""},1,{"$f":"IF(OR(M_1500m!D20=0,M_1500m!D20=\"\"),\"\",M_1500m!D20)","v":""},{"$f":"IF(OR($F44=\"\",$F44=0),\"\",IF($F44>90,VLOOKUP(F44,eventcodes,2,FALSE),HLOOKUP(F44,mens_declare,B46,FALSE)))","v":""},{"$f":"IF(OR($F44=\"\",$F44=0),\"\",IF($F44>90,\"\",VLOOKUP(C44,matchday,2,FALSE)))","v":""},{"$f":"IF(OR(M_1500m!G20=0,M_1500m!G20=\"\"),\"\",M_1500m!G20)","v":""},{"$f":"IF(OR(I44=\"\",I44=0),\"\",IF(AA43=\"T\",V44,V45))","v":""},null,{"$f":"IF(AA43=\"T\",AB44,AC44)","v":""},null,1,{"$f":"IF(OR(M_1500m!D29=0,M_1500m!D29=\"\"),\"\",M_1500m!D29)","v":""},{"$f":"IF(OR($O44=\"\",$O44=0),\"\",IF($O44>90,VLOOKUP(O44,eventcodes,2,FALSE),HLOOKUP(O44,mens_declare,B46,FALSE)))","v":""},{"$f":"IF(OR($O44=\"\",$O44=0),\"\",IF($O44>90,\"\",VLOOKUP(D44,matchday,2,FALSE)))","v":""},{"$f":"IF(OR(M_1500m!G29=0,M_1500m!G29=\"\"),\"\",M_1500m!G29)","v":""},null,{"$f":"IF(AA43=\"T\",AD44,AE44)","v":""},null,{"$f":"IF(AA43=\"F\",\"\",IF(I44<V43,\"LR\",IF(I44=V43,\"=LR\",IF(I44<W43,\"DR\",IF(I44=W43,\"=DR\",\"\")))))","v":""},null,null,null,null,null,{"$f":"IF(OR(I44=\"\",I44=0),\"\",IF(AA43=\"F\",\"\",IF(AA43=\"T\",IF(I44<=X43,\"þ\",IF(I44<=Y43,\"G2\",IF(I44<=Z43,\"G3\",\"\"))))))","v":""},{"$f":"IF(OR(I44=\"\",I44=0),\"\",IF(AA43=\"T\",\"\",IF(AA43=\"F\",IF(I44>=X43,\"þ\",IF(I44>=Y43,\"G2\",IF(I44>=Z43,\"G3\",\"\"))))))","v":""},{"$f":"IF(OR(R44=\"\",R44=0),\"\",IF(AA43=\"F\",\"\",IF(AA43=\"T\",IF(R44<=X43,\"þ\",IF(R44<=Y43,\"G2\",IF(R44<=Z43,\"G3\",\"\"))))))","v":""},{"$f":"IF(R44=\"\",\"\",IF(AA43=\"T\",\"\",IF(AA43=\"F\",IF(R44>=X43,\"þ\",IF(R44>=Y43,\"G2\",IF(R44>=Z43,\"G3\",\"\"))))))","v":""},{"$f":"C44","v":""},{"$f":"IF(F44=\"\",\"\",IF(LEFT(I44,1)=\"D\",0,VLOOKUP(E44,$AQ$4:$AR$40,2,FALSE)))","v":""},{"$f":"D44","v":""},{"$f":"IF(O44=\"\",\"\",IF(LEFT(R44,1)=\"D\",0,VLOOKUP(N44,$AQ$4:$AS$40,3,FALSE)))","v":""},44]
[null,{"$f":"VLOOKUP(A44,Handbook!$A$4:$AK$24,37,FALSE)","v":9},{"$f":"IF(F45=\"\",\"\",IF(F45>10,F45/11,F45))","v":""},{"$f":"IF(O45=\"\",\"\",IF(O45>10,O45/11,O45))","v":""},2,{"$f":"IF(OR(M_1500m!D21=0,M_1500m!D21=\"\"),\"\",M_1500m!D21)","v":""},{"$f":"IF(OR($F45=\"\",$F45=0),\"\",IF($F45>90,VLOOKUP(F45,eventcodes,2,FALSE),HLOOKUP(F45,mens_declare,B46,FALSE)))","v":""},"",{"$f":"IF(OR(M_1500m!G21=0,M_1500m!G21=\"\"),\"\",M_1500m!G21)","v":""},{"$f":"IF(OR(I45=\"\",I45=0),\"\",IF(AND(AA43=\"T\",I45<I44),\"X\",IF(AND(AA43=\"F\",I45>I44),\"X\",\"\")))","v":""},null,{"$f":"IF(AA43=\"T\",AB45,AC45)","v":""},null,2,{"$f":"IF(OR(M_1500m!D30=0,M_1500m!D30=\"\"),\"\",M_1500m!D30)","v":""},{"$f":"IF(OR($O45=\"\",$O45=0),\"\",IF($O45>90,VLOOKUP(O45,eventcodes,2,FALSE),HLOOKUP(O45,mens_declare,B46,FALSE)))","v":""},"",{"$f":"IF(OR(M_1500m!G30=0,M_1500m!G30=\"\"),\"\",M_1500m!G30)","v":""},{"$f":"IF(OR(R45=\"\",R45=0),\"\",IF(AND(AA43=\"T\",R45<R44),\"X\",IF(AND(AA43=\"F\",R45>R44),\"X\",\"\")))","v":""},{"$f":"IF(AA43=\"T\",AD45,AE45)","v":""},null,{"$f":"IF(AA43=\"T\",\"\",IF(I44>V43,\"LR\",IF(I44=V43,\"=LR\",IF(I44>W43,\"DR\",IF(I44=W43,\"=DR\",\"\")))))","v":""},null,null,null,null,null,{"$f":"IF(OR(I45=\"\",I45=0),\"\",IF(AA43=\"F\",\"\",IF(AA43=\"T\",IF(I45<=X43,\"þ\",IF(I45<=Y43,\"G2\",IF(I45<=Z43,\"G3\",\"\"))))))","v":""},{"$f":"IF(OR(I45=\"\",I45=0),\"\",IF(AA43=\"T\",\"\",IF(AA43=\"F\",IF(I45>=X43,\"þ\",IF(I45>=Y43,\"G2\",IF(I45>=Z43,\"G3\",\"\"))))))","v":""},{"$f":"IF(OR(R45=\"\",R45=0),\"\",IF(AA43=\"F\",\"\",IF(AA43=\"T\",IF(R45<=X43,\"þ\",IF(R45<=Y43,\"G2\",IF(R45<=Z43,\"G3\",\"\"))))))","v":""},{"$f":"IF(R45=\"\",\"\",IF(AA43=\"T\",\"\",IF(AA43=\"F\",IF(R45>=X43,\"þ\",IF(R45>=Y43,\"G2\",IF(R45>=Z43,\"G3\",\"\"))))))","v":""},{"$f":"C45","v":""},"",{"$f":"D45","v":""},"",45]
[null,{"$f":"VLOOKUP(A44,mens_declare,20,FALSE)","v":7},"","",3,{"$f":"IF(OR(M_1500m!D22=0,M_1500m!D22=\"\"),\"\",M_1500m!D22)","v":""},{"$f":"IF(OR($F46=\"\",$F46=0),\"\",IF($F46>90,VLOOKUP(F46,eventcodes,2,FALSE),HLOOKUP(F46,mens_declare,B46,FALSE)))","v":""},"",{"$f":"IF(OR(M_1500m!G22=0,M_1500m!G22=\"\"),\"\",M_1500m!G22)","v":""},{"$f":"IF(OR(I46=\"\",I46=0),\"\",IF(AND(AA43=\"T\",I46<I45),\"X\",IF(AND(AA43=\"F\",I46>I45),\"X\",\"\")))","v":""},null,{"$f":"IF(AA43=\"T\",AB46,AC46)","v":""},null,3,{"$f":"IF(OR(M_1500m!D31=0,M_1500m!D31=\"\"),\"\",M_1500m!D31)","v":""},{"$f":"IF(OR($O46=\"\",$O46=0),\"\",IF($O46>90,VLOOKUP(O46,eventcodes,2,FALSE),HLOOKUP(O46,mens_declare,B46,FALSE)))","v":""},"",{"$f":"IF(OR(M_1500m!G31=0,M_1500m!G31=\"\"),\"\",M_1500m!G31)","v":""},{"$f":"IF(OR(R46=\"\",R46=0),\"\",IF(AND(AA44=\"T\",R46<R45),\"X\",IF(AND(AA44=\"F\",R46>R45),\"X\",\"\")))","v":""},{"$f":"IF(AA43=\"T\",AD46,AE46)","v":""},null,null,null,null,null,null,null,{"$f":"IF(OR(I46=\"\",I46=0),\"\",IF(AA43=\"F\",\"\",IF(AA43=\"T\",IF(I46<=X43,\"þ\",IF(I46<=Y43,\"G2\",IF(I46<=Z43,\"G3\",\"\"))))))","v":""},{"$f":"IF(OR(I46=\"\",I46=0),\"\",IF(AA43=\"T\",\"\",IF(AA43=\"F\",IF(I46>=X43,\"þ\",IF(I46>=Y43,\"G2\",IF(I46>=Z43,\"G3\",\"\"))))))","v":""},{"$f":"IF(OR(R46=\"\",R46=0),\"\",IF(AA43=\"F\",\"\",IF(AA43=\"T\",IF(R46<=X43,\"þ\",IF(R46<=Y43,\"G2\",IF(R46<=Z43,\"G3\",\"\"))))))","v":""},{"$f":"IF(R46=\"\",\"\",IF(AA43=\"T\",\"\",IF(AA43=\"F\",IF(R46>=X43,\"þ\",IF(R46>=Y43,\"G2\",IF(R46>=Z43,\"G3\",\"\"))))))","v":""},"","","","",46]
[null,null,"","",4,{"$f":"IF(OR(M_1500m!D23=0,M_1500m!D23=\"\"),\"\",M_1500m!D23)","v":""},{"$f":"IF(OR($F47=\"\",$F47=0),\"\",IF($F47>90,VLOOKUP(F47,eventcodes,2,FALSE),HLOOKUP(F47,mens_declare,B46,FALSE)))","v":""},"",{"$f":"IF(OR(M_1500m!G23=0,M_1500m!G23=\"\"),\"\",M_1500m!G23)","v":""},{"$f":"IF(OR(I47=\"\",I47=0),\"\",IF(AND(AA43=\"T\",I47<I46),\"X\",IF(AND(AA43=\"F\",I47>I46),\"X\",\"\")))","v":""},null,{"$f":"IF(AA43=\"T\",AB47,AC47)","v":""},null,4,{"$f":"IF(OR(M_1500m!D32=0,M_1500m!D32=\"\"),\"\",M_1500m!D32)","v":""},{"$f":"IF(OR($O47=\"\",$O47=0),\"\",IF($O47>90,VLOOKUP(O47,eventcodes,2,FALSE),HLOOKUP(O47,mens_declare,B46,FALSE)))","v":""},"",{"$f":"IF(OR(M_1500m!G32=0,M_1500m!G32=\"\"),\"\",M_1500m!G32)","v":""},"",{"$f":"IF(AA43=\"T\",AD47,AE47)","v":""},null,null,null,null,null,null,null,{"$f":"IF(OR(I47=\"\",I47=0),\"\",IF(AA43=\"F\",\"\",IF(AA43=\"T\",IF(I47<=X43,\"þ\",IF(I47<=Y43,\"G2\",IF(I47<=Z43,\"G3\",\"\"))))))","v":""},{"$f":"IF(OR(I47=\"\",I47=0),\"\",IF(AA43=\"T\",\"\",IF(AA43=\"F\",IF(I47>=X43,\"þ\",IF(I47>=Y43,\"G2\",IF(I47>=Z43,\"G3\",\"\"))))))","v":""},{"$f":"IF(OR(R47=\"\",R47=0),\"\",IF(AA43=\"F\",\"\",IF(AA43=\"T\",IF(R47<=X43,\"þ\",IF(R47<=Y43,\"G2\",IF(R47<=Z43,\"G3\",\"\"))))))","v":""},{"$f":"IF(R47=\"\",\"\",IF(AA43=\"T\",\"\",IF(AA43=\"F\",IF(R47>=X43,\"þ\",IF(R47>=Y43,\"G2\",IF(R47>=Z43,\"G3\",\"\"))))))","v":""},"","","","",47]
[null,null,"","",5,{"$f":"IF(OR(M_1500m!D24=0,M_1500m!D24=\"\"),\"\",M_1500m!D24)","v":""},{"$f":"IF(OR($F48=\"\",$F48=0),\"\",IF($F48>90,VLOOKUP(F48,eventcodes,2,FALSE),HLOOKUP(F48,mens_declare,B46,FALSE)))","v":""},"",{"$f":"IF(OR(M_1500m!G24=0,M_1500m!G24=\"\"),\"\",M_1500m!G24)","v":""},{"$f":"IF(OR(I48=\"\",I48=0),\"\",IF(AND(AA43=\"T\",I48<I47),\"X\",IF(AND(AA43=\"F\",I48>I47),\"X\",\"\")))","v":""},null,{"$f":"IF(AA43=\"T\",AB48,AC48)","v":""},null,5,{"$f":"IF(OR(M_1500m!D33=0,M_1500m!D33=\"\"),\"\",M_1500m!D33)","v":""},{"$f":"IF(OR($O48=\"\",$O48=0),\"\",IF($O48>90,VLOOKUP(O48,eventcodes,2,FALSE),HLOOKUP(O48,mens_declare,B46,FALSE)))","v":""},"",{"$f":"IF(OR(M_1500m!G33=0,M_1500m!G33=\"\"),\"\",M_1500m!G33)","v":""},"",{"$f":"IF(AA43=\"T\",AD48,AE48)","v":""},null,null,null,null,null,null,null,{"$f":"IF(OR(I48=\"\",I48=0),\"\",IF(AA43=\"F\",\"\",IF(AA43=\"T\",IF(I48<=X43,\"þ\",IF(I48<=Y43,\"G2\",IF(I48<=Z43,\"G3\",\"\"))))))","v":""},{"$f":"IF(OR(I48=\"\",I48=0),\"\",IF(AA43=\"T\",\"\",IF(AA43=\"F\",IF(I48>=X43,\"þ\",IF(I48>=Y43,\"G2\",IF(I48>=Z43,\"G3\",\"\"))))))","v":""},{"$f":"IF(OR(R48=\"\",R48=0),\"\",IF(AA43=\"F\",\"\",IF(AA43=\"T\",IF(R48<=X43,\"þ\",IF(R48<=Y43,\"G2\",IF(R48<=Z43,\"G3\",\"\"))))))","v":""},{"$f":"IF(R48=\"\",\"\",IF(AA43=\"T\",\"\",IF(AA43=\"F\",IF(R48>=X43,\"þ\",IF(R48>=Y43,\"G2\",IF(R48>=Z43,\"G3\",\"\"))))))","v":""},"","","","",48]
[null,null,"","",6,{"$f":"IF(OR(M_1500m!D25=0,M_1500m!D25=\"\"),\"\",M_1500m!D25)","v":""},{"$f":"IF(OR($F49=\"\",$F49=0),\"\",IF($F49>90,VLOOKUP(F49,eventcodes,2,FALSE),HLOOKUP(F49,mens_declare,B46,FALSE)))","v":""},"",{"$f":"IF(OR(M_1500m!G25=0,M_1500m!G25=\"\"),\"\",M_1500m!G25)","v":""},{"$f":"IF(OR(I49=\"\",I49=0),\"\",IF(AND(AA43=\"T\",I49<I48),\"X\",IF(AND(AA43=\"F\",I49>I48),\"X\",\"\")))","v":""},null,{"$f":"IF(AA43=\"T\",AB49,AC49)","v":""},null,6,{"$f":"IF(OR(M_1500m!D34=0,M_1500m!D34=\"\"),\"\",M_1500m!D34)","v":""},{"$f":"IF(OR($O49=\"\",$O49=0),\"\",IF($O49>90,VLOOKUP(O49,eventcodes,2,FALSE),HLOOKUP(O49,mens_declare,B46,FALSE)))","v":""},"",{"$f":"IF(OR(M_1500m!G34=0,M_1500m!G34=\"\"),\"\",M_1500m!G34)","v":""},"",{"$f":"IF(AA43=\"T\",AD49,AE49)","v":""},null,null,null,null,null,null,null,{"$f":"IF(OR(I49=\"\",I49=0),\"\",IF(AA43=\"F\",\"\",IF(AA43=\"T\",IF(I49<=X43,\"þ\",IF(I49<=Y43,\"G2\",IF(I49<=Z43,\"G3\",\"\"))))))","v":""},{"$f":"IF(OR(I49=\"\",I49=0),\"\",IF(AA43=\"T\",\"\",IF(AA43=\"F\",IF(I49>=X43,\"þ\",IF(I49>=Y43,\"G2\",IF(I49>=Z43,\"G3\",\"\"))))))","v":""},{"$f":"IF(OR(R49=\"\",R49=0),\"\",IF(AA43=\"F\",\"\",IF(AA43=\"T\",IF(R49<=X43,\"þ\",IF(R49<=Y43,\"G2\",IF(R49<=Z43,\"G3\",\"\"))))))","v":""},{"$f":"IF(R49=\"\",\"\",IF(AA43=\"T\",\"\",IF(AA43=\"F\",IF(R49>=X43,\"þ\",IF(R49>=Y43,\"G2\",IF(R49>=Z43,\"G3\",\"\"))))))","v":""},"","","","",49]
[null,null,"","",7,{"$f":"IF(OR(M_1500m!D26=0,M_1500m!D26=\"\"),\"\",M_1500m!D26)","v":""},{"$f":"IF(OR($F50=\"\",$F50=0),\"\",IF($F50>90,VLOOKUP(F50,eventcodes,2,FALSE),HLOOKUP(F50,mens_declare,B46,FALSE)))","v":""},"",{"$f":"IF(OR(M_1500m!G26=0,M_1500m!G26=\"\"),\"\",M_1500m!G26)","v":""},{"$f":"IF(OR(I50=\"\",I50=0),\"\",IF(AND(AA43=\"T\",I50<I49),\"X\",IF(AND(AA43=\"F\",I50>I49),\"X\",\"\")))","v":""},null,{"$f":"IF(AA43=\"T\",AB50,AC50)","v":""},null,7,{"$f":"IF(OR(M_1500m!D35=0,M_1500m!D35=\"\"),\"\",M_1500m!D35)","v":""},{"$f":"IF(OR($O50=\"\",$O50=0),\"\",IF($O50>90,VLOOKUP(O50,eventcodes,2,FALSE),HLOOKUP(O50,mens_declare,B46,FALSE)))","v":""},"",{"$f":"IF(OR(M_1500m!G35=0,M_1500m!G35=\"\"),\"\",M_1500m!G35)","v":""},"",{"$f":"IF(AA43=\"T\",AD50,AE50)","v":""},null,null,null,null,null,null,null,{"$f":"IF(OR(I50=\"\",I50=0),\"\",IF(AA43=\"F\",\"\",IF(AA43=\"T\",IF(I50<=X43,\"þ\",IF(I50<=Y43,\"G2\",IF(I50<=Z43,\"G3\",\"\"))))))","v":""},{"$f":"IF(OR(I50=\"\",I50=0),\"\",IF(AA43=\"T\",\"\",IF(AA43=\"F\",IF(I50>=X43,\"þ\",IF(I50>=Y43,\"G2\",IF(I50>=Z43,\"G3\",\"\"))))))","v":""},{"$f":"IF(OR(R50=\"\",R50=0),\"\",IF(AA43=\"F\",\"\",IF(AA43=\"T\",IF(R50<=X43,\"þ\",IF(R50<=Y43,\"G2\",IF(R50<=Z43,\"G3\",\"\"))))))","v":""},{"$f":"IF(R50=\"\",\"\",IF(AA43=\"T\",\"\",IF(AA43=\"F\",IF(R50>=X43,\"þ\",IF(R50>=Y43,\"G2\",IF(R50>=Z43,\"G3\",\"\"))))))","v":""},"","","","",50]
[null,null,"","",8,{"$f":"IF(OR(M_1500m!D27=0,M_1500m!D27=\"\"),\"\",M_1500m!D27)","v":""},{"$f":"IF(OR($F51=\"\",$F51=0),\"\",IF($F51>90,VLOOKUP(F51,eventcodes,2,FALSE),HLOOKUP(F51,mens_declare,B46,FALSE)))","v":""},"",{"$f":"IF(OR(M_1500m!G27=0,M_1500m!G27=\"\"),\"\",M_1500m!G27)","v":""},{"$f":"IF(OR(I51=\"\",I51=0),\"\",IF(AND(AA43=\"T\",I51<I50),\"X\",IF(AND(AA43=\"F\",I51>I50),\"X\",\"\")))","v":""},null,{"$f":"IF(AA43=\"T\",AB51,AC51)","v":""},null,8,{"$f":"IF(OR(M_1500m!D36=0,M_1500m!D36=\"\"),\"\",M_1500m!D36)","v":""},{"$f":"IF(OR($O51=\"\",$O51=0),\"\",IF($O51>90,VLOOKUP(O51,eventcodes,2,FALSE),HLOOKUP(O51,mens_declare,B46,FALSE)))","v":""},"",{"$f":"IF(OR(M_1500m!G36=0,M_1500m!G36=\"\"),\"\",M_1500m!G36)","v":""},"",{"$f":"IF(AA43=\"T\",AD51,AE51)","v":""},null,null,null,null,null,null,null,{"$f":"IF(OR(I51=\"\",I51=0),\"\",IF(AA43=\"F\",\"\",IF(AA43=\"T\",IF(I51<=X43,\"þ\",IF(I51<=Y43,\"G2\",IF(I51<=Z43,\"G3\",\"\"))))))","v":""},{"$f":"IF(OR(I51=\"\",I51=0),\"\",IF(AA43=\"T\",\"\",IF(AA43=\"F\",IF(I51>=X43,\"þ\",IF(I51>=Y43,\"G2\",IF(I51>=Z43,\"G3\",\"\"))))))","v":""},{"$f":"IF(OR(R51=\"\",R51=0),\"\",IF(AA43=\"F\",\"\",IF(AA43=\"T\",IF(R51<=X43,\"þ\",IF(R51<=Y43,\"G2\",IF(R51<=Z43,\"G3\",\"\"))))))","v":""},{"$f":"IF(R51=\"\",\"\",IF(AA43=\"T\",\"\",IF(AA43=\"F\",IF(R51>=X43,\"þ\",IF(R51>=Y43,\"G2\",IF(R51>=Z43,\"G3\",\"\"))))))","v":""},"","","","",51]
[null,null,null,null,null,null,null,null,null,null,null,null,null,null,null,null,null,null,null,null,null,null,null,null,null,null,null,null,null,null,null,null,null,null,null,52]
[null,null,null,null,{"$f":"CONCATENATE(VLOOKUP(A54,mens_handbook,3,FALSE),\" A\")","v":"Men's 3000m S/Chase A"},null,null,{"$f":"IF(A54=\"\",\"\",IF(VLOOKUP(A54,Handbook!$A$4:$AI$24,35,FALSE)=\"Y\",\"Wind=\",\"\"))","v":""},null,null,null,null,null,null,{"$f":"CONCATENATE(VLOOKUP(A54,mens_handbook,3,FALSE),\" B\")","v":"Men's 3000m S/Chase B"},null,{"$f":"H53","v":""},null,null,null,null,{"$f":"IF($A54=\"\",\"\",VLOOKUP($A54,Handbook!$A$4:$V$24,21,FALSE))","v":"00:08:32.700"},{"$f":"IF($A54=\"\",\"\",VLOOKUP($A54,Handbook!$A$4:$V$24,22,FALSE))","v":"00:08:32.700"},{"$f":"IF($A54=\"\",\"\",VLOOKUP($A54,Handbook!$A$4:$W$24,23,FALSE))","v":"11:00:00"},{"$f":"IF($A54=\"\",\"\",VLOOKUP($A54,Handbook!$A$4:$X$24,24,FALSE))","v":"00:10:00"},{"$f":"IF($A54=\"\",\"\",VLOOKUP($A54,Handbook!$A$4:$Y$24,25,FALSE))","v":"00:10:00"},{"$f":"IF($A54=\"\",\"\",VLOOKUP($A54,Handbook!$A$4:$AH$24,34,FALSE))","v":"T"},null,null,null,null,null,null,null,null,53]
[5,null,{"$f":"IF(F54=\"\",\"\",IF(F54>10,F54/11,F54))","v":""},{"$f":"IF(O54=\"\",\"\",IF(O54>10,O54/11,O54))","v":""},1,{"$f":"IF(OR(M_3000sc!D20=0,M_3000sc!D20=\"\"),\"\",M_3000sc!D20)","v":""},{"$f":"IF(OR($F54=\"\",$F54=0),\"\",IF($F54>90,VLOOKUP(F54,eventcodes,2,FALSE),HLOOKUP(F54,mens_declare,B56,FALSE)))","v":""},{"$f":"IF(OR($F54=\"\",$F54=0),\"\",IF($F54>90,\"\",VLOOKUP(C54,matchday,2,FALSE)))","v":""},{"$f":"IF(OR(M_3000sc!G20=0,M_3000sc!G20=\"\"),\"\",M_3000sc!G20)","v":""},{"$f":"IF(I54=\"\",\"\",IF(AA53=\"T\",V54,V55))","v":""},null,{"$f":"IF(AA53=\"T\",AB54,AC54)","v":""},null,1,{"$f":"IF(OR(M_3000sc!D29=0,M_3000sc!D29=\"\"),\"\",M_3000sc!D29)","v":""},{"$f":"IF(OR($O54=\"\",$O54=0),\"\",IF($O54>90,VLOOKUP(O54,eventcodes,2,FALSE),HLOOKUP(O54,mens_declare,B56,FALSE)))","v":""},{"$f":"IF(OR($O54=\"\",$O54=0),\"\",IF($O54>90,\"\",VLOOKUP(D54,matchday,2,FALSE)))","v":""},{"$f":"IF(OR(M_3000sc!G29=0,M_3000sc!G29=\"\"),\"\",M_3000sc!G29)","v":""},null,{"$f":"IF(AA53=\"T\",AD54,AE54)","v":""},null,{"$f":"IF(AA53=\"F\",\"\",IF(I54<V53,\"LR\",IF(I54=V53,\"=LR\",IF(I54<W53,\"DR\",IF(I54=W53,\"=DR\",\"\")))))","v":""},null,null,null,null,null,{"$f":"IF(OR(I54=\"\",I54=0),\"\",IF(AA53=\"F\",\"\",IF(AA53=\"T\",IF(I54<=X53,\"þ\",IF(I54<=Y53,\"G2\",IF(I54<=Z53,\"G3\",\"\"))))))","v":""},{"$f":"IF(OR(I54=\"\",I54=0),\"\",IF(AA53=\"T\",\"\",IF(AA53=\"F\",IF(I54>=X53,\"þ\",IF(I54>=Y53,\"G2\",IF(I54>=Z53,\"G3\",\"\"))))))","v":""},{"$f":"IF(OR(R54=\"\",R54=0),\"\",IF(AA53=\"F\",\"\",IF(AA53=\"T\",IF(R54<=X53,\"þ\",IF(R54<=Y53,\"G2\",IF(R54<=Z53,\"G3\",\"\"))))))","v":""},{"$f":"IF(R54=\"\",\"\",IF(AA53=\"T\",\"\",IF(AA53=\"F\",IF(R54>=X53,\"þ\",IF(R54>=Y53,\"G2\",IF(R54>=Z53,\"G3\",\"\"))))))","v":""},{"$f":"C54","v":""},{"$f":"IF(F54=\"\",\"\",IF(LEFT(I54,1)=\"D\",0,VLOOKUP(E54,$AQ$4:$AR$40,2,FALSE)))","v":""},{"$f":"D54","v":""},{"$f":"IF(O54=\"\",\"\",IF(LEFT(R54,1)=\"D\",0,VLOOKUP(N54,$AQ$4:$AS$40,3,FALSE)))","v":""},54]
[null,{"$f":"VLOOKUP(A54,Handbook!$A$4:$AK$24,37,FALSE)","v":6},{"$f":"IF(F55=\"\",\"\",IF(F55>10,F55/11,F55))","v":""},{"$f":"IF(O55=\"\",\"\",IF(O55>10,O55/11,O55))","v":""},2,{"$f":"IF(OR(M_3000sc!D21=0,M_3000sc!D21=\"\"),\"\",M_3000sc!D21)","v":""},{"$f":"IF(OR($F55=\"\",$F55=0),\"\",IF($F55>90,VLOOKUP(F55,eventcodes,2,FALSE),HLOOKUP(F55,mens_declare,B56,FALSE)))","v":""},"",{"$f":"IF(OR(M_3000sc!G21=0,M_3000sc!G21=\"\"),\"\",M_3000sc!G21)","v":""},{"$f":"IF(OR(I55=\"\",I55=0),\"\",IF(AND(AA53=\"T\",I55<I54),\"X\",IF(AND(AA53=\"F\",I55>I54),\"X\",\"\")))","v":""},null,{"$f":"IF(AA53=\"T\",AB55,AC55)","v":""},null,2,{"$f":"IF(OR(M_3000sc!D30=0,M_3000sc!D30=\"\"),\"\",M_3000sc!D30)","v":""},{"$f":"IF(OR($O55=\"\",$O55=0),\"\",IF($O55>90,VLOOKUP(O55,eventcodes,2,FALSE),HLOOKUP(O55,mens_declare,B56,FALSE)))","v":""},"",{"$f":"IF(OR(M_3000sc!G30=0,M_3000sc!G30=\"\"),\"\",M_3000sc!G30)","v":""},{"$f":"IF(OR(R55=\"\",R55=0),\"\",IF(AND(AA53=\"T\",R55<R54),\"X\",IF(AND(AA53=\"F\",R55>R54),\"X\",\"\")))","v":""},{"$f":"IF(AA53=\"T\",AD55,AE55)","v":""},null,{"$f":"IF(AA53=\"T\",\"\",IF(I54>V53,\"LR\",IF(I54=V53,\"=LR\",IF(I54>W53,\"DR\",IF(I54=W53,\"=DR\",\"\")))))","v":""},null,null,null,null,null,{"$f":"IF(OR(I55=\"\",I55=0),\"\",IF(AA53=\"F\",\"\",IF(AA53=\"T\",IF(I55<=X53,\"þ\",IF(I55<=Y53,\"G2\",IF(I55<=Z53,\"G3\",\"\"))))))","v":""},{"$f":"IF(OR(I55=\"\",I55=0),\"\",IF(AA53=\"T\",\"\",IF(AA53=\"F\",IF(I55>=X53,\"þ\",IF(I55>=Y53,\"G2\",IF(I55>=Z53,\"G3\",\"\"))))))","v":""},{"$f":"IF(OR(R55=\"\",R55=0),\"\",IF(AA53=\"F\",\"\",IF(AA53=\"T\",IF(R55<=X53,\"þ\",IF(R55<=Y53,\"G2\",IF(R55<=Z53,\"G3\",\"\"))))))","v":""},{"$f":"IF(R55=\"\",\"\",IF(AA53=\"T\",\"\",IF(AA53=\"F\",IF(R55>=X53,\"þ\",IF(R55>=Y53,\"G2\",IF(R55>=Z53,\"G3\",\"\"))))))","v":""},{"$f":"C55","v":""},"",{"$f":"D55","v":""},"",55]
[null,{"$f":"VLOOKUP(A54,mens_declare,20,FALSE)","v":8},"","",3,{"$f":"IF(OR(M_3000sc!D22=0,M_3000sc!D22=\"\"),\"\",M_3000sc!D22)","v":""},{"$f":"IF(OR($F56=\"\",$F56=0),\"\",IF($F56>90,VLOOKUP(F56,eventcodes,2,FALSE),HLOOKUP(F56,mens_declare,B56,FALSE)))","v":""},"",{"$f":"IF(OR(M_3000sc!G22=0,M_3000sc!G22=\"\"),\"\",M_3000sc!G22)","v":""},{"$f":"IF(OR(I56=\"\",I56=0),\"\",IF(AND(AA53=\"T\",I56<I55),\"X\",IF(AND(AA53=\"F\",I56>I55),\"X\",\"\")))","v":""},null,{"$f":"IF(AA53=\"T\",AB56,AC56)","v":""},null,3,{"$f":"IF(OR(M_3000sc!D31=0,M_3000sc!D31=\"\"),\"\",M_3000sc!D31)","v":""},{"$f":"IF(OR($O56=\"\",$O56=0),\"\",IF($O56>90,VLOOKUP(O56,eventcodes,2,FALSE),HLOOKUP(O56,mens_declare,B56,FALSE)))","v":""},"",{"$f":"IF(OR(M_3000sc!G31=0,M_3000sc!G31=\"\"),\"\",M_3000sc!G31)","v":""},{"$f":"IF(OR(R56=\"\",R56=0),\"\",IF(AND(AA54=\"T\",R56<R55),\"X\",IF(AND(AA54=\"F\",R56>R55),\"X\",\"\")))","v":""},{"$f":"IF(AA53=\"T\",AD56,AE56)","v":""},null,null,null,null,null,null,null,{"$f":"IF(OR(I56=\"\",I56=0),\"\",IF(AA53=\"F\",\"\",IF(AA53=\"T\",IF(I56<=X53,\"þ\",IF(I56<=Y53,\"G2\",IF(I56<=Z53,\"G3\",\"\"))))))","v":""},{"$f":"IF(OR(I56=\"\",I56=0),\"\",IF(AA53=\"T\",\"\",IF(AA53=\"F\",IF(I56>=X53,\"þ\",IF(I56>=Y53,\"G2\",IF(I56>=Z53,\"G3\",\"\"))))))","v":""},{"$f":"IF(OR(R56=\"\",R56=0),\"\",IF(AA53=\"F\",\"\",IF(AA53=\"T\",IF(R56<=X53,\"þ\",IF(R56<=Y53,\"G2\",IF(R56<=Z53,\"G3\",\"\"))))))","v":""},{"$f":"IF(R56=\"\",\"\",IF(AA53=\"T\",\"\",IF(AA53=\"F\",IF(R56>=X53,\"þ\",IF(R56>=Y53,\"G2\",IF(R56>=Z53,\"G3\",\"\"))))))","v":""},"","","","",56]
[null,null,"","",4,{"$f":"IF(OR(M_3000sc!D23=0,M_3000sc!D23=\"\"),\"\",M_3000sc!D23)","v":""},{"$f":"IF(OR($F57=\"\",$F57=0),\"\",IF($F57>90,VLOOKUP(F57,eventcodes,2,FALSE),HLOOKUP(F57,mens_declare,B56,FALSE)))","v":""},"",{"$f":"IF(OR(M_3000sc!G23=0,M_3000sc!G23=\"\"),\"\",M_3000sc!G23)","v":""},{"$f":"IF(OR(I57=\"\",I57=0),\"\",IF(AND(AA53=\"T\",I57<I56),\"X\",IF(AND(AA53=\"F\",I57>I56),\"X\",\"\")))","v":""},null,{"$f":"IF(AA53=\"T\",AB57,AC57)","v":""},null,4,{"$f":"IF(OR(M_3000sc!D32=0,M_3000sc!D32=\"\"),\"\",M_3000sc!D32)","v":""},{"$f":"IF(OR($O57=\"\",$O57=0),\"\",IF($O57>90,VLOOKUP(O57,eventcodes,2,FALSE),HLOOKUP(O57,mens_declare,B56,FALSE)))","v":""},"",{"$f":"IF(OR(M_3000sc!G32=0,M_3000sc!G32=\"\"),\"\",M_3000sc!G32)","v":""},"",{"$f":"IF(AA53=\"T\",AD57,AE57)","v":""},null,null,null,null,null,null,null,{"$f":"IF(OR(I57=\"\",I57=0),\"\",IF(AA53=\"F\",\"\",IF(AA53=\"T\",IF(I57<=X53,\"þ\",IF(I57<=Y53,\"G2\",IF(I57<=Z53,\"G3\",\"\"))))))","v":""},{"$f":"IF(OR(I57=\"\",I57=0),\"\",IF(AA53=\"T\",\"\",IF(AA53=\"F\",IF(I57>=X53,\"þ\",IF(I57>=Y53,\"G2\",IF(I57>=Z53,\"G3\",\"\"))))))","v":""},{"$f":"IF(OR(R57=\"\",R57=0),\"\",IF(AA53=\"F\",\"\",IF(AA53=\"T\",IF(R57<=X53,\"þ\",IF(R57<=Y53,\"G2\",IF(R57<=Z53,\"G3\",\"\"))))))","v":""},{"$f":"IF(R57=\"\",\"\",IF(AA53=\"T\",\"\",IF(AA53=\"F\",IF(R57>=X53,\"þ\",IF(R57>=Y53,\"G2\",IF(R57>=Z53,\"G3\",\"\"))))))","v":""},"","","","",57]
[null,null,"","",5,{"$f":"IF(OR(M_3000sc!D24=0,M_3000sc!D24=\"\"),\"\",M_3000sc!D24)","v":""},{"$f":"IF(OR($F58=\"\",$F58=0),\"\",IF($F58>90,VLOOKUP(F58,eventcodes,2,FALSE),HLOOKUP(F58,mens_declare,B56,FALSE)))","v":""},"",{"$f":"IF(OR(M_3000sc!G24=0,M_3000sc!G24=\"\"),\"\",M_3000sc!G24)","v":""},{"$f":"IF(OR(I58=\"\",I58=0),\"\",IF(AND(AA53=\"T\",I58<I57),\"X\",IF(AND(AA53=\"F\",I58>I57),\"X\",\"\")))","v":""},null,{"$f":"IF(AA53=\"T\",AB58,AC58)","v":""},null,5,{"$f":"IF(OR(M_3000sc!D33=0,M_3000sc!D33=\"\"),\"\",M_3000sc!D33)","v":""},{"$f":"IF(OR($O58=\"\",$O58=0),\"\",IF($O58>90,VLOOKUP(O58,eventcodes,2,FALSE),HLOOKUP(O58,mens_declare,B56,FALSE)))","v":""},"",{"$f":"IF(OR(M_3000sc!G33=0,M_3000sc!G33=\"\"),\"\",M_3000sc!G33)","v":""},"",{"$f":"IF(AA53=\"T\",AD58,AE58)","v":""},null,null,null,null,null,null,null,{"$f":"IF(OR(I58=\"\",I58=0),\"\",IF(AA53=\"F\",\"\",IF(AA53=\"T\",IF(I58<=X53,\"þ\",IF(I58<=Y53,\"G2\",IF(I58<=Z53,\"G3\",\"\"))))))","v":""},{"$f":"IF(OR(I58=\"\",I58=0),\"\",IF(AA53=\"T\",\"\",IF(AA53=\"F\",IF(I58>=X53,\"þ\",IF(I58>=Y53,\"G2\",IF(I58>=Z53,\"G3\",\"\"))))))","v":""},{"$f":"IF(OR(R58=\"\",R58=0),\"\",IF(AA53=\"F\",\"\",IF(AA53=\"T\",IF(R58<=X53,\"þ\",IF(R58<=Y53,\"G2\",IF(R58<=Z53,\"G3\",\"\"))))))","v":""},{"$f":"IF(R58=\"\",\"\",IF(AA53=\"T\",\"\",IF(AA53=\"F\",IF(R58>=X53,\"þ\",IF(R58>=Y53,\"G2\",IF(R58>=Z53,\"G3\",\"\"))))))","v":""},"","","","",58]
[null,null,"","",6,{"$f":"IF(OR(M_3000sc!D25=0,M_3000sc!D25=\"\"),\"\",M_3000sc!D25)","v":""},{"$f":"IF(OR($F59=\"\",$F59=0),\"\",IF($F59>90,VLOOKUP(F59,eventcodes,2,FALSE),HLOOKUP(F59,mens_declare,B56,FALSE)))","v":""},"",{"$f":"IF(OR(M_3000sc!G25=0,M_3000sc!G25=\"\"),\"\",M_3000sc!G25)","v":""},{"$f":"IF(OR(I59=\"\",I59=0),\"\",IF(AND(AA53=\"T\",I59<I58),\"X\",IF(AND(AA53=\"F\",I59>I58),\"X\",\"\")))","v":""},null,{"$f":"IF(AA53=\"T\",AB59,AC59)","v":""},null,6,{"$f":"IF(OR(M_3000sc!D34=0,M_3000sc!D34=\"\"),\"\",M_3000sc!D34)","v":""},{"$f":"IF(OR($O59=\"\",$O59=0),\"\",IF($O59>90,VLOOKUP(O59,eventcodes,2,FALSE),HLOOKUP(O59,mens_declare,B56,FALSE)))","v":""},"",{"$f":"IF(OR(M_3000sc!G34=0,M_3000sc!G34=\"\"),\"\",M_3000sc!G34)","v":""},"",{"$f":"IF(AA53=\"T\",AD59,AE59)","v":""},null,null,null,null,null,null,null,{"$f":"IF(OR(I59=\"\",I59=0),\"\",IF(AA53=\"F\",\"\",IF(AA53=\"T\",IF(I59<=X53,\"þ\",IF(I59<=Y53,\"G2\",IF(I59<=Z53,\"G3\",\"\"))))))","v":""},{"$f":"IF(OR(I59=\"\",I59=0),\"\",IF(AA53=\"T\",\"\",IF(AA53=\"F\",IF(I59>=X53,\"þ\",IF(I59>=Y53,\"G2\",IF(I59>=Z53,\"G3\",\"\"))))))","v":""},{"$f":"IF(OR(R59=\"\",R59=0),\"\",IF(AA53=\"F\",\"\",IF(AA53=\"T\",IF(R59<=X53,\"þ\",IF(R59<=Y53,\"G2\",IF(R59<=Z53,\"G3\",\"\"))))))","v":""},{"$f":"IF(R59=\"\",\"\",IF(AA53=\"T\",\"\",IF(AA53=\"F\",IF(R59>=X53,\"þ\",IF(R59>=Y53,\"G2\",IF(R59>=Z53,\"G3\",\"\"))))))","v":""},"","","","",59]
[null,null,"","",7,{"$f":"IF(OR(M_3000sc!D26=0,M_3000sc!D26=\"\"),\"\",M_3000sc!D26)","v":""},{"$f":"IF(OR($F60=\"\",$F60=0),\"\",IF($F60>90,VLOOKUP(F60,eventcodes,2,FALSE),HLOOKUP(F60,mens_declare,B56,FALSE)))","v":""},"",{"$f":"IF(OR(M_3000sc!G26=0,M_3000sc!G26=\"\"),\"\",M_3000sc!G26)","v":""},{"$f":"IF(OR(I60=\"\",I60=0),\"\",IF(AND(AA53=\"T\",I60<I59),\"X\",IF(AND(AA53=\"F\",I60>I59),\"X\",\"\")))","v":""},null,{"$f":"IF(AA53=\"T\",AB60,AC60)","v":""},null,7,{"$f":"IF(OR(M_3000sc!D35=0,M_3000sc!D35=\"\"),\"\",M_3000sc!D35)","v":""},{"$f":"IF(OR($O60=\"\",$O60=0),\"\",IF($O60>90,VLOOKUP(O60,eventcodes,2,FALSE),HLOOKUP(O60,mens_declare,B56,FALSE)))","v":""},"",{"$f":"IF(OR(M_3000sc!G35=0,M_3000sc!G35=\"\"),\"\",M_3000sc!G35)","v":""},"",{"$f":"IF(AA53=\"T\",AD60,AE60)","v":""},null,null,null,null,null,null,null,{"$f":"IF(OR(I60=\"\",I60=0),\"\",IF(AA53=\"F\",\"\",IF(AA53=\"T\",IF(I60<=X53,\"þ\",IF(I60<=Y53,\"G2\",IF(I60<=Z53,\"G3\",\"\"))))))","v":""},{"$f":"IF(OR(I60=\"\",I60=0),\"\",IF(AA53=\"T\",\"\",IF(AA53=\"F\",IF(I60>=X53,\"þ\",IF(I60>=Y53,\"G2\",IF(I60>=Z53,\"G3\",\"\"))))))","v":""},{"$f":"IF(OR(R60=\"\",R60=0),\"\",IF(AA53=\"F\",\"\",IF(AA53=\"T\",IF(R60<=X53,\"þ\",IF(R60<=Y53,\"G2\",IF(R60<=Z53,\"G3\",\"\"))))))","v":""},{"$f":"IF(R60=\"\",\"\",IF(AA53=\"T\",\"\",IF(AA53=\"F\",IF(R60>=X53,\"þ\",IF(R60>=Y53,\"G2\",IF(R60>=Z53,\"G3\",\"\"))))))","v":""},"","","","",60]
[null,null,"","",8,{"$f":"IF(OR(M_3000sc!D27=0,M_3000sc!D27=\"\"),\"\",M_3000sc!D27)","v":""},{"$f":"IF(OR($F61=\"\",$F61=0),\"\",IF($F61>90,VLOOKUP(F61,eventcodes,2,FALSE),HLOOKUP(F61,mens_declare,B56,FALSE)))","v":""},"",{"$f":"IF(OR(M_3000sc!G27=0,M_3000sc!G27=\"\"),\"\",M_3000sc!G27)","v":""},{"$f":"IF(OR(I61=\"\",I61=0),\"\",IF(AND(AA53=\"T\",I61<I60),\"X\",IF(AND(AA53=\"F\",I61>I60),\"X\",\"\")))","v":""},null,{"$f":"IF(AA53=\"T\",AB61,AC61)","v":""},null,8,{"$f":"IF(OR(M_3000sc!D36=0,M_3000sc!D36=\"\"),\"\",M_3000sc!D36)","v":""},{"$f":"IF(OR($O61=\"\",$O61=0),\"\",IF($O61>90,VLOOKUP(O61,eventcodes,2,FALSE),HLOOKUP(O61,mens_declare,B56,FALSE)))","v":""},"",{"$f":"IF(OR(M_3000sc!G36=0,M_3000sc!G36=\"\"),\"\",M_3000sc!G36)","v":""},"",{"$f":"IF(AA53=\"T\",AD61,AE61)","v":""},null,null,null,null,null,null,null,{"$f":"IF(OR(I61=\"\",I61=0),\"\",IF(AA53=\"F\",\"\",IF(AA53=\"T\",IF(I61<=X53,\"þ\",IF(I61<=Y53,\"G2\",IF(I61<=Z53,\"G3\",\"\"))))))","v":""},{"$f":"IF(OR(I61=\"\",I61=0),\"\",IF(AA53=\"T\",\"\",IF(AA53=\"F\",IF(I61>=X53,\"þ\",IF(I61>=Y53,\"G2\",IF(I61>=Z53,\"G3\",\"\"))))))","v":""},{"$f":"IF(OR(R61=\"\",R61=0),\"\",IF(AA53=\"F\",\"\",IF(AA53=\"T\",IF(R61<=X53,\"þ\",IF(R61<=Y53,\"G2\",IF(R61<=Z53,\"G3\",\"\"))))))","v":""},{"$f":"IF(R61=\"\",\"\",IF(AA53=\"T\",\"\",IF(AA53=\"F\",IF(R61>=X53,\"þ\",IF(R61>=Y53,\"G2\",IF(R61>=Z53,\"G3\",\"\"))))))","v":""},"","","","",61]
[null,null,null,null,null,null,null,null,null,null,null,null,null,null,null,null,null,null,null,null,null,null,null,null,null,null,null,null,null,null,null,null,null,null,null,62]
[null,null,null,null,{"$f":"CONCATENATE(VLOOKUP(A64,mens_handbook,3,FALSE),\" A\")","v":"Men's 5000m A"},null,null,{"$f":"IF(A64=\"\",\"\",IF(VLOOKUP(A64,Handbook!$A$4:$AI$24,35,FALSE)=\"Y\",\"Wind=\",\"\"))","v":""},null,null,null,null,null,null,{"$f":"CONCATENATE(VLOOKUP(A64,mens_handbook,3,FALSE),\" B\")","v":"Men's 5000m B"},{"$f":"CONCATENATE(VLOOKUP(M64,Handbook!$A$4:$C$24,3,FALSE),\" A\")","v":{"$error":"#N/A"}},{"$f":"H63","v":""},null,null,null,null,{"$f":"IF($A64=\"\",\"\",VLOOKUP($A64,Handbook!$A$4:$V$24,21,FALSE))","v":"00:13:45.800"},{"$f":"IF($A64=\"\",\"\",VLOOKUP($A64,Handbook!$A$4:$V$24,22,FALSE))","v":"00:13:45.800"},{"$f":"IF($A64=\"\",\"\",VLOOKUP($A64,Handbook!$A$4:$W$24,23,FALSE))","v":"00:16:45"},{"$f":"IF($A64=\"\",\"\",VLOOKUP($A64,Handbook!$A$4:$X$24,24,FALSE))","v":"00:16:30"},{"$f":"IF($A64=\"\",\"\",VLOOKUP($A64,Handbook!$A$4:$Y$24,25,FALSE))","v":"00:16:30"},{"$f":"IF($A64=\"\",\"\",VLOOKUP($A64,Handbook!$A$4:$AH$24,34,FALSE))","v":"T"},null,null,null,null,null,null,null,null,63]
[21,null,{"$f":"IF(F64=\"\",\"\",IF(F64>10,F64/11,F64))","v":""},{"$f":"IF(O64=\"\",\"\",IF(O64>10,O64/11,O64))","v":""},1,{"$f":"IF(OR(M_5000m!D20=0,M_5000m!D20=\"\"),\"\",M_5000m!D20)","v":""},{"$f":"IF(OR($F64=\"\",$F64=0),\"\",IF($F64>90,VLOOKUP(F64,eventcodes,2,FALSE),HLOOKUP(F64,mens_declare,B66,FALSE)))","v":""},{"$f":"IF(OR($F64=\"\",$F64=0),\"\",IF($F64>90,\"\",VLOOKUP(C64,matchday,2,FALSE)))","v":""},{"$f":"IF(OR(M_5000m!G20=0,M_5000m!G20=\"\"),\"\",M_5000m!G20)","v":""},{"$f":"IF(I64=\"\",\"\",IF(AA63=\"T\",V64,V65))","v":""},null,{"$f":"IF(AA63=\"T\",AB64,AC64)","v":""},null,1,{"$f":"IF(OR(M_5000m!D29=0,M_5000m!D29=\"\"),\"\",M_5000m!D29)","v":""},{"$f":"IF(OR($O64=\"\",$O64=0),\"\",IF($O64>90,VLOOKUP(O64,eventcodes,2,FALSE),HLOOKUP(O64,mens_declare,B66,FALSE)))","v":""},{"$f":"IF(OR($O64=\"\",$O64=0),\"\",IF($O64>90,\"\",VLOOKUP(D64,matchday,2,FALSE)))","v":""},{"$f":"IF(OR(M_5000m!G29=0,M_5000m!G29=\"\"),\"\",M_5000m!G29)","v":""},null,{"$f":"IF(AA63=\"T\",AD64,AE64)","v":""},null,{"$f":"IF(AA63=\"F\",\"\",IF(I64<V63,\"LR\",IF(I64=V63,\"=LR\",IF(I64<W63,\"DR\",IF(I64=W63,\"=DR\",\"\")))))","v":""},null,null,null,null,null,{"$f":"IF(OR(I64=0,I64=\"\"),\"\",IF(AA63=\"F\",\"\",IF(AA63=\"T\",IF(I64<=X63,\"þ\",IF(I64<=Y63,\"G2\",IF(I64<=Z63,\"G3\",\"\"))))))","v":""},{"$f":"IF(I64=\"\",\"\",IF(AA63=\"T\",\"\",IF(AA63=\"F\",IF(I64>=X63,\"þ\",IF(I64>=Y63,\"G2\",IF(I64>=Z63,\"G3\",\"\"))))))","v":""},{"$f":"IF(OR(R64=0,R64=\"\"),\"\",IF(AA63=\"F\",\"\",IF(AA63=\"T\",IF(R64<=X63,\"þ\",IF(R64<=Y63,\"G2\",IF(R64<=Z63,\"G3\",\"\"))))))","v":""},{"$f":"IF(R64=\"\",\"\",IF(AA63=\"T\",\"\",IF(AA63=\"F\",IF(R64>=X63,\"þ\",IF(R64>=Y63,\"G2\",IF(R64>=Z63,\"G3\",\"\"))))))","v":""},{"$f":"C64","v":""},{"$f":"IF(F64=\"\",\"\",IF(LEFT(I64,1)=\"D\",0,VLOOKUP(E64,$AQ$4:$AR$40,2,FALSE)))","v":""},{"$f":"D64","v":""},{"$f":"IF(O64=\"\",\"\",IF(LEFT(R64,1)=\"D\",0,VLOOKUP(N64,$AQ$4:$AS$40,3,FALSE)))","v":""},64]
[null,{"$f":"VLOOKUP(A64,Handbook!$A$4:$AK$24,37,FALSE)","v":22},{"$f":"IF(F65=\"\",\"\",IF(F65>10,F65/11,F65))","v":""},{"$f":"IF(O65=\"\",\"\",IF(O65>10,O65/11,O65))","v":""},2,{"$f":"IF(OR(M_5000m!D21=0,M_5000m!D21=\"\"),\"\",M_5000m!D21)","v":""},{"$f":"IF(OR($F65=\"\",$F65=0),\"\",IF($F65>90,VLOOKUP(F65,eventcodes,2,FALSE),HLOOKUP(F65,mens_declare,B66,FALSE)))","v":""},"",{"$f":"IF(OR(M_5000m!G21=0,M_5000m!G21=\"\"),\"\",M_5000m!G21)","v":""},{"$f":"IF(OR(I65=\"\",I65=0),\"\",IF(AND(AA63=\"T\",I65<I64),\"X\",IF(AND(AA63=\"F\",I65>I64),\"X\",\"\")))","v":""},null,{"$f":"IF(AA63=\"T\",AB65,AC65)","v":""},null,2,{"$f":"IF(OR(M_5000m!D30=0,M_5000m!D30=\"\"),\"\",M_5000m!D30)","v":""},{"$f":"IF(OR($O65=\"\",$O65=0),\"\",IF($O65>90,VLOOKUP(O65,eventcodes,2,FALSE),HLOOKUP(O65,mens_declare,B66,FALSE)))","v":""},"",{"$f":"IF(OR(M_5000m!G30=0,M_5000m!G30=\"\"),\"\",M_5000m!G30)","v":""},{"$f":"IF(OR(R65=\"\",R65=0),\"\",IF(AND(AA63=\"T\",R65<R64),\"X\",IF(AND(AA63=\"F\",R65>R64),\"X\",\"\")))","v":""},{"$f":"IF(AA63=\"T\",AD65,AE65)","v":""},null,{"$f":"IF(AA63=\"T\",\"\",IF(I64>V63,\"LR\",IF(I64=V63,\"=LR\",IF(I64>W63,\"DR\",IF(I64=W63,\"=DR\",\"\")))))","v":""},null,null,null,null,null,{"$f":"IF(OR(I65=0,I65=\"\"),\"\",IF(AA63=\"F\",\"\",IF(AA63=\"T\",IF(I65<=X63,\"þ\",IF(I65<=Y63,\"G2\",IF(I65<=Z63,\"G3\",\"\"))))))","v":""},{"$f":"IF(I65=\"\",\"\",IF(AA63=\"T\",\"\",IF(AA63=\"F\",IF(I65>=X63,\"þ\",IF(I65>=Y63,\"G2\",IF(I65>=Z63,\"G3\",\"\"))))))","v":""},{"$f":"IF(OR(R65=0,R65=\"\"),\"\",IF(AA63=\"F\",\"\",IF(AA63=\"T\",IF(R65<=X63,\"þ\",IF(R65<=Y63,\"G2\",IF(R65<=Z63,\"G3\",\"\"))))))","v":""},{"$f":"IF(R65=\"\",\"\",IF(AA63=\"T\",\"\",IF(AA63=\"F\",IF(R65>=X63,\"þ\",IF(R65>=Y63,\"G2\",IF(R65>=Z63,\"G3\",\"\"))))))","v":""},{"$f":"C65","v":""},"",{"$f":"D65","v":""},"",65]
[null,{"$f":"VLOOKUP(A64,mens_declare,20,FALSE)","v":9},"","",3,{"$f":"IF(OR(M_5000m!D22=0,M_5000m!D22=\"\"),\"\",M_5000m!D22)","v":""},{"$f":"IF(OR($F66=\"\",$F66=0),\"\",IF($F66>90,VLOOKUP(F66,eventcodes,2,FALSE),HLOOKUP(F66,mens_declare,B66,FALSE)))","v":""},"",{"$f":"IF(OR(M_5000m!G22=0,M_5000m!G22=\"\"),\"\",M_5000m!G22)","v":""},{"$f":"IF(OR(I66=\"\",I66=0),\"\",IF(AND(AA63=\"T\",I66<I65),\"X\",IF(AND(AA63=\"F\",I66>I65),\"X\",\"\")))","v":""},null,{"$f":"IF(AA63=\"T\",AB66,AC66)","v":""},null,3,{"$f":"IF(OR(M_5000m!D31=0,M_5000m!D31=\"\"),\"\",M_5000m!D31)","v":""},{"$f":"IF(OR($O66=\"\",$O66=0),\"\",IF($O66>90,VLOOKUP(O66,eventcodes,2,FALSE),HLOOKUP(O66,mens_declare,B66,FALSE)))","v":""},"",{"$f":"IF(OR(M_5000m!G31=0,M_5000m!G31=\"\"),\"\",M_5000m!G31)","v":""},{"$f":"IF(OR(R66=\"\",R66=0),\"\",IF(AND(AA64=\"T\",R66<R65),\"X\",IF(AND(AA64=\"F\",R66>R65),\"X\",\"\")))","v":""},{"$f":"IF(AA63=\"T\",AD66,AE66)","v":""},null,null,null,null,null,null,null,{"$f":"IF(OR(I66=0,I66=\"\"),\"\",IF(AA63=\"F\",\"\",IF(AA63=\"T\",IF(I66<=X63,\"þ\",IF(I66<=Y63,\"G2\",IF(I66<=Z63,\"G3\",\"\"))))))","v":""},{"$f":"IF(I66=\"\",\"\",IF(AA63=\"T\",\"\",IF(AA63=\"F\",IF(I66>=X63,\"þ\",IF(I66>=Y63,\"G2\",IF(I66>=Z63,\"G3\",\"\"))))))","v":""},{"$f":"IF(OR(R66=0,R66=\"\"),\"\",IF(AA63=\"F\",\"\",IF(AA63=\"T\",IF(R66<=X63,\"þ\",IF(R66<=Y63,\"G2\",IF(R66<=Z63,\"G3\",\"\"))))))","v":""},{"$f":"IF(R66=\"\",\"\",IF(AA63=\"T\",\"\",IF(AA63=\"F\",IF(R66>=X63,\"þ\",IF(R66>=Y63,\"G2\",IF(R66>=Z63,\"G3\",\"\"))))))","v":""},"","","","",66]
[null,null,"","",4,{"$f":"IF(OR(M_5000m!D23=0,M_5000m!D23=\"\"),\"\",M_5000m!D23)","v":""},{"$f":"IF(OR($F67=\"\",$F67=0),\"\",IF($F67>90,VLOOKUP(F67,eventcodes,2,FALSE),HLOOKUP(F67,mens_declare,B66,FALSE)))","v":""},"",{"$f":"IF(OR(M_5000m!G23=0,M_5000m!G23=\"\"),\"\",M_5000m!G23)","v":""},{"$f":"IF(OR(I67=\"\",I67=0),\"\",IF(AND(AA63=\"T\",I67<I66),\"X\",IF(AND(AA63=\"F\",I67>I66),\"X\",\"\")))","v":""},null,{"$f":"IF(AA63=\"T\",AB67,AC67)","v":""},null,4,{"$f":"IF(OR(M_5000m!D32=0,M_5000m!D32=\"\"),\"\",M_5000m!D32)","v":""},{"$f":"IF(OR($O67=\"\",$O67=0),\"\",IF($O67>90,VLOOKUP(O67,eventcodes,2,FALSE),HLOOKUP(O67,mens_declare,B66,FALSE)))","v":""},"",{"$f":"IF(OR(M_5000m!G32=0,M_5000m!G32=\"\"),\"\",M_5000m!G32)","v":""},"",{"$f":"IF(AA63=\"T\",AD67,AE67)","v":""},null,null,null,null,null,null,null,{"$f":"IF(OR(I67=0,I67=\"\"),\"\",IF(AA63=\"F\",\"\",IF(AA63=\"T\",IF(I67<=X63,\"þ\",IF(I67<=Y63,\"G2\",IF(I67<=Z63,\"G3\",\"\"))))))","v":""},{"$f":"IF(I67=\"\",\"\",IF(AA63=\"T\",\"\",IF(AA63=\"F\",IF(I67>=X63,\"þ\",IF(I67>=Y63,\"G2\",IF(I67>=Z63,\"G3\",\"\"))))))","v":""},{"$f":"IF(OR(R67=0,R67=\"\"),\"\",IF(AA63=\"F\",\"\",IF(AA63=\"T\",IF(R67<=X63,\"þ\",IF(R67<=Y63,\"G2\",IF(R67<=Z63,\"G3\",\"\"))))))","v":""},{"$f":"IF(R67=\"\",\"\",IF(AA63=\"T\",\"\",IF(AA63=\"F\",IF(R67>=X63,\"þ\",IF(R67>=Y63,\"G2\",IF(R67>=Z63,\"G3\",\"\"))))))","v":""},"","","","",67]
[null,null,"","",5,{"$f":"IF(OR(M_5000m!D24=0,M_5000m!D24=\"\"),\"\",M_5000m!D24)","v":""},{"$f":"IF(OR($F68=\"\",$F68=0),\"\",IF($F68>90,VLOOKUP(F68,eventcodes,2,FALSE),HLOOKUP(F68,mens_declare,B66,FALSE)))","v":""},"",{"$f":"IF(OR(M_5000m!G24=0,M_5000m!G24=\"\"),\"\",M_5000m!G24)","v":""},{"$f":"IF(OR(I68=\"\",I68=0),\"\",IF(AND(AA63=\"T\",I68<I67),\"X\",IF(AND(AA63=\"F\",I68>I67),\"X\",\"\")))","v":""},null,{"$f":"IF(AA63=\"T\",AB68,AC68)","v":""},null,5,{"$f":"IF(OR(M_5000m!D33=0,M_5000m!D33=\"\"),\"\",M_5000m!D33)","v":""},{"$f":"IF(OR($O68=\"\",$O68=0),\"\",IF($O68>90,VLOOKUP(O68,eventcodes,2,FALSE),HLOOKUP(O68,mens_declare,B66,FALSE)))","v":""},"",{"$f":"IF(OR(M_5000m!G33=0,M_5000m!G33=\"\"),\"\",M_5000m!G33)","v":""},"",{"$f":"IF(AA63=\"T\",AD68,AE68)","v":""},null,null,null,null,null,null,null,{"$f":"IF(OR(I68=0,I68=\"\"),\"\",IF(AA63=\"F\",\"\",IF(AA63=\"T\",IF(I68<=X63,\"þ\",IF(I68<=Y63,\"G2\",IF(I68<=Z63,\"G3\",\"\"))))))","v":""},{"$f":"IF(I68=\"\",\"\",IF(AA63=\"T\",\"\",IF(AA63=\"F\",IF(I68>=X63,\"þ\",IF(I68>=Y63,\"G2\",IF(I68>=Z63,\"G3\",\"\"))))))","v":""},{"$f":"IF(OR(R68=0,R68=\"\"),\"\",IF(AA63=\"F\",\"\",IF(AA63=\"T\",IF(R68<=X63,\"þ\",IF(R68<=Y63,\"G2\",IF(R68<=Z63,\"G3\",\"\"))))))","v":""},{"$f":"IF(R68=\"\",\"\",IF(AA63=\"T\",\"\",IF(AA63=\"F\",IF(R68>=X63,\"þ\",IF(R68>=Y63,\"G2\",IF(R68>=Z63,\"G3\",\"\"))))))","v":""},"","","","",68]
[null,null,"","",6,{"$f":"IF(OR(M_5000m!D25=0,M_5000m!D25=\"\"),\"\",M_5000m!D25)","v":""},{"$f":"IF(OR($F69=\"\",$F69=0),\"\",IF($F69>90,VLOOKUP(F69,eventcodes,2,FALSE),HLOOKUP(F69,mens_declare,B66,FALSE)))","v":""},"",{"$f":"IF(OR(M_5000m!G25=0,M_5000m!G25=\"\"),\"\",M_5000m!G25)","v":""},{"$f":"IF(OR(I69=\"\",I69=0),\"\",IF(AND(AA63=\"T\",I69<I68),\"X\",IF(AND(AA63=\"F\",I69>I68),\"X\",\"\")))","v":""},null,{"$f":"IF(AA63=\"T\",AB69,AC69)","v":""},null,6,{"$f":"IF(OR(M_5000m!D34=0,M_5000m!D34=\"\"),\"\",M_5000m!D34)","v":""},{"$f":"IF(OR($O69=\"\",$O69=0),\"\",IF($O69>90,VLOOKUP(O69,eventcodes,2,FALSE),HLOOKUP(O69,mens_declare,B66,FALSE)))","v":""},"",{"$f":"IF(OR(M_5000m!G34=0,M_5000m!G34=\"\"),\"\",M_5000m!G34)","v":""},"",{"$f":"IF(AA63=\"T\",AD69,AE69)","v":""},null,null,null,null,null,null,null,{"$f":"IF(OR(I69=0,I69=\"\"),\"\",IF(AA63=\"F\",\"\",IF(AA63=\"T\",IF(I69<=X63,\"þ\",IF(I69<=Y63,\"G2\",IF(I69<=Z63,\"G3\",\"\"))))))","v":""},{"$f":"IF(I69=\"\",\"\",IF(AA63=\"T\",\"\",IF(AA63=\"F\",IF(I69>=X63,\"þ\",IF(I69>=Y63,\"G2\",IF(I69>=Z63,\"G3\",\"\"))))))","v":""},{"$f":"IF(OR(R69=0,R69=\"\"),\"\",IF(AA63=\"F\",\"\",IF(AA63=\"T\",IF(R69<=X63,\"þ\",IF(R69<=Y63,\"G2\",IF(R69<=Z63,\"G3\",\"\"))))))","v":""},{"$f":"IF(R69=\"\",\"\",IF(AA63=\"T\",\"\",IF(AA63=\"F\",IF(R69>=X63,\"þ\",IF(R69>=Y63,\"G2\",IF(R69>=Z63,\"G3\",\"\"))))))","v":""},"","","","",69]
[null,null,"","",7,{"$f":"IF(OR(M_5000m!D26=0,M_5000m!D26=\"\"),\"\",M_5000m!D26)","v":""},{"$f":"IF(OR($F70=\"\",$F70=0),\"\",IF($F70>90,VLOOKUP(F70,eventcodes,2,FALSE),HLOOKUP(F70,mens_declare,B66,FALSE)))","v":""},"",{"$f":"IF(OR(M_5000m!G26=0,M_5000m!G26=\"\"),\"\",M_5000m!G26)","v":""},{"$f":"IF(OR(I70=\"\",I70=0),\"\",IF(AND(AA63=\"T\",I70<I69),\"X\",IF(AND(AA63=\"F\",I70>I69),\"X\",\"\")))","v":""},null,{"$f":"IF(AA63=\"T\",AB70,AC70)","v":""},null,7,{"$f":"IF(OR(M_5000m!D35=0,M_5000m!D35=\"\"),\"\",M_5000m!D35)","v":""},{"$f":"IF(OR($O70=\"\",$O70=0),\"\",IF($O70>90,VLOOKUP(O70,eventcodes,2,FALSE),HLOOKUP(O70,mens_declare,B66,FALSE)))","v":""},"",{"$f":"IF(OR(M_5000m!G35=0,M_5000m!G35=\"\"),\"\",M_5000m!G35)","v":""},"",{"$f":"IF(AA63=\"T\",AD70,AE70)","v":""},null,null,null,null,null,null,null,{"$f":"IF(OR(I70=0,I70=\"\"),\"\",IF(AA63=\"F\",\"\",IF(AA63=\"T\",IF(I70<=X63,\"þ\",IF(I70<=Y63,\"G2\",IF(I70<=Z63,\"G3\",\"\"))))))","v":""},{"$f":"IF(I70=\"\",\"\",IF(AA63=\"T\",\"\",IF(AA63=\"F\",IF(I70>=X63,\"þ\",IF(I70>=Y63,\"G2\",IF(I70>=Z63,\"G3\",\"\"))))))","v":""},{"$f":"IF(OR(R70=0,R70=\"\"),\"\",IF(AA63=\"F\",\"\",IF(AA63=\"T\",IF(R70<=X63,\"þ\",IF(R70<=Y63,\"G2\",IF(R70<=Z63,\"G3\",\"\"))))))","v":""},{"$f":"IF(R70=\"\",\"\",IF(AA63=\"T\",\"\",IF(AA63=\"F\",IF(R70>=X63,\"þ\",IF(R70>=Y63,\"G2\",IF(R70>=Z63,\"G3\",\"\"))))))","v":""},"","","","",70]
[null,null,"","",8,{"$f":"IF(OR(M_5000m!D27=0,M_5000m!D27=\"\"),\"\",M_5000m!D27)","v":""},{"$f":"IF(OR($F71=\"\",$F71=0),\"\",IF($F71>90,VLOOKUP(F71,eventcodes,2,FALSE),HLOOKUP(F71,mens_declare,B66,FALSE)))","v":""},"",{"$f":"IF(OR(M_5000m!G27=0,M_5000m!G27=\"\"),\"\",M_5000m!G27)","v":""},{"$f":"IF(OR(I71=\"\",I71=0),\"\",IF(AND(AA63=\"T\",I71<I70),\"X\",IF(AND(AA63=\"F\",I71>I70),\"X\",\"\")))","v":""},null,{"$f":"IF(AA63=\"T\",AB71,AC71)","v":""},null,8,{"$f":"IF(OR(M_5000m!D36=0,M_5000m!D36=\"\"),\"\",M_5000m!D36)","v":""},{"$f":"IF(OR($O71=\"\",$O71=0),\"\",IF($O71>90,VLOOKUP(O71,eventcodes,2,FALSE),HLOOKUP(O71,mens_declare,B66,FALSE)))","v":""},"",{"$f":"IF(OR(M_5000m!G36=0,M_5000m!G36=\"\"),\"\",M_5000m!G36)","v":""},"",{"$f":"IF(AA63=\"T\",AD71,AE71)","v":""},null,null,null,null,null,null,null,{"$f":"IF(OR(I71=0,I71=\"\"),\"\",IF(AA63=\"F\",\"\",IF(AA63=\"T\",IF(I71<=X63,\"þ\",IF(I71<=Y63,\"G2\",IF(I71<=Z63,\"G3\",\"\"))))))","v":""},{"$f":"IF(I71=\"\",\"\",IF(AA63=\"T\",\"\",IF(AA63=\"F\",IF(I71>=X63,\"þ\",IF(I71>=Y63,\"G2\",IF(I71>=Z63,\"G3\",\"\"))))))","v":""},{"$f":"IF(OR(R71=0,R71=\"\"),\"\",IF(AA63=\"F\",\"\",IF(AA63=\"T\",IF(R71<=X63,\"þ\",IF(R71<=Y63,\"G2\",IF(R71<=Z63,\"G3\",\"\"))))))","v":""},{"$f":"IF(R71=\"\",\"\",IF(AA63=\"T\",\"\",IF(AA63=\"F\",IF(R71>=X63,\"þ\",IF(R71>=Y63,\"G2\",IF(R71>=Z63,\"G3\",\"\"))))))","v":""},"","","","",71]
[null,null,null,null,null,null,null,null,null,null,null,null,null,null,null,null,null,null,null,null,null,null,null,null,null,null,null,null,null,null,null,null,null,null,null,72]
[null,null,null,null,{"$f":"CONCATENATE(VLOOKUP(A74,mens_handbook,3,FALSE),\" A\")","v":"Men's 400m Hurdles A"},null,null,{"$f":"IF(A74=\"\",\"\",IF(VLOOKUP(A74,Handbook!$A$4:$AI$24,35,FALSE)=\"Y\",\"Wind=\",\"\"))","v":""},null,null,null,null,null,null,{"$f":"CONCATENATE(VLOOKUP(A74,mens_handbook,3,FALSE),\" B\")","v":"Men's 400m Hurdles B"},{"$f":"CONCATENATE(VLOOKUP(M74,Handbook!$A$4:$C$24,3,FALSE),\" A\")","v":{"$error":"#N/A"}},{"$f":"H73","v":""},null,null,null,null,{"$f":"IF($A74=\"\",\"\",VLOOKUP($A74,Handbook!$A$4:$V$24,21,FALSE))","v":50.5},{"$f":"IF($A74=\"\",\"\",VLOOKUP($A74,Handbook!$A$4:$V$24,22,FALSE))","v":50.5},{"$f":"IF($A74=\"\",\"\",VLOOKUP($A74,Handbook!$A$4:$W$24,23,FALSE))","v":63},{"$f":"IF($A74=\"\",\"\",VLOOKUP($A74,Handbook!$A$4:$X$24,24,FALSE))","v":58},{"$f":"IF($A74=\"\",\"\",VLOOKUP($A74,Handbook!$A$4:$Y$24,25,FALSE))","v":58},{"$f":"IF($A74=\"\",\"\",VLOOKUP($A74,Handbook!$A$4:$AH$24,34,FALSE))","v":"T"},null,null,null,null,null,null,null,null,73]
[1,null,{"$f":"IF(F74=\"\",\"\",IF(F74>10,F74/11,F74))","v":""},{"$f":"IF(O74=\"\",\"\",IF(O74>10,O74/11,O74))","v":""},1,null,{"$f":"IF($F74=\"\",\"\",IF($F74>90,VLOOKUP(F74,eventcodes,2,FALSE),HLOOKUP(F74,mens_declare,B76,FALSE)))","v":""},{"$f":"IF($F74=\"\",\"\",IF($F74>90,\"\",VLOOKUP(C74,matchday,2,FALSE)))","v":""},null,{"$f":"IF(I74=\"\",\"\",IF(AA73=\"T\",V74,V75))","v":""},null,{"$f":"IF(AA73=\"T\",AB74,AC74)","v":""},null,1,null,{"$f":"IF($O74=\"\",\"\",HLOOKUP(O74,mens_declare,B76,FALSE))","v":""},{"$f":"IF($O74=\"\",\"\",VLOOKUP(D74,matchday,2,FALSE))","v":""},null,null,{"$f":"IF(AA73=\"T\",AD74,AE74)","v":""},null,{"$f":"IF(AA73=\"F\",\"\",IF(I74<V73,\"LR\",IF(I74=V73,\"=LR\",IF(I74<W73,\"DR\",IF(I74=W73,\"=DR\",\"\")))))","v":"LR"},null,null,null,null,null,{"$f":"IF(I74=\"\",\"\",IF(AA73=\"F\",\"\",IF(AA73=\"T\",IF(I74<=X73,\"þ\",IF(I74<=Y73,\"G2\",IF(I74<=Z73,\"G3\",\"\"))))))","v":""},{"$f":"IF(I74=\"\",\"\",IF(AA73=\"T\",\"\",IF(AA73=\"F\",IF(I74>=X73,\"þ\",IF(I74>=Y73,\"G2\",IF(I74>=Z73,\"G3\",\"\"))))))","v":""},{"$f":"IF(R74=\"\",\"\",IF(AA73=\"F\",\"\",IF(AA73=\"T\",IF(R74<=X73,\"þ\",IF(R74<=Y73,\"G2\",IF(R74<=Z73,\"G3\",\"\"))))))","v":""},{"$f":"IF(R74=\"\",\"\",IF(AA73=\"T\",\"\",IF(AA73=\"F\",IF(R74>=X73,\"þ\",IF(R74>=Y73,\"G2\",IF(R74>=Z73,\"G3\",\"\"))))))","v":""},{"$f":"C74","v":""},{"$f":"IF(F74=\"\",\"\",IF(LEFT(I74,1)=\"D\",0,VLOOKUP(E74,$AQ$4:$AR$40,2,FALSE)))","v":""},{"$f":"D74","v":""},{"$f":"IF(O74=\"\",\"\",IF(LEFT(R74,1)=\"D\",0,VLOOKUP(N74,$AQ$4:$AS$40,3,FALSE)))","v":""},74]
[null,{"$f":"VLOOKUP(A74,Handbook!$A$4:$AK$24,37,FALSE)","v":2},{"$f":"IF(F75=\"\",\"\",IF(F75>10,F75/11,F75))","v":""},{"$f":"IF(O75=\"\",\"\",IF(O75>10,O75/11,O75))","v":""},2,null,{"$f":"IF($F75=\"\",\"\",HLOOKUP(F75,mens_declare,B76,FALSE))","v":""},{"$f":"IF($F75=\"\",\"\",VLOOKUP(C75,matchday,2,FALSE))","v":""},null,{"$f":"IF(I75=\"\",\"\",IF(AND(AA73=\"T\",I75<I74),\"X\",IF(AND(AA73=\"F\",I75>I74),\"X\",\"\")))","v":""},null,{"$f":"IF(AA73=\"T\",AB75,AC75)","v":""},null,2,null,{"$f":"IF($O75=\"\",\"\",HLOOKUP(O75,mens_declare,B76,FALSE))","v":""},"",null,{"$f":"IF(R75=\"\",\"\",IF(AND(AA73=\"T\",R75<R74),\"X\",IF(AND(AA73=\"F\",R75>R74),\"X\",\"\")))","v":""},{"$f":"IF(AA73=\"T\",AD75,AE75)","v":""},null,{"$f":"IF(AA73=\"T\",\"\",IF(I74>V73,\"LR\",IF(I74=V73,\"=LR\",IF(I74>W73,\"DR\",IF(I74=W73,\"=DR\",\"\")))))","v":""},null,null,null,null,null,{"$f":"IF(I75=\"\",\"\",IF(AA73=\"F\",\"\",IF(AA73=\"T\",IF(I75<=X73,\"þ\",IF(I75<=Y73,\"G2\",IF(I75<=Z73,\"G3\",\"\"))))))","v":""},{"$f":"IF(I75=\"\",\"\",IF(AA73=\"T\",\"\",IF(AA73=\"F\",IF(I75>=X73,\"þ\",IF(I75>=Y73,\"G2\",IF(I75>=Z73,\"G3\",\"\"))))))","v":""},{"$f":"IF(R75=\"\",\"\",IF(AA73=\"F\",\"\",IF(AA73=\"T\",IF(R75<=X73,\"þ\",IF(R75<=Y73,\"G2\",IF(R75<=Z73,\"G3\",\"\"))))))","v":""},{"$f":"IF(R75=\"\",\"\",IF(AA73=\"T\",\"\",IF(AA73=\"F\",IF(R75>=X73,\"þ\",IF(R75>=Y73,\"G2\",IF(R75>=Z73,\"G3\",\"\"))))))","v":""},{"$f":"C75","v":""},"",{"$f":"D75","v":""},"",75]
[null,{"$f":"VLOOKUP(A74,mens_declare,20,FALSE)","v":10},"","",3,null,{"$f":"IF($F76=\"\",\"\",HLOOKUP(F76,mens_declare,B76,FALSE))","v":""},"",null,{"$f":"IF(I76=\"\",\"\",IF(AND(AA73=\"T\",I76<I75),\"X\",IF(AND(AA73=\"F\",I76>I75),\"X\",\"\")))","v":""},null,{"$f":"IF(AA73=\"T\",AB76,AC76)","v":""},null,3,null,{"$f":"IF($O76=\"\",\"\",HLOOKUP(O76,mens_declare,B76,FALSE))","v":""},"",null,{"$f":"IF(R76=\"\",\"\",IF(AND(AA73=\"T\",R76<R75),\"X\",IF(AND(AA73=\"F\",R76>R75),\"X\",\"\")))","v":""},{"$f":"IF(AA73=\"T\",AD76,AE76)","v":""},null,null,null,null,null,null,null,{"$f":"IF(I76=\"\",\"\",IF(AA73=\"F\",\"\",IF(AA73=\"T\",IF(I76<=X73,\"þ\",IF(I76<=Y73,\"G2\",IF(I76<=Z73,\"G3\",\"\"))))))","v":""},{"$f":"IF(I76=\"\",\"\",IF(AA73=\"T\",\"\",IF(AA73=\"F\",IF(I76>=X73,\"þ\",IF(I76>=Y73,\"G2\",IF(I76>=Z73,\"G3\",\"\"))))))","v":""},{"$f":"IF(R76=\"\",\"\",IF(AA73=\"F\",\"\",IF(AA73=\"T\",IF(R76<=X73,\"þ\",IF(R76<=Y73,\"G2\",IF(R76<=Z73,\"G3\",\"\"))))))","v":""},{"$f":"IF(R76=\"\",\"\",IF(AA73=\"T\",\"\",IF(AA73=\"F\",IF(R76>=X73,\"þ\",IF(R76>=Y73,\"G2\",IF(R76>=Z73,\"G3\",\"\"))))))","v":""},"","","","",76]
[null,null,"","",4,null,{"$f":"IF($F77=\"\",\"\",HLOOKUP(F77,mens_declare,B76,FALSE))","v":""},"",null,{"$f":"IF(I77=\"\",\"\",IF(AND(AA73=\"T\",I77<I76),\"X\",IF(AND(AA73=\"F\",I77>I76),\"X\",\"\")))","v":""},null,{"$f":"IF(AA73=\"T\",AB77,AC77)","v":""},null,4,null,{"$f":"IF($O77=\"\",\"\",HLOOKUP(O77,mens_declare,B76,FALSE))","v":""},"",null,{"$f":"IF(R77=\"\",\"\",IF(AND(AA73=\"T\",R77<R76),\"X\",IF(AND(AA73=\"F\",R77>R76),\"X\",\"\")))","v":""},{"$f":"IF(AA73=\"T\",AD77,AE77)","v":""},null,null,null,null,null,null,null,{"$f":"IF(I77=\"\",\"\",IF(AA73=\"F\",\"\",IF(AA73=\"T\",IF(I77<=X73,\"þ\",IF(I77<=Y73,\"G2\",IF(I77<=Z73,\"G3\",\"\"))))))","v":""},{"$f":"IF(I77=\"\",\"\",IF(AA73=\"T\",\"\",IF(AA73=\"F\",IF(I77>=X73,\"þ\",IF(I77>=Y73,\"G2\",IF(I77>=Z73,\"G3\",\"\"))))))","v":""},{"$f":"IF(R77=\"\",\"\",IF(AA73=\"F\",\"\",IF(AA73=\"T\",IF(R77<=X73,\"þ\",IF(R77<=Y73,\"G2\",IF(R77<=Z73,\"G3\",\"\"))))))","v":""},{"$f":"IF(R77=\"\",\"\",IF(AA73=\"T\",\"\",IF(AA73=\"F\",IF(R77>=X73,\"þ\",IF(R77>=Y73,\"G2\",IF(R77>=Z73,\"G3\",\"\"))))))","v":""},"","","","",77]
[null,null,"","",5,null,{"$f":"IF($F78=\"\",\"\",HLOOKUP(F78,mens_declare,B76,FALSE))","v":""},"",null,{"$f":"IF(I78=\"\",\"\",IF(AND(AA73=\"T\",I78<I77),\"X\",IF(AND(AA73=\"F\",I78>I77),\"X\",\"\")))","v":""},null,{"$f":"IF(AA73=\"T\",AB78,AC78)","v":""},null,5,null,{"$f":"IF($O78=\"\",\"\",HLOOKUP(O78,mens_declare,B76,FALSE))","v":""},"",null,{"$f":"IF(R78=\"\",\"\",IF(AND(AA73=\"T\",R78<R77),\"X\",IF(AND(AA73=\"F\",R78>R77),\"X\",\"\")))","v":""},{"$f":"IF(AA73=\"T\",AD78,AE78)","v":""},null,null,null,null,null,null,null,{"$f":"IF(I78=\"\",\"\",IF(AA73=\"F\",\"\",IF(AA73=\"T\",IF(I78<=X73,\"þ\",IF(I78<=Y73,\"G2\",IF(I78<=Z73,\"G3\",\"\"))))))","v":""},{"$f":"IF(I78=\"\",\"\",IF(AA73=\"T\",\"\",IF(AA73=\"F\",IF(I78>=X73,\"þ\",IF(I78>=Y73,\"G2\",IF(I78>=Z73,\"G3\",\"\"))))))","v":""},{"$f":"IF(R78=\"\",\"\",IF(AA73=\"F\",\"\",IF(AA73=\"T\",IF(R78<=X73,\"þ\",IF(R78<=Y73,\"G2\",IF(R78<=Z73,\"G3\",\"\"))))))","v":""},{"$f":"IF(R78=\"\",\"\",IF(AA73=\"T\",\"\",IF(AA73=\"F\",IF(R78>=X73,\"þ\",IF(R78>=Y73,\"G2\",IF(R78>=Z73,\"G3\",\"\"))))))","v":""},"","","","",78]
[null,null,"","",6,null,{"$f":"IF($F79=\"\",\"\",HLOOKUP(F79,mens_declare,B76,FALSE))","v":""},"",null,{"$f":"IF(I79=\"\",\"\",IF(AND(AA73=\"T\",I79<I78),\"X\",IF(AND(AA73=\"F\",I79>I78),\"X\",\"\")))","v":""},null,{"$f":"IF(AA73=\"T\",AB79,AC79)","v":""},null,6,null,{"$f":"IF($O79=\"\",\"\",HLOOKUP(O79,mens_declare,B76,FALSE))","v":""},"",null,{"$f":"IF(R79=\"\",\"\",IF(AND(AA73=\"T\",R79<R78),\"X\",IF(AND(AA73=\"F\",R79>R78),\"X\",\"\")))","v":""},{"$f":"IF(AA73=\"T\",AD79,AE79)","v":""},null,null,null,null,null,null,null,{"$f":"IF(I79=\"\",\"\",IF(AA73=\"F\",\"\",IF(AA73=\"T\",IF(I79<=X73,\"þ\",IF(I79<=Y73,\"G2\",IF(I79<=Z73,\"G3\",\"\"))))))","v":""},{"$f":"IF(I79=\"\",\"\",IF(AA73=\"T\",\"\",IF(AA73=\"F\",IF(I79>=X73,\"þ\",IF(I79>=Y73,\"G2\",IF(I79>=Z73,\"G3\",\"\"))))))","v":""},{"$f":"IF(R79=\"\",\"\",IF(AA73=\"F\",\"\",IF(AA73=\"T\",IF(R79<=X73,\"þ\",IF(R79<=Y73,\"G2\",IF(R79<=Z73,\"G3\",\"\"))))))","v":""},{"$f":"IF(R79=\"\",\"\",IF(AA73=\"T\",\"\",IF(AA73=\"F\",IF(R79>=X73,\"þ\",IF(R79>=Y73,\"G2\",IF(R79>=Z73,\"G3\",\"\"))))))","v":""},"","","","",79]
[null,null,"","",7,null,{"$f":"IF($F80=\"\",\"\",HLOOKUP(F80,mens_declare,B76,FALSE))","v":""},"",null,{"$f":"IF(I80=\"\",\"\",IF(AND(AA73=\"T\",I80<I79),\"X\",IF(AND(AA73=\"F\",I80>I79),\"X\",\"\")))","v":""},null,{"$f":"IF(AA73=\"T\",AB80,AC80)","v":""},null,7,null,{"$f":"IF($O80=\"\",\"\",HLOOKUP(O80,mens_declare,B76,FALSE))","v":""},"",null,{"$f":"IF(R80=\"\",\"\",IF(AND(AA73=\"T\",R80<R79),\"X\",IF(AND(AA73=\"F\",R80>R79),\"X\",\"\")))","v":""},{"$f":"IF(AA73=\"T\",AD80,AE80)","v":""},null,null,null,null,null,null,null,{"$f":"IF(I80=\"\",\"\",IF(AA73=\"F\",\"\",IF(AA73=\"T\",IF(I80<=X73,\"þ\",IF(I80<=Y73,\"G2\",IF(I80<=Z73,\"G3\",\"\"))))))","v":""},{"$f":"IF(I80=\"\",\"\",IF(AA73=\"T\",\"\",IF(AA73=\"F\",IF(I80>=X73,\"þ\",IF(I80>=Y73,\"G2\",IF(I80>=Z73,\"G3\",\"\"))))))","v":""},{"$f":"IF(R80=\"\",\"\",IF(AA73=\"F\",\"\",IF(AA73=\"T\",IF(R80<=X73,\"þ\",IF(R80<=Y73,\"G2\",IF(R80<=Z73,\"G3\",\"\"))))))","v":""},{"$f":"IF(R80=\"\",\"\",IF(AA73=\"T\",\"\",IF(AA73=\"F\",IF(R80>=X73,\"þ\",IF(R80>=Y73,\"G2\",IF(R80>=Z73,\"G3\",\"\"))))))","v":""},"","","","",80]
[null,null,"","",8,null,{"$f":"IF($F81=\"\",\"\",HLOOKUP(F81,mens_declare,B76,FALSE))","v":""},"",null,{"$f":"IF(I81=\"\",\"\",IF(AND(AA73=\"T\",I81<I80),\"X\",IF(AND(AA73=\"F\",I81>I80),\"X\",\"\")))","v":""},null,{"$f":"IF(AA73=\"T\",AB81,AC81)","v":""},null,8,null,{"$f":"IF($O81=\"\",\"\",HLOOKUP(O81,mens_declare,B76,FALSE))","v":""},"",null,{"$f":"IF(R81=\"\",\"\",IF(AND(AA73=\"T\",R81<R80),\"X\",IF(AND(AA73=\"F\",R81>R80),\"X\",\"\")))","v":""},{"$f":"IF(AA73=\"T\",AD81,AE81)","v":""},null,null,null,null,null,null,null,{"$f":"IF(I81=\"\",\"\",IF(AA73=\"F\",\"\",IF(AA73=\"T\",IF(I81<=X73,\"þ\",IF(I81<=Y73,\"G2\",IF(I81<=Z73,\"G3\",\"\"))))))","v":""},{"$f":"IF(I81=\"\",\"\",IF(AA73=\"T\",\"\",IF(AA73=\"F\",IF(I81>=X73,\"þ\",IF(I81>=Y73,\"G2\",IF(I81>=Z73,\"G3\",\"\"))))))","v":""},{"$f":"IF(R81=\"\",\"\",IF(AA73=\"F\",\"\",IF(AA73=\"T\",IF(R81<=X73,\"þ\",IF(R81<=Y73,\"G2\",IF(R81<=Z73,\"G3\",\"\"))))))","v":""},{"$f":"IF(R81=\"\",\"\",IF(AA73=\"T\",\"\",IF(AA73=\"F\",IF(R81>=X73,\"þ\",IF(R81>=Y73,\"G2\",IF(R81>=Z73,\"G3\",\"\"))))))","v":""},"","","","",81]
[null,null,null,null,null,null,null,null,null,null,null,null,null,null,null,null,null,null,null,null,null,null,null,null,null,null,null,null,null,null,null,null,null,null,null,82]
[null,null,null,null,{"$f":"CONCATENATE(VLOOKUP(A84,mens_handbook,3,FALSE),\" A\")","v":"Men's 110m Hurdles A"},null,null,{"$f":"IF(A84=\"\",\"\",IF(VLOOKUP(A84,Handbook!$A$4:$AI$24,35,FALSE)=\"Y\",\"Wind=\",\"\"))","v":"Wind="},null,null,null,null,null,null,{"$f":"CONCATENATE(VLOOKUP(A84,mens_handbook,3,FALSE),\" B\")","v":"Men's 110m Hurdles B"},null,{"$f":"H83","v":"Wind="},null,null,null,null,{"$f":"IF($A84=\"\",\"\",VLOOKUP($A84,Handbook!$A$4:$V$24,21,FALSE))","v":14.4},{"$f":"IF($A84=\"\",\"\",VLOOKUP($A84,Handbook!$A$4:$V$24,22,FALSE))","v":14.4},{"$f":"IF($A84=\"\",\"\",VLOOKUP($A84,Handbook!$A$4:$W$24,23,FALSE))","v":18},{"$f":"IF($A84=\"\",\"\",VLOOKUP($A84,Handbook!$A$4:$X$24,24,FALSE))","v":16},{"$f":"IF($A84=\"\",\"\",VLOOKUP($A84,Handbook!$A$4:$Y$24,25,FALSE))","v":16},{"$f":"IF($A84=\"\",\"\",VLOOKUP($A84,Handbook!$A$4:$AH$24,34,FALSE))","v":"T"},null,null,null,null,null,null,null,null,83]
[6,null,{"$f":"IF(F84=\"\",\"\",IF(F84>10,F84/11,F84))","v":""},{"$f":"IF(O84=\"\",\"\",IF(O84>10,O84/11,O84))","v":""},1,null,{"$f":"IF($F84=\"\",\"\",IF($F84>90,VLOOKUP(F84,eventcodes,2,FALSE),HLOOKUP(F84,mens_declare,B86,FALSE)))","v":""},{"$f":"IF($F84=\"\",\"\",IF($F84>90,\"\",VLOOKUP(C84,matchday,2,FALSE)))","v":""},null,{"$f":"IF(I84=\"\",\"\",IF(AA83=\"T\",V84,V85))","v":""},null,{"$f":"IF(AA83=\"T\",AB84,AC84)","v":""},null,1,null,{"$f":"IF($O84=\"\",\"\",HLOOKUP(O84,mens_declare,B86,FALSE))","v":""},{"$f":"IF($O84=\"\",\"\",VLOOKUP(D84,matchday,2,FALSE))","v":""},null,null,{"$f":"IF(AA83=\"T\",AD84,AE84)","v":""},null,{"$f":"IF(AA83=\"F\",\"\",IF(I84<V83,\"LR\",IF(I84=V83,\"=LR\",IF(I84<W83,\"DR\",IF(I84=W83,\"=DR\",\"\")))))","v":"LR"},null,null,null,null,null,{"$f":"IF(I84=\"\",\"\",IF(AA83=\"F\",\"\",IF(AA83=\"T\",IF(I84<=X83,\"þ\",IF(I84<=Y83,\"G2\",IF(I84<=Z83,\"G3\",\"\"))))))","v":""},{"$f":"IF(I84=\"\",\"\",IF(AA83=\"T\",\"\",IF(AA83=\"F\",IF(I84>=X83,\"þ\",IF(I84>=Y83,\"G2\",IF(I84>=Z83,\"G3\",\"\"))))))","v":""},{"$f":"IF(R84=\"\",\"\",IF(AA83=\"F\",\"\",IF(AA83=\"T\",IF(R84<=X83,\"þ\",IF(R84<=Y83,\"G2\",IF(R84<=Z83,\"G3\",\"\"))))))","v":""},{"$f":"IF(R84=\"\",\"\",IF(AA83=\"T\",\"\",IF(AA83=\"F\",IF(R84>=X83,\"þ\",IF(R84>=Y83,\"G2\",IF(R84>=Z83,\"G3\",\"\"))))))","v":""},{"$f":"C84","v":""},{"$f":"IF(F84=\"\",\"\",IF(LEFT(I84,1)=\"D\",0,VLOOKUP(E84,$AQ$4:$AR$40,2,FALSE)))","v":""},{"$f":"D84","v":""},{"$f":"IF(O84=\"\",\"\",IF(LEFT(R84,1)=\"D\",0,VLOOKUP(N84,$AQ$4:$AS$40,3,FALSE)))","v":""},84]
[null,{"$f":"VLOOKUP(A84,Handbook!$A$4:$AK$24,37,FALSE)","v":7},{"$f":"IF(F85=\"\",\"\",IF(F85>10,F85/11,F85))","v":""},{"$f":"IF(O85=\"\",\"\",IF(O85>10,O85/11,O85))","v":""},2,null,{"$f":"IF($F85=\"\",\"\",HLOOKUP(F85,mens_declare,B86,FALSE))","v":""},{"$f":"IF($F85=\"\",\"\",VLOOKUP(C85,matchday,2,FALSE))","v":""},null,{"$f":"IF(I85=\"\",\"\",IF(AND(AA83=\"T\",I85<I84),\"X\",IF(AND(AA83=\"F\",I85>I84),\"X\",\"\")))","v":""},null,{"$f":"IF(AA83=\"T\",AB85,AC85)","v":""},null,2,null,{"$f":"IF($O85=\"\",\"\",HLOOKUP(O85,mens_declare,B86,FALSE))","v":""},"",null,{"$f":"IF(R85=\"\",\"\",IF(AND(AA83=\"T\",R85<R84),\"X\",IF(AND(AA83=\"F\",R85>R84),\"X\",\"\")))","v":""},{"$f":"IF(AA83=\"T\",AD85,AE85)","v":""},null,{"$f":"IF(AA83=\"T\",\"\",IF(I84>V83,\"LR\",IF(I84=V83,\"=LR\",IF(I84>W83,\"DR\",IF(I84=W83,\"=DR\",\"\")))))","v":""},null,null,null,null,null,{"$f":"IF(I85=\"\",\"\",IF(AA83=\"F\",\"\",IF(AA83=\"T\",IF(I85<=X83,\"þ\",IF(I85<=Y83,\"G2\",IF(I85<=Z83,\"G3\",\"\"))))))","v":""},{"$f":"IF(I85=\"\",\"\",IF(AA83=\"T\",\"\",IF(AA83=\"F\",IF(I85>=X83,\"þ\",IF(I85>=Y83,\"G2\",IF(I85>=Z83,\"G3\",\"\"))))))","v":""},{"$f":"IF(R85=\"\",\"\",IF(AA83=\"F\",\"\",IF(AA83=\"T\",IF(R85<=X83,\"þ\",IF(R85<=Y83,\"G2\",IF(R85<=Z83,\"G3\",\"\"))))))","v":""},{"$f":"IF(R85=\"\",\"\",IF(AA83=\"T\",\"\",IF(AA83=\"F\",IF(R85>=X83,\"þ\",IF(R85>=Y83,\"G2\",IF(R85>=Z83,\"G3\",\"\"))))))","v":""},{"$f":"C85","v":""},"",{"$f":"D85","v":""},"",85]
[null,{"$f":"VLOOKUP(A84,mens_declare,20,FALSE)","v":11},"","",3,null,{"$f":"IF($F86=\"\",\"\",HLOOKUP(F86,mens_declare,B86,FALSE))","v":""},"",null,{"$f":"IF(I86=\"\",\"\",IF(AND(AA83=\"T\",I86<I85),\"X\",IF(AND(AA83=\"F\",I86>I85),\"X\",\"\")))","v":""},null,{"$f":"IF(AA83=\"T\",AB86,AC86)","v":""},null,3,null,{"$f":"IF($O86=\"\",\"\",HLOOKUP(O86,mens_declare,B86,FALSE))","v":""},"",null,{"$f":"IF(R86=\"\",\"\",IF(AND(AA83=\"T\",R86<R85),\"X\",IF(AND(AA83=\"F\",R86>R85),\"X\",\"\")))","v":""},{"$f":"IF(AA83=\"T\",AD86,AE86)","v":""},null,null,null,null,null,null,null,{"$f":"IF(I86=\"\",\"\",IF(AA83=\"F\",\"\",IF(AA83=\"T\",IF(I86<=X83,\"þ\",IF(I86<=Y83,\"G2\",IF(I86<=Z83,\"G3\",\"\"))))))","v":""},{"$f":"IF(I86=\"\",\"\",IF(AA83=\"T\",\"\",IF(AA83=\"F\",IF(I86>=X83,\"þ\",IF(I86>=Y83,\"G2\",IF(I86>=Z83,\"G3\",\"\"))))))","v":""},{"$f":"IF(R86=\"\",\"\",IF(AA83=\"F\",\"\",IF(AA83=\"T\",IF(R86<=X83,\"þ\",IF(R86<=Y83,\"G2\",IF(R86<=Z83,\"G3\",\"\"))))))","v":""},{"$f":"IF(R86=\"\",\"\",IF(AA83=\"T\",\"\",IF(AA83=\"F\",IF(R86>=X83,\"þ\",IF(R86>=Y83,\"G2\",IF(R86>=Z83,\"G3\",\"\"))))))","v":""},"","","","",86]
[null,null,"","",4,null,{"$f":"IF($F87=\"\",\"\",HLOOKUP(F87,mens_declare,B86,FALSE))","v":""},"",null,{"$f":"IF(I87=\"\",\"\",IF(AND(AA83=\"T\",I87<I86),\"X\",IF(AND(AA83=\"F\",I87>I86),\"X\",\"\")))","v":""},null,{"$f":"IF(AA83=\"T\",AB87,AC87)","v":""},null,4,null,{"$f":"IF($O87=\"\",\"\",HLOOKUP(O87,mens_declare,B86,FALSE))","v":""},"",null,{"$f":"IF(R87=\"\",\"\",IF(AND(AA83=\"T\",R87<R86),\"X\",IF(AND(AA83=\"F\",R87>R86),\"X\",\"\")))","v":""},{"$f":"IF(AA83=\"T\",AD87,AE87)","v":""},null,null,null,null,null,null,null,{"$f":"IF(I87=\"\",\"\",IF(AA83=\"F\",\"\",IF(AA83=\"T\",IF(I87<=X83,\"þ\",IF(I87<=Y83,\"G2\",IF(I87<=Z83,\"G3\",\"\"))))))","v":""},{"$f":"IF(I87=\"\",\"\",IF(AA83=\"T\",\"\",IF(AA83=\"F\",IF(I87>=X83,\"þ\",IF(I87>=Y83,\"G2\",IF(I87>=Z83,\"G3\",\"\"))))))","v":""},{"$f":"IF(R87=\"\",\"\",IF(AA83=\"F\",\"\",IF(AA83=\"T\",IF(R87<=X83,\"þ\",IF(R87<=Y83,\"G2\",IF(R87<=Z83,\"G3\",\"\"))))))","v":""},{"$f":"IF(R87=\"\",\"\",IF(AA83=\"T\",\"\",IF(AA83=\"F\",IF(R87>=X83,\"þ\",IF(R87>=Y83,\"G2\",IF(R87>=Z83,\"G3\",\"\"))))))","v":""},"","","","",87]
[null,null,"","",5,null,{"$f":"IF($F88=\"\",\"\",HLOOKUP(F88,mens_declare,B86,FALSE))","v":""},"",null,{"$f":"IF(I88=\"\",\"\",IF(AND(AA83=\"T\",I88<I87),\"X\",IF(AND(AA83=\"F\",I88>I87),\"X\",\"\")))","v":""},null,{"$f":"IF(AA83=\"T\",AB88,AC88)","v":""},null,5,null,{"$f":"IF($O88=\"\",\"\",HLOOKUP(O88,mens_declare,B86,FALSE))","v":""},"",null,{"$f":"IF(R88=\"\",\"\",IF(AND(AA83=\"T\",R88<R87),\"X\",IF(AND(AA83=\"F\",R88>R87),\"X\",\"\")))","v":""},{"$f":"IF(AA83=\"T\",AD88,AE88)","v":""},null,null,null,null,null,null,null,{"$f":"IF(I88=\"\",\"\",IF(AA83=\"F\",\"\",IF(AA83=\"T\",IF(I88<=X83,\"þ\",IF(I88<=Y83,\"G2\",IF(I88<=Z83,\"G3\",\"\"))))))","v":""},{"$f":"IF(I88=\"\",\"\",IF(AA83=\"T\",\"\",IF(AA83=\"F\",IF(I88>=X83,\"þ\",IF(I88>=Y83,\"G2\",IF(I88>=Z83,\"G3\",\"\"))))))","v":""},{"$f":"IF(R88=\"\",\"\",IF(AA83=\"F\",\"\",IF(AA83=\"T\",IF(R88<=X83,\"þ\",IF(R88<=Y83,\"G2\",IF(R88<=Z83,\"G3\",\"\"))))))","v":""},{"$f":"IF(R88=\"\",\"\",IF(AA83=\"T\",\"\",IF(AA83=\"F\",IF(R88>=X83,\"þ\",IF(R88>=Y83,\"G2\",IF(R88>=Z83,\"G3\",\"\"))))))","v":""},"","","","",88]
[null,null,"","",6,null,{"$f":"IF($F89=\"\",\"\",HLOOKUP(F89,mens_declare,B86,FALSE))","v":""},"",null,{"$f":"IF(I89=\"\",\"\",IF(AND(AA83=\"T\",I89<I88),\"X\",IF(AND(AA83=\"F\",I89>I88),\"X\",\"\")))","v":""},null,{"$f":"IF(AA83=\"T\",AB89,AC89)","v":""},null,6,null,{"$f":"IF($O89=\"\",\"\",HLOOKUP(O89,mens_declare,B86,FALSE))","v":""},"",null,{"$f":"IF(R89=\"\",\"\",IF(AND(AA83=\"T\",R89<R88),\"X\",IF(AND(AA83=\"F\",R89>R88),\"X\",\"\")))","v":""},{"$f":"IF(AA83=\"T\",AD89,AE89)","v":""},null,null,null,null,null,null,null,{"$f":"IF(I89=\"\",\"\",IF(AA83=\"F\",\"\",IF(AA83=\"T\",IF(I89<=X83,\"þ\",IF(I89<=Y83,\"G2\",IF(I89<=Z83,\"G3\",\"\"))))))","v":""},{"$f":"IF(I89=\"\",\"\",IF(AA83=\"T\",\"\",IF(AA83=\"F\",IF(I89>=X83,\"þ\",IF(I89>=Y83,\"G2\",IF(I89>=Z83,\"G3\",\"\"))))))","v":""},{"$f":"IF(R89=\"\",\"\",IF(AA83=\"F\",\"\",IF(AA83=\"T\",IF(R89<=X83,\"þ\",IF(R89<=Y83,\"G2\",IF(R89<=Z83,\"G3\",\"\"))))))","v":""},{"$f":"IF(R89=\"\",\"\",IF(AA83=\"T\",\"\",IF(AA83=\"F\",IF(R89>=X83,\"þ\",IF(R89>=Y83,\"G2\",IF(R89>=Z83,\"G3\",\"\"))))))","v":""},"","","","",89]
[null,null,"","",7,null,{"$f":"IF($F90=\"\",\"\",HLOOKUP(F90,mens_declare,B86,FALSE))","v":""},"",null,{"$f":"IF(I90=\"\",\"\",IF(AND(AA83=\"T\",I90<I89),\"X\",IF(AND(AA83=\"F\",I90>I89),\"X\",\"\")))","v":""},null,{"$f":"IF(AA83=\"T\",AB90,AC90)","v":""},null,7,null,{"$f":"IF($O90=\"\",\"\",HLOOKUP(O90,mens_declare,B86,FALSE))","v":""},"",null,{"$f":"IF(R90=\"\",\"\",IF(AND(AA83=\"T\",R90<R89),\"X\",IF(AND(AA83=\"F\",R90>R89),\"X\",\"\")))","v":""},{"$f":"IF(AA83=\"T\",AD90,AE90)","v":""},null,null,null,null,null,null,null,{"$f":"IF(I90=\"\",\"\",IF(AA83=\"F\",\"\",IF(AA83=\"T\",IF(I90<=X83,\"þ\",IF(I90<=Y83,\"G2\",IF(I90<=Z83,\"G3\",\"\"))))))","v":""},{"$f":"IF(I90=\"\",\"\",IF(AA83=\"T\",\"\",IF(AA83=\"F\",IF(I90>=X83,\"þ\",IF(I90>=Y83,\"G2\",IF(I90>=Z83,\"G3\",\"\"))))))","v":""},{"$f":"IF(R90=\"\",\"\",IF(AA83=\"F\",\"\",IF(AA83=\"T\",IF(R90<=X83,\"þ\",IF(R90<=Y83,\"G2\",IF(R90<=Z83,\"G3\",\"\"))))))","v":""},{"$f":"IF(R90=\"\",\"\",IF(AA83=\"T\",\"\",IF(AA83=\"F\",IF(R90>=X83,\"þ\",IF(R90>=Y83,\"G2\",IF(R90>=Z83,\"G3\",\"\"))))))","v":""},"","","","",90]
[null,null,"","",8,null,{"$f":"IF($F91=\"\",\"\",HLOOKUP(F91,mens_declare,B86,FALSE))","v":""},"",null,{"$f":"IF(I91=\"\",\"\",IF(AND(AA83=\"T\",I91<I90),\"X\",IF(AND(AA83=\"F\",I91>I90),\"X\",\"\")))","v":""},null,{"$f":"IF(AA83=\"T\",AB91,AC91)","v":""},null,8,null,{"$f":"IF($O91=\"\",\"\",HLOOKUP(O91,mens_declare,B86,FALSE))","v":""},"",null,{"$f":"IF(R91=\"\",\"\",IF(AND(AA83=\"T\",R91<R90),\"X\",IF(AND(AA83=\"F\",R91>R90),\"X\",\"\")))","v":""},{"$f":"IF(AA83=\"T\",AD91,AE91)","v":""},null,null,null,null,null,null,null,{"$f":"IF(I91=\"\",\"\",IF(AA83=\"F\",\"\",IF(AA83=\"T\",IF(I91<=X83,\"þ\",IF(I91<=Y83,\"G2\",IF(I91<=Z83,\"G3\",\"\"))))))","v":""},{"$f":"IF(I91=\"\",\"\",IF(AA83=\"T\",\"\",IF(AA83=\"F\",IF(I91>=X83,\"þ\",IF(I91>=Y83,\"G2\",IF(I91>=Z83,\"G3\",\"\"))))))","v":""},{"$f":"IF(R91=\"\",\"\",IF(AA83=\"F\",\"\",IF(AA83=\"T\",IF(R91<=X83,\"þ\",IF(R91<=Y83,\"G2\",IF(R91<=Z83,\"G3\",\"\"))))))","v":""},{"$f":"IF(R91=\"\",\"\",IF(AA83=\"T\",\"\",IF(AA83=\"F\",IF(R91>=X83,\"þ\",IF(R91>=Y83,\"G2\",IF(R91>=Z83,\"G3\",\"\"))))))","v":""},"","","","",91]
[null,null,null,null,null,null,null,null,null,null,null,null,null,null,null,null,null,null,null,null,null,null,null,null,null,null,null,null,null,null,null,null,null,null,null,92]
[null,null,{"$f":"VLOOKUP(A94,Handbook!$A$4:$AK$24,36,FALSE)","v":"D"},null,{"$f":"CONCATENATE(VLOOKUP(A94,mens_handbook,3,FALSE),\" A\")","v":"Men's Hammer A"},null,null,{"$f":"IF(A94=\"\",\"\",IF(VLOOKUP(A94,Handbook!$A$4:$AI$24,35,FALSE)=\"Y\",\"Wind=\",\"\"))","v":""},null,null,null,null,null,null,{"$f":"CONCATENATE(VLOOKUP(A94,mens_handbook,3,FALSE),\" B\")","v":"Men's Hammer B"},null,{"$f":"H93","v":""},{"$f":"IF(I93=\"\",\"\",I93)","v":""},null,null,null,{"$f":"IF($A94=\"\",\"\",VLOOKUP($A94,Handbook!$A$4:$V$24,21,FALSE))","v":72.94},{"$f":"IF($A94=\"\",\"\",VLOOKUP($A94,Handbook!$A$4:$V$24,22,FALSE))","v":72.94},{"$f":"IF($A94=\"\",\"\",VLOOKUP($A94,Handbook!$A$4:$W$24,23,FALSE))","v":26},{"$f":"IF($A94=\"\",\"\",VLOOKUP($A94,Handbook!$A$4:$X$24,24,FALSE))","v":40},{"$f":"IF($A94=\"\",\"\",VLOOKUP($A94,Handbook!$A$4:$Y$24,25,FALSE))","v":40},{"$f":"IF($A94=\"\",\"\",VLOOKUP($A94,Handbook!$A$4:$AH$24,34,FALSE))","v":"F"},null,null,null,null,null,null,null,null,93]
[11,null,{"$f":"IF(F94=\"\",\"\",IF(F94>10,F94/11,F94))","v":""},{"$f":"IF(O94=\"\",\"\",IF(O94>10,O94/11,O94))","v":""},{"$f":"'Mens Hammer'!$E$26","v":1},{"$f":"IF('Mens Hammer'!$I$26=0,\"\",'Mens Hammer'!$F$26)","v":""},{"$f":"IF(OR($F94=\"\",$F94=0),\"\",IF($F94>90,VLOOKUP(F94,eventcodes,2,FALSE),HLOOKUP(F94,mens_declare,B96,FALSE)))","v":""},{"$f":"IF(OR($F94=\"\",$F94=0),\"\",IF($F94>90,\"\",VLOOKUP(C94,matchday,2,FALSE)))","v":""},{"$f":"IF('Mens Hammer'!$I$26=0,\"\",'Mens Hammer'!$I$26)","v":""},{"$f":"IF(I94=\"\",\"\",IF(AA93=\"T\",V94,V95))","v":""},null,{"$f":"IF(AA93=\"T\",AB94,AC94)","v":""},null,{"$f":"'Mens Hammer'!$K$26","v":1},{"$f":"IF('Mens Hammer'!$I$26=0,\"\",'Mens Hammer'!$L$26)","v":""},{"$f":"IF(OR($O94=\"\",$O94=0),\"\",HLOOKUP(O94,mens_declare,B96,FALSE))","v":""},{"$f":"IF(OR($O94=\"\",$O94=0),\"\",VLOOKUP(D94,matchday,2,FALSE))","v":""},{"$f":"IF('Mens Hammer'!$I$26=0,\"\",'Mens Hammer'!$U$26)","v":""},null,{"$f":"IF(AA93=\"T\",AD94,AE94)","v":""},null,{"$f":"IF(AA93=\"F\",\"\",IF(I94<V93,\"LR\",IF(I94=V93,\"=LR\",IF(I94<W93,\"DR\",IF(I94=W93,\"=DR\",\"\")))))","v":""},null,null,null,null,null,{"$f":"IF(I94=\"\",\"\",IF(AA93=\"F\",\"\",IF(AA93=\"T\",IF(I94<=X93,\"þ\",IF(I94<=Y93,\"G2\",IF(I94<=Z93,\"G3\",\"\"))))))","v":""},{"$f":"IF(I94=\"\",\"\",IF(AA93=\"T\",\"\",IF(AA93=\"F\",IF(I94>=X93,\"þ\",IF(I94>=Y93,\"G2\",IF(I94>=Z93,\"G3\",\"\"))))))","v":""},{"$f":"IF(R94=\"\",\"\",IF(AA93=\"F\",\"\",IF(AA93=\"T\",IF(R94<=X93,\"þ\",IF(R94<=Y93,\"G2\",IF(R94<=Z93,\"G3\",\"\"))))))","v":""},{"$f":"IF(R94=\"\",\"\",IF(AA93=\"T\",\"\",IF(AA93=\"F\",IF(R94>=X93,\"þ\",IF(R94>=Y93,\"G2\",IF(R94>=Z93,\"G3\",\"\"))))))","v":""},{"$f":"C94","v":""},{"$f":"IF(F94=\"\",\"\",IF(LEFT(I94,1)=\"D\",0,VLOOKUP(E94,$AQ$4:$AR$40,2,FALSE)))","v":""},{"$f":"D94","v":""},{"$f":"IF(O94=\"\",\"\",IF(LEFT(R94,1)=\"D\",0,VLOOKUP(N94,$AQ$4:$AS$40,3,FALSE)))","v":""},94]
[null,{"$f":"VLOOKUP(A94,Handbook!$A$4:$AK$24,37,FALSE)","v":12},{"$f":"IF(F95=\"\",\"\",IF(F95>10,F95/11,F95))","v":""},{"$f":"IF(O95=\"\",\"\",IF(O95>10,O95/11,O95))","v":""},{"$f":"'Mens Hammer'!$E$27","v":2},{"$f":"IF('Mens Hammer'!$I$26=0,\"\",'Mens Hammer'!$F$27)","v":""},{"$f":"IF(OR($F95=\"\",$F95=0),\"\",IF($F95>90,VLOOKUP(F95,eventcodes,2,FALSE),HLOOKUP(F95,mens_declare,B96,FALSE)))","v":""},"",{"$f":"IF('Mens Hammer'!$I$26=0,\"\",'Mens Hammer'!$I$27)","v":""},null,null,{"$f":"IF(AA93=\"T\",AB95,AC95)","v":""},null,{"$f":"'Mens Hammer'!$K$27","v":2},{"$f":"IF('Mens Hammer'!$I$26=0,\"\",'Mens Hammer'!$L$27)","v":""},{"$f":"IF(OR($O95=\"\",$O95=0),\"\",HLOOKUP(O95,mens_declare,B96,FALSE))","v":""},"",{"$f":"IF('Mens Hammer'!$I$26=0,\"\",'Mens Hammer'!$U$27)","v":""},null,{"$f":"IF(AA93=\"T\",AD95,AE95)","v":""},null,{"$f":"IF(AA93=\"T\",\"\",IF(I94>V93,\"LR\",IF(I94=V93,\"=LR\",IF(I94>W93,\"DR\",IF(I94=W93,\"=DR\",\"\")))))","v":"LR"},null,null,null,null,null,{"$f":"IF(I95=\"\",\"\",IF(AA93=\"F\",\"\",IF(AA93=\"T\",IF(I95<=X93,\"þ\",IF(I95<=Y93,\"G2\",IF(I95<=Z93,\"G3\",\"\"))))))","v":""},{"$f":"IF(I95=\"\",\"\",IF(AA93=\"T\",\"\",IF(AA93=\"F\",IF(I95>=X93,\"þ\",IF(I95>=Y93,\"G2\",IF(I95>=Z93,\"G3\",\"\"))))))","v":""},{"$f":"IF(R95=\"\",\"\",IF(AA93=\"F\",\"\",IF(AA93=\"T\",IF(R95<=X93,\"þ\",IF(R95<=Y93,\"G2\",IF(R95<=Z93,\"G3\",\"\"))))))","v":""},{"$f":"IF(R95=\"\",\"\",IF(AA93=\"T\",\"\",IF(AA93=\"F\",IF(R95>=X93,\"þ\",IF(R95>=Y93,\"G2\",IF(R95>=Z93,\"G3\",\"\"))))))","v":""},{"$f":"C95","v":""},"",{"$f":"D95","v":""},"",95]
[null,{"$f":"VLOOKUP(A94,mens_declare,20,FALSE)","v":12},"","",{"$f":"'Mens Hammer'!$E$28","v":3},{"$f":"IF('Mens Hammer'!$I$26=0,\"\",'Mens Hammer'!$F$28)","v":""},{"$f":"IF(OR($F96=\"\",$F96=0),\"\",IF($F96>90,VLOOKUP(F96,eventcodes,2,FALSE),HLOOKUP(F96,mens_declare,B96,FALSE)))","v":""},"",{"$f":"IF('Mens Hammer'!$I$26=0,\"\",'Mens Hammer'!$I$28)","v":""},null,null,{"$f":"IF(AA93=\"T\",AB96,AC96)","v":""},null,{"$f":"'Mens Hammer'!$K$28","v":3},{"$f":"IF('Mens Hammer'!$I$26=0,\"\",'Mens Hammer'!$L$28)","v":""},{"$f":"IF(OR($O96=\"\",$O96=0),\"\",HLOOKUP(O96,mens_declare,B96,FALSE))","v":""},"",{"$f":"IF('Mens Hammer'!$I$26=0,\"\",'Mens Hammer'!$U$28)","v":""},null,{"$f":"IF(AA93=\"T\",AD96,AE96)","v":""},null,null,null,null,null,null,null,{"$f":"IF(I96=\"\",\"\",IF(AA93=\"F\",\"\",IF(AA93=\"T\",IF(I96<=X93,\"þ\",IF(I96<=Y93,\"G2\",IF(I96<=Z93,\"G3\",\"\"))))))","v":""},{"$f":"IF(I96=\"\",\"\",IF(AA93=\"T\",\"\",IF(AA93=\"F\",IF(I96>=X93,\"þ\",IF(I96>=Y93,\"G2\",IF(I96>=Z93,\"G3\",\"\"))))))","v":""},{"$f":"IF(R96=\"\",\"\",IF(AA93=\"F\",\"\",IF(AA93=\"T\",IF(R96<=X93,\"þ\",IF(R96<=Y93,\"G2\",IF(R96<=Z93,\"G3\",\"\"))))))","v":""},{"$f":"IF(R96=\"\",\"\",IF(AA93=\"T\",\"\",IF(AA93=\"F\",IF(R96>=X93,\"þ\",IF(R96>=Y93,\"G2\",IF(R96>=Z93,\"G3\",\"\"))))))","v":""},"","","","",96]
[null,null,"","",{"$f":"'Mens Hammer'!$E$29","v":4},{"$f":"IF('Mens Hammer'!$I$26=0,\"\",'Mens Hammer'!$F$29)","v":""},{"$f":"IF(OR($F97=\"\",$F97=0),\"\",IF($F97>90,VLOOKUP(F97,eventcodes,2,FALSE),HLOOKUP(F97,mens_declare,B96,FALSE)))","v":""},"",{"$f":"IF('Mens Hammer'!$I$26=0,\"\",'Mens Hammer'!$I$29)","v":""},null,null,{"$f":"IF(AA93=\"T\",AB97,AC97)","v":""},null,{"$f":"'Mens Hammer'!$K$29","v":4},{"$f":"IF('Mens Hammer'!$I$26=0,\"\",'Mens Hammer'!$L$29)","v":""},{"$f":"IF(OR($O97=\"\",$O97=0),\"\",HLOOKUP(O97,mens_declare,B96,FALSE))","v":""},"",{"$f":"IF('Mens Hammer'!$I$26=0,\"\",'Mens Hammer'!$U$29)","v":""},null,{"$f":"IF(AA93=\"T\",AD97,AE97)","v":""},null,null,null,null,null,null,null,{"$f":"IF(I97=\"\",\"\",IF(AA93=\"F\",\"\",IF(AA93=\"T\",IF(I97<=X93,\"þ\",IF(I97<=Y93,\"G2\",IF(I97<=Z93,\"G3\",\"\"))))))","v":""},{"$f":"IF(I97=\"\",\"\",IF(AA93=\"T\",\"\",IF(AA93=\"F\",IF(I97>=X93,\"þ\",IF(I97>=Y93,\"G2\",IF(I97>=Z93,\"G3\",\"\"))))))","v":""},{"$f":"IF(R97=\"\",\"\",IF(AA93=\"F\",\"\",IF(AA93=\"T\",IF(R97<=X93,\"þ\",IF(R97<=Y93,\"G2\",IF(R97<=Z93,\"G3\",\"\"))))))","v":""},{"$f":"IF(R97=\"\",\"\",IF(AA93=\"T\",\"\",IF(AA93=\"F\",IF(R97>=X93,\"þ\",IF(R97>=Y93,\"G2\",IF(R97>=Z93,\"G3\",\"\"))))))","v":""},"","","","",97]
[null,null,"","",{"$f":"'Mens Hammer'!$E$30","v":5},{"$f":"IF('Mens Hammer'!$I$26=0,\"\",'Mens Hammer'!$F$30)","v":""},{"$f":"IF(OR($F98=\"\",$F98=0),\"\",IF($F98>90,VLOOKUP(F98,eventcodes,2,FALSE),HLOOKUP(F98,mens_declare,B96,FALSE)))","v":""},"",{"$f":"IF('Mens Hammer'!$I$26=0,\"\",'Mens Hammer'!$I$30)","v":""},null,null,{"$f":"IF(AA93=\"T\",AB98,AC98)","v":""},null,{"$f":"'Mens Hammer'!$K$30","v":5},{"$f":"IF('Mens Hammer'!$I$26=0,\"\",'Mens Hammer'!$L$30)","v":""},{"$f":"IF(OR($O98=\"\",$O98=0),\"\",HLOOKUP(O98,mens_declare,B96,FALSE))","v":""},"",{"$f":"IF('Mens Hammer'!$I$26=0,\"\",'Mens Hammer'!$U$30)","v":""},null,{"$f":"IF(AA93=\"T\",AD98,AE98)","v":""},null,null,null,null,null,null,null,{"$f":"IF(I98=\"\",\"\",IF(AA93=\"F\",\"\",IF(AA93=\"T\",IF(I98<=X93,\"þ\",IF(I98<=Y93,\"G2\",IF(I98<=Z93,\"G3\",\"\"))))))","v":""},{"$f":"IF(I98=\"\",\"\",IF(AA93=\"T\",\"\",IF(AA93=\"F\",IF(I98>=X93,\"þ\",IF(I98>=Y93,\"G2\",IF(I98>=Z93,\"G3\",\"\"))))))","v":""},{"$f":"IF(R98=\"\",\"\",IF(AA93=\"F\",\"\",IF(AA93=\"T\",IF(R98<=X93,\"þ\",IF(R98<=Y93,\"G2\",IF(R98<=Z93,\"G3\",\"\"))))))","v":""},{"$f":"IF(R98=\"\",\"\",IF(AA93=\"T\",\"\",IF(AA93=\"F\",IF(R98>=X93,\"þ\",IF(R98>=Y93,\"G2\",IF(R98>=Z93,\"G3\",\"\"))))))","v":""},"","","","",98]
[null,null,"","",{"$f":"'Mens Hammer'!$E$31","v":6},{"$f":"IF('Mens Hammer'!$I$26=0,\"\",'Mens Hammer'!$F$31)","v":""},{"$f":"IF(OR($F99=\"\",$F99=0),\"\",IF($F99>90,VLOOKUP(F99,eventcodes,2,FALSE),HLOOKUP(F99,mens_declare,B96,FALSE)))","v":""},"",{"$f":"IF('Mens Hammer'!$I$26=0,\"\",'Mens Hammer'!$I$31)","v":""},null,null,{"$f":"IF(AA93=\"T\",AB99,AC99)","v":""},null,{"$f":"'Mens Hammer'!$K$31","v":6},{"$f":"IF('Mens Hammer'!$I$26=0,\"\",'Mens Hammer'!$L$31)","v":""},{"$f":"IF(OR($O99=\"\",$O99=0),\"\",HLOOKUP(O99,mens_declare,B96,FALSE))","v":""},"",{"$f":"IF('Mens Hammer'!$I$26=0,\"\",'Mens Hammer'!$U$31)","v":""},null,{"$f":"IF(AA93=\"T\",AD99,AE99)","v":""},null,null,null,null,null,null,null,{"$f":"IF(I99=\"\",\"\",IF(AA93=\"F\",\"\",IF(AA93=\"T\",IF(I99<=X93,\"þ\",IF(I99<=Y93,\"G2\",IF(I99<=Z93,\"G3\",\"\"))))))","v":""},{"$f":"IF(I99=\"\",\"\",IF(AA93=\"T\",\"\",IF(AA93=\"F\",IF(I99>=X93,\"þ\",IF(I99>=Y93,\"G2\",IF(I99>=Z93,\"G3\",\"\"))))))","v":""},{"$f":"IF(R99=\"\",\"\",IF(AA93=\"F\",\"\",IF(AA93=\"T\",IF(R99<=X93,\"þ\",IF(R99<=Y93,\"G2\",IF(R99<=Z93,\"G3\",\"\"))))))","v":""},{"$f":"IF(R99=\"\",\"\",IF(AA93=\"T\",\"\",IF(AA93=\"F\",IF(R99>=X93,\"þ\",IF(R99>=Y93,\"G2\",IF(R99>=Z93,\"G3\",\"\"))))))","v":""},"","","","",99]
[null,null,"","",{"$f":"'Mens Hammer'!$E$32","v":7},{"$f":"IF('Mens Hammer'!$I$26=0,\"\",'Mens Hammer'!$F$32)","v":""},{"$f":"IF(OR($F100=\"\",$F100=0),\"\",IF($F100>90,VLOOKUP(F100,eventcodes,2,FALSE),HLOOKUP(F100,mens_declare,B96,FALSE)))","v":""},"",{"$f":"IF('Mens Hammer'!$I$26=0,\"\",'Mens Hammer'!$I$32)","v":""},null,null,{"$f":"IF(AA93=\"T\",AB100,AC100)","v":""},null,{"$f":"'Mens Hammer'!$K$32","v":7},{"$f":"IF('Mens Hammer'!$I$26=0,\"\",'Mens Hammer'!$L$32)","v":""},{"$f":"IF(OR($O100=\"\",$O100=0),\"\",HLOOKUP(O100,mens_declare,B96,FALSE))","v":""},"",{"$f":"IF('Mens Hammer'!$I$26=0,\"\",'Mens Hammer'!$U$32)","v":""},null,{"$f":"IF(AA93=\"T\",AD100,AE100)","v":""},null,null,null,null,null,null,null,{"$f":"IF(I100=\"\",\"\",IF(AA93=\"F\",\"\",IF(AA93=\"T\",IF(I100<=X93,\"þ\",IF(I100<=Y93,\"G2\",IF(I100<=Z93,\"G3\",\"\"))))))","v":""},{"$f":"IF(I100=\"\",\"\",IF(AA93=\"T\",\"\",IF(AA93=\"F\",IF(I100>=X93,\"þ\",IF(I100>=Y93,\"G2\",IF(I100>=Z93,\"G3\",\"\"))))))","v":""},{"$f":"IF(R100=\"\",\"\",IF(AA93=\"F\",\"\",IF(AA93=\"T\",IF(R100<=X93,\"þ\",IF(R100<=Y93,\"G2\",IF(R100<=Z93,\"G3\",\"\"))))))","v":""},{"$f":"IF(R100=\"\",\"\",IF(AA93=\"T\",\"\",IF(AA93=\"F\",IF(R100>=X93,\"þ\",IF(R100>=Y93,\"G2\",IF(R100>=Z93,\"G3\",\"\"))))))","v":""},"","","","",100]
[null,null,"","",{"$f":"'Mens Hammer'!$E$33","v":8},{"$f":"IF('Mens Hammer'!$I$26=0,\"\",'Mens Hammer'!$F$33)","v":""},{"$f":"IF(OR($F101=\"\",$F101=0),\"\",IF($F101>90,VLOOKUP(F101,eventcodes,2,FALSE),HLOOKUP(F101,mens_declare,B96,FALSE)))","v":""},"",{"$f":"IF('Mens Hammer'!$I$26=0,\"\",'Mens Hammer'!$I$33)","v":""},null,null,{"$f":"IF(AA93=\"T\",AB101,AC101)","v":""},null,{"$f":"'Mens Hammer'!$K$33","v":8},{"$f":"IF('Mens Hammer'!$I$26=0,\"\",'Mens Hammer'!$L$33)","v":""},{"$f":"IF(OR($O101=\"\",$O101=0),\"\",HLOOKUP(O101,mens_declare,B96,FALSE))","v":""},"",{"$f":"IF('Mens Hammer'!$I$26=0,\"\",'Mens Hammer'!$U$33)","v":""},null,{"$f":"IF(AA93=\"T\",AD101,AE101)","v":""},null,null,null,null,null,null,null,{"$f":"IF(I101=\"\",\"\",IF(AA93=\"F\",\"\",IF(AA93=\"T\",IF(I101<=X93,\"þ\",IF(I101<=Y93,\"G2\",IF(I101<=Z93,\"G3\",\"\"))))))","v":""},{"$f":"IF(I101=\"\",\"\",IF(AA93=\"T\",\"\",IF(AA93=\"F\",IF(I101>=X93,\"þ\",IF(I101>=Y93,\"G2\",IF(I101>=Z93,\"G3\",\"\"))))))","v":""},{"$f":"IF(R101=\"\",\"\",IF(AA93=\"F\",\"\",IF(AA93=\"T\",IF(R101<=X93,\"þ\",IF(R101<=Y93,\"G2\",IF(R101<=Z93,\"G3\",\"\"))))))","v":""},{"$f":"IF(R101=\"\",\"\",IF(AA93=\"T\",\"\",IF(AA93=\"F\",IF(R101>=X93,\"þ\",IF(R101>=Y93,\"G2\",IF(R101>=Z93,\"G3\",\"\"))))))","v":""},"","","","",101]
[null,null,null,null,null,null,null,null,null,null,null,null,null,null,null,null,null,null,null,null,null,null,null,null,null,null,null,null,null,null,null,null,null,null,null,102]
[null,null,{"$f":"VLOOKUP(A104,Handbook!$A$4:$AK$24,36,FALSE)","v":"D"},null,{"$f":"CONCATENATE(VLOOKUP(A104,mens_handbook,3,FALSE),\" A\")","v":"Men's Discus A"},null,null,{"$f":"IF(A104=\"\",\"\",IF(VLOOKUP(A104,Handbook!$A$4:$AI$24,35,FALSE)=\"Y\",\"Wind=\",\"\"))","v":""},null,null,null,null,null,null,{"$f":"CONCATENATE(VLOOKUP(A104,mens_handbook,3,FALSE),\" B\")","v":"Men's Discus B"},null,{"$f":"H103","v":""},{"$f":"IF(I103=\"\",\"\",I103)","v":""},null,null,null,{"$f":"IF($A104=\"\",\"\",VLOOKUP($A104,Handbook!$A$4:$V$24,21,FALSE))","v":60.19},{"$f":"IF($A104=\"\",\"\",VLOOKUP($A104,Handbook!$A$4:$V$24,22,FALSE))","v":60.19},{"$f":"IF($A104=\"\",\"\",VLOOKUP($A104,Handbook!$A$4:$W$24,23,FALSE))","v":28},{"$f":"IF($A104=\"\",\"\",VLOOKUP($A104,Handbook!$A$4:$X$24,24,FALSE))","v":35},{"$f":"IF($A104=\"\",\"\",VLOOKUP($A104,Handbook!$A$4:$Y$24,25,FALSE))","v":35},{"$f":"IF($A104=\"\",\"\",VLOOKUP($A104,Handbook!$A$4:$AH$24,34,FALSE))","v":"F"},null,null,null,null,null,null,null,null,103]
[15,null,{"$f":"IF(F104=\"\",\"\",IF(F104>10,F104/11,F104))","v":""},{"$f":"IF(O104=\"\",\"\",IF(O104>10,O104/11,O104))","v":""},{"$f":"'Mens Discus'!$E$26","v":1},{"$f":"IF('Mens Discus'!$I$26=0,\"\",'Mens Discus'!$F$26)","v":""},{"$f":"IF(OR($F104=\"\",$F104=0),\"\",IF($F104>90,VLOOKUP(F104,eventcodes,2,FALSE),HLOOKUP(F104,mens_declare,B106,FALSE)))","v":""},{"$f":"IF(OR($F104=\"\",$F104=0),\"\",IF($F104>90,\"\",VLOOKUP(C104,matchday,2,FALSE)))","v":""},{"$f":"IF('Mens Discus'!$I$26=0,\"\",'Mens Discus'!$I$26)","v":""},{"$f":"IF(I104=\"\",\"\",IF(AA103=\"T\",V104,V105))","v":""},null,{"$f":"IF(AA103=\"T\",AB104,AC104)","v":""},null,{"$f":"'Mens Discus'!$K$26","v":1},{"$f":"IF('Mens Discus'!$I$26=0,\"\",'Mens Discus'!$L$26)","v":""},{"$f":"IF(OR($O104=\"\",$O104=0),\"\",HLOOKUP(O104,mens_declare,B106,FALSE))","v":""},{"$f":"IF(OR($O104=\"\",$O104=0),\"\",VLOOKUP(D104,matchday,2,FALSE))","v":""},{"$f":"IF('Mens Discus'!$I$26=0,\"\",'Mens Discus'!$U$26)","v":""},null,{"$f":"IF(AA103=\"T\",AD104,AE104)","v":""},null,{"$f":"IF(AA103=\"F\",\"\",IF(I104<V103,\"LR\",IF(I104=V103,\"=LR\",IF(I104<W103,\"DR\",IF(I104=W103,\"=DR\",\"\")))))","v":""},null,null,null,null,null,{"$f":"IF(I104=\"\",\"\",IF(AA103=\"F\",\"\",IF(AA103=\"T\",IF(I104<=X103,\"þ\",IF(I104<=Y103,\"G2\",IF(I104<=Z103,\"G3\",\"\"))))))","v":""},{"$f":"IF(I104=\"\",\"\",IF(AA103=\"T\",\"\",IF(AA103=\"F\",IF(I104>=X103,\"þ\",IF(I104>=Y103,\"G2\",IF(I104>=Z103,\"G3\",\"\"))))))","v":""},{"$f":"IF(R104=\"\",\"\",IF(AA103=\"F\",\"\",IF(AA103=\"T\",IF(R104<=X103,\"þ\",IF(R104<=Y103,\"G2\",IF(R104<=Z103,\"G3\",\"\"))))))","v":""},{"$f":"IF(R104=\"\",\"\",IF(AA103=\"T\",\"\",IF(AA103=\"F\",IF(R104>=X103,\"þ\",IF(R104>=Y103,\"G2\",IF(R104>=Z103,\"G3\",\"\"))))))","v":""},{"$f":"C104","v":""},{"$f":"IF(F104=\"\",\"\",IF(LEFT(I104,1)=\"D\",0,VLOOKUP(E104,$AQ$4:$AR$40,2,FALSE)))","v":""},{"$f":"D104","v":""},{"$f":"IF(O104=\"\",\"\",IF(LEFT(R104,1)=\"D\",0,VLOOKUP(N104,$AQ$4:$AS$40,3,FALSE)))","v":""},104]
[null,{"$f":"VLOOKUP(A104,Handbook!$A$4:$AK$24,37,FALSE)","v":16},{"$f":"IF(F105=\"\",\"\",IF(F105>10,F105/11,F105))","v":""},{"$f":"IF(O105=\"\",\"\",IF(O105>10,O105/11,O105))","v":""},{"$f":"'Mens Discus'!$E$27","v":2},{"$f":"IF('Mens Discus'!$I$26=0,\"\",'Mens Discus'!$F$27)","v":""},{"$f":"IF(OR($F105=\"\",$F105=0),\"\",IF($F105>90,VLOOKUP(F105,eventcodes,2,FALSE),HLOOKUP(F105,mens_declare,B106,FALSE)))","v":""},"",{"$f":"IF('Mens Discus'!$I$26=0,\"\",'Mens Discus'!$I$27)","v":""},null,null,{"$f":"IF(AA103=\"T\",AB105,AC105)","v":""},null,{"$f":"'Mens Discus'!$K$27","v":2},{"$f":"IF('Mens Discus'!$I$26=0,\"\",'Mens Discus'!$L$27)","v":""},{"$f":"IF(OR($O105=\"\",$O105=0),\"\",HLOOKUP(O105,mens_declare,B106,FALSE))","v":""},"",{"$f":"IF('Mens Discus'!$I$26=0,\"\",'Mens Discus'!$U$27)","v":""},null,{"$f":"IF(AA103=\"T\",AD105,AE105)","v":""},null,{"$f":"IF(AA103=\"T\",\"\",IF(I104>V103,\"LR\",IF(I104=V103,\"=LR\",IF(I104>W103,\"DR\",IF(I104=W103,\"=DR\",\"\")))))","v":"LR"},null,null,null,null,null,{"$f":"IF(I105=\"\",\"\",IF(AA103=\"F\",\"\",IF(AA103=\"T\",IF(I105<=X103,\"þ\",IF(I105<=Y103,\"G2\",IF(I105<=Z103,\"G3\",\"\"))))))","v":""},{"$f":"IF(I105=\"\",\"\",IF(AA103=\"T\",\"\",IF(AA103=\"F\",IF(I105>=X103,\"þ\",IF(I105>=Y103,\"G2\",IF(I105>=Z103,\"G3\",\"\"))))))","v":""},{"$f":"IF(R105=\"\",\"\",IF(AA103=\"F\",\"\",IF(AA103=\"T\",IF(R105<=X103,\"þ\",IF(R105<=Y103,\"G2\",IF(R105<=Z103,\"G3\",\"\"))))))","v":""},{"$f":"IF(R105=\"\",\"\",IF(AA103=\"T\",\"\",IF(AA103=\"F\",IF(R105>=X103,\"þ\",IF(R105>=Y103,\"G2\",IF(R105>=Z103,\"G3\",\"\"))))))","v":""},{"$f":"C105","v":""},"",{"$f":"D105","v":""},"",105]
[null,{"$f":"VLOOKUP(A104,mens_declare,20,FALSE)","v":16},"","",{"$f":"'Mens Discus'!$E$28","v":3},{"$f":"IF('Mens Discus'!$I$26=0,\"\",'Mens Discus'!$F$28)","v":""},{"$f":"IF(OR($F106=\"\",$F106=0),\"\",IF($F106>90,VLOOKUP(F106,eventcodes,2,FALSE),HLOOKUP(F106,mens_declare,B106,FALSE)))","v":""},"",{"$f":"IF('Mens Discus'!$I$26=0,\"\",'Mens Discus'!$I$28)","v":""},null,null,{"$f":"IF(AA103=\"T\",AB106,AC106)","v":""},null,{"$f":"'Mens Discus'!$K$28","v":3},{"$f":"IF('Mens Discus'!$I$26=0,\"\",'Mens Discus'!$L$28)","v":""},{"$f":"IF(OR($O106=\"\",$O106=0),\"\",HLOOKUP(O106,mens_declare,B106,FALSE))","v":""},"",{"$f":"IF('Mens Discus'!$I$26=0,\"\",'Mens Discus'!$U$28)","v":""},null,{"$f":"IF(AA103=\"T\",AD106,AE106)","v":""},null,null,null,null,null,null,null,{"$f":"IF(I106=\"\",\"\",IF(AA103=\"F\",\"\",IF(AA103=\"T\",IF(I106<=X103,\"þ\",IF(I106<=Y103,\"G2\",IF(I106<=Z103,\"G3\",\"\"))))))","v":""},{"$f":"IF(I106=\"\",\"\",IF(AA103=\"T\",\"\",IF(AA103=\"F\",IF(I106>=X103,\"þ\",IF(I106>=Y103,\"G2\",IF(I106>=Z103,\"G3\",\"\"))))))","v":""},{"$f":"IF(R106=\"\",\"\",IF(AA103=\"F\",\"\",IF(AA103=\"T\",IF(R106<=X103,\"þ\",IF(R106<=Y103,\"G2\",IF(R106<=Z103,\"G3\",\"\"))))))","v":""},{"$f":"IF(R106=\"\",\"\",IF(AA103=\"T\",\"\",IF(AA103=\"F\",IF(R106>=X103,\"þ\",IF(R106>=Y103,\"G2\",IF(R106>=Z103,\"G3\",\"\"))))))","v":""},"","","","",106]
[null,null,"","",{"$f":"'Mens Discus'!$E$29","v":4},{"$f":"IF('Mens Discus'!$I$26=0,\"\",'Mens Discus'!$F$29)","v":""},{"$f":"IF(OR($F107=\"\",$F107=0),\"\",IF($F107>90,VLOOKUP(F107,eventcodes,2,FALSE),HLOOKUP(F107,mens_declare,B106,FALSE)))","v":""},"",{"$f":"IF('Mens Discus'!$I$26=0,\"\",'Mens Discus'!$I$29)","v":""},null,null,{"$f":"IF(AA103=\"T\",AB107,AC107)","v":""},null,{"$f":"'Mens Discus'!$K$29","v":4},{"$f":"IF('Mens Discus'!$I$26=0,\"\",'Mens Discus'!$L$29)","v":""},{"$f":"IF(OR($O107=\"\",$O107=0),\"\",HLOOKUP(O107,mens_declare,B106,FALSE))","v":""},"",{"$f":"IF('Mens Discus'!$I$26=0,\"\",'Mens Discus'!$U$29)","v":""},null,{"$f":"IF(AA103=\"T\",AD107,AE107)","v":""},null,null,null,null,null,null,null,{"$f":"IF(I107=\"\",\"\",IF(AA103=\"F\",\"\",IF(AA103=\"T\",IF(I107<=X103,\"þ\",IF(I107<=Y103,\"G2\",IF(I107<=Z103,\"G3\",\"\"))))))","v":""},{"$f":"IF(I107=\"\",\"\",IF(AA103=\"T\",\"\",IF(AA103=\"F\",IF(I107>=X103,\"þ\",IF(I107>=Y103,\"G2\",IF(I107>=Z103,\"G3\",\"\"))))))","v":""},{"$f":"IF(R107=\"\",\"\",IF(AA103=\"F\",\"\",IF(AA103=\"T\",IF(R107<=X103,\"þ\",IF(R107<=Y103,\"G2\",IF(R107<=Z103,\"G3\",\"\"))))))","v":""},{"$f":"IF(R107=\"\",\"\",IF(AA103=\"T\",\"\",IF(AA103=\"F\",IF(R107>=X103,\"þ\",IF(R107>=Y103,\"G2\",IF(R107>=Z103,\"G3\",\"\"))))))","v":""},"","","","",107]
[null,null,"","",{"$f":"'Mens Discus'!$E$30","v":5},{"$f":"IF('Mens Discus'!$I$26=0,\"\",'Mens Discus'!$F$30)","v":""},{"$f":"IF(OR($F108=\"\",$F108=0),\"\",IF($F108>90,VLOOKUP(F108,eventcodes,2,FALSE),HLOOKUP(F108,mens_declare,B106,FALSE)))","v":""},"",{"$f":"IF('Mens Discus'!$I$26=0,\"\",'Mens Discus'!$I$30)","v":""},null,null,{"$f":"IF(AA103=\"T\",AB108,AC108)","v":""},null,{"$f":"'Mens Discus'!$K$30","v":5},{"$f":"IF('Mens Discus'!$I$26=0,\"\",'Mens Discus'!$L$30)","v":""},{"$f":"IF(OR($O108=\"\",$O108=0),\"\",HLOOKUP(O108,mens_declare,B106,FALSE))","v":""},"",{"$f":"IF('Mens Discus'!$I$26=0,\"\",'Mens Discus'!$U$30)","v":""},null,{"$f":"IF(AA103=\"T\",AD108,AE108)","v":""},null,null,null,null,null,null,null,{"$f":"IF(I108=\"\",\"\",IF(AA103=\"F\",\"\",IF(AA103=\"T\",IF(I108<=X103,\"þ\",IF(I108<=Y103,\"G2\",IF(I108<=Z103,\"G3\",\"\"))))))","v":""},{"$f":"IF(I108=\"\",\"\",IF(AA103=\"T\",\"\",IF(AA103=\"F\",IF(I108>=X103,\"þ\",IF(I108>=Y103,\"G2\",IF(I108>=Z103,\"G3\",\"\"))))))","v":""},{"$f":"IF(R108=\"\",\"\",IF(AA103=\"F\",\"\",IF(AA103=\"T\",IF(R108<=X103,\"þ\",IF(R108<=Y103,\"G2\",IF(R108<=Z103,\"G3\",\"\"))))))","v":""},{"$f":"IF(R108=\"\",\"\",IF(AA103=\"T\",\"\",IF(AA103=\"F\",IF(R108>=X103,\"þ\",IF(R108>=Y103,\"G2\",IF(R108>=Z103,\"G3\",\"\"))))))","v":""},"","","","",108]
[null,null,"","",{"$f":"'Mens Discus'!$E$31","v":6},{"$f":"IF('Mens Discus'!$I$26=0,\"\",'Mens Discus'!$F$31)","v":""},{"$f":"IF(OR($F109=\"\",$F109=0),\"\",IF($F109>90,VLOOKUP(F109,eventcodes,2,FALSE),HLOOKUP(F109,mens_declare,B106,FALSE)))","v":""},"",{"$f":"IF('Mens Discus'!$I$26=0,\"\",'Mens Discus'!$I$31)","v":""},null,null,{"$f":"IF(AA103=\"T\",AB109,AC109)","v":""},null,{"$f":"'Mens Discus'!$K$31","v":6},{"$f":"IF('Mens Discus'!$I$26=0,\"\",'Mens Discus'!$L$31)","v":""},{"$f":"IF(OR($O109=\"\",$O109=0),\"\",HLOOKUP(O109,mens_declare,B106,FALSE))","v":""},"",{"$f":"IF('Mens Discus'!$I$26=0,\"\",'Mens Discus'!$U$31)","v":""},null,{"$f":"IF(AA103=\"T\",AD109,AE109)","v":""},null,null,null,null,null,null,null,{"$f":"IF(I109=\"\",\"\",IF(AA103=\"F\",\"\",IF(AA103=\"T\",IF(I109<=X103,\"þ\",IF(I109<=Y103,\"G2\",IF(I109<=Z103,\"G3\",\"\"))))))","v":""},{"$f":"IF(I109=\"\",\"\",IF(AA103=\"T\",\"\",IF(AA103=\"F\",IF(I109>=X103,\"þ\",IF(I109>=Y103,\"G2\",IF(I109>=Z103,\"G3\",\"\"))))))","v":""},{"$f":"IF(R109=\"\",\"\",IF(AA103=\"F\",\"\",IF(AA103=\"T\",IF(R109<=X103,\"þ\",IF(R109<=Y103,\"G2\",IF(R109<=Z103,\"G3\",\"\"))))))","v":""},{"$f":"IF(R109=\"\",\"\",IF(AA103=\"T\",\"\",IF(AA103=\"F\",IF(R109>=X103,\"þ\",IF(R109>=Y103,\"G2\",IF(R109>=Z103,\"G3\",\"\"))))))","v":""},"","","","",109]
[null,null,"","",{"$f":"'Mens Discus'!$E$32","v":7},{"$f":"IF('Mens Discus'!$I$26=0,\"\",'Mens Discus'!$F$32)","v":""},{"$f":"IF(OR($F110=\"\",$F110=0),\"\",IF($F110>90,VLOOKUP(F110,eventcodes,2,FALSE),HLOOKUP(F110,mens_declare,B106,FALSE)))","v":""},"",{"$f":"IF('Mens Discus'!$I$26=0,\"\",'Mens Discus'!$I$32)","v":""},null,null,{"$f":"IF(AA103=\"T\",AB110,AC110)","v":""},null,{"$f":"'Mens Discus'!$K$32","v":7},{"$f":"IF('Mens Discus'!$I$26=0,\"\",'Mens Discus'!$L$32)","v":""},{"$f":"IF(OR($O110=\"\",$O110=0),\"\",HLOOKUP(O110,mens_declare,B106,FALSE))","v":""},"",{"$f":"IF('Mens Discus'!$I$26=0,\"\",'Mens Discus'!$U$32)","v":""},null,{"$f":"IF(AA103=\"T\",AD110,AE110)","v":""},null,null,null,null,null,null,null,{"$f":"IF(I110=\"\",\"\",IF(AA103=\"F\",\"\",IF(AA103=\"T\",IF(I110<=X103,\"þ\",IF(I110<=Y103,\"G2\",IF(I110<=Z103,\"G3\",\"\"))))))","v":""},{"$f":"IF(I110=\"\",\"\",IF(AA103=\"T\",\"\",IF(AA103=\"F\",IF(I110>=X103,\"þ\",IF(I110>=Y103,\"G2\",IF(I110>=Z103,\"G3\",\"\"))))))","v":""},{"$f":"IF(R110=\"\",\"\",IF(AA103=\"F\",\"\",IF(AA103=\"T\",IF(R110<=X103,\"þ\",IF(R110<=Y103,\"G2\",IF(R110<=Z103,\"G3\",\"\"))))))","v":""},{"$f":"IF(R110=\"\",\"\",IF(AA103=\"T\",\"\",IF(AA103=\"F\",IF(R110>=X103,\"þ\",IF(R110>=Y103,\"G2\",IF(R110>=Z103,\"G3\",\"\"))))))","v":""},"","","","",110]
[null,null,"","",{"$f":"'Mens Discus'!$E$33","v":8},{"$f":"IF('Mens Discus'!$I$26=0,\"\",'Mens Discus'!$F$33)","v":""},{"$f":"IF(OR($F111=\"\",$F111=0),\"\",IF($F111>90,VLOOKUP(F111,eventcodes,2,FALSE),HLOOKUP(F111,mens_declare,B106,FALSE)))","v":""},"",{"$f":"IF('Mens Discus'!$I$26=0,\"\",'Mens Discus'!$I$33)","v":""},null,null,{"$f":"IF(AA103=\"T\",AB111,AC111)","v":""},null,{"$f":"'Mens Discus'!$K$33","v":8},{"$f":"IF('Mens Discus'!$I$26=0,\"\",'Mens Discus'!$L$33)","v":""},{"$f":"IF(OR($O111=\"\",$O111=0),\"\",HLOOKUP(O111,mens_declare,B106,FALSE))","v":""},"",{"$f":"IF('Mens Discus'!$I$26=0,\"\",'Mens Discus'!$U$33)","v":""},null,{"$f":"IF(AA103=\"T\",AD111,AE111)","v":""},null,null,null,null,null,null,null,{"$f":"IF(I111=\"\",\"\",IF(AA103=\"F\",\"\",IF(AA103=\"T\",IF(I111<=X103,\"þ\",IF(I111<=Y103,\"G2\",IF(I111<=Z103,\"G3\",\"\"))))))","v":""},{"$f":"IF(I111=\"\",\"\",IF(AA103=\"T\",\"\",IF(AA103=\"F\",IF(I111>=X103,\"þ\",IF(I111>=Y103,\"G2\",IF(I111>=Z103,\"G3\",\"\"))))))","v":""},{"$f":"IF(R111=\"\",\"\",IF(AA103=\"F\",\"\",IF(AA103=\"T\",IF(R111<=X103,\"þ\",IF(R111<=Y103,\"G2\",IF(R111<=Z103,\"G3\",\"\"))))))","v":""},{"$f":"IF(R111=\"\",\"\",IF(AA103=\"T\",\"\",IF(AA103=\"F\",IF(R111>=X103,\"þ\",IF(R111>=Y103,\"G2\",IF(R111>=Z103,\"G3\",\"\"))))))","v":""},"","","","",111]
[null,null,null,null,null,null,null,null,null,null,null,null,null,null,null,null,null,null,null,null,null,null,null,null,null,null,null,null,null,null,null,null,null,null,null,112]
[null,null,{"$f":"VLOOKUP(A114,Handbook!$A$4:$AK$24,36,FALSE)","v":"D"},null,{"$f":"CONCATENATE(VLOOKUP(A114,mens_handbook,3,FALSE),\" A\")","v":"Men's Javelin A"},null,null,{"$f":"IF(A114=\"\",\"\",IF(VLOOKUP(A114,Handbook!$A$4:$AI$24,35,FALSE)=\"Y\",\"Wind=\",\"\"))","v":""},null,null,null,null,null,null,{"$f":"CONCATENATE(VLOOKUP(A114,mens_handbook,3,FALSE),\" B\")","v":"Men's Javelin B"},null,{"$f":"H113","v":""},{"$f":"IF(I113=\"\",\"\",I113)","v":""},null,null,null,{"$f":"IF($A114=\"\",\"\",VLOOKUP($A114,Handbook!$A$4:$V$24,21,FALSE))","v":74.72},{"$f":"IF($A114=\"\",\"\",VLOOKUP($A114,Handbook!$A$4:$V$24,22,FALSE))","v":74.72},{"$f":"IF($A114=\"\",\"\",VLOOKUP($A114,Handbook!$A$4:$W$24,23,FALSE))","v":37},{"$f":"IF($A114=\"\",\"\",VLOOKUP($A114,Handbook!$A$4:$X$24,24,FALSE))","v":50},{"$f":"IF($A114=\"\",\"\",VLOOKUP($A114,Handbook!$A$4:$Y$24,25,FALSE))","v":50},{"$f":"IF($A114=\"\",\"\",VLOOKUP($A114,Handbook!$A$4:$AH$24,34,FALSE))","v":"F"},null,null,null,null,null,null,null,null,113]
[18,null,{"$f":"IF(F114=\"\",\"\",IF(F114>10,F114/11,F114))","v":""},{"$f":"IF(O114=\"\",\"\",IF(O114>10,O114/11,O114))","v":""},{"$f":"'Mens Javelin'!$E$26","v":1},{"$f":"IF('Mens Javelin'!$I$26=0,\"\",'Mens Javelin'!$F$26)","v":""},{"$f":"IF(OR($F114=\"\",$F114=0),\"\",IF($F114>90,VLOOKUP(F114,eventcodes,2,FALSE),HLOOKUP(F114,mens_declare,B116,FALSE)))","v":""},{"$f":"IF(OR($F114=\"\",$F114=0),\"\",IF($F114>90,\"\",VLOOKUP(C114,matchday,2,FALSE)))","v":""},{"$f":"IF('Mens Javelin'!$I$26=0,\"\",'Mens Javelin'!$I$26)","v":""},{"$f":"IF(I114=\"\",\"\",IF(AA113=\"T\",V114,V115))","v":""},null,{"$f":"IF(AA113=\"T\",AB114,AC114)","v":""},null,{"$f":"'Mens Javelin'!$K$26","v":1},{"$f":"IF('Mens Javelin'!$I$26=0,\"\",'Mens Javelin'!$L$26)","v":""},{"$f":"IF(OR($O114=\"\",$O114=0),\"\",HLOOKUP(O114,mens_declare,B116,FALSE))","v":""},{"$f":"IF(OR($O114=\"\",$O114=0),\"\",VLOOKUP(D114,matchday,2,FALSE))","v":""},{"$f":"IF('Mens Javelin'!$I$26=0,\"\",'Mens Javelin'!$U$26)","v":""},null,{"$f":"IF(AA113=\"T\",AD114,AE114)","v":""},null,{"$f":"IF(AA113=\"F\",\"\",IF(I114<V113,\"LR\",IF(I114=V113,\"=LR\",IF(I114<W113,\"DR\",IF(I114=W113,\"=DR\",\"\")))))","v":""},null,null,null,null,null,{"$f":"IF(I114=\"\",\"\",IF(AA113=\"F\",\"\",IF(AA113=\"T\",IF(I114<=X113,\"þ\",IF(I114<=Y113,\"G2\",IF(I114<=Z113,\"G3\",\"\"))))))","v":""},{"$f":"IF(I114=\"\",\"\",IF(AA113=\"T\",\"\",IF(AA113=\"F\",IF(I114>=X113,\"þ\",IF(I114>=Y113,\"G2\",IF(I114>=Z113,\"G3\",\"\"))))))","v":""},{"$f":"IF(R114=\"\",\"\",IF(AA113=\"F\",\"\",IF(AA113=\"T\",IF(R114<=X113,\"þ\",IF(R114<=Y113,\"G2\",IF(R114<=Z113,\"G3\",\"\"))))))","v":""},{"$f":"IF(R114=\"\",\"\",IF(AA113=\"T\",\"\",IF(AA113=\"F\",IF(R114>=X113,\"þ\",IF(R114>=Y113,\"G2\",IF(R114>=Z113,\"G3\",\"\"))))))","v":""},{"$f":"C114","v":""},{"$f":"IF(F114=\"\",\"\",IF(LEFT(I114,1)=\"D\",0,VLOOKUP(E114,$AQ$4:$AR$40,2,FALSE)))","v":""},{"$f":"D114","v":""},{"$f":"IF(O114=\"\",\"\",IF(LEFT(R114,1)=\"D\",0,VLOOKUP(N114,$AQ$4:$AS$40,3,FALSE)))","v":""},114]
[null,{"$f":"VLOOKUP(A114,Handbook!$A$4:$AK$24,37,FALSE)","v":19},{"$f":"IF(F115=\"\",\"\",IF(F115>10,F115/11,F115))","v":""},{"$f":"IF(O115=\"\",\"\",IF(O115>10,O115/11,O115))","v":""},{"$f":"'Mens Javelin'!$E$27","v":2},{"$f":"IF('Mens Javelin'!$I$26=0,\"\",'Mens Javelin'!$F$27)","v":""},{"$f":"IF(OR($F115=\"\",$F115=0),\"\",IF($F115>90,VLOOKUP(F115,eventcodes,2,FALSE),HLOOKUP(F115,mens_declare,B116,FALSE)))","v":""},"",{"$f":"IF('Mens Javelin'!$I$26=0,\"\",'Mens Javelin'!$I$27)","v":""},null,null,{"$f":"IF(AA113=\"T\",AB115,AC115)","v":""},null,{"$f":"'Mens Javelin'!$K$27","v":2},{"$f":"IF('Mens Javelin'!$I$26=0,\"\",'Mens Javelin'!$L$27)","v":""},{"$f":"IF(OR($O115=\"\",$O115=0),\"\",HLOOKUP(O115,mens_declare,B116,FALSE))","v":""},"",{"$f":"IF('Mens Javelin'!$I$26=0,\"\",'Mens Javelin'!$U$27)","v":""},null,{"$f":"IF(AA113=\"T\",AD115,AE115)","v":""},null,{"$f":"IF(AA113=\"T\",\"\",IF(I114>V113,\"LR\",IF(I114=V113,\"=LR\",IF(I114>W113,\"DR\",IF(I114=W113,\"=DR\",\"\")))))","v":"LR"},null,null,null,null,null,{"$f":"IF(I115=\"\",\"\",IF(AA113=\"F\",\"\",IF(AA113=\"T\",IF(I115<=X113,\"þ\",IF(I115<=Y113,\"G2\",IF(I115<=Z113,\"G3\",\"\"))))))","v":""},{"$f":"IF(I115=\"\",\"\",IF(AA113=\"T\",\"\",IF(AA113=\"F\",IF(I115>=X113,\"þ\",IF(I115>=Y113,\"G2\",IF(I115>=Z113,\"G3\",\"\"))))))","v":""},{"$f":"IF(R115=\"\",\"\",IF(AA113=\"F\",\"\",IF(AA113=\"T\",IF(R115<=X113,\"þ\",IF(R115<=Y113,\"G2\",IF(R115<=Z113,\"G3\",\"\"))))))","v":""},{"$f":"IF(R115=\"\",\"\",IF(AA113=\"T\",\"\",IF(AA113=\"F\",IF(R115>=X113,\"þ\",IF(R115>=Y113,\"G2\",IF(R115>=Z113,\"G3\",\"\"))))))","v":""},{"$f":"C115","v":""},"",{"$f":"D115","v":""},"",115]
[null,{"$f":"VLOOKUP(A114,mens_declare,20,FALSE)","v":19},"","",{"$f":"'Mens Javelin'!$E$28","v":3},{"$f":"IF('Mens Javelin'!$I$26=0,\"\",'Mens Javelin'!$F$28)","v":""},{"$f":"IF(OR($F116=\"\",$F116=0),\"\",IF($F116>90,VLOOKUP(F116,eventcodes,2,FALSE),HLOOKUP(F116,mens_declare,B116,FALSE)))","v":""},"",{"$f":"IF('Mens Javelin'!$I$26=0,\"\",'Mens Javelin'!$I$28)","v":""},null,null,{"$f":"IF(AA113=\"T\",AB116,AC116)","v":""},null,{"$f":"'Mens Javelin'!$K$28","v":3},{"$f":"IF('Mens Javelin'!$I$26=0,\"\",'Mens Javelin'!$L$28)","v":""},{"$f":"IF(OR($O116=\"\",$O116=0),\"\",HLOOKUP(O116,mens_declare,B116,FALSE))","v":""},"",{"$f":"IF('Mens Javelin'!$I$26=0,\"\",'Mens Javelin'!$U$28)","v":""},null,{"$f":"IF(AA113=\"T\",AD116,AE116)","v":""},null,null,null,null,null,null,null,{"$f":"IF(I116=\"\",\"\",IF(AA113=\"F\",\"\",IF(AA113=\"T\",IF(I116<=X113,\"þ\",IF(I116<=Y113,\"G2\",IF(I116<=Z113,\"G3\",\"\"))))))","v":""},{"$f":"IF(I116=\"\",\"\",IF(AA113=\"T\",\"\",IF(AA113=\"F\",IF(I116>=X113,\"þ\",IF(I116>=Y113,\"G2\",IF(I116>=Z113,\"G3\",\"\"))))))","v":""},{"$f":"IF(R116=\"\",\"\",IF(AA113=\"F\",\"\",IF(AA113=\"T\",IF(R116<=X113,\"þ\",IF(R116<=Y113,\"G2\",IF(R116<=Z113,\"G3\",\"\"))))))","v":""},{"$f":"IF(R116=\"\",\"\",IF(AA113=\"T\",\"\",IF(AA113=\"F\",IF(R116>=X113,\"þ\",IF(R116>=Y113,\"G2\",IF(R116>=Z113,\"G3\",\"\"))))))","v":""},"","","","",116]
[null,null,"","",{"$f":"'Mens Javelin'!$E$29","v":4},{"$f":"IF('Mens Javelin'!$I$26=0,\"\",'Mens Javelin'!$F$29)","v":""},{"$f":"IF(OR($F117=\"\",$F117=0),\"\",IF($F117>90,VLOOKUP(F117,eventcodes,2,FALSE),HLOOKUP(F117,mens_declare,B116,FALSE)))","v":""},"",{"$f":"IF('Mens Javelin'!$I$26=0,\"\",'Mens Javelin'!$I$29)","v":""},null,null,{"$f":"IF(AA113=\"T\",AB117,AC117)","v":""},null,{"$f":"'Mens Javelin'!$K$29","v":4},{"$f":"IF('Mens Javelin'!$I$26=0,\"\",'Mens Javelin'!$L$29)","v":""},{"$f":"IF(OR($O117=\"\",$O117=0),\"\",HLOOKUP(O117,mens_declare,B116,FALSE))","v":""},"",{"$f":"IF('Mens Javelin'!$I$26=0,\"\",'Mens Javelin'!$U$29)","v":""},null,{"$f":"IF(AA113=\"T\",AD117,AE117)","v":""},null,null,null,null,null,null,null,{"$f":"IF(I117=\"\",\"\",IF(AA113=\"F\",\"\",IF(AA113=\"T\",IF(I117<=X113,\"þ\",IF(I117<=Y113,\"G2\",IF(I117<=Z113,\"G3\",\"\"))))))","v":""},{"$f":"IF(I117=\"\",\"\",IF(AA113=\"T\",\"\",IF(AA113=\"F\",IF(I117>=X113,\"þ\",IF(I117>=Y113,\"G2\",IF(I117>=Z113,\"G3\",\"\"))))))","v":""},{"$f":"IF(R117=\"\",\"\",IF(AA113=\"F\",\"\",IF(AA113=\"T\",IF(R117<=X113,\"þ\",IF(R117<=Y113,\"G2\",IF(R117<=Z113,\"G3\",\"\"))))))","v":""},{"$f":"IF(R117=\"\",\"\",IF(AA113=\"T\",\"\",IF(AA113=\"F\",IF(R117>=X113,\"þ\",IF(R117>=Y113,\"G2\",IF(R117>=Z113,\"G3\",\"\"))))))","v":""},"","","","",117]
[null,null,"","",{"$f":"'Mens Javelin'!$E$30","v":5},{"$f":"IF('Mens Javelin'!$I$26=0,\"\",'Mens Javelin'!$F$30)","v":""},{"$f":"IF(OR($F118=\"\",$F118=0),\"\",IF($F118>90,VLOOKUP(F118,eventcodes,2,FALSE),HLOOKUP(F118,mens_declare,B116,FALSE)))","v":""},"",{"$f":"IF('Mens Javelin'!$I$26=0,\"\",'Mens Javelin'!$I$30)","v":""},null,null,{"$f":"IF(AA113=\"T\",AB118,AC118)","v":""},null,{"$f":"'Mens Javelin'!$K$30","v":5},{"$f":"IF('Mens Javelin'!$I$26=0,\"\",'Mens Javelin'!$L$30)","v":""},{"$f":"IF(OR($O118=\"\",$O118=0),\"\",HLOOKUP(O118,mens_declare,B116,FALSE))","v":""},"",{"$f":"IF('Mens Javelin'!$I$26=0,\"\",'Mens Javelin'!$U$30)","v":""},null,{"$f":"IF(AA113=\"T\",AD118,AE118)","v":""},null,null,null,null,null,null,null,{"$f":"IF(I118=\"\",\"\",IF(AA113=\"F\",\"\",IF(AA113=\"T\",IF(I118<=X113,\"þ\",IF(I118<=Y113,\"G2\",IF(I118<=Z113,\"G3\",\"\"))))))","v":""},{"$f":"IF(I118=\"\",\"\",IF(AA113=\"T\",\"\",IF(AA113=\"F\",IF(I118>=X113,\"þ\",IF(I118>=Y113,\"G2\",IF(I118>=Z113,\"G3\",\"\"))))))","v":""},{"$f":"IF(R118=\"\",\"\",IF(AA113=\"F\",\"\",IF(AA113=\"T\",IF(R118<=X113,\"þ\",IF(R118<=Y113,\"G2\",IF(R118<=Z113,\"G3\",\"\"))))))","v":""},{"$f":"IF(R118=\"\",\"\",IF(AA113=\"T\",\"\",IF(AA113=\"F\",IF(R118>=X113,\"þ\",IF(R118>=Y113,\"G2\",IF(R118>=Z113,\"G3\",\"\"))))))","v":""},"","","","",118]
[null,null,"","",{"$f":"'Mens Javelin'!$E$31","v":6},{"$f":"IF('Mens Javelin'!$I$26=0,\"\",'Mens Javelin'!$F$31)","v":""},{"$f":"IF(OR($F119=\"\",$F119=0),\"\",IF($F119>90,VLOOKUP(F119,eventcodes,2,FALSE),HLOOKUP(F119,mens_declare,B116,FALSE)))","v":""},"",{"$f":"IF('Mens Javelin'!$I$26=0,\"\",'Mens Javelin'!$I$31)","v":""},null,null,{"$f":"IF(AA113=\"T\",AB119,AC119)","v":""},null,{"$f":"'Mens Javelin'!$K$31","v":6},{"$f":"IF('Mens Javelin'!$I$26=0,\"\",'Mens Javelin'!$L$31)","v":""},{"$f":"IF(OR($O119=\"\",$O119=0),\"\",HLOOKUP(O119,mens_declare,B116,FALSE))","v":""},"",{"$f":"IF('Mens Javelin'!$I$26=0,\"\",'Mens Javelin'!$U$31)","v":""},null,{"$f":"IF(AA113=\"T\",AD119,AE119)","v":""},null,null,null,null,null,null,null,{"$f":"IF(I119=\"\",\"\",IF(AA113=\"F\",\"\",IF(AA113=\"T\",IF(I119<=X113,\"þ\",IF(I119<=Y113,\"G2\",IF(I119<=Z113,\"G3\",\"\"))))))","v":""},{"$f":"IF(I119=\"\",\"\",IF(AA113=\"T\",\"\",IF(AA113=\"F\",IF(I119>=X113,\"þ\",IF(I119>=Y113,\"G2\",IF(I119>=Z113,\"G3\",\"\"))))))","v":""},{"$f":"IF(R119=\"\",\"\",IF(AA113=\"F\",\"\",IF(AA113=\"T\",IF(R119<=X113,\"þ\",IF(R119<=Y113,\"G2\",IF(R119<=Z113,\"G3\",\"\"))))))","v":""},{"$f":"IF(R119=\"\",\"\",IF(AA113=\"T\",\"\",IF(AA113=\"F\",IF(R119>=X113,\"þ\",IF(R119>=Y113,\"G2\",IF(R119>=Z113,\"G3\",\"\"))))))","v":""},"","","","",119]
[null,null,"","",{"$f":"'Mens Javelin'!$E$32","v":7},{"$f":"IF('Mens Javelin'!$I$26=0,\"\",'Mens Javelin'!$F$32)","v":""},{"$f":"IF(OR($F120=\"\",$F120=0),\"\",IF($F120>90,VLOOKUP(F120,eventcodes,2,FALSE),HLOOKUP(F120,mens_declare,B116,FALSE)))","v":""},"",{"$f":"IF('Mens Javelin'!$I$26=0,\"\",'Mens Javelin'!$I$32)","v":""},null,null,{"$f":"IF(AA113=\"T\",AB120,AC120)","v":""},null,{"$f":"'Mens Javelin'!$K$32","v":7},{"$f":"IF('Mens Javelin'!$I$26=0,\"\",'Mens Javelin'!$L$32)","v":""},{"$f":"IF(OR($O120=\"\",$O120=0),\"\",HLOOKUP(O120,mens_declare,B116,FALSE))","v":""},"",{"$f":"IF('Mens Javelin'!$I$26=0,\"\",'Mens Javelin'!$U$32)","v":""},null,{"$f":"IF(AA113=\"T\",AD120,AE120)","v":""},null,null,null,null,null,null,null,{"$f":"IF(I120=\"\",\"\",IF(AA113=\"F\",\"\",IF(AA113=\"T\",IF(I120<=X113,\"þ\",IF(I120<=Y113,\"G2\",IF(I120<=Z113,\"G3\",\"\"))))))","v":""},{"$f":"IF(I120=\"\",\"\",IF(AA113=\"T\",\"\",IF(AA113=\"F\",IF(I120>=X113,\"þ\",IF(I120>=Y113,\"G2\",IF(I120>=Z113,\"G3\",\"\"))))))","v":""},{"$f":"IF(R120=\"\",\"\",IF(AA113=\"F\",\"\",IF(AA113=\"T\",IF(R120<=X113,\"þ\",IF(R120<=Y113,\"G2\",IF(R120<=Z113,\"G3\",\"\"))))))","v":""},{"$f":"IF(R120=\"\",\"\",IF(AA113=\"T\",\"\",IF(AA113=\"F\",IF(R120>=X113,\"þ\",IF(R120>=Y113,\"G2\",IF(R120>=Z113,\"G3\",\"\"))))))","v":""},"","","","",120]
[null,null,"","",{"$f":"'Mens Javelin'!$E$33","v":8},{"$f":"IF('Mens Javelin'!$I$26=0,\"\",'Mens Javelin'!$F$33)","v":""},{"$f":"IF(OR($F121=\"\",$F121=0),\"\",IF($F121>90,VLOOKUP(F121,eventcodes,2,FALSE),HLOOKUP(F121,mens_declare,B116,FALSE)))","v":""},"",{"$f":"IF('Mens Javelin'!$I$26=0,\"\",'Mens Javelin'!$I$33)","v":""},null,null,{"$f":"IF(AA113=\"T\",AB121,AC121)","v":""},null,{"$f":"'Mens Javelin'!$K$33","v":8},{"$f":"IF('Mens Javelin'!$I$26=0,\"\",'Mens Javelin'!$L$33)","v":""},{"$f":"IF(OR($O121=\"\",$O121=0),\"\",HLOOKUP(O121,mens_declare,B116,FALSE))","v":""},"",{"$f":"IF('Mens Javelin'!$I$26=0,\"\",'Mens Javelin'!$U$33)","v":""},null,{"$f":"IF(AA113=\"T\",AD121,AE121)","v":""},null,null,null,null,null,null,null,{"$f":"IF(I121=\"\",\"\",IF(AA113=\"F\",\"\",IF(AA113=\"T\",IF(I121<=X113,\"þ\",IF(I121<=Y113,\"G2\",IF(I121<=Z113,\"G3\",\"\"))))))","v":""},{"$f":"IF(I121=\"\",\"\",IF(AA113=\"T\",\"\",IF(AA113=\"F\",IF(I121>=X113,\"þ\",IF(I121>=Y113,\"G2\",IF(I121>=Z113,\"G3\",\"\"))))))","v":""},{"$f":"IF(R121=\"\",\"\",IF(AA113=\"F\",\"\",IF(AA113=\"T\",IF(R121<=X113,\"þ\",IF(R121<=Y113,\"G2\",IF(R121<=Z113,\"G3\",\"\"))))))","v":""},{"$f":"IF(R121=\"\",\"\",IF(AA113=\"T\",\"\",IF(AA113=\"F\",IF(R121>=X113,\"þ\",IF(R121>=Y113,\"G2\",IF(R121>=Z113,\"G3\",\"\"))))))","v":""},"","","","",121]
[null,null,null,null,null,null,null,null,null,null,null,null,null,null,null,null,null,null,null,null,null,null,null,null,null,null,null,null,null,null,null,null,null,null,null,122]
[null,null,{"$f":"VLOOKUP(A124,Handbook!$A$4:$AK$24,36,FALSE)","v":"D"},null,{"$f":"CONCATENATE(VLOOKUP(A124,mens_handbook,3,FALSE),\" A\")","v":"Men's Shot Putt A"},null,null,{"$f":"IF(A124=\"\",\"\",IF(VLOOKUP(A124,Handbook!$A$4:$AI$24,35,FALSE)=\"Y\",\"Wind=\",\"\"))","v":""},null,null,null,null,null,null,{"$f":"CONCATENATE(VLOOKUP(A124,mens_handbook,3,FALSE),\" B\")","v":"Men's Shot Putt B"},null,{"$f":"H123","v":""},{"$f":"IF(I123=\"\",\"\",I123)","v":""},null,null,null,{"$f":"IF($A124=\"\",\"\",VLOOKUP($A124,Handbook!$A$4:$V$24,21,FALSE))","v":18.86},{"$f":"IF($A124=\"\",\"\",VLOOKUP($A124,Handbook!$A$4:$V$24,22,FALSE))","v":18.86},{"$f":"IF($A124=\"\",\"\",VLOOKUP($A124,Handbook!$A$4:$W$24,23,FALSE))","v":10},{"$f":"IF($A124=\"\",\"\",VLOOKUP($A124,Handbook!$A$4:$X$24,24,FALSE))","v":13},{"$f":"IF($A124=\"\",\"\",VLOOKUP($A124,Handbook!$A$4:$Y$24,25,FALSE))","v":13},{"$f":"IF($A124=\"\",\"\",VLOOKUP($A124,Handbook!$A$4:$AH$24,34,FALSE))","v":"F"},null,null,null,null,null,null,null,null,123]
[17,null,{"$f":"IF(F124=\"\",\"\",IF(F124>10,F124/11,F124))","v":""},{"$f":"IF(O124=\"\",\"\",IF(O124>10,O124/11,O124))","v":""},{"$f":"'Mens Shot'!$E$26","v":1},{"$f":"IF('Mens Shot'!$I$26=0,\"\",'Mens Shot'!$F$26)","v":""},{"$f":"IF(OR($F124=\"\",$F124=0),\"\",IF($F124>90,VLOOKUP(F124,eventcodes,2,FALSE),HLOOKUP(F124,mens_declare,B126,FALSE)))","v":""},{"$f":"IF(OR($F124=\"\",$F124=0),\"\",IF($F124>90,\"\",VLOOKUP(C124,matchday,2,FALSE)))","v":""},{"$f":"IF('Mens Shot'!$I$26=0,\"\",'Mens Shot'!$I$26)","v":""},{"$f":"IF(I124=\"\",\"\",IF(AA123=\"T\",V124,V125))","v":""},null,{"$f":"IF(AA123=\"T\",AB124,AC124)","v":""},null,{"$f":"'Mens Shot'!$K$26","v":1},{"$f":"IF('Mens Shot'!$I$26=0,\"\",'Mens Shot'!$L$26)","v":""},{"$f":"IF(OR($O124=\"\",$O124=0),\"\",HLOOKUP(O124,mens_declare,B126,FALSE))","v":""},{"$f":"IF(OR($O124=\"\",$O124=0),\"\",VLOOKUP(D124,matchday,2,FALSE))","v":""},{"$f":"IF('Mens Shot'!$I$26=0,\"\",'Mens Shot'!$U$26)","v":""},null,{"$f":"IF(AA123=\"T\",AD124,AE124)","v":""},null,{"$f":"IF(AA123=\"F\",\"\",IF(I124<V123,\"LR\",IF(I124=V123,\"=LR\",IF(I124<W123,\"DR\",IF(I124=W123,\"=DR\",\"\")))))","v":""},null,null,null,null,null,{"$f":"IF(I124=\"\",\"\",IF(AA123=\"F\",\"\",IF(AA123=\"T\",IF(I124<=X123,\"þ\",IF(I124<=Y123,\"G2\",IF(I124<=Z123,\"G3\",\"\"))))))","v":""},{"$f":"IF(I124=\"\",\"\",IF(AA123=\"T\",\"\",IF(AA123=\"F\",IF(I124>=X123,\"þ\",IF(I124>=Y123,\"G2\",IF(I124>=Z123,\"G3\",\"\"))))))","v":""},{"$f":"IF(R124=\"\",\"\",IF(AA123=\"F\",\"\",IF(AA123=\"T\",IF(R124<=X123,\"þ\",IF(R124<=Y123,\"G2\",IF(R124<=Z123,\"G3\",\"\"))))))","v":""},{"$f":"IF(R124=\"\",\"\",IF(AA123=\"T\",\"\",IF(AA123=\"F\",IF(R124>=X123,\"þ\",IF(R124>=Y123,\"G2\",IF(R124>=Z123,\"G3\",\"\"))))))","v":""},{"$f":"C124","v":""},{"$f":"IF(F124=\"\",\"\",IF(LEFT(I124,1)=\"D\",0,VLOOKUP(E124,$AQ$4:$AR$40,2,FALSE)))","v":""},{"$f":"D124","v":""},{"$f":"IF(O124=\"\",\"\",IF(LEFT(R124,1)=\"D\",0,VLOOKUP(N124,$AQ$4:$AS$40,3,FALSE)))","v":""},124]
[null,{"$f":"VLOOKUP(A124,Handbook!$A$4:$AK$24,37,FALSE)","v":18},{"$f":"IF(F125=\"\",\"\",IF(F125>10,F125/11,F125))","v":""},{"$f":"IF(O125=\"\",\"\",IF(O125>10,O125/11,O125))","v":""},{"$f":"'Mens Shot'!$E$27","v":2},{"$f":"IF('Mens Shot'!$I$26=0,\"\",'Mens Shot'!$F$27)","v":""},{"$f":"IF(OR($F125=\"\",$F125=0),\"\",IF($F125>90,VLOOKUP(F125,eventcodes,2,FALSE),HLOOKUP(F125,mens_declare,B126,FALSE)))","v":""},"",{"$f":"IF('Mens Shot'!$I$26=0,\"\",'Mens Shot'!$I$27)","v":""},null,null,{"$f":"IF(AA123=\"T\",AB125,AC125)","v":""},null,{"$f":"'Mens Shot'!$K$27","v":2},{"$f":"IF('Mens Shot'!$I$26=0,\"\",'Mens Shot'!$L$27)","v":""},{"$f":"IF(OR($O125=\"\",$O125=0),\"\",HLOOKUP(O125,mens_declare,B126,FALSE))","v":""},"",{"$f":"IF('Mens Shot'!$I$26=0,\"\",'Mens Shot'!$U$27)","v":""},null,{"$f":"IF(AA123=\"T\",AD125,AE125)","v":""},null,{"$f":"IF(AA123=\"T\",\"\",IF(I124>V123,\"LR\",IF(I124=V123,\"=LR\",IF(I124>W123,\"DR\",IF(I124=W123,\"=DR\",\"\")))))","v":"LR"},null,null,null,null,null,{"$f":"IF(I125=\"\",\"\",IF(AA123=\"F\",\"\",IF(AA123=\"T\",IF(I125<=X123,\"þ\",IF(I125<=Y123,\"G2\",IF(I125<=Z123,\"G3\",\"\"))))))","v":""},{"$f":"IF(I125=\"\",\"\",IF(AA123=\"T\",\"\",IF(AA123=\"F\",IF(I125>=X123,\"þ\",IF(I125>=Y123,\"G2\",IF(I125>=Z123,\"G3\",\"\"))))))","v":""},{"$f":"IF(R125=\"\",\"\",IF(AA123=\"F\",\"\",IF(AA123=\"T\",IF(R125<=X123,\"þ\",IF(R125<=Y123,\"G2\",IF(R125<=Z123,\"G3\",\"\"))))))","v":""},{"$f":"IF(R125=\"\",\"\",IF(AA123=\"T\",\"\",IF(AA123=\"F\",IF(R125>=X123,\"þ\",IF(R125>=Y123,\"G2\",IF(R125>=Z123,\"G3\",\"\"))))))","v":""},{"$f":"C125","v":""},"",{"$f":"D125","v":""},"",125]
[null,{"$f":"VLOOKUP(A124,mens_declare,20,FALSE)","v":18},"","",{"$f":"'Mens Shot'!$E$28","v":3},{"$f":"IF('Mens Shot'!$I$26=0,\"\",'Mens Shot'!$F$28)","v":""},{"$f":"IF(OR($F126=\"\",$F126=0),\"\",IF($F126>90,VLOOKUP(F126,eventcodes,2,FALSE),HLOOKUP(F126,mens_declare,B126,FALSE)))","v":""},"",{"$f":"IF('Mens Shot'!$I$26=0,\"\",'Mens Shot'!$I$28)","v":""},null,null,{"$f":"IF(AA123=\"T\",AB126,AC126)","v":""},null,{"$f":"'Mens Shot'!$K$28","v":3},{"$f":"IF('Mens Shot'!$I$26=0,\"\",'Mens Shot'!$L$28)","v":""},{"$f":"IF(OR($O126=\"\",$O126=0),\"\",HLOOKUP(O126,mens_declare,B126,FALSE))","v":""},"",{"$f":"IF('Mens Shot'!$I$26=0,\"\",'Mens Shot'!$U$28)","v":""},null,{"$f":"IF(AA123=\"T\",AD126,AE126)","v":""},null,null,null,null,null,null,null,{"$f":"IF(I126=\"\",\"\",IF(AA123=\"F\",\"\",IF(AA123=\"T\",IF(I126<=X123,\"þ\",IF(I126<=Y123,\"G2\",IF(I126<=Z123,\"G3\",\"\"))))))","v":""},{"$f":"IF(I126=\"\",\"\",IF(AA123=\"T\",\"\",IF(AA123=\"F\",IF(I126>=X123,\"þ\",IF(I126>=Y123,\"G2\",IF(I126>=Z123,\"G3\",\"\"))))))","v":""},{"$f":"IF(R126=\"\",\"\",IF(AA123=\"F\",\"\",IF(AA123=\"T\",IF(R126<=X123,\"þ\",IF(R126<=Y123,\"G2\",IF(R126<=Z123,\"G3\",\"\"))))))","v":""},{"$f":"IF(R126=\"\",\"\",IF(AA123=\"T\",\"\",IF(AA123=\"F\",IF(R126>=X123,\"þ\",IF(R126>=Y123,\"G2\",IF(R126>=Z123,\"G3\",\"\"))))))","v":""},"","","","",126]
[null,null,"","",{"$f":"'Mens Shot'!$E$29","v":4},{"$f":"IF('Mens Shot'!$I$26=0,\"\",'Mens Shot'!$F$29)","v":""},{"$f":"IF(OR($F127=\"\",$F127=0),\"\",IF($F127>90,VLOOKUP(F127,eventcodes,2,FALSE),HLOOKUP(F127,mens_declare,B126,FALSE)))","v":""},"",{"$f":"IF('Mens Shot'!$I$26=0,\"\",'Mens Shot'!$I$29)","v":""},null,null,{"$f":"IF(AA123=\"T\",AB127,AC127)","v":""},null,{"$f":"'Mens Shot'!$K$29","v":4},{"$f":"IF('Mens Shot'!$I$26=0,\"\",'Mens Shot'!$L$29)","v":""},{"$f":"IF(OR($O127=\"\",$O127=0),\"\",HLOOKUP(O127,mens_declare,B126,FALSE))","v":""},"",{"$f":"IF('Mens Shot'!$I$26=0,\"\",'Mens Shot'!$U$29)","v":""},null,{"$f":"IF(AA123=\"T\",AD127,AE127)","v":""},null,null,null,null,null,null,null,{"$f":"IF(I127=\"\",\"\",IF(AA123=\"F\",\"\",IF(AA123=\"T\",IF(I127<=X123,\"þ\",IF(I127<=Y123,\"G2\",IF(I127<=Z123,\"G3\",\"\"))))))","v":""},{"$f":"IF(I127=\"\",\"\",IF(AA123=\"T\",\"\",IF(AA123=\"F\",IF(I127>=X123,\"þ\",IF(I127>=Y123,\"G2\",IF(I127>=Z123,\"G3\",\"\"))))))","v":""},{"$f":"IF(R127=\"\",\"\",IF(AA123=\"F\",\"\",IF(AA123=\"T\",IF(R127<=X123,\"þ\",IF(R127<=Y123,\"G2\",IF(R127<=Z123,\"G3\",\"\"))))))","v":""},{"$f":"IF(R127=\"\",\"\",IF(AA123=\"T\",\"\",IF(AA123=\"F\",IF(R127>=X123,\"þ\",IF(R127>=Y123,\"G2\",IF(R127>=Z123,\"G3\",\"\"))))))","v":""},"","","","",127]
[null,null,"","",{"$f":"'Mens Shot'!$E$30","v":5},{"$f":"IF('Mens Shot'!$I$26=0,\"\",'Mens Shot'!$F$30)","v":""},{"$f":"IF(OR($F128=\"\",$F128=0),\"\",IF($F128>90,VLOOKUP(F128,eventcodes,2,FALSE),HLOOKUP(F128,mens_declare,B126,FALSE)))","v":""},"",{"$f":"IF('Mens Shot'!$I$26=0,\"\",'Mens Shot'!$I$30)","v":""},null,null,{"$f":"IF(AA123=\"T\",AB128,AC128)","v":""},null,{"$f":"'Mens Shot'!$K$30","v":5},{"$f":"IF('Mens Shot'!$I$26=0,\"\",'Mens Shot'!$L$30)","v":""},{"$f":"IF(OR($O128=\"\",$O128=0),\"\",HLOOKUP(O128,mens_declare,B126,FALSE))","v":""},"",{"$f":"IF('Mens Shot'!$I$26=0,\"\",'Mens Shot'!$U$30)","v":""},null,{"$f":"IF(AA123=\"T\",AD128,AE128)","v":""},null,null,null,null,null,null,null,{"$f":"IF(I128=\"\",\"\",IF(AA123=\"F\",\"\",IF(AA123=\"T\",IF(I128<=X123,\"þ\",IF(I128<=Y123,\"G2\",IF(I128<=Z123,\"G3\",\"\"))))))","v":""},{"$f":"IF(I128=\"\",\"\",IF(AA123=\"T\",\"\",IF(AA123=\"F\",IF(I128>=X123,\"þ\",IF(I128>=Y123,\"G2\",IF(I128>=Z123,\"G3\",\"\"))))))","v":""},{"$f":"IF(R128=\"\",\"\",IF(AA123=\"F\",\"\",IF(AA123=\"T\",IF(R128<=X123,\"þ\",IF(R128<=Y123,\"G2\",IF(R128<=Z123,\"G3\",\"\"))))))","v":""},{"$f":"IF(R128=\"\",\"\",IF(AA123=\"T\",\"\",IF(AA123=\"F\",IF(R128>=X123,\"þ\",IF(R128>=Y123,\"G2\",IF(R128>=Z123,\"G3\",\"\"))))))","v":""},"","","","",128]
[null,null,"","",{"$f":"'Mens Shot'!$E$31","v":6},{"$f":"IF('Mens Shot'!$I$26=0,\"\",'Mens Shot'!$F$31)","v":""},{"$f":"IF(OR($F129=\"\",$F129=0),\"\",IF($F129>90,VLOOKUP(F129,eventcodes,2,FALSE),HLOOKUP(F129,mens_declare,B126,FALSE)))","v":""},"",{"$f":"IF('Mens Shot'!$I$26=0,\"\",'Mens Shot'!$I$31)","v":""},null,null,{"$f":"IF(AA123=\"T\",AB129,AC129)","v":""},null,{"$f":"'Mens Shot'!$K$31","v":6},{"$f":"IF('Mens Shot'!$I$26=0,\"\",'Mens Shot'!$L$31)","v":""},{"$f":"IF(OR($O129=\"\",$O129=0),\"\",HLOOKUP(O129,mens_declare,B126,FALSE))","v":""},"",{"$f":"IF('Mens Shot'!$I$26=0,\"\",'Mens Shot'!$U$31)","v":""},null,{"$f":"IF(AA123=\"T\",AD129,AE129)","v":""},null,null,null,null,null,null,null,{"$f":"IF(I129=\"\",\"\",IF(AA123=\"F\",\"\",IF(AA123=\"T\",IF(I129<=X123,\"þ\",IF(I129<=Y123,\"G2\",IF(I129<=Z123,\"G3\",\"\"))))))","v":""},{"$f":"IF(I129=\"\",\"\",IF(AA123=\"T\",\"\",IF(AA123=\"F\",IF(I129>=X123,\"þ\",IF(I129>=Y123,\"G2\",IF(I129>=Z123,\"G3\",\"\"))))))","v":""},{"$f":"IF(R129=\"\",\"\",IF(AA123=\"F\",\"\",IF(AA123=\"T\",IF(R129<=X123,\"þ\",IF(R129<=Y123,\"G2\",IF(R129<=Z123,\"G3\",\"\"))))))","v":""},{"$f":"IF(R129=\"\",\"\",IF(AA123=\"T\",\"\",IF(AA123=\"F\",IF(R129>=X123,\"þ\",IF(R129>=Y123,\"G2\",IF(R129>=Z123,\"G3\",\"\"))))))","v":""},"","","","",129]
[null,null,"","",{"$f":"'Mens Shot'!$E$32","v":7},{"$f":"IF('Mens Shot'!$I$26=0,\"\",'Mens Shot'!$F$32)","v":""},{"$f":"IF(OR($F130=\"\",$F130=0),\"\",IF($F130>90,VLOOKUP(F130,eventcodes,2,FALSE),HLOOKUP(F130,mens_declare,B126,FALSE)))","v":""},"",{"$f":"IF('Mens Shot'!$I$26=0,\"\",'Mens Shot'!$I$32)","v":""},null,null,{"$f":"IF(AA123=\"T\",AB130,AC130)","v":""},null,{"$f":"'Mens Shot'!$K$32","v":7},{"$f":"IF('Mens Shot'!$I$26=0,\"\",'Mens Shot'!$L$32)","v":""},{"$f":"IF(OR($O130=\"\",$O130=0),\"\",HLOOKUP(O130,mens_declare,B126,FALSE))","v":""},"",{"$f":"IF('Mens Shot'!$I$26=0,\"\",'Mens Shot'!$U$32)","v":""},null,{"$f":"IF(AA123=\"T\",AD130,AE130)","v":""},null,null,null,null,null,null,null,{"$f":"IF(I130=\"\",\"\",IF(AA123=\"F\",\"\",IF(AA123=\"T\",IF(I130<=X123,\"þ\",IF(I130<=Y123,\"G2\",IF(I130<=Z123,\"G3\",\"\"))))))","v":""},{"$f":"IF(I130=\"\",\"\",IF(AA123=\"T\",\"\",IF(AA123=\"F\",IF(I130>=X123,\"þ\",IF(I130>=Y123,\"G2\",IF(I130>=Z123,\"G3\",\"\"))))))","v":""},{"$f":"IF(R130=\"\",\"\",IF(AA123=\"F\",\"\",IF(AA123=\"T\",IF(R130<=X123,\"þ\",IF(R130<=Y123,\"G2\",IF(R130<=Z123,\"G3\",\"\"))))))","v":""},{"$f":"IF(R130=\"\",\"\",IF(AA123=\"T\",\"\",IF(AA123=\"F\",IF(R130>=X123,\"þ\",IF(R130>=Y123,\"G2\",IF(R130>=Z123,\"G3\",\"\"))))))","v":""},"","","","",130]
[null,null,"","",{"$f":"'Mens Shot'!$E$33","v":8},{"$f":"IF('Mens Shot'!$I$26=0,\"\",'Mens Shot'!$F$33)","v":""},{"$f":"IF(OR($F131=\"\",$F131=0),\"\",IF($F131>90,VLOOKUP(F131,eventcodes,2,FALSE),HLOOKUP(F131,mens_declare,B126,FALSE)))","v":""},"",{"$f":"IF('Mens Shot'!$I$26=0,\"\",'Mens Shot'!$I$33)","v":""},null,null,{"$f":"IF(AA123=\"T\",AB131,AC131)","v":""},null,{"$f":"'Mens Shot'!$K$33","v":8},{"$f":"IF('Mens Shot'!$I$26=0,\"\",'Mens Shot'!$L$33)","v":""},{"$f":"IF(OR($O131=\"\",$O131=0),\"\",HLOOKUP(O131,mens_declare,B126,FALSE))","v":""},"",{"$f":"IF('Mens Shot'!$I$26=0,\"\",'Mens Shot'!$U$33)","v":""},null,{"$f":"IF(AA123=\"T\",AD131,AE131)","v":""},null,null,null,null,null,null,null,{"$f":"IF(I131=\"\",\"\",IF(AA123=\"F\",\"\",IF(AA123=\"T\",IF(I131<=X123,\"þ\",IF(I131<=Y123,\"G2\",IF(I131<=Z123,\"G3\",\"\"))))))","v":""},{"$f":"IF(I131=\"\",\"\",IF(AA123=\"T\",\"\",IF(AA123=\"F\",IF(I131>=X123,\"þ\",IF(I131>=Y123,\"G2\",IF(I131>=Z123,\"G3\",\"\"))))))","v":""},{"$f":"IF(R131=\"\",\"\",IF(AA123=\"F\",\"\",IF(AA123=\"T\",IF(R131<=X123,\"þ\",IF(R131<=Y123,\"G2\",IF(R131<=Z123,\"G3\",\"\"))))))","v":""},{"$f":"IF(R131=\"\",\"\",IF(AA123=\"T\",\"\",IF(AA123=\"F\",IF(R131>=X123,\"þ\",IF(R131>=Y123,\"G2\",IF(R131>=Z123,\"G3\",\"\"))))))","v":""},"","","","",131]
[null,null,null,null,null,null,null,null,null,null,null,null,null,null,null,null,null,null,null,null,null,null,null,null,null,null,null,null,null,null,null,null,null,null,null,132]
[null,null,{"$f":"VLOOKUP(A134,Handbook!$A$4:$AK$24,36,FALSE)","v":"D"},null,{"$f":"CONCATENATE(VLOOKUP(A134,mens_handbook,3,FALSE),\" A\")","v":"Men's Long Jump A"},null,null,{"$f":"IF(A134=\"\",\"\",IF(VLOOKUP(A134,Handbook!$A$4:$AI$24,35,FALSE)=\"Y\",\"Wind=\",\"\"))","v":""},null,null,null,null,null,null,{"$f":"CONCATENATE(VLOOKUP(A134,mens_handbook,3,FALSE),\" B\")","v":"Men's Long Jump B"},null,{"$f":"H133","v":""},{"$f":"IF(I133=\"\",\"\",I133)","v":""},null,null,null,{"$f":"IF($A134=\"\",\"\",VLOOKUP($A134,Handbook!$A$4:$V$24,21,FALSE))","v":7.6},{"$f":"IF($A134=\"\",\"\",VLOOKUP($A134,Handbook!$A$4:$V$24,22,FALSE))","v":7.6},{"$f":"IF($A134=\"\",\"\",VLOOKUP($A134,Handbook!$A$4:$W$24,23,FALSE))","v":5.8},{"$f":"IF($A134=\"\",\"\",VLOOKUP($A134,Handbook!$A$4:$X$24,24,FALSE))","v":6.5},{"$f":"IF($A134=\"\",\"\",VLOOKUP($A134,Handbook!$A$4:$Y$24,25,FALSE))","v":6.5},{"$f":"IF($A134=\"\",\"\",VLOOKUP($A134,Handbook!$A$4:$AH$24,34,FALSE))","v":"F"},null,null,null,null,null,null,null,null,133]
[13,null,{"$f":"IF(F134=\"\",\"\",IF(F134>10,F134/11,F134))","v":""},{"$f":"IF(O134=\"\",\"\",IF(O134>10,O134/11,O134))","v":""},{"$f":"'Mens LJ'!$E$26","v":1},{"$f":"IF('Mens LJ'!$I$26=0,\"\",'Mens LJ'!$F$26)","v":""},{"$f":"IF(OR($F134=\"\",$F134=0),\"\",IF($F134>90,VLOOKUP(F134,eventcodes,2,FALSE),HLOOKUP(F134,mens_declare,B136,FALSE)))","v":""},{"$f":"IF(OR($F134=\"\",$F134=0),\"\",IF($F134>90,\"\",VLOOKUP(C134,matchday,2,FALSE)))","v":""},{"$f":"IF('Mens LJ'!$I$26=0,\"\",'Mens LJ'!$I$26)","v":""},{"$f":"IF(I134=\"\",\"\",IF(AA133=\"T\",V134,V135))","v":""},null,{"$f":"IF(AA133=\"T\",AB134,AC134)","v":""},null,{"$f":"'Mens LJ'!$K$26","v":1},{"$f":"IF('Mens LJ'!$I$26=0,\"\",'Mens LJ'!$L$26)","v":""},{"$f":"IF(OR($O134=\"\",$O134=0),\"\",HLOOKUP(O134,mens_declare,B136,FALSE))","v":""},{"$f":"IF(OR($O134=\"\",$O134=0),\"\",VLOOKUP(D134,matchday,2,FALSE))","v":""},{"$f":"IF('Mens LJ'!$I$26=0,\"\",'Mens LJ'!$U$26)","v":""},null,{"$f":"IF(AA133=\"T\",AD134,AE134)","v":""},null,{"$f":"IF(AA133=\"F\",\"\",IF(I134<V133,\"LR\",IF(I134=V133,\"=LR\",IF(I134<W133,\"DR\",IF(I134=W133,\"=DR\",\"\")))))","v":""},null,null,null,null,null,{"$f":"IF(I134=\"\",\"\",IF(AA133=\"F\",\"\",IF(AA133=\"T\",IF(I134<=X133,\"þ\",IF(I134<=Y133,\"G2\",IF(I134<=Z133,\"G3\",\"\"))))))","v":""},{"$f":"IF(I134=\"\",\"\",IF(AA133=\"T\",\"\",IF(AA133=\"F\",IF(I134>=X133,\"þ\",IF(I134>=Y133,\"G2\",IF(I134>=Z133,\"G3\",\"\"))))))","v":""},{"$f":"IF(R134=\"\",\"\",IF(AA133=\"F\",\"\",IF(AA133=\"T\",IF(R134<=X133,\"þ\",IF(R134<=Y133,\"G2\",IF(R134<=Z133,\"G3\",\"\"))))))","v":""},{"$f":"IF(R134=\"\",\"\",IF(AA133=\"T\",\"\",IF(AA133=\"F\",IF(R134>=X133,\"þ\",IF(R134>=Y133,\"G2\",IF(R134>=Z133,\"G3\",\"\"))))))","v":""},{"$f":"C134","v":""},{"$f":"IF(F134=\"\",\"\",IF(LEFT(I134,1)=\"D\",0,VLOOKUP(E134,$AQ$4:$AR$40,2,FALSE)))","v":""},{"$f":"D134","v":""},{"$f":"IF(O134=\"\",\"\",IF(LEFT(R134,1)=\"D\",0,VLOOKUP(N134,$AQ$4:$AS$40,3,FALSE)))","v":""},134]
[null,{"$f":"VLOOKUP(A134,Handbook!$A$4:$AK$24,37,FALSE)","v":14},{"$f":"IF(F135=\"\",\"\",IF(F135>10,F135/11,F135))","v":""},{"$f":"IF(O135=\"\",\"\",IF(O135>10,O135/11,O135))","v":""},{"$f":"'Mens LJ'!$E$27","v":2},{"$f":"IF('Mens LJ'!$I$26=0,\"\",'Mens LJ'!$F$27)","v":""},{"$f":"IF(OR($F135=\"\",$F135=0),\"\",IF($F135>90,VLOOKUP(F135,eventcodes,2,FALSE),HLOOKUP(F135,mens_declare,B136,FALSE)))","v":""},"",{"$f":"IF('Mens LJ'!$I$26=0,\"\",'Mens LJ'!$I$27)","v":""},null,null,{"$f":"IF(AA133=\"T\",AB135,AC135)","v":""},null,{"$f":"'Mens LJ'!$K$27","v":2},{"$f":"IF('Mens LJ'!$I$26=0,\"\",'Mens LJ'!$L$27)","v":""},{"$f":"IF(OR($O135=\"\",$O135=0),\"\",HLOOKUP(O135,mens_declare,B136,FALSE))","v":""},"",{"$f":"IF('Mens LJ'!$I$26=0,\"\",'Mens LJ'!$U$27)","v":""},null,{"$f":"IF(AA133=\"T\",AD135,AE135)","v":""},null,{"$f":"IF(AA133=\"T\",\"\",IF(I134>V133,\"LR\",IF(I134=V133,\"=LR\",IF(I134>W133,\"DR\",IF(I134=W133,\"=DR\",\"\")))))","v":"LR"},null,null,null,null,null,{"$f":"IF(I135=\"\",\"\",IF(AA133=\"F\",\"\",IF(AA133=\"T\",IF(I135<=X133,\"þ\",IF(I135<=Y133,\"G2\",IF(I135<=Z133,\"G3\",\"\"))))))","v":""},{"$f":"IF(I135=\"\",\"\",IF(AA133=\"T\",\"\",IF(AA133=\"F\",IF(I135>=X133,\"þ\",IF(I135>=Y133,\"G2\",IF(I135>=Z133,\"G3\",\"\"))))))","v":""},{"$f":"IF(R135=\"\",\"\",IF(AA133=\"F\",\"\",IF(AA133=\"T\",IF(R135<=X133,\"þ\",IF(R135<=Y133,\"G2\",IF(R135<=Z133,\"G3\",\"\"))))))","v":""},{"$f":"IF(R135=\"\",\"\",IF(AA133=\"T\",\"\",IF(AA133=\"F\",IF(R135>=X133,\"þ\",IF(R135>=Y133,\"G2\",IF(R135>=Z133,\"G3\",\"\"))))))","v":""},{"$f":"C135","v":""},"",{"$f":"D135","v":""},"",135]
[null,{"$f":"VLOOKUP(A134,mens_declare,20,FALSE)","v":14},"","",{"$f":"'Mens LJ'!$E$28","v":3},{"$f":"IF('Mens LJ'!$I$26=0,\"\",'Mens LJ'!$F$28)","v":""},{"$f":"IF(OR($F136=\"\",$F136=0),\"\",IF($F136>90,VLOOKUP(F136,eventcodes,2,FALSE),HLOOKUP(F136,mens_declare,B136,FALSE)))","v":""},"",{"$f":"IF('Mens LJ'!$I$26=0,\"\",'Mens LJ'!$I$28)","v":""},null,null,{"$f":"IF(AA133=\"T\",AB136,AC136)","v":""},null,{"$f":"'Mens LJ'!$K$28","v":3},{"$f":"IF('Mens LJ'!$I$26=0,\"\",'Mens LJ'!$L$28)","v":""},{"$f":"IF(OR($O136=\"\",$O136=0),\"\",HLOOKUP(O136,mens_declare,B136,FALSE))","v":""},"",{"$f":"IF('Mens LJ'!$I$26=0,\"\",'Mens LJ'!$U$28)","v":""},null,{"$f":"IF(AA133=\"T\",AD136,AE136)","v":""},null,null,null,null,null,null,null,{"$f":"IF(I136=\"\",\"\",IF(AA133=\"F\",\"\",IF(AA133=\"T\",IF(I136<=X133,\"þ\",IF(I136<=Y133,\"G2\",IF(I136<=Z133,\"G3\",\"\"))))))","v":""},{"$f":"IF(I136=\"\",\"\",IF(AA133=\"T\",\"\",IF(AA133=\"F\",IF(I136>=X133,\"þ\",IF(I136>=Y133,\"G2\",IF(I136>=Z133,\"G3\",\"\"))))))","v":""},{"$f":"IF(R136=\"\",\"\",IF(AA133=\"F\",\"\",IF(AA133=\"T\",IF(R136<=X133,\"þ\",IF(R136<=Y133,\"G2\",IF(R136<=Z133,\"G3\",\"\"))))))","v":""},{"$f":"IF(R136=\"\",\"\",IF(AA133=\"T\",\"\",IF(AA133=\"F\",IF(R136>=X133,\"þ\",IF(R136>=Y133,\"G2\",IF(R136>=Z133,\"G3\",\"\"))))))","v":""},"","","","",136]
[null,null,"","",{"$f":"'Mens LJ'!$E$29","v":4},{"$f":"IF('Mens LJ'!$I$26=0,\"\",'Mens LJ'!$F$29)","v":""},{"$f":"IF(OR($F137=\"\",$F137=0),\"\",IF($F137>90,VLOOKUP(F137,eventcodes,2,FALSE),HLOOKUP(F137,mens_declare,B136,FALSE)))","v":""},"",{"$f":"IF('Mens LJ'!$I$26=0,\"\",'Mens LJ'!$I$29)","v":""},null,null,{"$f":"IF(AA133=\"T\",AB137,AC137)","v":""},null,{"$f":"'Mens LJ'!$K$29","v":4},{"$f":"IF('Mens LJ'!$I$26=0,\"\",'Mens LJ'!$L$29)","v":""},{"$f":"IF(OR($O137=\"\",$O137=0),\"\",HLOOKUP(O137,mens_declare,B136,FALSE))","v":""},"",{"$f":"IF('Mens LJ'!$I$26=0,\"\",'Mens LJ'!$U$29)","v":""},null,{"$f":"IF(AA133=\"T\",AD137,AE137)","v":""},null,null,null,null,null,null,null,{"$f":"IF(I137=\"\",\"\",IF(AA133=\"F\",\"\",IF(AA133=\"T\",IF(I137<=X133,\"þ\",IF(I137<=Y133,\"G2\",IF(I137<=Z133,\"G3\",\"\"))))))","v":""},{"$f":"IF(I137=\"\",\"\",IF(AA133=\"T\",\"\",IF(AA133=\"F\",IF(I137>=X133,\"þ\",IF(I137>=Y133,\"G2\",IF(I137>=Z133,\"G3\",\"\"))))))","v":""},{"$f":"IF(R137=\"\",\"\",IF(AA133=\"F\",\"\",IF(AA133=\"T\",IF(R137<=X133,\"þ\",IF(R137<=Y133,\"G2\",IF(R137<=Z133,\"G3\",\"\"))))))","v":""},{"$f":"IF(R137=\"\",\"\",IF(AA133=\"T\",\"\",IF(AA133=\"F\",IF(R137>=X133,\"þ\",IF(R137>=Y133,\"G2\",IF(R137>=Z133,\"G3\",\"\"))))))","v":""},"","","","",137]
[null,null,"","",{"$f":"'Mens LJ'!$E$30","v":5},{"$f":"IF('Mens LJ'!$I$26=0,\"\",'Mens LJ'!$F$30)","v":""},{"$f":"IF(OR($F138=\"\",$F138=0),\"\",IF($F138>90,VLOOKUP(F138,eventcodes,2,FALSE),HLOOKUP(F138,mens_declare,B136,FALSE)))","v":""},"",{"$f":"IF('Mens LJ'!$I$26=0,\"\",'Mens LJ'!$I$30)","v":""},null,null,{"$f":"IF(AA133=\"T\",AB138,AC138)","v":""},null,{"$f":"'Mens LJ'!$K$30","v":5},{"$f":"IF('Mens LJ'!$I$26=0,\"\",'Mens LJ'!$L$30)","v":""},{"$f":"IF(OR($O138=\"\",$O138=0),\"\",HLOOKUP(O138,mens_declare,B136,FALSE))","v":""},"",{"$f":"IF('Mens LJ'!$I$26=0,\"\",'Mens LJ'!$U$30)","v":""},null,{"$f":"IF(AA133=\"T\",AD138,AE138)","v":""},null,null,null,null,null,null,null,{"$f":"IF(I138=\"\",\"\",IF(AA133=\"F\",\"\",IF(AA133=\"T\",IF(I138<=X133,\"þ\",IF(I138<=Y133,\"G2\",IF(I138<=Z133,\"G3\",\"\"))))))","v":""},{"$f":"IF(I138=\"\",\"\",IF(AA133=\"T\",\"\",IF(AA133=\"F\",IF(I138>=X133,\"þ\",IF(I138>=Y133,\"G2\",IF(I138>=Z133,\"G3\",\"\"))))))","v":""},{"$f":"IF(R138=\"\",\"\",IF(AA133=\"F\",\"\",IF(AA133=\"T\",IF(R138<=X133,\"þ\",IF(R138<=Y133,\"G2\",IF(R138<=Z133,\"G3\",\"\"))))))","v":""},{"$f":"IF(R138=\"\",\"\",IF(AA133=\"T\",\"\",IF(AA133=\"F\",IF(R138>=X133,\"þ\",IF(R138>=Y133,\"G2\",IF(R138>=Z133,\"G3\",\"\"))))))","v":""},"","","","",138]
[null,null,"","",{"$f":"'Mens LJ'!$E$31","v":6},{"$f":"IF('Mens LJ'!$I$26=0,\"\",'Mens LJ'!$F$31)","v":""},{"$f":"IF(OR($F139=\"\",$F139=0),\"\",IF($F139>90,VLOOKUP(F139,eventcodes,2,FALSE),HLOOKUP(F139,mens_declare,B136,FALSE)))","v":""},"",{"$f":"IF('Mens LJ'!$I$26=0,\"\",'Mens LJ'!$I$31)","v":""},null,null,{"$f":"IF(AA133=\"T\",AB139,AC139)","v":""},null,{"$f":"'Mens LJ'!$K$31","v":6},{"$f":"IF('Mens LJ'!$I$26=0,\"\",'Mens LJ'!$L$31)","v":""},{"$f":"IF(OR($O139=\"\",$O139=0),\"\",HLOOKUP(O139,mens_declare,B136,FALSE))","v":""},"",{"$f":"IF('Mens LJ'!$I$26=0,\"\",'Mens LJ'!$U$31)","v":""},null,{"$f":"IF(AA133=\"T\",AD139,AE139)","v":""},null,null,null,null,null,null,null,{"$f":"IF(I139=\"\",\"\",IF(AA133=\"F\",\"\",IF(AA133=\"T\",IF(I139<=X133,\"þ\",IF(I139<=Y133,\"G2\",IF(I139<=Z133,\"G3\",\"\"))))))","v":""},{"$f":"IF(I139=\"\",\"\",IF(AA133=\"T\",\"\",IF(AA133=\"F\",IF(I139>=X133,\"þ\",IF(I139>=Y133,\"G2\",IF(I139>=Z133,\"G3\",\"\"))))))","v":""},{"$f":"IF(R139=\"\",\"\",IF(AA133=\"F\",\"\",IF(AA133=\"T\",IF(R139<=X133,\"þ\",IF(R139<=Y133,\"G2\",IF(R139<=Z133,\"G3\",\"\"))))))","v":""},{"$f":"IF(R139=\"\",\"\",IF(AA133=\"T\",\"\",IF(AA133=\"F\",IF(R139>=X133,\"þ\",IF(R139>=Y133,\"G2\",IF(R139>=Z133,\"G3\",\"\"))))))","v":""},"","","","",139]
[null,null,"","",{"$f":"'Mens LJ'!$E$32","v":7},{"$f":"IF('Mens LJ'!$I$26=0,\"\",'Mens LJ'!$F$32)","v":""},{"$f":"IF(OR($F140=\"\",$F140=0),\"\",IF($F140>90,VLOOKUP(F140,eventcodes,2,FALSE),HLOOKUP(F140,mens_declare,B136,FALSE)))","v":""},"",{"$f":"IF('Mens LJ'!$I$26=0,\"\",'Mens LJ'!$I$32)","v":""},null,null,{"$f":"IF(AA133=\"T\",AB140,AC140)","v":""},null,{"$f":"'Mens LJ'!$K$32","v":7},{"$f":"IF('Mens LJ'!$I$26=0,\"\",'Mens LJ'!$L$32)","v":""},{"$f":"IF(OR($O140=\"\",$O140=0),\"\",HLOOKUP(O140,mens_declare,B136,FALSE))","v":""},"",{"$f":"IF('Mens LJ'!$I$26=0,\"\",'Mens LJ'!$U$32)","v":""},null,{"$f":"IF(AA133=\"T\",AD140,AE140)","v":""},null,null,null,null,null,null,null,{"$f":"IF(I140=\"\",\"\",IF(AA133=\"F\",\"\",IF(AA133=\"T\",IF(I140<=X133,\"þ\",IF(I140<=Y133,\"G2\",IF(I140<=Z133,\"G3\",\"\"))))))","v":""},{"$f":"IF(I140=\"\",\"\",IF(AA133=\"T\",\"\",IF(AA133=\"F\",IF(I140>=X133,\"þ\",IF(I140>=Y133,\"G2\",IF(I140>=Z133,\"G3\",\"\"))))))","v":""},{"$f":"IF(R140=\"\",\"\",IF(AA133=\"F\",\"\",IF(AA133=\"T\",IF(R140<=X133,\"þ\",IF(R140<=Y133,\"G2\",IF(R140<=Z133,\"G3\",\"\"))))))","v":""},{"$f":"IF(R140=\"\",\"\",IF(AA133=\"T\",\"\",IF(AA133=\"F\",IF(R140>=X133,\"þ\",IF(R140>=Y133,\"G2\",IF(R140>=Z133,\"G3\",\"\"))))))","v":""},"","","","",140]
[null,null,"","",{"$f":"'Mens LJ'!$E$33","v":8},{"$f":"IF('Mens LJ'!$I$26=0,\"\",'Mens LJ'!$F$33)","v":""},{"$f":"IF(OR($F141=\"\",$F141=0),\"\",IF($F141>90,VLOOKUP(F141,eventcodes,2,FALSE),HLOOKUP(F141,mens_declare,B136,FALSE)))","v":""},"",{"$f":"IF('Mens LJ'!$I$26=0,\"\",'Mens LJ'!$I$33)","v":""},null,null,{"$f":"IF(AA133=\"T\",AB141,AC141)","v":""},null,{"$f":"'Mens LJ'!$K$33","v":8},{"$f":"IF('Mens LJ'!$I$26=0,\"\",'Mens LJ'!$L$33)","v":""},{"$f":"IF(OR($O141=\"\",$O141=0),\"\",HLOOKUP(O141,mens_declare,B136,FALSE))","v":""},"",{"$f":"IF('Mens LJ'!$I$26=0,\"\",'Mens LJ'!$U$33)","v":""},null,{"$f":"IF(AA133=\"T\",AD141,AE141)","v":""},null,null,null,null,null,null,null,{"$f":"IF(I141=\"\",\"\",IF(AA133=\"F\",\"\",IF(AA133=\"T\",IF(I141<=X133,\"þ\",IF(I141<=Y133,\"G2\",IF(I141<=Z133,\"G3\",\"\"))))))","v":""},{"$f":"IF(I141=\"\",\"\",IF(AA133=\"T\",\"\",IF(AA133=\"F\",IF(I141>=X133,\"þ\",IF(I141>=Y133,\"G2\",IF(I141>=Z133,\"G3\",\"\"))))))","v":""},{"$f":"IF(R141=\"\",\"\",IF(AA133=\"F\",\"\",IF(AA133=\"T\",IF(R141<=X133,\"þ\",IF(R141<=Y133,\"G2\",IF(R141<=Z133,\"G3\",\"\"))))))","v":""},{"$f":"IF(R141=\"\",\"\",IF(AA133=\"T\",\"\",IF(AA133=\"F\",IF(R141>=X133,\"þ\",IF(R141>=Y133,\"G2\",IF(R141>=Z133,\"G3\",\"\"))))))","v":""},"","","","",141]
[null,null,null,null,null,null,null,null,null,null,null,null,null,null,null,null,null,null,null,null,null,null,null,null,null,null,null,null,null,null,null,null,null,null,null,142]
[null,null,{"$f":"VLOOKUP(A144,Handbook!$A$4:$AK$24,36,FALSE)","v":"D"},null,{"$f":"CONCATENATE(VLOOKUP(A144,mens_handbook,3,FALSE),\" A\")","v":"Men's Triple Jump A"},null,null,{"$f":"IF(A144=\"\",\"\",IF(VLOOKUP(A144,Handbook!$A$4:$AI$24,35,FALSE)=\"Y\",\"Wind=\",\"\"))","v":""},null,null,null,null,null,null,{"$f":"CONCATENATE(VLOOKUP(A144,mens_handbook,3,FALSE),\" B\")","v":"Men's Triple Jump B"},null,{"$f":"H143","v":""},{"$f":"IF(I143=\"\",\"\",I143)","v":""},null,null,null,{"$f":"IF($A144=\"\",\"\",VLOOKUP($A144,Handbook!$A$4:$V$24,21,FALSE))","v":17.43},{"$f":"IF($A144=\"\",\"\",VLOOKUP($A144,Handbook!$A$4:$V$24,22,FALSE))","v":17.43},{"$f":"IF($A144=\"\",\"\",VLOOKUP($A144,Handbook!$A$4:$W$24,23,FALSE))","v":11.8},{"$f":"IF($A144=\"\",\"\",VLOOKUP($A144,Handbook!$A$4:$X$24,24,FALSE))","v":13},{"$f":"IF($A144=\"\",\"\",VLOOKUP($A144,Handbook!$A$4:$Y$24,25,FALSE))","v":13},{"$f":"IF($A144=\"\",\"\",VLOOKUP($A144,Handbook!$A$4:$AH$24,34,FALSE))","v":"F"},null,null,null,null,null,null,null,null,143]
[16,null,{"$f":"IF(F144=\"\",\"\",IF(F144>10,F144/11,F144))","v":""},{"$f":"IF(O144=\"\",\"\",IF(O144>10,O144/11,O144))","v":""},{"$f":"'Mens TJ'!$E$26","v":1},{"$f":"IF('Mens TJ'!$I$26=0,\"\",'Mens TJ'!$F$26)","v":""},{"$f":"IF(OR($F144=\"\",$F144=0),\"\",IF($F144>90,VLOOKUP(F144,eventcodes,2,FALSE),HLOOKUP(F144,mens_declare,B146,FALSE)))","v":""},{"$f":"IF(OR($F144=\"\",$F144=0),\"\",IF($F144>90,\"\",VLOOKUP(C144,matchday,2,FALSE)))","v":""},{"$f":"IF('Mens TJ'!$I$26=0,\"\",'Mens TJ'!$I$26)","v":""},{"$f":"IF(I144=\"\",\"\",IF(AA143=\"T\",V144,V145))","v":""},null,{"$f":"IF(AA143=\"T\",AB144,AC144)","v":""},null,{"$f":"'Mens TJ'!$K$26","v":1},{"$f":"IF('Mens TJ'!$I$26=0,\"\",'Mens TJ'!$L$26)","v":""},{"$f":"IF(OR($O144=\"\",$O144=0),\"\",HLOOKUP(O144,mens_declare,B146,FALSE))","v":""},{"$f":"IF(OR($O144=\"\",$O144=0),\"\",VLOOKUP(D144,matchday,2,FALSE))","v":""},{"$f":"IF('Mens TJ'!$I$26=0,\"\",'Mens TJ'!$U$26)","v":""},null,{"$f":"IF(AA143=\"T\",AD144,AE144)","v":""},null,{"$f":"IF(AA143=\"F\",\"\",IF(I144<V143,\"LR\",IF(I144=V143,\"=LR\",IF(I144<W143,\"DR\",IF(I144=W143,\"=DR\",\"\")))))","v":""},null,null,null,null,null,{"$f":"IF(I144=\"\",\"\",IF(AA143=\"F\",\"\",IF(AA143=\"T\",IF(I144<=X143,\"þ\",IF(I144<=Y143,\"G2\",IF(I144<=Z143,\"G3\",\"\"))))))","v":""},{"$f":"IF(I144=\"\",\"\",IF(AA143=\"T\",\"\",IF(AA143=\"F\",IF(I144>=X143,\"þ\",IF(I144>=Y143,\"G2\",IF(I144>=Z143,\"G3\",\"\"))))))","v":""},{"$f":"IF(R144=\"\",\"\",IF(AA143=\"F\",\"\",IF(AA143=\"T\",IF(R144<=X143,\"þ\",IF(R144<=Y143,\"G2\",IF(R144<=Z143,\"G3\",\"\"))))))","v":""},{"$f":"IF(R144=\"\",\"\",IF(AA143=\"T\",\"\",IF(AA143=\"F\",IF(R144>=X143,\"þ\",IF(R144>=Y143,\"G2\",IF(R144>=Z143,\"G3\",\"\"))))))","v":""},{"$f":"C144","v":""},{"$f":"IF(F144=\"\",\"\",IF(LEFT(I144,1)=\"D\",0,VLOOKUP(E144,$AQ$4:$AR$40,2,FALSE)))","v":""},{"$f":"D144","v":""},{"$f":"IF(O144=\"\",\"\",IF(LEFT(R144,1)=\"D\",0,VLOOKUP(N144,$AQ$4:$AS$40,3,FALSE)))","v":""},144]
[null,{"$f":"VLOOKUP(A144,Handbook!$A$4:$AK$24,37,FALSE)","v":17},{"$f":"IF(F145=\"\",\"\",IF(F145>10,F145/11,F145))","v":""},{"$f":"IF(O145=\"\",\"\",IF(O145>10,O145/11,O145))","v":""},{"$f":"'Mens TJ'!$E$27","v":2},{"$f":"IF('Mens TJ'!$I$26=0,\"\",'Mens TJ'!$F$27)","v":""},{"$f":"IF(OR($F145=\"\",$F145=0),\"\",IF($F145>90,VLOOKUP(F145,eventcodes,2,FALSE),HLOOKUP(F145,mens_declare,B146,FALSE)))","v":""},"",{"$f":"IF('Mens TJ'!$I$26=0,\"\",'Mens TJ'!$I$27)","v":""},null,null,{"$f":"IF(AA143=\"T\",AB145,AC145)","v":""},null,{"$f":"'Mens TJ'!$K$27","v":2},{"$f":"IF('Mens TJ'!$I$26=0,\"\",'Mens TJ'!$L$27)","v":""},{"$f":"IF(OR($O145=\"\",$O145=0),\"\",HLOOKUP(O145,mens_declare,B146,FALSE))","v":""},"",{"$f":"IF('Mens TJ'!$I$26=0,\"\",'Mens TJ'!$U$27)","v":""},null,{"$f":"IF(AA143=\"T\",AD145,AE145)","v":""},null,{"$f":"IF(AA143=\"T\",\"\",IF(I144>V143,\"LR\",IF(I144=V143,\"=LR\",IF(I144>W143,\"DR\",IF(I144=W143,\"=DR\",\"\")))))","v":"LR"},null,null,null,null,null,{"$f":"IF(I145=\"\",\"\",IF(AA143=\"F\",\"\",IF(AA143=\"T\",IF(I145<=X143,\"þ\",IF(I145<=Y143,\"G2\",IF(I145<=Z143,\"G3\",\"\"))))))","v":""},{"$f":"IF(I145=\"\",\"\",IF(AA143=\"T\",\"\",IF(AA143=\"F\",IF(I145>=X143,\"þ\",IF(I145>=Y143,\"G2\",IF(I145>=Z143,\"G3\",\"\"))))))","v":""},{"$f":"IF(R145=\"\",\"\",IF(AA143=\"F\",\"\",IF(AA143=\"T\",IF(R145<=X143,\"þ\",IF(R145<=Y143,\"G2\",IF(R145<=Z143,\"G3\",\"\"))))))","v":""},{"$f":"IF(R145=\"\",\"\",IF(AA143=\"T\",\"\",IF(AA143=\"F\",IF(R145>=X143,\"þ\",IF(R145>=Y143,\"G2\",IF(R145>=Z143,\"G3\",\"\"))))))","v":""},{"$f":"C145","v":""},"",{"$f":"D145","v":""},"",145]
[null,{"$f":"VLOOKUP(A144,mens_declare,20,FALSE)","v":17},"","",{"$f":"'Mens TJ'!$E$28","v":3},{"$f":"IF('Mens TJ'!$I$26=0,\"\",'Mens TJ'!$F$28)","v":""},{"$f":"IF(OR($F146=\"\",$F146=0),\"\",IF($F146>90,VLOOKUP(F146,eventcodes,2,FALSE),HLOOKUP(F146,mens_declare,B146,FALSE)))","v":""},"",{"$f":"IF('Mens TJ'!$I$26=0,\"\",'Mens TJ'!$I$28)","v":""},null,null,{"$f":"IF(AA143=\"T\",AB146,AC146)","v":""},null,{"$f":"'Mens TJ'!$K$28","v":3},{"$f":"IF('Mens TJ'!$I$26=0,\"\",'Mens TJ'!$L$28)","v":""},{"$f":"IF(OR($O146=\"\",$O146=0),\"\",HLOOKUP(O146,mens_declare,B146,FALSE))","v":""},"",{"$f":"IF('Mens TJ'!$I$26=0,\"\",'Mens TJ'!$U$28)","v":""},null,{"$f":"IF(AA143=\"T\",AD146,AE146)","v":""},null,null,null,null,null,null,null,{"$f":"IF(I146=\"\",\"\",IF(AA143=\"F\",\"\",IF(AA143=\"T\",IF(I146<=X143,\"þ\",IF(I146<=Y143,\"G2\",IF(I146<=Z143,\"G3\",\"\"))))))","v":""},{"$f":"IF(I146=\"\",\"\",IF(AA143=\"T\",\"\",IF(AA143=\"F\",IF(I146>=X143,\"þ\",IF(I146>=Y143,\"G2\",IF(I146>=Z143,\"G3\",\"\"))))))","v":""},{"$f":"IF(R146=\"\",\"\",IF(AA143=\"F\",\"\",IF(AA143=\"T\",IF(R146<=X143,\"þ\",IF(R146<=Y143,\"G2\",IF(R146<=Z143,\"G3\",\"\"))))))","v":""},{"$f":"IF(R146=\"\",\"\",IF(AA143=\"T\",\"\",IF(AA143=\"F\",IF(R146>=X143,\"þ\",IF(R146>=Y143,\"G2\",IF(R146>=Z143,\"G3\",\"\"))))))","v":""},"","","","",146]
[null,null,"","",{"$f":"'Mens TJ'!$E$29","v":4},{"$f":"IF('Mens TJ'!$I$26=0,\"\",'Mens TJ'!$F$29)","v":""},{"$f":"IF(OR($F147=\"\",$F147=0),\"\",IF($F147>90,VLOOKUP(F147,eventcodes,2,FALSE),HLOOKUP(F147,mens_declare,B146,FALSE)))","v":""},"",{"$f":"IF('Mens TJ'!$I$26=0,\"\",'Mens TJ'!$I$29)","v":""},null,null,{"$f":"IF(AA143=\"T\",AB147,AC147)","v":""},null,{"$f":"'Mens TJ'!$K$29","v":4},{"$f":"IF('Mens TJ'!$I$26=0,\"\",'Mens TJ'!$L$29)","v":""},{"$f":"IF(OR($O147=\"\",$O147=0),\"\",HLOOKUP(O147,mens_declare,B146,FALSE))","v":""},"",{"$f":"IF('Mens TJ'!$I$26=0,\"\",'Mens TJ'!$U$29)","v":""},null,{"$f":"IF(AA143=\"T\",AD147,AE147)","v":""},null,null,null,null,null,null,null,{"$f":"IF(I147=\"\",\"\",IF(AA143=\"F\",\"\",IF(AA143=\"T\",IF(I147<=X143,\"þ\",IF(I147<=Y143,\"G2\",IF(I147<=Z143,\"G3\",\"\"))))))","v":""},{"$f":"IF(I147=\"\",\"\",IF(AA143=\"T\",\"\",IF(AA143=\"F\",IF(I147>=X143,\"þ\",IF(I147>=Y143,\"G2\",IF(I147>=Z143,\"G3\",\"\"))))))","v":""},{"$f":"IF(R147=\"\",\"\",IF(AA143=\"F\",\"\",IF(AA143=\"T\",IF(R147<=X143,\"þ\",IF(R147<=Y143,\"G2\",IF(R147<=Z143,\"G3\",\"\"))))))","v":""},{"$f":"IF(R147=\"\",\"\",IF(AA143=\"T\",\"\",IF(AA143=\"F\",IF(R147>=X143,\"þ\",IF(R147>=Y143,\"G2\",IF(R147>=Z143,\"G3\",\"\"))))))","v":""},"","","","",147]
[null,null,"","",{"$f":"'Mens TJ'!$E$30","v":5},{"$f":"IF('Mens TJ'!$I$26=0,\"\",'Mens TJ'!$F$30)","v":""},{"$f":"IF(OR($F148=\"\",$F148=0),\"\",IF($F148>90,VLOOKUP(F148,eventcodes,2,FALSE),HLOOKUP(F148,mens_declare,B146,FALSE)))","v":""},"",{"$f":"IF('Mens TJ'!$I$26=0,\"\",'Mens TJ'!$I$30)","v":""},null,null,{"$f":"IF(AA143=\"T\",AB148,AC148)","v":""},null,{"$f":"'Mens TJ'!$K$30","v":5},{"$f":"IF('Mens TJ'!$I$26=0,\"\",'Mens TJ'!$L$30)","v":""},{"$f":"IF(OR($O148=\"\",$O148=0),\"\",HLOOKUP(O148,mens_declare,B146,FALSE))","v":""},"",{"$f":"IF('Mens TJ'!$I$26=0,\"\",'Mens TJ'!$U$30)","v":""},null,{"$f":"IF(AA143=\"T\",AD148,AE148)","v":""},null,null,null,null,null,null,null,{"$f":"IF(I148=\"\",\"\",IF(AA143=\"F\",\"\",IF(AA143=\"T\",IF(I148<=X143,\"þ\",IF(I148<=Y143,\"G2\",IF(I148<=Z143,\"G3\",\"\"))))))","v":""},{"$f":"IF(I148=\"\",\"\",IF(AA143=\"T\",\"\",IF(AA143=\"F\",IF(I148>=X143,\"þ\",IF(I148>=Y143,\"G2\",IF(I148>=Z143,\"G3\",\"\"))))))","v":""},{"$f":"IF(R148=\"\",\"\",IF(AA143=\"F\",\"\",IF(AA143=\"T\",IF(R148<=X143,\"þ\",IF(R148<=Y143,\"G2\",IF(R148<=Z143,\"G3\",\"\"))))))","v":""},{"$f":"IF(R148=\"\",\"\",IF(AA143=\"T\",\"\",IF(AA143=\"F\",IF(R148>=X143,\"þ\",IF(R148>=Y143,\"G2\",IF(R148>=Z143,\"G3\",\"\"))))))","v":""},"","","","",148]
[null,null,"","",{"$f":"'Mens TJ'!$E$31","v":6},{"$f":"IF('Mens TJ'!$I$26=0,\"\",'Mens TJ'!$F$31)","v":""},{"$f":"IF(OR($F149=\"\",$F149=0),\"\",IF($F149>90,VLOOKUP(F149,eventcodes,2,FALSE),HLOOKUP(F149,mens_declare,B146,FALSE)))","v":""},"",{"$f":"IF('Mens TJ'!$I$26=0,\"\",'Mens TJ'!$I$31)","v":""},null,null,{"$f":"IF(AA143=\"T\",AB149,AC149)","v":""},null,{"$f":"'Mens TJ'!$K$31","v":6},{"$f":"IF('Mens TJ'!$I$26=0,\"\",'Mens TJ'!$L$31)","v":""},{"$f":"IF(OR($O149=\"\",$O149=0),\"\",HLOOKUP(O149,mens_declare,B146,FALSE))","v":""},"",{"$f":"IF('Mens TJ'!$I$26=0,\"\",'Mens TJ'!$U$31)","v":""},null,{"$f":"IF(AA143=\"T\",AD149,AE149)","v":""},null,null,null,null,null,null,null,{"$f":"IF(I149=\"\",\"\",IF(AA143=\"F\",\"\",IF(AA143=\"T\",IF(I149<=X143,\"þ\",IF(I149<=Y143,\"G2\",IF(I149<=Z143,\"G3\",\"\"))))))","v":""},{"$f":"IF(I149=\"\",\"\",IF(AA143=\"T\",\"\",IF(AA143=\"F\",IF(I149>=X143,\"þ\",IF(I149>=Y143,\"G2\",IF(I149>=Z143,\"G3\",\"\"))))))","v":""},{"$f":"IF(R149=\"\",\"\",IF(AA143=\"F\",\"\",IF(AA143=\"T\",IF(R149<=X143,\"þ\",IF(R149<=Y143,\"G2\",IF(R149<=Z143,\"G3\",\"\"))))))","v":""},{"$f":"IF(R149=\"\",\"\",IF(AA143=\"T\",\"\",IF(AA143=\"F\",IF(R149>=X143,\"þ\",IF(R149>=Y143,\"G2\",IF(R149>=Z143,\"G3\",\"\"))))))","v":""},"","","","",149]
[null,null,"","",{"$f":"'Mens TJ'!$E$32","v":7},{"$f":"IF('Mens TJ'!$I$26=0,\"\",'Mens TJ'!$F$32)","v":""},{"$f":"IF(OR($F150=\"\",$F150=0),\"\",IF($F150>90,VLOOKUP(F150,eventcodes,2,FALSE),HLOOKUP(F150,mens_declare,B146,FALSE)))","v":""},"",{"$f":"IF('Mens TJ'!$I$26=0,\"\",'Mens TJ'!$I$32)","v":""},null,null,{"$f":"IF(AA143=\"T\",AB150,AC150)","v":""},null,{"$f":"'Mens TJ'!$K$32","v":7},{"$f":"IF('Mens TJ'!$I$26=0,\"\",'Mens TJ'!$L$32)","v":""},{"$f":"IF(OR($O150=\"\",$O150=0),\"\",HLOOKUP(O150,mens_declare,B146,FALSE))","v":""},"",{"$f":"IF('Mens TJ'!$I$26=0,\"\",'Mens TJ'!$U$32)","v":""},null,{"$f":"IF(AA143=\"T\",AD150,AE150)","v":""},null,null,null,null,null,null,null,{"$f":"IF(I150=\"\",\"\",IF(AA143=\"F\",\"\",IF(AA143=\"T\",IF(I150<=X143,\"þ\",IF(I150<=Y143,\"G2\",IF(I150<=Z143,\"G3\",\"\"))))))","v":""},{"$f":"IF(I150=\"\",\"\",IF(AA143=\"T\",\"\",IF(AA143=\"F\",IF(I150>=X143,\"þ\",IF(I150>=Y143,\"G2\",IF(I150>=Z143,\"G3\",\"\"))))))","v":""},{"$f":"IF(R150=\"\",\"\",IF(AA143=\"F\",\"\",IF(AA143=\"T\",IF(R150<=X143,\"þ\",IF(R150<=Y143,\"G2\",IF(R150<=Z143,\"G3\",\"\"))))))","v":""},{"$f":"IF(R150=\"\",\"\",IF(AA143=\"T\",\"\",IF(AA143=\"F\",IF(R150>=X143,\"þ\",IF(R150>=Y143,\"G2\",IF(R150>=Z143,\"G3\",\"\"))))))","v":""},"","","","",150]
[null,null,"","",{"$f":"'Mens TJ'!$E$33","v":8},{"$f":"IF('Mens TJ'!$I$26=0,\"\",'Mens TJ'!$F$33)","v":""},{"$f":"IF(OR($F151=\"\",$F151=0),\"\",IF($F151>90,VLOOKUP(F151,eventcodes,2,FALSE),HLOOKUP(F151,mens_declare,B146,FALSE)))","v":""},"",{"$f":"IF('Mens TJ'!$I$26=0,\"\",'Mens TJ'!$I$33)","v":""},null,null,{"$f":"IF(AA143=\"T\",AB151,AC151)","v":""},null,{"$f":"'Mens TJ'!$K$33","v":8},{"$f":"IF('Mens TJ'!$I$26=0,\"\",'Mens TJ'!$L$33)","v":""},{"$f":"IF(OR($O151=\"\",$O151=0),\"\",HLOOKUP(O151,mens_declare,B146,FALSE))","v":""},"",{"$f":"IF('Mens TJ'!$I$26=0,\"\",'Mens TJ'!$U$33)","v":""},null,{"$f":"IF(AA143=\"T\",AD151,AE151)","v":""},null,null,null,null,null,null,null,{"$f":"IF(I151=\"\",\"\",IF(AA143=\"F\",\"\",IF(AA143=\"T\",IF(I151<=X143,\"þ\",IF(I151<=Y143,\"G2\",IF(I151<=Z143,\"G3\",\"\"))))))","v":""},{"$f":"IF(I151=\"\",\"\",IF(AA143=\"T\",\"\",IF(AA143=\"F\",IF(I151>=X143,\"þ\",IF(I151>=Y143,\"G2\",IF(I151>=Z143,\"G3\",\"\"))))))","v":""},{"$f":"IF(R151=\"\",\"\",IF(AA143=\"F\",\"\",IF(AA143=\"T\",IF(R151<=X143,\"þ\",IF(R151<=Y143,\"G2\",IF(R151<=Z143,\"G3\",\"\"))))))","v":""},{"$f":"IF(R151=\"\",\"\",IF(AA143=\"T\",\"\",IF(AA143=\"F\",IF(R151>=X143,\"þ\",IF(R151>=Y143,\"G2\",IF(R151>=Z143,\"G3\",\"\"))))))","v":""},"","","","",151]
[null,null,null,null,null,null,null,null,null,null,null,null,null,null,null,null,null,null,null,null,null,null,null,null,null,null,null,null,null,null,null,null,null,null,null,152]
[null,null,{"$f":"VLOOKUP(A154,Handbook!$A$4:$AK$24,36,FALSE)","v":"H"},null,{"$f":"CONCATENATE(VLOOKUP(A154,mens_handbook,3,FALSE),\" A\")","v":"Men's High Jump A"},null,null,{"$f":"IF(A154=\"\",\"\",IF(VLOOKUP(A154,Handbook!$A$4:$AI$24,35,FALSE)=\"Y\",\"Wind=\",\"\"))","v":""},null,null,null,null,null,null,{"$f":"CONCATENATE(VLOOKUP(A154,mens_handbook,3,FALSE),\" B\")","v":"Men's High Jump B"},null,{"$f":"H153","v":""},{"$f":"IF(I153=\"\",\"\",I153)","v":""},null,null,null,{"$f":"IF($A154=\"\",\"\",VLOOKUP($A154,Handbook!$A$4:$V$24,21,FALSE))","v":2.2000000000000002},{"$f":"IF($A154=\"\",\"\",VLOOKUP($A154,Handbook!$A$4:$V$24,22,FALSE))","v":2.2000000000000002},{"$f":"IF($A154=\"\",\"\",VLOOKUP($A154,Handbook!$A$4:$W$24,23,FALSE))","v":1.73},{"$f":"IF($A154=\"\",\"\",VLOOKUP($A154,Handbook!$A$4:$X$24,24,FALSE))","v":1.9},{"$f":"IF($A154=\"\",\"\",VLOOKUP($A154,Handbook!$A$4:$Y$24,25,FALSE))","v":1.9},{"$f":"IF($A154=\"\",\"\",VLOOKUP($A154,Handbook!$A$4:$AH$24,34,FALSE))","v":"F"},null,null,null,null,null,null,null,null,153]
[14,null,{"$f":"IF(F154=\"\",\"\",IF(F154>10,F154/11,F154))","v":""},{"$f":"IF(O154=\"\",\"\",IF(O154>10,O154/11,O154))","v":""},{"$f":"'Mens HJ'!$E26","v":""},{"$f":"IF('Mens HJ'!$I$26=0,\"\",'Mens HJ'!$F26)","v":""},{"$f":"IF($F154=\"\",\"\",IF($F154>90,VLOOKUP(F154,eventcodes,2,FALSE),HLOOKUP(F154,mens_declare,B156,FALSE)))","v":""},{"$f":"IF($F154=\"\",\"\",IF($F154>90,\"\",VLOOKUP(C154,matchday,2,FALSE)))","v":""},{"$f":"IF('Mens HJ'!$I$26=0,\"\",'Mens HJ'!$I26)","v":""},{"$f":"IF(I154=\"\",\"\",IF(AA153=\"T\",V154,V155))","v":""},null,{"$f":"IF(AA153=\"T\",AB154,AC154)","v":""},null,{"$f":"'Mens HJ'!$K26","v":""},{"$f":"IF('Mens HJ'!$I$26=0,\"\",'Mens HJ'!$M26)","v":""},{"$f":"IF($O154=\"\",\"\",HLOOKUP(O154,mens_declare,B156,FALSE))","v":""},{"$f":"IF($O154=\"\",\"\",VLOOKUP(D154,matchday,2,FALSE))","v":""},{"$f":"IF('Mens HJ'!$I$26=0,\"\",'Mens HJ'!$AA26)","v":""},null,{"$f":"IF(AA153=\"T\",AD154,AE154)","v":""},null,{"$f":"IF(AA153=\"F\",\"\",IF(I154<V153,\"LR\",IF(I154=V153,\"=LR\",IF(I154<W153,\"DR\",IF(I154=W153,\"=DR\",\"\")))))","v":""},null,null,null,null,null,{"$f":"IF(I154=\"\",\"\",IF(AA153=\"F\",\"\",IF(AA153=\"T\",IF(I154<=X153,\"þ\",IF(I154<=Y153,\"G2\",IF(I154<=Z153,\"G3\",\"\"))))))","v":""},{"$f":"IF(I154=\"\",\"\",IF(AA153=\"T\",\"\",IF(AA153=\"F\",IF(I154>=X153,\"þ\",IF(I154>=Y153,\"G2\",IF(I154>=Z153,\"G3\",\"\"))))))","v":""},{"$f":"IF(R154=\"\",\"\",IF(AA153=\"F\",\"\",IF(AA153=\"T\",IF(R154<=X153,\"þ\",IF(R154<=Y153,\"G2\",IF(R154<=Z153,\"G3\",\"\"))))))","v":""},{"$f":"IF(R154=\"\",\"\",IF(AA153=\"T\",\"\",IF(AA153=\"F\",IF(R154>=X153,\"þ\",IF(R154>=Y153,\"G2\",IF(R154>=Z153,\"G3\",\"\"))))))","v":""},{"$f":"C154","v":""},{"$f":"IF(F154=\"\",\"\",IF(LEFT(I154,1)=\"D\",0,VLOOKUP(E154,$AQ$4:$AR$40,2,FALSE)))","v":""},{"$f":"D154","v":""},{"$f":"IF(O154=\"\",\"\",IF(LEFT(R154,1)=\"D\",0,VLOOKUP(N154,$AQ$4:$AS$40,3,FALSE)))","v":""},154]
[null,{"$f":"VLOOKUP(A154,Handbook!$A$4:$AK$24,37,FALSE)","v":15},{"$f":"IF(F155=\"\",\"\",IF(F155>10,F155/11,F155))","v":""},{"$f":"IF(O155=\"\",\"\",IF(O155>10,O155/11,O155))","v":""},{"$f":"'Mens HJ'!$E27","v":""},{"$f":"IF('Mens HJ'!$I$26=0,\"\",'Mens HJ'!$F27)","v":""},{"$f":"IF($F155=\"\",\"\",HLOOKUP(F155,mens_declare,B156,FALSE))","v":""},{"$f":"IF($F155=\"\",\"\",IF($F155=9,\"\",VLOOKUP(C155,matchday,2,FALSE)))","v":""},{"$f":"IF('Mens HJ'!$I$26=0,\"\",'Mens HJ'!$I27)","v":""},null,null,{"$f":"IF(AA153=\"T\",AB155,AC155)","v":""},null,{"$f":"'Mens HJ'!$K27","v":""},{"$f":"IF('Mens HJ'!$I$26=0,\"\",'Mens HJ'!$M27)","v":""},{"$f":"IF($O155=\"\",\"\",HLOOKUP(O155,mens_declare,B156,FALSE))","v":""},"",{"$f":"IF('Mens HJ'!$I$26=0,\"\",'Mens HJ'!$AA27)","v":""},null,{"$f":"IF(AA153=\"T\",AD155,AE155)","v":""},null,{"$f":"IF(AA153=\"T\",\"\",IF(I154>V153,\"LR\",IF(I154=V153,\"=LR\",IF(I154>W153,\"DR\",IF(I154=W153,\"=DR\",\"\")))))","v":"LR"},null,null,null,null,null,{"$f":"IF(I155=\"\",\"\",IF(AA153=\"F\",\"\",IF(AA153=\"T\",IF(I155<=X153,\"þ\",IF(I155<=Y153,\"G2\",IF(I155<=Z153,\"G3\",\"\"))))))","v":""},{"$f":"IF(I155=\"\",\"\",IF(AA153=\"T\",\"\",IF(AA153=\"F\",IF(I155>=X153,\"þ\",IF(I155>=Y153,\"G2\",IF(I155>=Z153,\"G3\",\"\"))))))","v":""},{"$f":"IF(R155=\"\",\"\",IF(AA153=\"F\",\"\",IF(AA153=\"T\",IF(R155<=X153,\"þ\",IF(R155<=Y153,\"G2\",IF(R155<=Z153,\"G3\",\"\"))))))","v":""},{"$f":"IF(R155=\"\",\"\",IF(AA153=\"T\",\"\",IF(AA153=\"F\",IF(R155>=X153,\"þ\",IF(R155>=Y153,\"G2\",IF(R155>=Z153,\"G3\",\"\"))))))","v":""},{"$f":"C155","v":""},"",{"$f":"D155","v":""},"",155]
[null,{"$f":"VLOOKUP(A154,mens_declare,20,FALSE)","v":15},"","",{"$f":"'Mens HJ'!$E28","v":""},{"$f":"IF('Mens HJ'!$I$26=0,\"\",'Mens HJ'!$F28)","v":""},{"$f":"IF($F156=\"\",\"\",HLOOKUP(F156,mens_declare,B156,FALSE))","v":""},"",{"$f":"IF('Mens HJ'!$I$26=0,\"\",'Mens HJ'!$I28)","v":""},null,null,{"$f":"IF(AA153=\"T\",AB156,AC156)","v":""},null,{"$f":"'Mens HJ'!$K28","v":""},{"$f":"IF('Mens HJ'!$I$26=0,\"\",'Mens HJ'!$M28)","v":""},{"$f":"IF($O156=\"\",\"\",HLOOKUP(O156,mens_declare,B156,FALSE))","v":""},"",{"$f":"IF('Mens HJ'!$I$26=0,\"\",'Mens HJ'!$AA28)","v":""},null,{"$f":"IF(AA153=\"T\",AD156,AE156)","v":""},null,null,null,null,null,null,null,{"$f":"IF(I156=\"\",\"\",IF(AA153=\"F\",\"\",IF(AA153=\"T\",IF(I156<=X153,\"þ\",IF(I156<=Y153,\"G2\",IF(I156<=Z153,\"G3\",\"\"))))))","v":""},{"$f":"IF(I156=\"\",\"\",IF(AA153=\"T\",\"\",IF(AA153=\"F\",IF(I156>=X153,\"þ\",IF(I156>=Y153,\"G2\",IF(I156>=Z153,\"G3\",\"\"))))))","v":""},{"$f":"IF(R156=\"\",\"\",IF(AA153=\"F\",\"\",IF(AA153=\"T\",IF(R156<=X153,\"þ\",IF(R156<=Y153,\"G2\",IF(R156<=Z153,\"G3\",\"\"))))))","v":""},{"$f":"IF(R156=\"\",\"\",IF(AA153=\"T\",\"\",IF(AA153=\"F\",IF(R156>=X153,\"þ\",IF(R156>=Y153,\"G2\",IF(R156>=Z153,\"G3\",\"\"))))))","v":""},"","","","",156]
[null,null,"","",{"$f":"'Mens HJ'!$E29","v":""},{"$f":"IF('Mens HJ'!$I$26=0,\"\",'Mens HJ'!$F29)","v":""},{"$f":"IF($F157=\"\",\"\",HLOOKUP(F157,mens_declare,B156,FALSE))","v":""},"",{"$f":"IF('Mens HJ'!$I$26=0,\"\",'Mens HJ'!$I29)","v":""},null,null,{"$f":"IF(AA153=\"T\",AB157,AC157)","v":""},null,{"$f":"'Mens HJ'!$K29","v":""},{"$f":"IF('Mens HJ'!$I$26=0,\"\",'Mens HJ'!$M29)","v":""},{"$f":"IF($O157=\"\",\"\",HLOOKUP(O157,mens_declare,B156,FALSE))","v":""},"",{"$f":"IF('Mens HJ'!$I$26=0,\"\",'Mens HJ'!$AA29)","v":""},null,{"$f":"IF(AA153=\"T\",AD157,AE157)","v":""},null,null,null,null,null,null,null,{"$f":"IF(I157=\"\",\"\",IF(AA153=\"F\",\"\",IF(AA153=\"T\",IF(I157<=X153,\"þ\",IF(I157<=Y153,\"G2\",IF(I157<=Z153,\"G3\",\"\"))))))","v":""},{"$f":"IF(I157=\"\",\"\",IF(AA153=\"T\",\"\",IF(AA153=\"F\",IF(I157>=X153,\"þ\",IF(I157>=Y153,\"G2\",IF(I157>=Z153,\"G3\",\"\"))))))","v":""},{"$f":"IF(R157=\"\",\"\",IF(AA153=\"F\",\"\",IF(AA153=\"T\",IF(R157<=X153,\"þ\",IF(R157<=Y153,\"G2\",IF(R157<=Z153,\"G3\",\"\"))))))","v":""},{"$f":"IF(R157=\"\",\"\",IF(AA153=\"T\",\"\",IF(AA153=\"F\",IF(R157>=X153,\"þ\",IF(R157>=Y153,\"G2\",IF(R157>=Z153,\"G3\",\"\"))))))","v":""},"","","","",157]
[null,null,"","",{"$f":"'Mens HJ'!$E30","v":""},{"$f":"IF('Mens HJ'!$I$26=0,\"\",'Mens HJ'!$F30)","v":""},{"$f":"IF($F158=\"\",\"\",HLOOKUP(F158,mens_declare,B156,FALSE))","v":""},"",{"$f":"IF('Mens HJ'!$I$26=0,\"\",'Mens HJ'!$I30)","v":""},null,null,{"$f":"IF(AA153=\"T\",AB158,AC158)","v":""},null,{"$f":"'Mens HJ'!$K30","v":""},{"$f":"IF('Mens HJ'!$I$26=0,\"\",'Mens HJ'!$M30)","v":""},{"$f":"IF($O158=\"\",\"\",HLOOKUP(O158,mens_declare,B156,FALSE))","v":""},"",{"$f":"IF('Mens HJ'!$I$26=0,\"\",'Mens HJ'!$AA30)","v":""},null,{"$f":"IF(AA153=\"T\",AD158,AE158)","v":""},null,null,null,null,null,null,null,{"$f":"IF(I158=\"\",\"\",IF(AA153=\"F\",\"\",IF(AA153=\"T\",IF(I158<=X153,\"þ\",IF(I158<=Y153,\"G2\",IF(I158<=Z153,\"G3\",\"\"))))))","v":""},{"$f":"IF(I158=\"\",\"\",IF(AA153=\"T\",\"\",IF(AA153=\"F\",IF(I158>=X153,\"þ\",IF(I158>=Y153,\"G2\",IF(I158>=Z153,\"G3\",\"\"))))))","v":""},{"$f":"IF(R158=\"\",\"\",IF(AA153=\"F\",\"\",IF(AA153=\"T\",IF(R158<=X153,\"þ\",IF(R158<=Y153,\"G2\",IF(R158<=Z153,\"G3\",\"\"))))))","v":""},{"$f":"IF(R158=\"\",\"\",IF(AA153=\"T\",\"\",IF(AA153=\"F\",IF(R158>=X153,\"þ\",IF(R158>=Y153,\"G2\",IF(R158>=Z153,\"G3\",\"\"))))))","v":""},"","","","",158]
[null,null,"","",{"$f":"'Mens HJ'!$E31","v":""},{"$f":"IF('Mens HJ'!$I$26=0,\"\",'Mens HJ'!$F31)","v":""},{"$f":"IF($F159=\"\",\"\",HLOOKUP(F159,mens_declare,B156,FALSE))","v":""},"",{"$f":"IF('Mens HJ'!$I$26=0,\"\",'Mens HJ'!$I31)","v":""},null,null,{"$f":"IF(AA153=\"T\",AB159,AC159)","v":""},null,{"$f":"'Mens HJ'!$K31","v":""},{"$f":"IF('Mens HJ'!$I$26=0,\"\",'Mens HJ'!$M31)","v":""},{"$f":"IF($O159=\"\",\"\",HLOOKUP(O159,mens_declare,B156,FALSE))","v":""},"",{"$f":"IF('Mens HJ'!$I$26=0,\"\",'Mens HJ'!$AA31)","v":""},null,{"$f":"IF(AA153=\"T\",AD159,AE159)","v":""},null,null,null,null,null,null,null,{"$f":"IF(I159=\"\",\"\",IF(AA153=\"F\",\"\",IF(AA153=\"T\",IF(I159<=X153,\"þ\",IF(I159<=Y153,\"G2\",IF(I159<=Z153,\"G3\",\"\"))))))","v":""},{"$f":"IF(I159=\"\",\"\",IF(AA153=\"T\",\"\",IF(AA153=\"F\",IF(I159>=X153,\"þ\",IF(I159>=Y153,\"G2\",IF(I159>=Z153,\"G3\",\"\"))))))","v":""},{"$f":"IF(R159=\"\",\"\",IF(AA153=\"F\",\"\",IF(AA153=\"T\",IF(R159<=X153,\"þ\",IF(R159<=Y153,\"G2\",IF(R159<=Z153,\"G3\",\"\"))))))","v":""},{"$f":"IF(R159=\"\",\"\",IF(AA153=\"T\",\"\",IF(AA153=\"F\",IF(R159>=X153,\"þ\",IF(R159>=Y153,\"G2\",IF(R159>=Z153,\"G3\",\"\"))))))","v":""},"","","","",159]
[null,null,"","",{"$f":"'Mens HJ'!$E32","v":""},{"$f":"IF('Mens HJ'!$I$26=0,\"\",'Mens HJ'!$F32)","v":""},{"$f":"IF($F160=\"\",\"\",HLOOKUP(F160,mens_declare,B156,FALSE))","v":""},"",{"$f":"IF('Mens HJ'!$I$26=0,\"\",'Mens HJ'!$I32)","v":""},null,null,{"$f":"IF(AA153=\"T\",AB160,AC160)","v":""},null,{"$f":"'Mens HJ'!$K32","v":""},{"$f":"IF('Mens HJ'!$I$26=0,\"\",'Mens HJ'!$M32)","v":""},{"$f":"IF($O160=\"\",\"\",HLOOKUP(O160,mens_declare,B156,FALSE))","v":""},"",{"$f":"IF('Mens HJ'!$I$26=0,\"\",'Mens HJ'!$AA32)","v":""},null,{"$f":"IF(AA153=\"T\",AD160,AE160)","v":""},null,null,null,null,null,null,null,{"$f":"IF(I160=\"\",\"\",IF(AA153=\"F\",\"\",IF(AA153=\"T\",IF(I160<=X153,\"þ\",IF(I160<=Y153,\"G2\",IF(I160<=Z153,\"G3\",\"\"))))))","v":""},{"$f":"IF(I160=\"\",\"\",IF(AA153=\"T\",\"\",IF(AA153=\"F\",IF(I160>=X153,\"þ\",IF(I160>=Y153,\"G2\",IF(I160>=Z153,\"G3\",\"\"))))))","v":""},{"$f":"IF(R160=\"\",\"\",IF(AA153=\"F\",\"\",IF(AA153=\"T\",IF(R160<=X153,\"þ\",IF(R160<=Y153,\"G2\",IF(R160<=Z153,\"G3\",\"\"))))))","v":""},{"$f":"IF(R160=\"\",\"\",IF(AA153=\"T\",\"\",IF(AA153=\"F\",IF(R160>=X153,\"þ\",IF(R160>=Y153,\"G2\",IF(R160>=Z153,\"G3\",\"\"))))))","v":""},"","","","",160]
[null,null,"","",{"$f":"'Mens HJ'!$E33","v":""},{"$f":"IF('Mens HJ'!$I$26=0,\"\",'Mens HJ'!$F33)","v":""},{"$f":"IF($F161=\"\",\"\",HLOOKUP(F161,mens_declare,B156,FALSE))","v":""},"",{"$f":"IF('Mens HJ'!$I$26=0,\"\",'Mens HJ'!$I33)","v":""},null,null,{"$f":"IF(AA153=\"T\",AB161,AC161)","v":""},null,{"$f":"'Mens HJ'!$K33","v":""},{"$f":"IF('Mens HJ'!$I$26=0,\"\",'Mens HJ'!$M33)","v":""},{"$f":"IF($O161=\"\",\"\",HLOOKUP(O161,mens_declare,B156,FALSE))","v":""},"",{"$f":"IF('Mens HJ'!$I$26=0,\"\",'Mens HJ'!$AA33)","v":""},null,{"$f":"IF(AA153=\"T\",AD161,AE161)","v":""},null,null,null,null,null,null,null,{"$f":"IF(I161=\"\",\"\",IF(AA153=\"F\",\"\",IF(AA153=\"T\",IF(I161<=X153,\"þ\",IF(I161<=Y153,\"G2\",IF(I161<=Z153,\"G3\",\"\"))))))","v":""},{"$f":"IF(I161=\"\",\"\",IF(AA153=\"T\",\"\",IF(AA153=\"F\",IF(I161>=X153,\"þ\",IF(I161>=Y153,\"G2\",IF(I161>=Z153,\"G3\",\"\"))))))","v":""},{"$f":"IF(R161=\"\",\"\",IF(AA153=\"F\",\"\",IF(AA153=\"T\",IF(R161<=X153,\"þ\",IF(R161<=Y153,\"G2\",IF(R161<=Z153,\"G3\",\"\"))))))","v":""},{"$f":"IF(R161=\"\",\"\",IF(AA153=\"T\",\"\",IF(AA153=\"F\",IF(R161>=X153,\"þ\",IF(R161>=Y153,\"G2\",IF(R161>=Z153,\"G3\",\"\"))))))","v":""},"","","","",161]
[null,null,null,null,null,null,null,null,null,null,null,null,null,null,null,null,null,null,null,null,null,null,null,null,null,null,null,null,null,null,null,null,null,null,null,162]
[null,null,{"$f":"VLOOKUP(A164,Handbook!$A$4:$AK$24,36,FALSE)","v":"H"},null,{"$f":"CONCATENATE(VLOOKUP(A164,mens_handbook,3,FALSE),\" A\")","v":"Men's Pole Vault A"},null,null,{"$f":"IF(A164=\"\",\"\",IF(VLOOKUP(A164,Handbook!$A$4:$AI$24,35,FALSE)=\"Y\",\"Wind=\",\"\"))","v":""},null,null,null,null,null,null,{"$f":"CONCATENATE(VLOOKUP(A164,mens_handbook,3,FALSE),\" B\")","v":"Men's Pole Vault B"},null,{"$f":"H163","v":""},{"$f":"IF(I163=\"\",\"\",I163)","v":""},null,null,null,{"$f":"IF($A164=\"\",\"\",VLOOKUP($A164,Handbook!$A$4:$V$24,21,FALSE))","v":5.3},{"$f":"IF($A164=\"\",\"\",VLOOKUP($A164,Handbook!$A$4:$V$24,22,FALSE))","v":5.15},{"$f":"IF($A164=\"\",\"\",VLOOKUP($A164,Handbook!$A$4:$W$24,23,FALSE))","v":3},{"$f":"IF($A164=\"\",\"\",VLOOKUP($A164,Handbook!$A$4:$X$24,24,FALSE))","v":3.7},{"$f":"IF($A164=\"\",\"\",VLOOKUP($A164,Handbook!$A$4:$Y$24,25,FALSE))","v":3.7},{"$f":"IF($A164=\"\",\"\",VLOOKUP($A164,Handbook!$A$4:$AH$24,34,FALSE))","v":"F"},null,null,null,null,null,null,null,null,163]
[12,null,{"$f":"IF(F164=\"\",\"\",IF(F164>10,F164/11,F164))","v":""},{"$f":"IF(O164=\"\",\"\",IF(O164>10,O164/11,O164))","v":""},{"$f":"'Mens PV'!$E26","v":""},{"$f":"IF('Mens PV'!$I$26=0,\"\",'Mens PV'!F26)","v":""},{"$f":"IF($F164=\"\",\"\",IF($F164>90,VLOOKUP(F164,eventcodes,2,FALSE),HLOOKUP(F164,mens_declare,B166,FALSE)))","v":""},{"$f":"IF($F164=\"\",\"\",IF($F164>90,\"\",VLOOKUP(C164,matchday,2,FALSE)))","v":""},{"$f":"IF('Mens PV'!$I$26=0,\"\",'Mens PV'!$I26)","v":""},{"$f":"IF(I164=\"\",\"\",IF(AA163=\"T\",V164,V165))","v":""},null,{"$f":"IF(AA163=\"T\",AB164,AC164)","v":""},null,{"$f":"'Mens PV'!$K26","v":""},{"$f":"IF('Mens PV'!$I$26=0,\"\",'Mens PV'!$M26)","v":""},{"$f":"IF($O164=\"\",\"\",HLOOKUP(O164,mens_declare,B166,FALSE))","v":""},{"$f":"IF($O164=\"\",\"\",VLOOKUP(D164,matchday,2,FALSE))","v":""},{"$f":"IF('Mens PV'!$I$26=0,\"\",'Mens PV'!$AA26)","v":""},null,{"$f":"IF(AA163=\"T\",AD164,AE164)","v":""},null,{"$f":"IF(AA163=\"F\",\"\",IF(I164<V163,\"LR\",IF(I164=V163,\"=LR\",IF(I164<W163,\"DR\",IF(I164=W163,\"=DR\",\"\")))))","v":""},null,null,null,null,null,{"$f":"IF(I164=\"\",\"\",IF(AA163=\"F\",\"\",IF(AA163=\"T\",IF(I164<=X163,\"þ\",IF(I164<=Y163,\"G2\",IF(I164<=Z163,\"G3\",\"\"))))))","v":""},{"$f":"IF(I164=\"\",\"\",IF(AA163=\"T\",\"\",IF(AA163=\"F\",IF(I164>=X163,\"þ\",IF(I164>=Y163,\"G2\",IF(I164>=Z163,\"G3\",\"\"))))))","v":""},{"$f":"IF(R164=\"\",\"\",IF(AA163=\"F\",\"\",IF(AA163=\"T\",IF(R164<=X163,\"þ\",IF(R164<=Y163,\"G2\",IF(R164<=Z163,\"G3\",\"\"))))))","v":""},{"$f":"IF(R164=\"\",\"\",IF(AA163=\"T\",\"\",IF(AA163=\"F\",IF(R164>=X163,\"þ\",IF(R164>=Y163,\"G2\",IF(R164>=Z163,\"G3\",\"\"))))))","v":""},{"$f":"C164","v":""},{"$f":"IF(F164=\"\",\"\",IF(LEFT(I164,1)=\"D\",0,VLOOKUP(E164,$AQ$4:$AR$40,2,FALSE)))","v":""},{"$f":"D164","v":""},{"$f":"IF(O164=\"\",\"\",IF(LEFT(R164,1)=\"D\",0,VLOOKUP(N164,$AQ$4:$AS$40,3,FALSE)))","v":""},164]
[null,{"$f":"VLOOKUP(A164,Handbook!$A$4:$AK$24,37,FALSE)","v":13},{"$f":"IF(F165=\"\",\"\",IF(F165>10,F165/11,F165))","v":""},{"$f":"IF(O165=\"\",\"\",IF(O165>10,O165/11,O165))","v":""},{"$f":"'Mens PV'!$E27","v":""},{"$f":"IF('Mens PV'!$I$26=0,\"\",'Mens PV'!F27)","v":""},{"$f":"IF($F165=\"\",\"\",HLOOKUP(F165,mens_declare,B166,FALSE))","v":""},{"$f":"IF($F165=\"\",\"\",IF($F165=9,\"\",VLOOKUP(C165,matchday,2,FALSE)))","v":""},{"$f":"IF('Mens PV'!$I$26=0,\"\",'Mens PV'!$I27)","v":""},null,null,{"$f":"IF(AA163=\"T\",AB165,AC165)","v":""},null,{"$f":"'Mens PV'!$K27","v":""},{"$f":"IF('Mens PV'!$I$26=0,\"\",'Mens PV'!$M27)","v":""},{"$f":"IF($O165=\"\",\"\",HLOOKUP(O165,mens_declare,B166,FALSE))","v":""},"",{"$f":"IF('Mens PV'!$I$26=0,\"\",'Mens PV'!$AA27)","v":""},null,{"$f":"IF(AA163=\"T\",AD165,AE165)","v":""},null,{"$f":"IF(AA163=\"T\",\"\",IF(I164>V163,\"LR\",IF(I164=V163,\"=LR\",IF(I164>W163,\"DR\",IF(I164=W163,\"=DR\",\"\")))))","v":"LR"},null,null,null,null,null,{"$f":"IF(I165=\"\",\"\",IF(AA163=\"F\",\"\",IF(AA163=\"T\",IF(I165<=X163,\"þ\",IF(I165<=Y163,\"G2\",IF(I165<=Z163,\"G3\",\"\"))))))","v":""},{"$f":"IF(I165=\"\",\"\",IF(AA163=\"T\",\"\",IF(AA163=\"F\",IF(I165>=X163,\"þ\",IF(I165>=Y163,\"G2\",IF(I165>=Z163,\"G3\",\"\"))))))","v":""},{"$f":"IF(R165=\"\",\"\",IF(AA163=\"F\",\"\",IF(AA163=\"T\",IF(R165<=X163,\"þ\",IF(R165<=Y163,\"G2\",IF(R165<=Z163,\"G3\",\"\"))))))","v":""},{"$f":"IF(R165=\"\",\"\",IF(AA163=\"T\",\"\",IF(AA163=\"F\",IF(R165>=X163,\"þ\",IF(R165>=Y163,\"G2\",IF(R165>=Z163,\"G3\",\"\"))))))","v":""},{"$f":"C165","v":""},"",{"$f":"D165","v":""},"",165]
[null,{"$f":"VLOOKUP(A164,mens_declare,20,FALSE)","v":13},"","",{"$f":"'Mens PV'!$E28","v":""},{"$f":"IF('Mens PV'!$I$26=0,\"\",'Mens PV'!F28)","v":""},{"$f":"IF($F166=\"\",\"\",HLOOKUP(F166,mens_declare,B166,FALSE))","v":""},"",{"$f":"IF('Mens PV'!$I$26=0,\"\",'Mens PV'!$I28)","v":""},null,null,{"$f":"IF(AA163=\"T\",AB166,AC166)","v":""},null,{"$f":"'Mens PV'!$K28","v":""},{"$f":"IF('Mens PV'!$I$26=0,\"\",'Mens PV'!$M28)","v":""},{"$f":"IF($O166=\"\",\"\",HLOOKUP(O166,mens_declare,B166,FALSE))","v":""},"",{"$f":"IF('Mens PV'!$I$26=0,\"\",'Mens PV'!$AA28)","v":""},null,{"$f":"IF(AA163=\"T\",AD166,AE166)","v":""},null,null,null,null,null,null,null,{"$f":"IF(I166=\"\",\"\",IF(AA163=\"F\",\"\",IF(AA163=\"T\",IF(I166<=X163,\"þ\",IF(I166<=Y163,\"G2\",IF(I166<=Z163,\"G3\",\"\"))))))","v":""},{"$f":"IF(I166=\"\",\"\",IF(AA163=\"T\",\"\",IF(AA163=\"F\",IF(I166>=X163,\"þ\",IF(I166>=Y163,\"G2\",IF(I166>=Z163,\"G3\",\"\"))))))","v":""},{"$f":"IF(R166=\"\",\"\",IF(AA163=\"F\",\"\",IF(AA163=\"T\",IF(R166<=X163,\"þ\",IF(R166<=Y163,\"G2\",IF(R166<=Z163,\"G3\",\"\"))))))","v":""},{"$f":"IF(R166=\"\",\"\",IF(AA163=\"T\",\"\",IF(AA163=\"F\",IF(R166>=X163,\"þ\",IF(R166>=Y163,\"G2\",IF(R166>=Z163,\"G3\",\"\"))))))","v":""},"","","","",166]
[null,null,"","",{"$f":"'Mens PV'!$E29","v":""},{"$f":"IF('Mens PV'!$I$26=0,\"\",'Mens PV'!F29)","v":""},{"$f":"IF($F167=\"\",\"\",HLOOKUP(F167,mens_declare,B166,FALSE))","v":""},"",{"$f":"IF('Mens PV'!$I$26=0,\"\",'Mens PV'!$I29)","v":""},null,null,{"$f":"IF(AA163=\"T\",AB167,AC167)","v":""},null,{"$f":"'Mens PV'!$K29","v":""},{"$f":"IF('Mens PV'!$I$26=0,\"\",'Mens PV'!$M29)","v":""},{"$f":"IF($O167=\"\",\"\",HLOOKUP(O167,mens_declare,B166,FALSE))","v":""},"",{"$f":"IF('Mens PV'!$I$26=0,\"\",'Mens PV'!$AA29)","v":""},null,{"$f":"IF(AA163=\"T\",AD167,AE167)","v":""},null,null,null,null,null,null,null,{"$f":"IF(I167=\"\",\"\",IF(AA163=\"F\",\"\",IF(AA163=\"T\",IF(I167<=X163,\"þ\",IF(I167<=Y163,\"G2\",IF(I167<=Z163,\"G3\",\"\"))))))","v":""},{"$f":"IF(I167=\"\",\"\",IF(AA163=\"T\",\"\",IF(AA163=\"F\",IF(I167>=X163,\"þ\",IF(I167>=Y163,\"G2\",IF(I167>=Z163,\"G3\",\"\"))))))","v":""},{"$f":"IF(R167=\"\",\"\",IF(AA163=\"F\",\"\",IF(AA163=\"T\",IF(R167<=X163,\"þ\",IF(R167<=Y163,\"G2\",IF(R167<=Z163,\"G3\",\"\"))))))","v":""},{"$f":"IF(R167=\"\",\"\",IF(AA163=\"T\",\"\",IF(AA163=\"F\",IF(R167>=X163,\"þ\",IF(R167>=Y163,\"G2\",IF(R167>=Z163,\"G3\",\"\"))))))","v":""},"","","","",167]
[null,null,"","",{"$f":"'Mens PV'!$E30","v":""},{"$f":"IF('Mens PV'!$I$26=0,\"\",'Mens PV'!F30)","v":""},{"$f":"IF($F168=\"\",\"\",HLOOKUP(F168,mens_declare,B166,FALSE))","v":""},"",{"$f":"IF('Mens PV'!$I$26=0,\"\",'Mens PV'!$I30)","v":""},null,null,{"$f":"IF(AA163=\"T\",AB168,AC168)","v":""},null,{"$f":"'Mens PV'!$K30","v":""},{"$f":"IF('Mens PV'!$I$26=0,\"\",'Mens PV'!$M30)","v":""},{"$f":"IF($O168=\"\",\"\",HLOOKUP(O168,mens_declare,B166,FALSE))","v":""},"",{"$f":"IF('Mens PV'!$I$26=0,\"\",'Mens PV'!$AA30)","v":""},null,{"$f":"IF(AA163=\"T\",AD168,AE168)","v":""},null,null,null,null,null,null,null,{"$f":"IF(I168=\"\",\"\",IF(AA163=\"F\",\"\",IF(AA163=\"T\",IF(I168<=X163,\"þ\",IF(I168<=Y163,\"G2\",IF(I168<=Z163,\"G3\",\"\"))))))","v":""},{"$f":"IF(I168=\"\",\"\",IF(AA163=\"T\",\"\",IF(AA163=\"F\",IF(I168>=X163,\"þ\",IF(I168>=Y163,\"G2\",IF(I168>=Z163,\"G3\",\"\"))))))","v":""},{"$f":"IF(R168=\"\",\"\",IF(AA163=\"F\",\"\",IF(AA163=\"T\",IF(R168<=X163,\"þ\",IF(R168<=Y163,\"G2\",IF(R168<=Z163,\"G3\",\"\"))))))","v":""},{"$f":"IF(R168=\"\",\"\",IF(AA163=\"T\",\"\",IF(AA163=\"F\",IF(R168>=X163,\"þ\",IF(R168>=Y163,\"G2\",IF(R168>=Z163,\"G3\",\"\"))))))","v":""},"","","","",168]
[null,null,"","",{"$f":"'Mens PV'!$E31","v":""},{"$f":"IF('Mens PV'!$I$26=0,\"\",'Mens PV'!F31)","v":""},{"$f":"IF($F169=\"\",\"\",HLOOKUP(F169,mens_declare,B166,FALSE))","v":""},"",{"$f":"IF('Mens PV'!$I$26=0,\"\",'Mens PV'!$I31)","v":""},null,null,{"$f":"IF(AA163=\"T\",AB169,AC169)","v":""},null,{"$f":"'Mens PV'!$K31","v":""},{"$f":"IF('Mens PV'!$I$26=0,\"\",'Mens PV'!$M31)","v":""},{"$f":"IF($O169=\"\",\"\",HLOOKUP(O169,mens_declare,B166,FALSE))","v":""},"",{"$f":"IF('Mens PV'!$I$26=0,\"\",'Mens PV'!$AA31)","v":""},null,{"$f":"IF(AA163=\"T\",AD169,AE169)","v":""},null,null,null,null,null,null,null,{"$f":"IF(I169=\"\",\"\",IF(AA163=\"F\",\"\",IF(AA163=\"T\",IF(I169<=X163,\"þ\",IF(I169<=Y163,\"G2\",IF(I169<=Z163,\"G3\",\"\"))))))","v":""},{"$f":"IF(I169=\"\",\"\",IF(AA163=\"T\",\"\",IF(AA163=\"F\",IF(I169>=X163,\"þ\",IF(I169>=Y163,\"G2\",IF(I169>=Z163,\"G3\",\"\"))))))","v":""},{"$f":"IF(R169=\"\",\"\",IF(AA163=\"F\",\"\",IF(AA163=\"T\",IF(R169<=X163,\"þ\",IF(R169<=Y163,\"G2\",IF(R169<=Z163,\"G3\",\"\"))))))","v":""},{"$f":"IF(R169=\"\",\"\",IF(AA163=\"T\",\"\",IF(AA163=\"F\",IF(R169>=X163,\"þ\",IF(R169>=Y163,\"G2\",IF(R169>=Z163,\"G3\",\"\"))))))","v":""},"","","","",169]
[null,null,"","",{"$f":"'Mens PV'!$E32","v":""},{"$f":"IF('Mens PV'!$I$26=0,\"\",'Mens PV'!F32)","v":""},{"$f":"IF($F170=\"\",\"\",HLOOKUP(F170,mens_declare,B166,FALSE))","v":""},"",{"$f":"IF('Mens PV'!$I$26=0,\"\",'Mens PV'!$I32)","v":""},null,null,{"$f":"IF(AA163=\"T\",AB170,AC170)","v":""},null,{"$f":"'Mens PV'!$K32","v":""},{"$f":"IF('Mens PV'!$I$26=0,\"\",'Mens PV'!$M32)","v":""},{"$f":"IF($O170=\"\",\"\",HLOOKUP(O170,mens_declare,B166,FALSE))","v":""},"",{"$f":"IF('Mens PV'!$I$26=0,\"\",'Mens PV'!$AA32)","v":""},null,{"$f":"IF(AA163=\"T\",AD170,AE170)","v":""},null,null,null,null,null,null,null,{"$f":"IF(I170=\"\",\"\",IF(AA163=\"F\",\"\",IF(AA163=\"T\",IF(I170<=X163,\"þ\",IF(I170<=Y163,\"G2\",IF(I170<=Z163,\"G3\",\"\"))))))","v":""},{"$f":"IF(I170=\"\",\"\",IF(AA163=\"T\",\"\",IF(AA163=\"F\",IF(I170>=X163,\"þ\",IF(I170>=Y163,\"G2\",IF(I170>=Z163,\"G3\",\"\"))))))","v":""},{"$f":"IF(R170=\"\",\"\",IF(AA163=\"F\",\"\",IF(AA163=\"T\",IF(R170<=X163,\"þ\",IF(R170<=Y163,\"G2\",IF(R170<=Z163,\"G3\",\"\"))))))","v":""},{"$f":"IF(R170=\"\",\"\",IF(AA163=\"T\",\"\",IF(AA163=\"F\",IF(R170>=X163,\"þ\",IF(R170>=Y163,\"G2\",IF(R170>=Z163,\"G3\",\"\"))))))","v":""},"","","","",170]
[null,null,"","",{"$f":"'Mens PV'!$E33","v":""},{"$f":"IF('Mens PV'!$I$26=0,\"\",'Mens PV'!F33)","v":""},{"$f":"IF($F171=\"\",\"\",HLOOKUP(F171,mens_declare,B166,FALSE))","v":""},"",{"$f":"IF('Mens PV'!$I$26=0,\"\",'Mens PV'!$I33)","v":""},null,null,{"$f":"IF(AA163=\"T\",AB171,AC171)","v":""},null,{"$f":"'Mens PV'!$K33","v":""},{"$f":"IF('Mens PV'!$I$26=0,\"\",'Mens PV'!$M33)","v":""},{"$f":"IF($O171=\"\",\"\",HLOOKUP(O171,mens_declare,B166,FALSE))","v":""},"",{"$f":"IF('Mens PV'!$I$26=0,\"\",'Mens PV'!$AA33)","v":""},null,{"$f":"IF(AA163=\"T\",AD171,AE171)","v":""},null,null,null,null,null,null,null,{"$f":"IF(I171=\"\",\"\",IF(AA163=\"F\",\"\",IF(AA163=\"T\",IF(I171<=X163,\"þ\",IF(I171<=Y163,\"G2\",IF(I171<=Z163,\"G3\",\"\"))))))","v":""},{"$f":"IF(I171=\"\",\"\",IF(AA163=\"T\",\"\",IF(AA163=\"F\",IF(I171>=X163,\"þ\",IF(I171>=Y163,\"G2\",IF(I171>=Z163,\"G3\",\"\"))))))","v":""},{"$f":"IF(R171=\"\",\"\",IF(AA163=\"F\",\"\",IF(AA163=\"T\",IF(R171<=X163,\"þ\",IF(R171<=Y163,\"G2\",IF(R171<=Z163,\"G3\",\"\"))))))","v":""},{"$f":"IF(R171=\"\",\"\",IF(AA163=\"T\",\"\",IF(AA163=\"F\",IF(R171>=X163,\"þ\",IF(R171>=Y163,\"G2\",IF(R171>=Z163,\"G3\",\"\"))))))","v":""},"","","","",171]
[null,null,null,null,null,null,null,null,null,null,null,null,null,null,null,null,null,null,null,null,null,null,null,null,null,null,null,null,null,null,null,null,null,null,null,172]
[null,null,null,null,{"$f":"VLOOKUP(A174,mens_handbook,3,FALSE)","v":"Men's 4x100m Relay"},null,null,null,null,null,null,null,null,null,null,null,null,null,null,null,null,{"$f":"IF($A174=\"\",\"\",VLOOKUP($A174,Handbook!$A$4:$V$24,21,FALSE))","v":42.3},{"$f":"IF($A174=\"\",\"\",VLOOKUP($A174,Handbook!$A$4:$V$24,22,FALSE))","v":42.3},{"$f":"IF($A174=\"\",\"\",VLOOKUP($A174,Handbook!$A$4:$W$24,23,FALSE))","v":44},{"$f":"IF($A174=\"\",\"\",VLOOKUP($A174,Handbook!$A$4:$X$24,24,FALSE))","v":44},{"$f":"IF($A174=\"\",\"\",VLOOKUP($A174,Handbook!$A$4:$Y$24,25,FALSE))","v":44},{"$f":"IF($A174=\"\",\"\",VLOOKUP($A174,Handbook!$A$4:$AH$24,34,FALSE))","v":"T"},null,null,null,null,null,null,null,null,173]
[9,null,{"$f":"IF(F174=\"\",\"\",IF(F174>10,F174/11,F174))","v":""},{"$f":"IF(O174=\"\",\"\",IF(O174>10,O174/11,O174))","v":""},1,null,{"$f":"IF($F174=\"\",\"\",IF($F174>90,VLOOKUP(F174,eventcodes,2,FALSE),VLOOKUP(C174,matchday,2,FALSE)))","v":""},{"$f":"IF($F174=\"\",\"\",IF($F174>90,\"\",HLOOKUP($C174,mens_declare,$B176,FALSE)))","v":""},{"$f":"IF($F174=\"\",\"\",IF($F174>90,\"\",HLOOKUP($C174,mens_declare,$B176+1,FALSE)))","v":""},null,null,null,null,{"$f":"IF($F174=\"\",\"\",IF($F174>90,\"\",HLOOKUP($C174,mens_declare,$B176+2,FALSE)))","v":""},null,null,{"$f":"IF($F174=\"\",\"\",IF($F174>90,\"\",HLOOKUP($C174,mens_declare,$B176+3,FALSE)))","v":""},null,null,{"$f":"IF(AA173=\"T\",AD174,AE174)","v":""},null,{"$f":"IF(AA173=\"F\",\"\",IF(R174<V173,\"LR\",IF(R174=V173,\"=LR\",IF(R174<W173,\"DR\",IF(R174=W173,\"=DR\",\"\")))))","v":"LR"},null,null,null,null,null,null,null,{"$f":"IF(R174=\"\",\"\",IF(AA173=\"F\",\"\",IF(AA173=\"T\",IF(R174<=X173,\"þ\",IF(R174<=Y173,\"G2\",IF(R174<=Z173,\"G3\",\"\"))))))","v":""},{"$f":"IF(R174=\"\",\"\",IF(AA173=\"T\",\"\",IF(AA173=\"F\",IF(R174>=X173,\"þ\",IF(R174>=Y173,\"G2\",IF(R174>=Z173,\"G3\",\"\"))))))","v":""},{"$f":"C174","v":""},{"$f":"IF(F174=\"\",\"\",IF(LEFT(R174,1)=\"D\",0,VLOOKUP(E174,$AQ$4:$AR$40,2,FALSE)))","v":""},{"$f":"D174","v":""},{"$f":"IF(O174=\"\",\"\",IF(LEFT(R174,1)=\"D\",0,VLOOKUP(N174,$AQ$4:$AS$40,3,FALSE)))","v":""},174]
[null,{"$f":"VLOOKUP(A174,Handbook!$A$4:$AK$24,37,FALSE)","v":10},{"$f":"IF(F175=\"\",\"\",IF(F175>10,F175/11,F175))","v":""},{"$f":"IF(O175=\"\",\"\",IF(O175>10,O175/11,O175))","v":""},2,null,{"$f":"IF($F175=\"\",\"\",VLOOKUP(C175,matchday,2,FALSE))","v":""},{"$f":"IF($F175=\"\",\"\",IF($F175>90,\"\",HLOOKUP($C175,mens_declare,$B176,FALSE)))","v":""},{"$f":"IF($F175=\"\",\"\",IF($F175>90,\"\",HLOOKUP($C175,mens_declare,$B176+1,FALSE)))","v":""},null,null,null,null,{"$f":"IF($F175=\"\",\"\",IF($F175>90,\"\",HLOOKUP($C175,mens_declare,$B176+2,FALSE)))","v":""},null,null,{"$f":"IF($F175=\"\",\"\",IF($F175>90,\"\",HLOOKUP($C175,mens_declare,$B176+3,FALSE)))","v":""},null,{"$f":"IF(R175=\"\",\"\",IF(AND(AA173=\"T\",R175<R174),\"X\",IF(AND(AA173=\"F\",R175>R174),\"X\",\"\")))","v":""},{"$f":"IF(AA173=\"T\",AD175,AE175)","v":""},null,{"$f":"IF(AA173=\"T\",\"\",IF(R174>V173,\"LR\",IF(R174=V173,\"=LR\",IF(R174>W173,\"DR\",IF(R174=W173,\"=DR\",\"\")))))","v":""},null,null,null,null,null,null,null,{"$f":"IF(R175=\"\",\"\",IF(AA173=\"F\",\"\",IF(AA173=\"T\",IF(R175<=X173,\"þ\",IF(R175<=Y173,\"G2\",IF(R175<=Z173,\"G3\",\"\"))))))","v":""},{"$f":"IF(R175=\"\",\"\",IF(AA173=\"T\",\"\",IF(AA173=\"F\",IF(R175>=X173,\"þ\",IF(R175>=Y173,\"G2\",IF(R175>=Z173,\"G3\",\"\"))))))","v":""},{"$f":"C175","v":""},"",{"$f":"D175","v":""},"",175]
[null,{"$f":"VLOOKUP(A174,mens_declare,20,FALSE)","v":22},"","",3,null,"",{"$f":"IF($F176=\"\",\"\",IF($F176>90,\"\",HLOOKUP($C176,mens_declare,$B176,FALSE)))","v":""},{"$f":"IF($F176=\"\",\"\",IF($F176>90,\"\",HLOOKUP($C176,mens_declare,$B176+1,FALSE)))","v":""},null,null,null,null,{"$f":"IF($F176=\"\",\"\",IF($F176>90,\"\",HLOOKUP($C176,mens_declare,$B176+2,FALSE)))","v":""},null,null,{"$f":"IF($F176=\"\",\"\",IF($F176>90,\"\",HLOOKUP($C176,mens_declare,$B176+3,FALSE)))","v":""},null,{"$f":"IF(R176=\"\",\"\",IF(AND(AA173=\"T\",R176<R175),\"X\",IF(AND(AA173=\"F\",R176>R175),\"X\",\"\")))","v":""},{"$f":"IF(AA173=\"T\",AD176,AE176)","v":""},null,null,null,null,null,null,null,null,null,{"$f":"IF(R176=\"\",\"\",IF(AA173=\"F\",\"\",IF(AA173=\"T\",IF(R176<=X173,\"þ\",IF(R176<=Y173,\"G2\",IF(R176<=Z173,\"G3\",\"\"))))))","v":""},{"$f":"IF(R176=\"\",\"\",IF(AA173=\"T\",\"\",IF(AA173=\"F\",IF(R176>=X173,\"þ\",IF(R176>=Y173,\"G2\",IF(R176>=Z173,\"G3\",\"\"))))))","v":""},"","","","",176]
[null,null,"","",4,null,"",{"$f":"IF($F177=\"\",\"\",IF($F177>90,\"\",HLOOKUP($C177,mens_declare,$B176,FALSE)))","v":""},{"$f":"IF($F177=\"\",\"\",IF($F177>90,\"\",HLOOKUP($C177,mens_declare,$B176+1,FALSE)))","v":""},null,null,null,null,{"$f":"IF($F177=\"\",\"\",IF($F177>90,\"\",HLOOKUP($C177,mens_declare,$B176+2,FALSE)))","v":""},null,null,{"$f":"IF($F177=\"\",\"\",IF($F177>90,\"\",HLOOKUP($C177,mens_declare,$B176+3,FALSE)))","v":""},null,{"$f":"IF(R177=\"\",\"\",IF(AND(AA173=\"T\",R177<R176),\"X\",IF(AND(AA173=\"F\",R177>R176),\"X\",\"\")))","v":""},{"$f":"IF(AA173=\"T\",AD177,AE177)","v":""},null,null,null,null,null,null,null,null,null,{"$f":"IF(R177=\"\",\"\",IF(AA173=\"F\",\"\",IF(AA173=\"T\",IF(R177<=X173,\"þ\",IF(R177<=Y173,\"G2\",IF(R177<=Z173,\"G3\",\"\"))))))","v":""},{"$f":"IF(R177=\"\",\"\",IF(AA173=\"T\",\"\",IF(AA173=\"F\",IF(R177>=X173,\"þ\",IF(R177>=Y173,\"G2\",IF(R177>=Z173,\"G3\",\"\"))))))","v":""},"","","","",177]
[null,null,"","",5,null,"",{"$f":"IF($F178=\"\",\"\",IF($F178>90,\"\",HLOOKUP($C178,mens_declare,$B176,FALSE)))","v":""},{"$f":"IF($F178=\"\",\"\",IF($F178>90,\"\",HLOOKUP($C178,mens_declare,$B176+1,FALSE)))","v":""},null,null,null,null,{"$f":"IF($F178=\"\",\"\",IF($F178>90,\"\",HLOOKUP($C178,mens_declare,$B176+2,FALSE)))","v":""},null,null,{"$f":"IF($F178=\"\",\"\",IF($F178>90,\"\",HLOOKUP($C178,mens_declare,$B176+3,FALSE)))","v":""},null,{"$f":"IF(R178=\"\",\"\",IF(AND(AA173=\"T\",R178<R177),\"X\",IF(AND(AA173=\"F\",R178>R177),\"X\",\"\")))","v":""},{"$f":"IF(AA173=\"T\",AD178,AE178)","v":""},null,null,null,null,null,null,null,null,null,{"$f":"IF(R178=\"\",\"\",IF(AA173=\"F\",\"\",IF(AA173=\"T\",IF(R178<=X173,\"þ\",IF(R178<=Y173,\"G2\",IF(R178<=Z173,\"G3\",\"\"))))))","v":""},{"$f":"IF(R178=\"\",\"\",IF(AA173=\"T\",\"\",IF(AA173=\"F\",IF(R178>=X173,\"þ\",IF(R178>=Y173,\"G2\",IF(R178>=Z173,\"G3\",\"\"))))))","v":""},"","","","",178]
[null,null,"","",6,null,"",{"$f":"IF($F179=\"\",\"\",IF($F179>90,\"\",HLOOKUP($C179,mens_declare,$B176,FALSE)))","v":""},{"$f":"IF($F179=\"\",\"\",IF($F179>90,\"\",HLOOKUP($C179,mens_declare,$B176+1,FALSE)))","v":""},null,null,null,null,{"$f":"IF($F179=\"\",\"\",IF($F179>90,\"\",HLOOKUP($C179,mens_declare,$B176+2,FALSE)))","v":""},null,null,{"$f":"IF($F179=\"\",\"\",IF($F179>90,\"\",HLOOKUP($C179,mens_declare,$B176+3,FALSE)))","v":""},null,{"$f":"IF(R179=\"\",\"\",IF(AND(AA173=\"T\",R179<R178),\"X\",IF(AND(AA173=\"F\",R179>R178),\"X\",\"\")))","v":""},{"$f":"IF(AA173=\"T\",AD179,AE179)","v":""},null,null,null,null,null,null,null,null,null,{"$f":"IF(R179=\"\",\"\",IF(AA173=\"F\",\"\",IF(AA173=\"T\",IF(R179<=X173,\"þ\",IF(R179<=Y173,\"G2\",IF(R179<=Z173,\"G3\",\"\"))))))","v":""},{"$f":"IF(R179=\"\",\"\",IF(AA173=\"T\",\"\",IF(AA173=\"F\",IF(R179>=X173,\"þ\",IF(R179>=Y173,\"G2\",IF(R179>=Z173,\"G3\",\"\"))))))","v":""},"","","","",179]
[null,null,"","",7,null,"",{"$f":"IF($F180=\"\",\"\",IF($F180>90,\"\",HLOOKUP($C180,mens_declare,$B176,FALSE)))","v":""},{"$f":"IF($F180=\"\",\"\",IF($F180>90,\"\",HLOOKUP($C180,mens_declare,$B176+1,FALSE)))","v":""},null,null,null,null,{"$f":"IF($F180=\"\",\"\",IF($F180>90,\"\",HLOOKUP($C180,mens_declare,$B176+2,FALSE)))","v":""},null,null,{"$f":"IF($F180=\"\",\"\",IF($F180>90,\"\",HLOOKUP($C180,mens_declare,$B176+3,FALSE)))","v":""},null,{"$f":"IF(R180=\"\",\"\",IF(AND(AA173=\"T\",R180<R179),\"X\",IF(AND(AA173=\"F\",R180>R179),\"X\",\"\")))","v":""},{"$f":"IF(AA173=\"T\",AD180,AE180)","v":""},null,null,null,null,null,null,null,null,null,{"$f":"IF(R180=\"\",\"\",IF(AA173=\"F\",\"\",IF(AA173=\"T\",IF(R180<=X173,\"þ\",IF(R180<=Y173,\"G2\",IF(R180<=Z173,\"G3\",\"\"))))))","v":""},{"$f":"IF(R180=\"\",\"\",IF(AA173=\"T\",\"\",IF(AA173=\"F\",IF(R180>=X173,\"þ\",IF(R180>=Y173,\"G2\",IF(R180>=Z173,\"G3\",\"\"))))))","v":""},"","","","",180]
[null,null,"","",8,null,"",{"$f":"IF($F181=\"\",\"\",IF($F181>90,\"\",HLOOKUP($C181,mens_declare,$B176,FALSE)))","v":""},{"$f":"IF($F181=\"\",\"\",IF($F181>90,\"\",HLOOKUP($C181,mens_declare,$B176+1,FALSE)))","v":""},null,null,null,null,{"$f":"IF($F181=\"\",\"\",IF($F181>90,\"\",HLOOKUP($C181,mens_declare,$B176+2,FALSE)))","v":""},null,null,{"$f":"IF($F181=\"\",\"\",IF($F181>90,\"\",HLOOKUP($C181,mens_declare,$B176+3,FALSE)))","v":""},null,{"$f":"IF(R181=\"\",\"\",IF(AND(AA173=\"T\",R181<R180),\"X\",IF(AND(AA173=\"F\",R181>R180),\"X\",\"\")))","v":""},{"$f":"IF(AA173=\"T\",AD181,AE181)","v":""},null,null,null,null,null,null,null,null,null,{"$f":"IF(R181=\"\",\"\",IF(AA173=\"F\",\"\",IF(AA173=\"T\",IF(R181<=X173,\"þ\",IF(R181<=Y173,\"G2\",IF(R181<=Z173,\"G3\",\"\"))))))","v":""},{"$f":"IF(R181=\"\",\"\",IF(AA173=\"T\",\"\",IF(AA173=\"F\",IF(R181>=X173,\"þ\",IF(R181>=Y173,\"G2\",IF(R181>=Z173,\"G3\",\"\"))))))","v":""},"","","","",181]
[null,null,null,null,null,null,null,null,null,null,null,null,null,null,null,null,null,null,null,null,null,null,null,null,null,null,null,null,null,null,null,null,null,null,null,182]
[null,null,null,null,{"$f":"VLOOKUP(A184,mens_handbook,3,FALSE)","v":"Men's 4x400m Relay"},null,null,null,null,null,null,null,null,null,null,null,null,null,null,null,null,{"$f":"IF($A184=\"\",\"\",VLOOKUP($A184,Handbook!$A$4:$V$24,21,FALSE))","v":"00:03:13.400"},{"$f":"IF($A184=\"\",\"\",VLOOKUP($A184,Handbook!$A$4:$V$24,22,FALSE))","v":"00:03:13.400"},{"$f":"IF($A184=\"\",\"\",VLOOKUP($A184,Handbook!$A$4:$W$24,23,FALSE))","v":"00:03:26"},{"$f":"IF($A184=\"\",\"\",VLOOKUP($A184,Handbook!$A$4:$X$24,24,FALSE))","v":"00:03:26"},{"$f":"IF($A184=\"\",\"\",VLOOKUP($A184,Handbook!$A$4:$Y$24,25,FALSE))","v":"00:03:26"},{"$f":"IF($A184=\"\",\"\",VLOOKUP($A184,Handbook!$A$4:$AH$24,34,FALSE))","v":"T"},null,null,null,null,null,null,null,null,183]
[10,null,{"$f":"IF(F184=\"\",\"\",IF(F184>10,F184/11,F184))","v":""},{"$f":"IF(O184=\"\",\"\",IF(O184>10,O184/11,O184))","v":""},1,null,{"$f":"IF($F184=\"\",\"\",IF($F184>90,VLOOKUP(F184,eventcodes,2,FALSE),VLOOKUP(C184,matchday,2,FALSE)))","v":""},{"$f":"IF($F184=\"\",\"\",IF($F184>90,\"\",HLOOKUP($C184,mens_declare,$B186,FALSE)))","v":""},{"$f":"IF($F184=\"\",\"\",IF($F184>90,\"\",HLOOKUP($C184,mens_declare,$B186+1,FALSE)))","v":""},null,null,null,null,{"$f":"IF($F184=\"\",\"\",IF($F184>90,\"\",HLOOKUP($C184,mens_declare,$B186+2,FALSE)))","v":""},null,null,{"$f":"IF($F184=\"\",\"\",IF($F184>90,\"\",HLOOKUP($C184,mens_declare,$B186+3,FALSE)))","v":""},null,null,{"$f":"IF(AA183=\"T\",AD184,AE184)","v":""},null,{"$f":"IF(AA183=\"F\",\"\",IF(R184<V183,\"LR\",IF(R184=V183,\"=LR\",IF(R184<W183,\"DR\",IF(R184=W183,\"=DR\",\"\")))))","v":"LR"},null,null,null,null,null,null,null,{"$f":"IF(R184=\"\",\"\",IF(AA183=\"F\",\"\",IF(AA183=\"T\",IF(R184<=X183,\"þ\",IF(R184<=Y183,\"G2\",IF(R184<=Z183,\"G3\",\"\"))))))","v":""},{"$f":"IF(R184=\"\",\"\",IF(AA183=\"T\",\"\",IF(AA183=\"F\",IF(R184>=X183,\"þ\",IF(R184>=Y183,\"G2\",IF(R184>=Z183,\"G3\",\"\"))))))","v":""},{"$f":"C184","v":""},{"$f":"IF(F184=\"\",\"\",IF(LEFT(R184,1)=\"D\",0,VLOOKUP(E184,$AQ$4:$AR$40,2,FALSE)))","v":""},{"$f":"D184","v":""},{"$f":"IF(O184=\"\",\"\",IF(LEFT(R184,1)=\"D\",0,VLOOKUP(N184,$AQ$4:$AS$40,3,FALSE)))","v":""},184]
[null,{"$f":"VLOOKUP(A184,Handbook!$A$4:$AK$24,37,FALSE)","v":11},{"$f":"IF(F185=\"\",\"\",IF(F185>10,F185/11,F185))","v":""},{"$f":"IF(O185=\"\",\"\",IF(O185>10,O185/11,O185))","v":""},2,null,{"$f":"IF($F185=\"\",\"\",VLOOKUP(C185,matchday,2,FALSE))","v":""},{"$f":"IF($F185=\"\",\"\",IF($F185>90,\"\",HLOOKUP($C185,mens_declare,$B186,FALSE)))","v":""},{"$f":"IF($F185=\"\",\"\",IF($F185>90,\"\",HLOOKUP($C185,mens_declare,$B186+1,FALSE)))","v":""},null,null,null,null,{"$f":"IF($F185=\"\",\"\",IF($F185>90,\"\",HLOOKUP($C185,mens_declare,$B186+2,FALSE)))","v":""},null,null,{"$f":"IF($F185=\"\",\"\",IF($F185>90,\"\",HLOOKUP($C185,mens_declare,$B186+3,FALSE)))","v":""},null,{"$f":"IF(R185=\"\",\"\",IF(AND(AA183=\"T\",R185<R184),\"X\",IF(AND(AA183=\"F\",R185>R184),\"X\",\"\")))","v":""},{"$f":"IF(AA183=\"T\",AD185,AE185)","v":""},null,{"$f":"IF(AA183=\"T\",\"\",IF(R184>V183,\"LR\",IF(R184=V183,\"=LR\",IF(R184>W183,\"DR\",IF(R184=W183,\"=DR\",\"\")))))","v":""},null,null,null,null,null,null,null,{"$f":"IF(R185=\"\",\"\",IF(AA183=\"F\",\"\",IF(AA183=\"T\",IF(R185<=X183,\"þ\",IF(R185<=Y183,\"G2\",IF(R185<=Z183,\"G3\",\"\"))))))","v":""},{"$f":"IF(R185=\"\",\"\",IF(AA183=\"T\",\"\",IF(AA183=\"F\",IF(R185>=X183,\"þ\",IF(R185>=Y183,\"G2\",IF(R185>=Z183,\"G3\",\"\"))))))","v":""},{"$f":"C185","v":""},"",{"$f":"D185","v":""},"",185]
[null,{"$f":"VLOOKUP(A184,mens_declare,20,FALSE)","v":26},"","",3,null,"",{"$f":"IF($F186=\"\",\"\",IF($F186>90,\"\",HLOOKUP($C186,mens_declare,$B186,FALSE)))","v":""},{"$f":"IF($F186=\"\",\"\",IF($F186>90,\"\",HLOOKUP($C186,mens_declare,$B186+1,FALSE)))","v":""},null,null,null,null,{"$f":"IF($F186=\"\",\"\",IF($F186>90,\"\",HLOOKUP($C186,mens_declare,$B186+2,FALSE)))","v":""},null,null,{"$f":"IF($F186=\"\",\"\",IF($F186>90,\"\",HLOOKUP($C186,mens_declare,$B186+3,FALSE)))","v":""},null,{"$f":"IF(R186=\"\",\"\",IF(AND(AA183=\"T\",R186<R185),\"X\",IF(AND(AA183=\"F\",R186>R185),\"X\",\"\")))","v":""},{"$f":"IF(AA183=\"T\",AD186,AE186)","v":""},null,null,null,null,null,null,null,null,null,{"$f":"IF(R186=\"\",\"\",IF(AA183=\"F\",\"\",IF(AA183=\"T\",IF(R186<=X183,\"þ\",IF(R186<=Y183,\"G2\",IF(R186<=Z183,\"G3\",\"\"))))))","v":""},{"$f":"IF(R186=\"\",\"\",IF(AA183=\"T\",\"\",IF(AA183=\"F\",IF(R186>=X183,\"þ\",IF(R186>=Y183,\"G2\",IF(R186>=Z183,\"G3\",\"\"))))))","v":""},"","","","",186]
[null,null,"","",4,null,"",{"$f":"IF($F187=\"\",\"\",IF($F187>90,\"\",HLOOKUP($C187,mens_declare,$B186,FALSE)))","v":""},{"$f":"IF($F187=\"\",\"\",IF($F187>90,\"\",HLOOKUP($C187,mens_declare,$B186+1,FALSE)))","v":""},null,null,null,null,{"$f":"IF($F187=\"\",\"\",IF($F187>90,\"\",HLOOKUP($C187,mens_declare,$B186+2,FALSE)))","v":""},null,null,{"$f":"IF($F187=\"\",\"\",IF($F187>90,\"\",HLOOKUP($C187,mens_declare,$B186+3,FALSE)))","v":""},null,{"$f":"IF(R187=\"\",\"\",IF(AND(AA183=\"T\",R187<R186),\"X\",IF(AND(AA183=\"F\",R187>R186),\"X\",\"\")))","v":""},{"$f":"IF(AA183=\"T\",AD187,AE187)","v":""},null,null,null,null,null,null,null,null,null,{"$f":"IF(R187=\"\",\"\",IF(AA183=\"F\",\"\",IF(AA183=\"T\",IF(R187<=X183,\"þ\",IF(R187<=Y183,\"G2\",IF(R187<=Z183,\"G3\",\"\"))))))","v":""},{"$f":"IF(R187=\"\",\"\",IF(AA183=\"T\",\"\",IF(AA183=\"F\",IF(R187>=X183,\"þ\",IF(R187>=Y183,\"G2\",IF(R187>=Z183,\"G3\",\"\"))))))","v":""},"","","","",187]
[null,null,"","",5,null,"",{"$f":"IF($F188=\"\",\"\",IF($F188>90,\"\",HLOOKUP($C188,mens_declare,$B186,FALSE)))","v":""},{"$f":"IF($F188=\"\",\"\",IF($F188>90,\"\",HLOOKUP($C188,mens_declare,$B186+1,FALSE)))","v":""},null,null,null,null,{"$f":"IF($F188=\"\",\"\",IF($F188>90,\"\",HLOOKUP($C188,mens_declare,$B186+2,FALSE)))","v":""},null,null,{"$f":"IF($F188=\"\",\"\",IF($F188>90,\"\",HLOOKUP($C188,mens_declare,$B186+3,FALSE)))","v":""},null,{"$f":"IF(R188=\"\",\"\",IF(AND(AA183=\"T\",R188<R187),\"X\",IF(AND(AA183=\"F\",R188>R187),\"X\",\"\")))","v":""},{"$f":"IF(AA183=\"T\",AD188,AE188)","v":""},null,null,null,null,null,null,null,null,null,{"$f":"IF(R188=\"\",\"\",IF(AA183=\"F\",\"\",IF(AA183=\"T\",IF(R188<=X183,\"þ\",IF(R188<=Y183,\"G2\",IF(R188<=Z183,\"G3\",\"\"))))))","v":""},{"$f":"IF(R188=\"\",\"\",IF(AA183=\"T\",\"\",IF(AA183=\"F\",IF(R188>=X183,\"þ\",IF(R188>=Y183,\"G2\",IF(R188>=Z183,\"G3\",\"\"))))))","v":""},"","","","",188]
[null,null,"","",6,null,"",{"$f":"IF($F189=\"\",\"\",IF($F189>90,\"\",HLOOKUP($C189,mens_declare,$B186,FALSE)))","v":""},{"$f":"IF($F189=\"\",\"\",IF($F189>90,\"\",HLOOKUP($C189,mens_declare,$B186+1,FALSE)))","v":""},null,null,null,null,{"$f":"IF($F189=\"\",\"\",IF($F189>90,\"\",HLOOKUP($C189,mens_declare,$B186+2,FALSE)))","v":""},null,null,{"$f":"IF($F189=\"\",\"\",IF($F189>90,\"\",HLOOKUP($C189,mens_declare,$B186+3,FALSE)))","v":""},null,{"$f":"IF(R189=\"\",\"\",IF(AND(AA183=\"T\",R189<R188),\"X\",IF(AND(AA183=\"F\",R189>R188),\"X\",\"\")))","v":""},{"$f":"IF(AA183=\"T\",AD189,AE189)","v":""},null,null,null,null,null,null,null,null,null,{"$f":"IF(R189=\"\",\"\",IF(AA183=\"F\",\"\",IF(AA183=\"T\",IF(R189<=X183,\"þ\",IF(R189<=Y183,\"G2\",IF(R189<=Z183,\"G3\",\"\"))))))","v":""},{"$f":"IF(R189=\"\",\"\",IF(AA183=\"T\",\"\",IF(AA183=\"F\",IF(R189>=X183,\"þ\",IF(R189>=Y183,\"G2\",IF(R189>=Z183,\"G3\",\"\"))))))","v":""},"","","","",189]
[null,null,"","",7,null,"",{"$f":"IF($F190=\"\",\"\",IF($F190>90,\"\",HLOOKUP($C190,mens_declare,$B186,FALSE)))","v":""},{"$f":"IF($F190=\"\",\"\",IF($F190>90,\"\",HLOOKUP($C190,mens_declare,$B186+1,FALSE)))","v":""},null,null,null,null,{"$f":"IF($F190=\"\",\"\",IF($F190>90,\"\",HLOOKUP($C190,mens_declare,$B186+2,FALSE)))","v":""},null,null,{"$f":"IF($F190=\"\",\"\",IF($F190>90,\"\",HLOOKUP($C190,mens_declare,$B186+3,FALSE)))","v":""},null,{"$f":"IF(R190=\"\",\"\",IF(AND(AA183=\"T\",R190<R189),\"X\",IF(AND(AA183=\"F\",R190>R189),\"X\",\"\")))","v":""},{"$f":"IF(AA183=\"T\",AD190,AE190)","v":""},null,null,null,null,null,null,null,null,null,{"$f":"IF(R190=\"\",\"\",IF(AA183=\"F\",\"\",IF(AA183=\"T\",IF(R190<=X183,\"þ\",IF(R190<=Y183,\"G2\",IF(R190<=Z183,\"G3\",\"\"))))))","v":""},{"$f":"IF(R190=\"\",\"\",IF(AA183=\"T\",\"\",IF(AA183=\"F\",IF(R190>=X183,\"þ\",IF(R190>=Y183,\"G2\",IF(R190>=Z183,\"G3\",\"\"))))))","v":""},"","","","",190]
[null,null,"","",8,null,"",{"$f":"IF($F191=\"\",\"\",IF($F191>90,\"\",HLOOKUP($C191,mens_declare,$B186,FALSE)))","v":""},{"$f":"IF($F191=\"\",\"\",IF($F191>90,\"\",HLOOKUP($C191,mens_declare,$B186+1,FALSE)))","v":""},null,null,null,null,{"$f":"IF($F191=\"\",\"\",IF($F191>90,\"\",HLOOKUP($C191,mens_declare,$B186+2,FALSE)))","v":""},null,null,{"$f":"IF($F191=\"\",\"\",IF($F191>90,\"\",HLOOKUP($C191,mens_declare,$B186+3,FALSE)))","v":""},null,{"$f":"IF(R191=\"\",\"\",IF(AND(AA183=\"T\",R191<R190),\"X\",IF(AND(AA183=\"F\",R191>R190),\"X\",\"\")))","v":""},{"$f":"IF(AA183=\"T\",AD191,AE191)","v":""},null,null,null,null,null,null,null,null,null,{"$f":"IF(R191=\"\",\"\",IF(AA183=\"F\",\"\",IF(AA183=\"T\",IF(R191<=X183,\"þ\",IF(R191<=Y183,\"G2\",IF(R191<=Z183,\"G3\",\"\"))))))","v":""},{"$f":"IF(R191=\"\",\"\",IF(AA183=\"T\",\"\",IF(AA183=\"F\",IF(R191>=X183,\"þ\",IF(R191>=Y183,\"G2\",IF(R191>=Z183,\"G3\",\"\"))))))","v":""},"","","","",191]
[]
[]
[null,null,null,null,null,"MATCH RESULT",null,"League Points","Match",null,null,null,null,null,"STANDINGS",null,"League Points","Match"]
[null,null,null,null,1,{"$f":"IF(AND(Points!$U$24=0,Points!$U$45=0),\"\",IF(ISERROR(HLOOKUP(E195,Points!$C$46:$R$52,2,FALSE)=TRUE),\"\",HLOOKUP(E195,Points!$C$46:$R$52,2,FALSE)))","v":""},null,{"$f":"IF(AND(Points!$U$24=0,Points!$U$45=0),\"\",IF(ISERROR(HLOOKUP(E195,Points!$C$46:$R$52,7,FALSE)=TRUE),\"\",HLOOKUP(E195,Points!$C$46:$R$52,7,FALSE)))","v":""},{"$f":"IF(AND(Points!$U$24=0,Points!$U$45=0),\"\",IF(ISERROR(HLOOKUP(E195,Points!$C$46:$R$52,5,FALSE)=TRUE),\"\",HLOOKUP(E195,Points!$C$46:$R$52,5,FALSE)))","v":""},null,null,null,null,1,{"$f":"IF(Points!$U$24=0,\"\",HLOOKUP(N195,Points!$B$54:$R$58,2,FALSE))","v":""},null,{"$f":"IF(Points!$U$24=0,\"\",HLOOKUP(N195,Points!$B$54:$R$58,3,FALSE))","v":""},{"$f":"IF(Points!$U$24=0,\"\",HLOOKUP(N195,Points!$B$54:$R$58,4,FALSE))","v":""}]
[null,null,null,null,2,{"$f":"IF(AND(Points!$U$24=0,Points!$U$45=0),\"\",IF(ISERROR(HLOOKUP(E196,Points!$C$46:$R$52,2,FALSE)=TRUE),\"\",HLOOKUP(E196,Points!$C$46:$R$52,2,FALSE)))","v":""},null,{"$f":"IF(AND(Points!$U$24=0,Points!$U$45=0),\"\",IF(ISERROR(HLOOKUP(E196,Points!$C$46:$R$52,7,FALSE)=TRUE),\"\",HLOOKUP(E196,Points!$C$46:$R$52,7,FALSE)))","v":""},{"$f":"IF(AND(Points!$U$24=0,Points!$U$45=0),\"\",IF(ISERROR(HLOOKUP(E196,Points!$C$46:$R$52,5,FALSE)=TRUE),\"\",HLOOKUP(E196,Points!$C$46:$R$52,5,FALSE)))","v":""},null,null,null,null,2,{"$f":"IF(Points!$U$24=0,\"\",HLOOKUP(N196,Points!$B$54:$R$58,2,FALSE))","v":""},null,{"$f":"IF(Points!$U$24=0,\"\",HLOOKUP(N196,Points!$B$54:$R$58,3,FALSE))","v":""},{"$f":"IF(Points!$U$24=0,\"\",HLOOKUP(N196,Points!$B$54:$R$58,4,FALSE))","v":""}]
[null,null,null,null,3,{"$f":"IF(AND(Points!$U$24=0,Points!$U$45=0),\"\",IF(ISERROR(HLOOKUP(E197,Points!$C$46:$R$52,2,FALSE)=TRUE),\"\",HLOOKUP(E197,Points!$C$46:$R$52,2,FALSE)))","v":""},null,{"$f":"IF(AND(Points!$U$24=0,Points!$U$45=0),\"\",IF(ISERROR(HLOOKUP(E197,Points!$C$46:$R$52,7,FALSE)=TRUE),\"\",HLOOKUP(E197,Points!$C$46:$R$52,7,FALSE)))","v":""},{"$f":"IF(AND(Points!$U$24=0,Points!$U$45=0),\"\",IF(ISERROR(HLOOKUP(E197,Points!$C$46:$R$52,5,FALSE)=TRUE),\"\",HLOOKUP(E197,Points!$C$46:$R$52,5,FALSE)))","v":""},null,null,null,null,3,{"$f":"IF(Points!$U$24=0,\"\",HLOOKUP(N197,Points!$B$54:$R$58,2,FALSE))","v":""},null,{"$f":"IF(Points!$U$24=0,\"\",HLOOKUP(N197,Points!$B$54:$R$58,3,FALSE))","v":""},{"$f":"IF(Points!$U$24=0,\"\",HLOOKUP(N197,Points!$B$54:$R$58,4,FALSE))","v":""}]
[null,null,null,null,4,{"$f":"IF(AND(Points!$U$24=0,Points!$U$45=0),\"\",IF(ISERROR(HLOOKUP(E198,Points!$C$46:$R$52,2,FALSE)=TRUE),\"\",HLOOKUP(E198,Points!$C$46:$R$52,2,FALSE)))","v":""},null,{"$f":"IF(AND(Points!$U$24=0,Points!$U$45=0),\"\",IF(ISERROR(HLOOKUP(E198,Points!$C$46:$R$52,7,FALSE)=TRUE),\"\",HLOOKUP(E198,Points!$C$46:$R$52,7,FALSE)))","v":""},{"$f":"IF(AND(Points!$U$24=0,Points!$U$45=0),\"\",IF(ISERROR(HLOOKUP(E198,Points!$C$46:$R$52,5,FALSE)=TRUE),\"\",HLOOKUP(E198,Points!$C$46:$R$52,5,FALSE)))","v":""},null,null,null,null,4,{"$f":"IF(Points!$U$24=0,\"\",HLOOKUP(N198,Points!$B$54:$R$58,2,FALSE))","v":""},null,{"$f":"IF(Points!$U$24=0,\"\",HLOOKUP(N198,Points!$B$54:$R$58,3,FALSE))","v":""},{"$f":"IF(Points!$U$24=0,\"\",HLOOKUP(N198,Points!$B$54:$R$58,4,FALSE))","v":""}]
[null,null,null,null,5,{"$f":"IF(AND(Points!$U$24=0,Points!$U$45=0),\"\",IF(ISERROR(HLOOKUP(E199,Points!$C$46:$R$52,2,FALSE)=TRUE),\"\",HLOOKUP(E199,Points!$C$46:$R$52,2,FALSE)))","v":""},null,{"$f":"IF(AND(Points!$U$24=0,Points!$U$45=0),\"\",IF(ISERROR(HLOOKUP(E199,Points!$C$46:$R$52,7,FALSE)=TRUE),\"\",HLOOKUP(E199,Points!$C$46:$R$52,7,FALSE)))","v":""},{"$f":"IF(AND(Points!$U$24=0,Points!$U$45=0),\"\",IF(ISERROR(HLOOKUP(E199,Points!$C$46:$R$52,5,FALSE)=TRUE),\"\",HLOOKUP(E199,Points!$C$46:$R$52,5,FALSE)))","v":""},null,null,null,null,5,{"$f":"IF(Points!$U$24=0,\"\",HLOOKUP(N199,Points!$B$54:$R$58,2,FALSE))","v":""},null,{"$f":"IF(Points!$U$24=0,\"\",HLOOKUP(N199,Points!$B$54:$R$58,3,FALSE))","v":""},{"$f":"IF(Points!$U$24=0,\"\",HLOOKUP(N199,Points!$B$54:$R$58,4,FALSE))","v":""}]
[null,null,null,null,6,{"$f":"IF(AND(Points!$U$24=0,Points!$U$45=0),\"\",IF(ISERROR(HLOOKUP(E200,Points!$C$46:$R$52,2,FALSE)=TRUE),\"\",HLOOKUP(E200,Points!$C$46:$R$52,2,FALSE)))","v":""},null,{"$f":"IF(AND(Points!$U$24=0,Points!$U$45=0),\"\",IF(ISERROR(HLOOKUP(E200,Points!$C$46:$R$52,7,FALSE)=TRUE),\"\",HLOOKUP(E200,Points!$C$46:$R$52,7,FALSE)))","v":""},{"$f":"IF(AND(Points!$U$24=0,Points!$U$45=0),\"\",IF(ISERROR(HLOOKUP(E200,Points!$C$46:$R$52,5,FALSE)=TRUE),\"\",HLOOKUP(E200,Points!$C$46:$R$52,5,FALSE)))","v":""},null,null,null,null,6,{"$f":"IF(Points!$U$24=0,\"\",HLOOKUP(N200,Points!$B$54:$R$58,2,FALSE))","v":""},null,{"$f":"IF(Points!$U$24=0,\"\",HLOOKUP(N200,Points!$B$54:$R$58,3,FALSE))","v":""},{"$f":"IF(Points!$U$24=0,\"\",HLOOKUP(N200,Points!$B$54:$R$58,4,FALSE))","v":""}]
[null,null,null,null,7,{"$f":"IF(AND(Points!$U$24=0,Points!$U$45=0),\"\",IF(ISERROR(HLOOKUP(E201,Points!$C$46:$R$52,2,FALSE)=TRUE),\"\",HLOOKUP(E201,Points!$C$46:$R$52,2,FALSE)))","v":""},null,{"$f":"IF(AND(Points!$U$24=0,Points!$U$45=0),\"\",IF(ISERROR(HLOOKUP(E201,Points!$C$46:$R$52,7,FALSE)=TRUE),\"\",HLOOKUP(E201,Points!$C$46:$R$52,7,FALSE)))","v":""},{"$f":"IF(AND(Points!$U$24=0,Points!$U$45=0),\"\",IF(ISERROR(HLOOKUP(E201,Points!$C$46:$R$52,5,FALSE)=TRUE),\"\",HLOOKUP(E201,Points!$C$46:$R$52,5,FALSE)))","v":""},null,null,null,null,7,{"$f":"IF(Points!$U$24=0,\"\",HLOOKUP(N201,Points!$B$54:$R$58,2,FALSE))","v":""},null,{"$f":"IF(Points!$U$24=0,\"\",HLOOKUP(N201,Points!$B$54:$R$58,3,FALSE))","v":""},{"$f":"IF(Points!$U$24=0,\"\",HLOOKUP(N201,Points!$B$54:$R$58,4,FALSE))","v":""}]
[null,null,null,null,8,{"$f":"IF(AND(Points!$U$24=0,Points!$U$45=0),\"\",IF(ISERROR(HLOOKUP(E202,Points!$C$46:$R$52,2,FALSE)=TRUE),\"\",HLOOKUP(E202,Points!$C$46:$R$52,2,FALSE)))","v":""},null,{"$f":"IF(AND(Points!$U$24=0,Points!$U$45=0),\"\",IF(ISERROR(HLOOKUP(E202,Points!$C$46:$R$52,7,FALSE)=TRUE),\"\",HLOOKUP(E202,Points!$C$46:$R$52,7,FALSE)))","v":""},{"$f":"IF(AND(Points!$U$24=0,Points!$U$45=0),\"\",IF(ISERROR(HLOOKUP(E202,Points!$C$46:$R$52,5,FALSE)=TRUE),\"\",HLOOKUP(E202,Points!$C$46:$R$52,5,FALSE)))","v":""},null,null,null,null,8,{"$f":"IF(Points!$U$24=0,\"\",HLOOKUP(N202,Points!$B$54:$R$58,2,FALSE))","v":""},null,{"$f":"IF(Points!$U$24=0,\"\",HLOOKUP(N202,Points!$B$54:$R$58,3,FALSE))","v":""},{"$f":"IF(Points!$U$24=0,\"\",HLOOKUP(N202,Points!$B$54:$R$58,4,FALSE))","v":""}]
[]
[null,null,null,null,{"$f":"CONCATENATE(VLOOKUP(A205,mens_handbook,3,FALSE),\" Non Scoring\")","v":"Men's 100m Non Scoring"},null,null,{"$f":"IF(A205=\"\",\"\",IF(VLOOKUP(A205,Handbook!$A$4:$AI$24,35,FALSE)=\"Y\",\"Wind=\",\"\"))","v":"Wind="},null,null,null,null,null,null,{"$f":"CONCATENATE(VLOOKUP(A205,mens_handbook,3,FALSE),\" Non Scoring\")","v":"Men's 100m Non Scoring"},{"$f":"CONCATENATE(VLOOKUP(M205,Handbook!$A$4:$C$24,3,FALSE),\" A\")","v":{"$error":"#N/A"}},{"$f":"H204","v":"Wind="},null,null,null,null,{"$f":"IF($A205=\"\",\"\",VLOOKUP($A205,Handbook!$A$4:$V$24,21,FALSE))","v":10.6},{"$f":"IF($A205=\"\",\"\",VLOOKUP($A205,Handbook!$A$4:$V$24,22,FALSE))","v":10.6},{"$f":"IF($A205=\"\",\"\",VLOOKUP($A205,Handbook!$A$4:$W$24,23,FALSE))","v":11.5},{"$f":"IF($A205=\"\",\"\",VLOOKUP($A205,Handbook!$A$4:$X$24,24,FALSE))","v":11.3},{"$f":"IF($A205=\"\",\"\",VLOOKUP($A205,Handbook!$A$4:$Y$24,25,FALSE))","v":11.3},{"$f":"IF($A205=\"\",\"\",VLOOKUP($A205,Handbook!$A$4:$AH$24,34,FALSE))","v":"T"},null,null,null,null,null,null,null,null,3,null,null,null,null,null,null,null,"A","B"]
[3,null,{"$f":"IF(F205=\"\",\"\",IF(F205>10,F205/11,F205))","v":""},{"$f":"IF(O205=\"\",\"\",IF(O205>10,O205/11,O205))","v":""},1,null,null,null,null,{"$f":"IF(I205=\"\",\"\",IF(AA204=\"T\",V205,V206))","v":""},null,{"$f":"IF(AA204=\"T\",AB205,AC205)","v":""},null,1,null,null,null,null,null,{"$f":"IF(AA204=\"T\",AD205,AE205)","v":""},null,{"$f":"IF(AA204=\"F\",\"\",IF(I205<V204,\"LR\",IF(I205=V204,\"=LR\",IF(I205<W204,\"DR\",IF(I205=W204,\"=DR\",\"\")))))","v":"LR"},null,null,null,null,null,{"$f":"IF(I205=\"\",\"\",IF(AA204=\"F\",\"\",IF(AA204=\"T\",IF(I205<=X204,\"þ\",IF(I205<=Y204,\"G2\",IF(I205<=Z204,\"G3\",\"\"))))))","v":""},{"$f":"IF(I205=\"\",\"\",IF(AA204=\"T\",\"\",IF(AA204=\"F\",IF(I205>=X204,\"þ\",IF(I205>=Y204,\"G2\",IF(I205>=Z204,\"G3\",\"\"))))))","v":""},{"$f":"IF(R205=\"\",\"\",IF(AA204=\"F\",\"\",IF(AA204=\"T\",IF(R205<=X204,\"þ\",IF(R205<=Y204,\"G2\",IF(R205<=Z204,\"G3\",\"\"))))))","v":""},{"$f":"IF(R205=\"\",\"\",IF(AA204=\"T\",\"\",IF(AA204=\"F\",IF(R205>=X204,\"þ\",IF(R205>=Y204,\"G2\",IF(R205>=Z204,\"G3\",\"\"))))))","v":""},{"$f":"C205","v":""},{"$f":"IF(F205=\"\",\"\",IF(LEFT(I205,1)=\"D\",0,VLOOKUP(E205,$AQ$4:$AR$40,2,FALSE)))","v":""},{"$f":"D205","v":""},{"$f":"IF(O205=\"\",\"\",IF(LEFT(R205,1)=\"D\",0,VLOOKUP(N205,$AQ$4:$AS$40,3,FALSE)))","v":""},4,null,{"$f":"'Match Day'!B206","v":0},null,null,null,null,"Posn","Points","Points"]
[null,{"$f":"VLOOKUP(A205,Handbook!$A$4:$AK$24,37,FALSE)","v":4},{"$f":"IF(F206=\"\",\"\",IF(F206>10,F206/11,F206))","v":""},{"$f":"IF(O206=\"\",\"\",IF(O206>10,O206/11,O206))","v":""},2,null,null,null,null,{"$f":"IF(I206=\"\",\"\",IF(AND(AA204=\"T\",I206<I205),\"X\",IF(AND(AA204=\"F\",I206>I205),\"X\",\"\")))","v":""},null,{"$f":"IF(AA204=\"T\",AB206,AC206)","v":""},null,2,null,null,null,null,{"$f":"IF(R206=\"\",\"\",IF(AND(AA204=\"T\",R206<R205),\"X\",IF(AND(AA204=\"F\",R206>R205),\"X\",\"\")))","v":""},{"$f":"IF(AA204=\"T\",AD206,AE206)","v":""},null,{"$f":"IF(AA204=\"T\",\"\",IF(I205>V204,\"LR\",IF(I205=V204,\"=LR\",IF(I205>W204,\"DR\",IF(I205=W204,\"=DR\",\"\")))))","v":""},null,null,null,null,null,{"$f":"IF(I206=\"\",\"\",IF(AA204=\"F\",\"\",IF(AA204=\"T\",IF(I206<=X204,\"þ\",IF(I206<=Y204,\"G2\",IF(I206<=Z204,\"G3\",\"\"))))))","v":""},{"$f":"IF(I206=\"\",\"\",IF(AA204=\"T\",\"\",IF(AA204=\"F\",IF(I206>=X204,\"þ\",IF(I206>=Y204,\"G2\",IF(I206>=Z204,\"G3\",\"\"))))))","v":""},{"$f":"IF(R206=\"\",\"\",IF(AA204=\"F\",\"\",IF(AA204=\"T\",IF(R206<=X204,\"þ\",IF(R206<=Y204,\"G2\",IF(R206<=Z204,\"G3\",\"\"))))))","v":""},{"$f":"IF(R206=\"\",\"\",IF(AA204=\"T\",\"\",IF(AA204=\"F\",IF(R206>=X204,\"þ\",IF(R206>=Y204,\"G2\",IF(R206>=Z204,\"G3\",\"\"))))))","v":""},{"$f":"C206","v":""},"",{"$f":"D206","v":""},"",5,null,{"$f":"'Match Day'!B208","v":0},null,null,null,null,1,9,7]
[null,{"$f":"VLOOKUP(A205,mens_declare,20,FALSE)","v":3},"","",3,null,null,null,null,{"$f":"IF(I207=\"\",\"\",IF(AND(AA204=\"T\",I207<I206),\"X\",IF(AND(AA204=\"F\",I207>I206),\"X\",\"\")))","v":""},null,{"$f":"IF(AA204=\"T\",AB207,AC207)","v":""},null,3,null,null,null,null,{"$f":"IF(R207=\"\",\"\",IF(AND(AA204=\"T\",R207<R206),\"X\",IF(AND(AA204=\"F\",R207>R206),\"X\",\"\")))","v":""},{"$f":"IF(AA204=\"T\",AD207,AE207)","v":""},null,null,null,null,null,null,null,{"$f":"IF(I207=\"\",\"\",IF(AA204=\"F\",\"\",IF(AA204=\"T\",IF(I207<=X204,\"þ\",IF(I207<=Y204,\"G2\",IF(I207<=Z204,\"G3\",\"\"))))))","v":""},{"$f":"IF(I207=\"\",\"\",IF(AA204=\"T\",\"\",IF(AA204=\"F\",IF(I207>=X204,\"þ\",IF(I207>=Y204,\"G2\",IF(I207>=Z204,\"G3\",\"\"))))))","v":""},{"$f":"IF(R207=\"\",\"\",IF(AA204=\"F\",\"\",IF(AA204=\"T\",IF(R207<=X204,\"þ\",IF(R207<=Y204,\"G2\",IF(R207<=Z204,\"G3\",\"\"))))))","v":""},{"$f":"IF(R207=\"\",\"\",IF(AA204=\"T\",\"\",IF(AA204=\"F\",IF(R207>=X204,\"þ\",IF(R207>=Y204,\"G2\",IF(R207>=Z204,\"G3\",\"\"))))))","v":""},"","","","",6,null,{"$f":"'Match Day'!B210","v":0},null,null,null,null,2,7,5]
[null,null,"","",4,null,null,null,null,{"$f":"IF(I208=\"\",\"\",IF(AND(AA204=\"T\",I208<I207),\"X\",IF(AND(AA204=\"F\",I208>I207),\"X\",\"\")))","v":""},null,{"$f":"IF(AA204=\"T\",AB208,AC208)","v":""},null,4,null,null,null,null,{"$f":"IF(R208=\"\",\"\",IF(AND(AA204=\"T\",R208<R207),\"X\",IF(AND(AA204=\"F\",R208>R207),\"X\",\"\")))","v":""},{"$f":"IF(AA204=\"T\",AD208,AE208)","v":""},null,null,null,null,null,null,null,{"$f":"IF(I208=\"\",\"\",IF(AA204=\"F\",\"\",IF(AA204=\"T\",IF(I208<=X204,\"þ\",IF(I208<=Y204,\"G2\",IF(I208<=Z204,\"G3\",\"\"))))))","v":""},{"$f":"IF(I208=\"\",\"\",IF(AA204=\"T\",\"\",IF(AA204=\"F\",IF(I208>=X204,\"þ\",IF(I208>=Y204,\"G2\",IF(I208>=Z204,\"G3\",\"\"))))))","v":""},{"$f":"IF(R208=\"\",\"\",IF(AA204=\"F\",\"\",IF(AA204=\"T\",IF(R208<=X204,\"þ\",IF(R208<=Y204,\"G2\",IF(R208<=Z204,\"G3\",\"\"))))))","v":""},{"$f":"IF(R208=\"\",\"\",IF(AA204=\"T\",\"\",IF(AA204=\"F\",IF(R208>=X204,\"þ\",IF(R208>=Y204,\"G2\",IF(R208>=Z204,\"G3\",\"\"))))))","v":""},"","","","",7,null,{"$f":"'Match Day'!B212","v":0},null,null,null,null,3,6,4]
[null,null,"","",5,null,null,null,null,{"$f":"IF(I209=\"\",\"\",IF(AND(AA204=\"T\",I209<I208),\"X\",IF(AND(AA204=\"F\",I209>I208),\"X\",\"\")))","v":""},null,{"$f":"IF(AA204=\"T\",AB209,AC209)","v":""},null,5,null,null,null,null,{"$f":"IF(R209=\"\",\"\",IF(AND(AA204=\"T\",R209<R208),\"X\",IF(AND(AA204=\"F\",R209>R208),\"X\",\"\")))","v":""},{"$f":"IF(AA204=\"T\",AD209,AE209)","v":""},null,null,null,null,null,null,null,{"$f":"IF(I209=\"\",\"\",IF(AA204=\"F\",\"\",IF(AA204=\"T\",IF(I209<=X204,\"þ\",IF(I209<=Y204,\"G2\",IF(I209<=Z204,\"G3\",\"\"))))))","v":""},{"$f":"IF(I209=\"\",\"\",IF(AA204=\"T\",\"\",IF(AA204=\"F\",IF(I209>=X204,\"þ\",IF(I209>=Y204,\"G2\",IF(I209>=Z204,\"G3\",\"\"))))))","v":""},{"$f":"IF(R209=\"\",\"\",IF(AA204=\"F\",\"\",IF(AA204=\"T\",IF(R209<=X204,\"þ\",IF(R209<=Y204,\"G2\",IF(R209<=Z204,\"G3\",\"\"))))))","v":""},{"$f":"IF(R209=\"\",\"\",IF(AA204=\"T\",\"\",IF(AA204=\"F\",IF(R209>=X204,\"þ\",IF(R209>=Y204,\"G2\",IF(R209>=Z204,\"G3\",\"\"))))))","v":""},"","","","",8,null,{"$f":"'Match Day'!B214","v":0},null,null,null,null,4,5,3]
[null,null,"","",6,null,null,null,null,{"$f":"IF(I210=\"\",\"\",IF(AND(AA204=\"T\",I210<I209),\"X\",IF(AND(AA204=\"F\",I210>I209),\"X\",\"\")))","v":""},null,{"$f":"IF(AA204=\"T\",AB210,AC210)","v":""},null,6,null,null,null,null,{"$f":"IF(R210=\"\",\"\",IF(AND(AA204=\"T\",R210<R209),\"X\",IF(AND(AA204=\"F\",R210>R209),\"X\",\"\")))","v":""},{"$f":"IF(AA204=\"T\",AD210,AE210)","v":""},null,null,null,null,null,null,null,{"$f":"IF(I210=\"\",\"\",IF(AA204=\"F\",\"\",IF(AA204=\"T\",IF(I210<=X204,\"þ\",IF(I210<=Y204,\"G2\",IF(I210<=Z204,\"G3\",\"\"))))))","v":""},{"$f":"IF(I210=\"\",\"\",IF(AA204=\"T\",\"\",IF(AA204=\"F\",IF(I210>=X204,\"þ\",IF(I210>=Y204,\"G2\",IF(I210>=Z204,\"G3\",\"\"))))))","v":""},{"$f":"IF(R210=\"\",\"\",IF(AA204=\"F\",\"\",IF(AA204=\"T\",IF(R210<=X204,\"þ\",IF(R210<=Y204,\"G2\",IF(R210<=Z204,\"G3\",\"\"))))))","v":""},{"$f":"IF(R210=\"\",\"\",IF(AA204=\"T\",\"\",IF(AA204=\"F\",IF(R210>=X204,\"þ\",IF(R210>=Y204,\"G2\",IF(R210>=Z204,\"G3\",\"\"))))))","v":""},"","","","",9,null,{"$f":"'Match Day'!B216","v":0},null,null,null,null,5,4,2]
[null,null,"","",7,null,null,null,null,{"$f":"IF(I211=\"\",\"\",IF(AND(AA204=\"T\",I211<I210),\"X\",IF(AND(AA204=\"F\",I211>I210),\"X\",\"\")))","v":""},null,{"$f":"IF(AA204=\"T\",AB211,AC211)","v":""},null,7,null,null,null,null,{"$f":"IF(R211=\"\",\"\",IF(AND(AA204=\"T\",R211<R210),\"X\",IF(AND(AA204=\"F\",R211>R210),\"X\",\"\")))","v":""},{"$f":"IF(AA204=\"T\",AD211,AE211)","v":""},null,null,null,null,null,null,null,{"$f":"IF(I211=\"\",\"\",IF(AA204=\"F\",\"\",IF(AA204=\"T\",IF(I211<=X204,\"þ\",IF(I211<=Y204,\"G2\",IF(I211<=Z204,\"G3\",\"\"))))))","v":""},{"$f":"IF(I211=\"\",\"\",IF(AA204=\"T\",\"\",IF(AA204=\"F\",IF(I211>=X204,\"þ\",IF(I211>=Y204,\"G2\",IF(I211>=Z204,\"G3\",\"\"))))))","v":""},{"$f":"IF(R211=\"\",\"\",IF(AA204=\"F\",\"\",IF(AA204=\"T\",IF(R211<=X204,\"þ\",IF(R211<=Y204,\"G2\",IF(R211<=Z204,\"G3\",\"\"))))))","v":""},{"$f":"IF(R211=\"\",\"\",IF(AA204=\"T\",\"\",IF(AA204=\"F\",IF(R211>=X204,\"þ\",IF(R211>=Y204,\"G2\",IF(R211>=Z204,\"G3\",\"\"))))))","v":""},"","","","",10,null,{"$f":"'Match Day'!B218","v":0},null,null,null,null,6,3,1]
[null,null,"","",8,null,null,null,null,{"$f":"IF(I212=\"\",\"\",IF(AND(AA204=\"T\",I212<I211),\"X\",IF(AND(AA204=\"F\",I212>I211),\"X\",\"\")))","v":""},null,{"$f":"IF(AA204=\"T\",AB212,AC212)","v":""},null,8,null,null,null,null,{"$f":"IF(R212=\"\",\"\",IF(AND(AA204=\"T\",R212<R211),\"X\",IF(AND(AA204=\"F\",R212>R211),\"X\",\"\")))","v":""},{"$f":"IF(AA204=\"T\",AD212,AE212)","v":""},null,null,null,null,null,null,null,{"$f":"IF(I212=\"\",\"\",IF(AA204=\"F\",\"\",IF(AA204=\"T\",IF(I212<=X204,\"þ\",IF(I212<=Y204,\"G2\",IF(I212<=Z204,\"G3\",\"\"))))))","v":""},{"$f":"IF(I212=\"\",\"\",IF(AA204=\"T\",\"\",IF(AA204=\"F\",IF(I212>=X204,\"þ\",IF(I212>=Y204,\"G2\",IF(I212>=Z204,\"G3\",\"\"))))))","v":""},{"$f":"IF(R212=\"\",\"\",IF(AA204=\"F\",\"\",IF(AA204=\"T\",IF(R212<=X204,\"þ\",IF(R212<=Y204,\"G2\",IF(R212<=Z204,\"G3\",\"\"))))))","v":""},{"$f":"IF(R212=\"\",\"\",IF(AA204=\"T\",\"\",IF(AA204=\"F\",IF(R212>=X204,\"þ\",IF(R212>=Y204,\"G2\",IF(R212>=Z204,\"G3\",\"\"))))))","v":""},"","","","",11,null,{"$f":"'Match Day'!B220","v":0},null,null,null,null,7,0,0]

{"sheet":"ResultsF","index":2,"n_rows":211,"n_cols":47,"rows_kept":211,"cut":false,"hidden":false,"merged":[[182,17,182,18],[178,13,178,15],[181,16,181,18],[12,14,12,15],[22,14,22,15],[32,14,32,15],[151,13,151,15],[131,16,131,18],[151,16,151,18],[152,14,152,15],[177,13,177,15],[175,13,175,15],[172,17,172,18],[131,13,131,15],[173,13,173,15],[122,14,122,15],[142,14,142,15],[171,16,171,18],[161,16,161,18],[121,13,121,15],[112,14,112,15],[152,4,152,6],[101,8,101,12],[62,4,62,6],[72,4,72,6],[82,4,82,6],[112,4,112,6],[0,4,0,6],[1,4,1,7],[122,4,122,6],[132,4,132,6],[142,4,142,6],[2,4,2,6],[12,4,12,6],[22,4,22,6],[32,4,32,6],[92,4,92,6],[102,4,102,6],[52,4,52,6],[42,4,42,6],[131,8,131,12],[1,14,1,15],[151,8,151,12],[102,14,102,15],[92,14,92,15],[141,8,141,12],[132,14,132,15],[1,27,1,28],[0,38,1,41],[42,14,42,15],[82,14,82,15],[62,14,62,15],[72,14,72,15],[0,31,0,34],[52,14,52,15],[0,27,0,30],[121,8,121,12],[111,8,111,12],[111,16,111,18],[101,16,101,18],[101,13,101,15],[121,16,121,18],[0,7,0,15],[0,16,0,18],[1,33,1,34],[1,31,1,32],[1,29,1,30],[2,14,2,15],[111,13,111,15],[179,8,179,12],[182,4,182,16],[178,8,178,12],[141,16,141,18],[192,4,192,6],[192,13,192,15],[184,8,184,12],[184,13,184,15],[179,13,179,15],[183,8,183,12],[183,13,183,15],[180,8,180,12],[181,8,181,12],[181,13,181,15],[161,8,161,12],[161,13,161,15],[174,8,174,12],[174,13,174,15],[141,13,141,15],[172,4,172,16],[162,4,162,6],[175,8,175,12],[202,4,202,6],[1,42,1,44],[187,8,187,12],[187,13,187,15],[190,8,190,12],[190,13,190,15],[188,8,188,12],[188,13,188,15],[189,8,189,12],[189,13,189,15],[185,8,185,12],[185,13,185,15],[186,8,186,12],[186,13,186,15],[180,13,180,15],[162,14,162,15],[176,8,176,12],[176,13,176,15],[177,8,177,12],[171,8,171,12],[171,13,171,15],[173,8,173,12]]}
[null,null,null,null,"Home",null,null,{"$f":"'Match Day'!I4","v":"Northern T&F League"},null,null,null,null,null,null,null,null,"Home",null,null,null,null,null,null,null,null,null,null,"Grades",null,null,null,"Points",null,null,null,null,null,null,"Enter Club Letter, Performance and any Wind Readings in the Yellow Boxes. Times for 800m and above should be entered as mm:ss.0 Otherwise use ss.0"]
[null,null,null,null,{"$f":"CONCATENATE('Match Day'!I8,\" \",'Match Day'!I10,\" - \",'Match Day'!I12)","v":"Division 4W Match 1 - Litherland"},null,null,null,"Perf","Record","Wind","AW",null,null,{"$f":"'Match Day'!I6","v":"2014-05-04"},null,null,"Perf","Wind","AW","Prints","Record","Division","Grade 1","Grade 2","Grade 3","T/F","A String",null,"B String",null,"A String",null,"B String",null,"Row",null,"Validation",null,null,null,null,"Points"]
[null,null,null,null,{"$f":"CONCATENATE(VLOOKUP(A4,womens_handbook,3,FALSE),\" A\")","v":"Women's 100m A"},null,null,{"$f":"IF(A4=\"\",\"\",IF(VLOOKUP(A4,Handbook!$A$4:$AI$24,35,FALSE)=\"Y\",\"Wind=\",\"\"))","v":"Wind="},null,null,null,null,null,null,{"$f":"CONCATENATE(VLOOKUP(A4,womens_handbook,3,FALSE),\" B\")","v":"Women's 100m B"},{"$f":"CONCATENATE(VLOOKUP(M4,Handbook!$A$4:$C$24,3,FALSE),\" A\")","v":{"$error":"#N/A"}},{"$f":"H3","v":"Wind="},null,null,null,null,{"$f":"IF($A4=\"\",\"\",VLOOKUP($A4,Handbook!$A$26:$AK$46,21,FALSE))","v":11.6},{"$f":"IF($A4=\"\",\"\",VLOOKUP($A4,Handbook!$A$26:$AK$46,22,FALSE))","v":11.6},{"$f":"IF($A4=\"\",\"\",VLOOKUP($A4,Handbook!$A$26:$AK$46,23,FALSE))","v":13.2},{"$f":"IF($A4=\"\",\"\",VLOOKUP($A4,Handbook!$A$26:$AK$46,24,FALSE))","v":13},{"$f":"IF($A4=\"\",\"\",VLOOKUP($A4,Handbook!$A$26:$AK$46,25,FALSE))","v":13},{"$f":"IF($A4=\"\",\"\",VLOOKUP($A4,Handbook!$A$26:$AK$46,34,FALSE))","v":"T"},null,null,null,null,null,null,null,null,3,null,null,null,null,null,null,null,"A","B"]
[3,null,{"$f":"IF(F4=\"\",\"\",IF(F4>10,F4/11,F4))","v":""},{"$f":"IF(O4=\"\",\"\",IF(O4>10,O4/11,O4))","v":""},1,null,{"$f":"IF($F4=\"\",\"\",IF($F4>90,VLOOKUP(F4,eventcodes,2,FALSE),HLOOKUP(F4,womens_declare,B6,FALSE)))","v":""},{"$f":"IF($F4=\"\",\"\",IF($F4>90,\"\",VLOOKUP(C4,matchday,2,FALSE)))","v":""},null,{"$f":"IF(I4=\"\",\"\",IF(AA3=\"T\",V4,V5))","v":""},null,{"$f":"IF(AA3=\"T\",AB4,AC4)","v":""},null,1,null,{"$f":"IF($O4=\"\",\"\",HLOOKUP(O4,womens_declare,B6,FALSE))","v":""},{"$f":"IF($O4=\"\",\"\",VLOOKUP(D4,matchday,2,FALSE))","v":""},null,null,{"$f":"IF(AA3=\"T\",AD4,AE4)","v":""},null,{"$f":"IF(AA3=\"F\",\"\",IF(I4<V3,\"LR\",IF(I4=V3,\"=LR\",IF(I4<W3,\"DR\",IF(I4=W3,\"=DR\",\"\")))))","v":"LR"},null,null,null,null,null,{"$f":"IF(I4=\"\",\"\",IF(AA3=\"F\",\"\",IF(AA3=\"T\",IF(I4<=X3,\"þ\",IF(I4<=Y3,\"G2\",IF(I4<=Z3,\"G3\",\"\"))))))","v":""},{"$f":"IF(I4=\"\",\"\",IF(AA3=\"T\",\"\",IF(AA3=\"F\",IF(I4>=X3,\"þ\",IF(I4>=Y3,\"G2\",IF(I4>=Z3,\"G3\",\"\"))))))","v":""},{"$f":"IF(R4=\"\",\"\",IF(AA3=\"F\",\"\",IF(AA3=\"T\",IF(R4<=X3,\"þ\",IF(R4<=Y3,\"G2\",IF(R4<=Z3,\"G3\",\"\"))))))","v":""},{"$f":"IF(R4=\"\",\"\",IF(AA3=\"T\",\"\",IF(AA3=\"F\",IF(R4>=X3,\"þ\",IF(R4>=Y3,\"G2\",IF(R4>=Z3,\"G3\",\"\"))))))","v":""},{"$f":"C4","v":""},{"$f":"IF(F4=\"\",\"\",IF(LEFT(I4,1)=\"D\",0,VLOOKUP(E4,$AQ$4:$AR$40,2,FALSE)))","v":""},{"$f":"D4","v":""},{"$f":"IF(O4=\"\",\"\",IF(LEFT(R4,1)=\"D\",0,VLOOKUP(N4,$AQ$4:$AS$40,3,FALSE)))","v":""},4,null,{"$f":"'Match Day'!B4","v":1},null,null,null,null,"Posn","Points","Points"]
[null,{"$f":"VLOOKUP(A4,Handbook!$A$26:$AK$46,37,FALSE)","v":4},"","",2,null,{"$f":"IF($F5=\"\",\"\",HLOOKUP(F5,womens_declare,B6,FALSE))","v":""},{"$f":"IF($F5=\"\",\"\",VLOOKUP(C5,matchday,2,FALSE))","v":""},null,{"$f":"IF(I5=\"\",\"\",IF(AND(AA3=\"T\",I5<I4),\"X\",IF(AND(AA3=\"F\",I5>I4),\"X\",\"\")))","v":""},null,{"$f":"IF(AA3=\"T\",AB5,AC5)","v":""},null,2,null,{"$f":"IF($O5=\"\",\"\",HLOOKUP(O5,womens_declare,B6,FALSE))","v":""},"",null,{"$f":"IF(R5=\"\",\"\",IF(AND(AA3=\"T\",R5<R4),\"X\",IF(AND(AA3=\"F\",R5>R4),\"X\",\"\")))","v":""},{"$f":"IF(AA3=\"T\",AD5,AE5)","v":""},null,{"$f":"IF(AA3=\"T\",\"\",IF(I4>V3,\"LR\",IF(I4=V3,\"=LR\",IF(I4>W3,\"DR\",IF(I4=W3,\"=DR\",\"\")))))","v":""},null,null,null,null,null,{"$f":"IF(I5=\"\",\"\",IF(AA3=\"F\",\"\",IF(AA3=\"T\",IF(I5<=X3,\"þ\",IF(I5<=Y3,\"G2\",IF(I5<=Z3,\"G3\",\"\"))))))","v":""},{"$f":"IF(I5=\"\",\"\",IF(AA3=\"T\",\"\",IF(AA3=\"F\",IF(I5>=X3,\"þ\",IF(I5>=Y3,\"G2\",IF(I5>=Z3,\"G3\",\"\"))))))","v":""},{"$f":"IF(R5=\"\",\"\",IF(AA3=\"F\",\"\",IF(AA3=\"T\",IF(R5<=X3,\"þ\",IF(R5<=Y3,\"G2\",IF(R5<=Z3,\"G3\",\"\"))))))","v":""},{"$f":"IF(R5=\"\",\"\",IF(AA3=\"T\",\"\",IF(AA3=\"F\",IF(R5>=X3,\"þ\",IF(R5>=Y3,\"G2\",IF(R5>=Z3,\"G3\",\"\"))))))","v":""},"","","","",5,null,{"$f":"'Match Day'!B6","v":2},null,null,null,null,1,{"$f":"'Match Day'!C23","v":10},{"$f":"'Match Day'!D23","v":8}]
[null,{"$f":"VLOOKUP(A4,womens_declare,20,FALSE)","v":3},"","",3,null,{"$f":"IF($F6=\"\",\"\",HLOOKUP(F6,womens_declare,B6,FALSE))","v":""},"",null,{"$f":"IF(I6=\"\",\"\",IF(AND(AA3=\"T\",I6<I5),\"X\",IF(AND(AA3=\"F\",I6>I5),\"X\",\"\")))","v":""},null,{"$f":"IF(AA3=\"T\",AB6,AC6)","v":""},null,3,null,{"$f":"IF($O6=\"\",\"\",HLOOKUP(O6,womens_declare,B6,FALSE))","v":""},"",null,{"$f":"IF(R6=\"\",\"\",IF(AND(AA3=\"T\",R6<R5),\"X\",IF(AND(AA3=\"F\",R6>R5),\"X\",\"\")))","v":""},{"$f":"IF(AA3=\"T\",AD6,AE6)","v":""},null,null,null,null,null,null,null,{"$f":"IF(I6=\"\",\"\",IF(AA3=\"F\",\"\",IF(AA3=\"T\",IF(I6<=X3,\"þ\",IF(I6<=Y3,\"G2\",IF(I6<=Z3,\"G3\",\"\"))))))","v":""},{"$f":"IF(I6=\"\",\"\",IF(AA3=\"T\",\"\",IF(AA3=\"F\",IF(I6>=X3,\"þ\",IF(I6>=Y3,\"G2\",IF(I6>=Z3,\"G3\",\"\"))))))","v":""},{"$f":"IF(R6=\"\",\"\",IF(AA3=\"F\",\"\",IF(AA3=\"T\",IF(R6<=X3,\"þ\",IF(R6<=Y3,\"G2\",IF(R6<=Z3,\"G3\",\"\"))))))","v":""},{"$f":"IF(R6=\"\",\"\",IF(AA3=\"T\",\"\",IF(AA3=\"F\",IF(R6>=X3,\"þ\",IF(R6>=Y3,\"G2\",IF(R6>=Z3,\"G3\",\"\"))))))","v":""},"","","","",6,null,{"$f":"'Match Day'!B8","v":3},null,null,null,null,2,{"$f":"'Match Day'!C24","v":8},{"$f":"'Match Day'!D24","v":6}]
[null,null,"","",4,null,{"$f":"IF($F7=\"\",\"\",HLOOKUP(F7,womens_declare,B6,FALSE))","v":""},"",null,{"$f":"IF(I7=\"\",\"\",IF(AND(AA3=\"T\",I7<I6),\"X\",IF(AND(AA3=\"F\",I7>I6),\"X\",\"\")))","v":""},null,{"$f":"IF(AA3=\"T\",AB7,AC7)","v":""},null,4,null,{"$f":"IF($O7=\"\",\"\",HLOOKUP(O7,womens_declare,B6,FALSE))","v":""},"",null,{"$f":"IF(R7=\"\",\"\",IF(AND(AA3=\"T\",R7<R6),\"X\",IF(AND(AA3=\"F\",R7>R6),\"X\",\"\")))","v":""},{"$f":"IF(AA3=\"T\",AD7,AE7)","v":""},null,null,null,null,null,null,null,{"$f":"IF(I7=\"\",\"\",IF(AA3=\"F\",\"\",IF(AA3=\"T\",IF(I7<=X3,\"þ\",IF(I7<=Y3,\"G2\",IF(I7<=Z3,\"G3\",\"\"))))))","v":""},{"$f":"IF(I7=\"\",\"\",IF(AA3=\"T\",\"\",IF(AA3=\"F\",IF(I7>=X3,\"þ\",IF(I7>=Y3,\"G2\",IF(I7>=Z3,\"G3\",\"\"))))))","v":""},{"$f":"IF(R7=\"\",\"\",IF(AA3=\"F\",\"\",IF(AA3=\"T\",IF(R7<=X3,\"þ\",IF(R7<=Y3,\"G2\",IF(R7<=Z3,\"G3\",\"\"))))))","v":""},{"$f":"IF(R7=\"\",\"\",IF(AA3=\"T\",\"\",IF(AA3=\"F\",IF(R7>=X3,\"þ\",IF(R7>=Y3,\"G2\",IF(R7>=Z3,\"G3\",\"\"))))))","v":""},"","","","",7,null,{"$f":"'Match Day'!B10","v":4},null,null,null,null,3,{"$f":"'Match Day'!C25","v":7},{"$f":"'Match Day'!D25","v":5}]
[null,null,"","",5,null,{"$f":"IF($F8=\"\",\"\",HLOOKUP(F8,womens_declare,B6,FALSE))","v":""},"",null,{"$f":"IF(I8=\"\",\"\",IF(AND(AA3=\"T\",I8<I7),\"X\",IF(AND(AA3=\"F\",I8>I7),\"X\",\"\")))","v":""},null,{"$f":"IF(AA3=\"T\",AB8,AC8)","v":""},null,5,null,{"$f":"IF($O8=\"\",\"\",HLOOKUP(O8,womens_declare,B6,FALSE))","v":""},"",null,{"$f":"IF(R8=\"\",\"\",IF(AND(AA3=\"T\",R8<R7),\"X\",IF(AND(AA3=\"F\",R8>R7),\"X\",\"\")))","v":""},{"$f":"IF(AA3=\"T\",AD8,AE8)","v":""},null,null,null,null,null,null,null,{"$f":"IF(I8=\"\",\"\",IF(AA3=\"F\",\"\",IF(AA3=\"T\",IF(I8<=X3,\"þ\",IF(I8<=Y3,\"G2\",IF(I8<=Z3,\"G3\",\"\"))))))","v":""},{"$f":"IF(I8=\"\",\"\",IF(AA3=\"T\",\"\",IF(AA3=\"F\",IF(I8>=X3,\"þ\",IF(I8>=Y3,\"G2\",IF(I8>=Z3,\"G3\",\"\"))))))","v":""},{"$f":"IF(R8=\"\",\"\",IF(AA3=\"F\",\"\",IF(AA3=\"T\",IF(R8<=X3,\"þ\",IF(R8<=Y3,\"G2\",IF(R8<=Z3,\"G3\",\"\"))))))","v":""},{"$f":"IF(R8=\"\",\"\",IF(AA3=\"T\",\"\",IF(AA3=\"F\",IF(R8>=X3,\"þ\",IF(R8>=Y3,\"G2\",IF(R8>=Z3,\"G3\",\"\"))))))","v":""},"","","","",8,null,{"$f":"'Match Day'!B12","v":5},null,null,null,null,4,{"$f":"'Match Day'!C26","v":6},{"$f":"'Match Day'!D26","v":4}]
[null,null,"","",6,null,{"$f":"IF($F9=\"\",\"\",HLOOKUP(F9,womens_declare,B6,FALSE))","v":""},"",null,{"$f":"IF(I9=\"\",\"\",IF(AND(AA3=\"T\",I9<I8),\"X\",IF(AND(AA3=\"F\",I9>I8),\"X\",\"\")))","v":""},null,{"$f":"IF(AA3=\"T\",AB9,AC9)","v":""},null,6,null,{"$f":"IF($O9=\"\",\"\",HLOOKUP(O9,womens_declare,B6,FALSE))","v":""},"",null,{"$f":"IF(R9=\"\",\"\",IF(AND(AA3=\"T\",R9<R8),\"X\",IF(AND(AA3=\"F\",R9>R8),\"X\",\"\")))","v":""},{"$f":"IF(AA3=\"T\",AD9,AE9)","v":""},null,null,null,null,null,null,null,{"$f":"IF(I9=\"\",\"\",IF(AA3=\"F\",\"\",IF(AA3=\"T\",IF(I9<=X3,\"þ\",IF(I9<=Y3,\"G2\",IF(I9<=Z3,\"G3\",\"\"))))))","v":""},{"$f":"IF(I9=\"\",\"\",IF(AA3=\"T\",\"\",IF(AA3=\"F\",IF(I9>=X3,\"þ\",IF(I9>=Y3,\"G2\",IF(I9>=Z3,\"G3\",\"\"))))))","v":""},{"$f":"IF(R9=\"\",\"\",IF(AA3=\"F\",\"\",IF(AA3=\"T\",IF(R9<=X3,\"þ\",IF(R9<=Y3,\"G2\",IF(R9<=Z3,\"G3\",\"\"))))))","v":""},{"$f":"IF(R9=\"\",\"\",IF(AA3=\"T\",\"\",IF(AA3=\"F\",IF(R9>=X3,\"þ\",IF(R9>=Y3,\"G2\",IF(R9>=Z3,\"G3\",\"\"))))))","v":""},"","","","",9,null,{"$f":"'Match Day'!B14","v":6},null,null,null,null,5,{"$f":"'Match Day'!C27","v":5},{"$f":"'Match Day'!D27","v":3}]
[null,null,"","",7,null,{"$f":"IF($F10=\"\",\"\",HLOOKUP(F10,womens_declare,B6,FALSE))","v":""},"",null,{"$f":"IF(I10=\"\",\"\",IF(AND(AA3=\"T\",I10<I9),\"X\",IF(AND(AA3=\"F\",I10>I9),\"X\",\"\")))","v":""},null,{"$f":"IF(AA3=\"T\",AB10,AC10)","v":""},null,7,null,{"$f":"IF($O10=\"\",\"\",HLOOKUP(O10,womens_declare,B6,FALSE))","v":""},"",null,{"$f":"IF(R10=\"\",\"\",IF(AND(AA3=\"T\",R10<R9),\"X\",IF(AND(AA3=\"F\",R10>R9),\"X\",\"\")))","v":""},{"$f":"IF(AA3=\"T\",AD10,AE10)","v":""},null,null,null,null,null,null,null,{"$f":"IF(I10=\"\",\"\",IF(AA3=\"F\",\"\",IF(AA3=\"T\",IF(I10<=X3,\"þ\",IF(I10<=Y3,\"G2\",IF(I10<=Z3,\"G3\",\"\"))))))","v":""},{"$f":"IF(I10=\"\",\"\",IF(AA3=\"T\",\"\",IF(AA3=\"F\",IF(I10>=X3,\"þ\",IF(I10>=Y3,\"G2\",IF(I10>=Z3,\"G3\",\"\"))))))","v":""},{"$f":"IF(R10=\"\",\"\",IF(AA3=\"F\",\"\",IF(AA3=\"T\",IF(R10<=X3,\"þ\",IF(R10<=Y3,\"G2\",IF(R10<=Z3,\"G3\",\"\"))))))","v":""},{"$f":"IF(R10=\"\",\"\",IF(AA3=\"T\",\"\",IF(AA3=\"F\",IF(R10>=X3,\"þ\",IF(R10>=Y3,\"G2\",IF(R10>=Z3,\"G3\",\"\"))))))","v":""},"","","","",10,null,{"$f":"'Match Day'!B16","v":7},null,null,null,null,6,{"$f":"'Match Day'!C28","v":4},{"$f":"'Match Day'!D28","v":2}]
[null,null,"","",8,null,{"$f":"IF($F11=\"\",\"\",HLOOKUP(F11,womens_declare,B6,FALSE))","v":""},"",null,{"$f":"IF(I11=\"\",\"\",IF(AND(AA3=\"T\",I11<I10),\"X\",IF(AND(AA3=\"F\",I11>I10),\"X\",\"\")))","v":""},null,{"$f":"IF(AA3=\"T\",AB11,AC11)","v":""},null,8,null,{"$f":"IF($O11=\"\",\"\",HLOOKUP(O11,womens_declare,B6,FALSE))","v":""},"",null,{"$f":"IF(R11=\"\",\"\",IF(AND(AA3=\"T\",R11<R10),\"X\",IF(AND(AA3=\"F\",R11>R10),\"X\",\"\")))","v":""},{"$f":"IF(AA3=\"T\",AD11,AE11)","v":""},null,null,null,null,null,null,null,{"$f":"IF(I11=\"\",\"\",IF(AA3=\"F\",\"\",IF(AA3=\"T\",IF(I11<=X3,\"þ\",IF(I11<=Y3,\"G2\",IF(I11<=Z3,\"G3\",\"\"))))))","v":""},{"$f":"IF(I11=\"\",\"\",IF(AA3=\"T\",\"\",IF(AA3=\"F\",IF(I11>=X3,\"þ\",IF(I11>=Y3,\"G2\",IF(I11>=Z3,\"G3\",\"\"))))))","v":""},{"$f":"IF(R11=\"\",\"\",IF(AA3=\"F\",\"\",IF(AA3=\"T\",IF(R11<=X3,\"þ\",IF(R11<=Y3,\"G2\",IF(R11<=Z3,\"G3\",\"\"))))))","v":""},{"$f":"IF(R11=\"\",\"\",IF(AA3=\"T\",\"\",IF(AA3=\"F\",IF(R11>=X3,\"þ\",IF(R11>=Y3,\"G2\",IF(R11>=Z3,\"G3\",\"\"))))))","v":""},"","","","",11,null,{"$f":"'Match Day'!B18","v":8},null,null,null,null,7,{"$f":"'Match Day'!C29","v":3},{"$f":"'Match Day'!D29","v":1}]
[null,null,null,null,null,null,null,null,null,null,null,null,null,null,null,null,null,null,null,null,null,null,null,null,null,null,null,null,null,null,null,null,null,null,null,12,null,{"$f":"AL4*11","v":11},null,null,null,null,8,{"$f":"'Match Day'!C30","v":0},{"$f":"'Match Day'!D30","v":0},{"$f":"SUM(AR5:AR12)","v":43},{"$f":"SUM(AS5:AS12)","v":29}]
[null,null,null,null,{"$f":"CONCATENATE(VLOOKUP(A14,womens_handbook,3,FALSE),\" A\")","v":"Women's 200m A"},null,null,{"$f":"IF(A14=\"\",\"\",IF(VLOOKUP(A14,Handbook!$A$4:$AI$24,35,FALSE)=\"Y\",\"Wind=\",\"\"))","v":"Wind="},null,null,null,null,null,null,{"$f":"CONCATENATE(VLOOKUP(A14,womens_handbook,3,FALSE),\" B\")","v":"Women's 200m B"},{"$f":"CONCATENATE(VLOOKUP(M14,Handbook!$A$4:$C$24,3,FALSE),\" A\")","v":{"$error":"#N/A"}},{"$f":"H13","v":"Wind="},null,null,null,null,{"$f":"IF($A14=\"\",\"\",VLOOKUP($A14,Handbook!$A$26:$AK$46,21,FALSE))","v":23.3},{"$f":"IF($A14=\"\",\"\",VLOOKUP($A14,Handbook!$A$26:$AK$46,22,FALSE))","v":23.3},{"$f":"IF($A14=\"\",\"\",VLOOKUP($A14,Handbook!$A$26:$AK$46,23,FALSE))","v":27},{"$f":"IF($A14=\"\",\"\",VLOOKUP($A14,Handbook!$A$26:$AK$46,24,FALSE))","v":27},{"$f":"IF($A14=\"\",\"\",VLOOKUP($A14,Handbook!$A$26:$AK$46,25,FALSE))","v":27},{"$f":"IF($A14=\"\",\"\",VLOOKUP($A14,Handbook!$A$26:$AK$46,34,FALSE))","v":"T"},null,null,null,null,null,null,null,null,13,null,{"$f":"AL5*11","v":22},null,null,null,null,"1=",{"$f":"SUM($AR$5:AR6)/2","v":9},{"$f":"SUM($AS$5:AS6)/2","v":7}]
[7,null,{"$f":"IF(F14=\"\",\"\",IF(F14>10,F14/11,F14))","v":""},{"$f":"IF(O14=\"\",\"\",IF(O14>10,O14/11,O14))","v":""},1,null,{"$f":"IF($F14=\"\",\"\",IF($F14>90,VLOOKUP(F14,eventcodes,2,FALSE),HLOOKUP(F14,womens_declare,B16,FALSE)))","v":""},{"$f":"IF($F14=\"\",\"\",IF($F14>90,\"\",VLOOKUP(C14,matchday,2,FALSE)))","v":""},null,{"$f":"IF(I14=\"\",\"\",IF(AA13=\"T\",V14,V15))","v":""},null,{"$f":"IF(AA13=\"T\",AB14,AC14)","v":""},null,1,null,{"$f":"IF($O14=\"\",\"\",HLOOKUP(O14,womens_declare,B16,FALSE))","v":""},{"$f":"IF($O14=\"\",\"\",VLOOKUP(D14,matchday,2,FALSE))","v":""},null,null,{"$f":"IF(AA13=\"T\",AD14,AE14)","v":""},null,{"$f":"IF(AA13=\"F\",\"\",IF(I14<V13,\"LR\",IF(I14=V13,\"=LR\",IF(I14<W13,\"DR\",IF(I14=W13,\"=DR\",\"\")))))","v":"LR"},null,null,null,null,null,{"$f":"IF(I14=\"\",\"\",IF(AA13=\"F\",\"\",IF(AA13=\"T\",IF(I14<=X13,\"þ\",IF(I14<=Y13,\"G2\",IF(I14<=Z13,\"G3\",\"\"))))))","v":""},{"$f":"IF(I14=\"\",\"\",IF(AA13=\"T\",\"\",IF(AA13=\"F\",IF(I14>=X13,\"þ\",IF(I14>=Y13,\"G2\",IF(I14>=Z13,\"G3\",\"\"))))))","v":""},{"$f":"IF(R14=\"\",\"\",IF(AA13=\"F\",\"\",IF(AA13=\"T\",IF(R14<=X13,\"þ\",IF(R14<=Y13,\"G2\",IF(R14<=Z13,\"G3\",\"\"))))))","v":""},{"$f":"IF(R14=\"\",\"\",IF(AA13=\"T\",\"\",IF(AA13=\"F\",IF(R14>=X13,\"þ\",IF(R14>=Y13,\"G2\",IF(R14>=Z13,\"G3\",\"\"))))))","v":""},{"$f":"C14","v":""},{"$f":"IF(F14=\"\",\"\",IF(LEFT(I14,1)=\"D\",0,VLOOKUP(E14,$AQ$4:$AR$40,2,FALSE)))","v":""},{"$f":"D14","v":""},{"$f":"IF(O14=\"\",\"\",IF(LEFT(R14,1)=\"D\",0,VLOOKUP(N14,$AQ$4:$AS$40,3,FALSE)))","v":""},14,null,{"$f":"AL6*11","v":33},null,null,null,null,"1==",{"$f":"SUM($AR$5:AR7)/3","v":8.3333333333333339},{"$f":"SUM($AS$5:AS7)/3","v":6.333333333333333}]
[null,{"$f":"VLOOKUP(A14,Handbook!$A$26:$AK$46,37,FALSE)","v":8},"","",2,null,{"$f":"IF($F15=\"\",\"\",HLOOKUP(F15,womens_declare,B16,FALSE))","v":""},{"$f":"IF($F15=\"\",\"\",VLOOKUP(C15,matchday,2,FALSE))","v":""},null,{"$f":"IF(I15=\"\",\"\",IF(AND(AA13=\"T\",I15<I14),\"X\",IF(AND(AA13=\"F\",I15>I14),\"X\",\"\")))","v":""},null,{"$f":"IF(AA13=\"T\",AB15,AC15)","v":""},null,2,null,{"$f":"IF($O15=\"\",\"\",HLOOKUP(O15,womens_declare,B16,FALSE))","v":""},"",null,{"$f":"IF(R15=\"\",\"\",IF(AND(AA13=\"T\",R15<R14),\"X\",IF(AND(AA13=\"F\",R15>R14),\"X\",\"\")))","v":""},{"$f":"IF(AA13=\"T\",AD15,AE15)","v":""},null,{"$f":"IF(AA13=\"T\",\"\",IF(I14>V13,\"LR\",IF(I14=V13,\"=LR\",IF(I14>W13,\"DR\",IF(I14=W13,\"=DR\",\"\")))))","v":""},null,null,null,null,null,{"$f":"IF(I15=\"\",\"\",IF(AA13=\"F\",\"\",IF(AA13=\"T\",IF(I15<=X13,\"þ\",IF(I15<=Y13,\"G2\",IF(I15<=Z13,\"G3\",\"\"))))))","v":""},{"$f":"IF(I15=\"\",\"\",IF(AA13=\"T\",\"\",IF(AA13=\"F\",IF(I15>=X13,\"þ\",IF(I15>=Y13,\"G2\",IF(I15>=Z13,\"G3\",\"\"))))))","v":""},{"$f":"IF(R15=\"\",\"\",IF(AA13=\"F\",\"\",IF(AA13=\"T\",IF(R15<=X13,\"þ\",IF(R15<=Y13,\"G2\",IF(R15<=Z13,\"G3\",\"\"))))))","v":""},{"$f":"IF(R15=\"\",\"\",IF(AA13=\"T\",\"\",IF(AA13=\"F\",IF(R15>=X13,\"þ\",IF(R15>=Y13,\"G2\",IF(R15>=Z13,\"G3\",\"\"))))))","v":""},"","","","",15,null,44,null,null,null,null,"1===",{"$f":"SUM($AR$5:AR8)/4","v":7.75},{"$f":"SUM($AS$5:AS8)/4","v":5.75}]
[null,{"$f":"VLOOKUP(A14,womens_declare,20,FALSE)","v":4},"","",3,null,{"$f":"IF($F16=\"\",\"\",HLOOKUP(F16,womens_declare,B16,FALSE))","v":""},"",null,{"$f":"IF(I16=\"\",\"\",IF(AND(AA13=\"T\",I16<I15),\"X\",IF(AND(AA13=\"F\",I16>I15),\"X\",\"\")))","v":""},null,{"$f":"IF(AA13=\"T\",AB16,AC16)","v":""},null,3,null,{"$f":"IF($O16=\"\",\"\",HLOOKUP(O16,womens_declare,B16,FALSE))","v":""},"",null,{"$f":"IF(R16=\"\",\"\",IF(AND(AA13=\"T\",R16<R15),\"X\",IF(AND(AA13=\"F\",R16>R15),\"X\",\"\")))","v":""},{"$f":"IF(AA13=\"T\",AD16,AE16)","v":""},null,null,null,null,null,null,null,{"$f":"IF(I16=\"\",\"\",IF(AA13=\"F\",\"\",IF(AA13=\"T\",IF(I16<=X13,\"þ\",IF(I16<=Y13,\"G2\",IF(I16<=Z13,\"G3\",\"\"))))))","v":""},{"$f":"IF(I16=\"\",\"\",IF(AA13=\"T\",\"\",IF(AA13=\"F\",IF(I16>=X13,\"þ\",IF(I16>=Y13,\"G2\",IF(I16>=Z13,\"G3\",\"\"))))))","v":""},{"$f":"IF(R16=\"\",\"\",IF(AA13=\"F\",\"\",IF(AA13=\"T\",IF(R16<=X13,\"þ\",IF(R16<=Y13,\"G2\",IF(R16<=Z13,\"G3\",\"\"))))))","v":""},{"$f":"IF(R16=\"\",\"\",IF(AA13=\"T\",\"\",IF(AA13=\"F\",IF(R16>=X13,\"þ\",IF(R16>=Y13,\"G2\",IF(R16>=Z13,\"G3\",\"\"))))))","v":""},"","","","",16,null,55,null,null,null,null,"1====",{"$f":"SUM($AR$5:AR9)/5","v":7.2},{"$f":"SUM($AS$5:AS9)/5","v":5.2}]
[null,null,"","",4,null,{"$f":"IF($F17=\"\",\"\",HLOOKUP(F17,womens_declare,B16,FALSE))","v":""},"",null,{"$f":"IF(I17=\"\",\"\",IF(AND(AA13=\"T\",I17<I16),\"X\",IF(AND(AA13=\"F\",I17>I16),\"X\",\"\")))","v":""},null,{"$f":"IF(AA13=\"T\",AB17,AC17)","v":""},null,4,null,{"$f":"IF($O17=\"\",\"\",HLOOKUP(O17,womens_declare,B16,FALSE))","v":""},"",null,{"$f":"IF(R17=\"\",\"\",IF(AND(AA13=\"T\",R17<R16),\"X\",IF(AND(AA13=\"F\",R17>R16),\"X\",\"\")))","v":""},{"$f":"IF(AA13=\"T\",AD17,AE17)","v":""},null,null,null,null,null,null,null,{"$f":"IF(I17=\"\",\"\",IF(AA13=\"F\",\"\",IF(AA13=\"T\",IF(I17<=X13,\"þ\",IF(I17<=Y13,\"G2\",IF(I17<=Z13,\"G3\",\"\"))))))","v":""},{"$f":"IF(I17=\"\",\"\",IF(AA13=\"T\",\"\",IF(AA13=\"F\",IF(I17>=X13,\"þ\",IF(I17>=Y13,\"G2\",IF(I17>=Z13,\"G3\",\"\"))))))","v":""},{"$f":"IF(R17=\"\",\"\",IF(AA13=\"F\",\"\",IF(AA13=\"T\",IF(R17<=X13,\"þ\",IF(R17<=Y13,\"G2\",IF(R17<=Z13,\"G3\",\"\"))))))","v":""},{"$f":"IF(R17=\"\",\"\",IF(AA13=\"T\",\"\",IF(AA13=\"F\",IF(R17>=X13,\"þ\",IF(R17>=Y13,\"G2\",IF(R17>=Z13,\"G3\",\"\"))))))","v":""},"","","","",17,null,66,null,null,null,null,"1=====",{"$f":"SUM($AR$5:AR10)/6","v":6.666666666666667},{"$f":"SUM($AS$5:AS10)/6","v":4.666666666666667}]
[null,null,"","",5,null,{"$f":"IF($F18=\"\",\"\",HLOOKUP(F18,womens_declare,B16,FALSE))","v":""},"",null,{"$f":"IF(I18=\"\",\"\",IF(AND(AA13=\"T\",I18<I17),\"X\",IF(AND(AA13=\"F\",I18>I17),\"X\",\"\")))","v":""},null,{"$f":"IF(AA13=\"T\",AB18,AC18)","v":""},null,5,null,{"$f":"IF($O18=\"\",\"\",HLOOKUP(O18,womens_declare,B16,FALSE))","v":""},"",null,{"$f":"IF(R18=\"\",\"\",IF(AND(AA13=\"T\",R18<R17),\"X\",IF(AND(AA13=\"F\",R18>R17),\"X\",\"\")))","v":""},{"$f":"IF(AA13=\"T\",AD18,AE18)","v":""},null,null,null,null,null,null,null,{"$f":"IF(I18=\"\",\"\",IF(AA13=\"F\",\"\",IF(AA13=\"T\",IF(I18<=X13,\"þ\",IF(I18<=Y13,\"G2\",IF(I18<=Z13,\"G3\",\"\"))))))","v":""},{"$f":"IF(I18=\"\",\"\",IF(AA13=\"T\",\"\",IF(AA13=\"F\",IF(I18>=X13,\"þ\",IF(I18>=Y13,\"G2\",IF(I18>=Z13,\"G3\",\"\"))))))","v":""},{"$f":"IF(R18=\"\",\"\",IF(AA13=\"F\",\"\",IF(AA13=\"T\",IF(R18<=X13,\"þ\",IF(R18<=Y13,\"G2\",IF(R18<=Z13,\"G3\",\"\"))))))","v":""},{"$f":"IF(R18=\"\",\"\",IF(AA13=\"T\",\"\",IF(AA13=\"F\",IF(R18>=X13,\"þ\",IF(R18>=Y13,\"G2\",IF(R18>=Z13,\"G3\",\"\"))))))","v":""},"","","","",18,null,77,null,null,null,null,"1======",{"$f":"SUM($AR$5:AR11)/7","v":6.1428571428571432},{"$f":"SUM($AS$5:AS11)/7","v":4.1428571428571432}]
[null,null,"","",6,null,{"$f":"IF($F19=\"\",\"\",HLOOKUP(F19,womens_declare,B16,FALSE))","v":""},"",null,{"$f":"IF(I19=\"\",\"\",IF(AND(AA13=\"T\",I19<I18),\"X\",IF(AND(AA13=\"F\",I19>I18),\"X\",\"\")))","v":""},null,{"$f":"IF(AA13=\"T\",AB19,AC19)","v":""},null,6,null,{"$f":"IF($O19=\"\",\"\",HLOOKUP(O19,womens_declare,B16,FALSE))","v":""},"",null,{"$f":"IF(R19=\"\",\"\",IF(AND(AA13=\"T\",R19<R18),\"X\",IF(AND(AA13=\"F\",R19>R18),\"X\",\"\")))","v":""},{"$f":"IF(AA13=\"T\",AD19,AE19)","v":""},null,null,null,null,null,null,null,{"$f":"IF(I19=\"\",\"\",IF(AA13=\"F\",\"\",IF(AA13=\"T\",IF(I19<=X13,\"þ\",IF(I19<=Y13,\"G2\",IF(I19<=Z13,\"G3\",\"\"))))))","v":""},{"$f":"IF(I19=\"\",\"\",IF(AA13=\"T\",\"\",IF(AA13=\"F\",IF(I19>=X13,\"þ\",IF(I19>=Y13,\"G2\",IF(I19>=Z13,\"G3\",\"\"))))))","v":""},{"$f":"IF(R19=\"\",\"\",IF(AA13=\"F\",\"\",IF(AA13=\"T\",IF(R19<=X13,\"þ\",IF(R19<=Y13,\"G2\",IF(R19<=Z13,\"G3\",\"\"))))))","v":""},{"$f":"IF(R19=\"\",\"\",IF(AA13=\"T\",\"\",IF(AA13=\"F\",IF(R19>=X13,\"þ\",IF(R19>=Y13,\"G2\",IF(R19>=Z13,\"G3\",\"\"))))))","v":""},"","","","",19,null,88,null,null,null,null,"1=======",{"$f":"SUM($AR$5:AR12)/8","v":5.375},{"$f":"SUM($AS$5:AS12)/8","v":3.625}]
[null,null,"","",7,null,{"$f":"IF($F20=\"\",\"\",HLOOKUP(F20,womens_declare,B16,FALSE))","v":""},"",null,{"$f":"IF(I20=\"\",\"\",IF(AND(AA13=\"T\",I20<I19),\"X\",IF(AND(AA13=\"F\",I20>I19),\"X\",\"\")))","v":""},null,{"$f":"IF(AA13=\"T\",AB20,AC20)","v":""},null,7,null,{"$f":"IF($O20=\"\",\"\",HLOOKUP(O20,womens_declare,B16,FALSE))","v":""},"",null,{"$f":"IF(R20=\"\",\"\",IF(AND(AA13=\"T\",R20<R19),\"X\",IF(AND(AA13=\"F\",R20>R19),\"X\",\"\")))","v":""},{"$f":"IF(AA13=\"T\",AD20,AE20)","v":""},null,null,null,null,null,null,null,{"$f":"IF(I20=\"\",\"\",IF(AA13=\"F\",\"\",IF(AA13=\"T\",IF(I20<=X13,\"þ\",IF(I20<=Y13,\"G2\",IF(I20<=Z13,\"G3\",\"\"))))))","v":""},{"$f":"IF(I20=\"\",\"\",IF(AA13=\"T\",\"\",IF(AA13=\"F\",IF(I20>=X13,\"þ\",IF(I20>=Y13,\"G2\",IF(I20>=Z13,\"G3\",\"\"))))))","v":""},{"$f":"IF(R20=\"\",\"\",IF(AA13=\"F\",\"\",IF(AA13=\"T\",IF(R20<=X13,\"þ\",IF(R20<=Y13,\"G2\",IF(R20<=Z13,\"G3\",\"\"))))))","v":""},{"$f":"IF(R20=\"\",\"\",IF(AA13=\"T\",\"\",IF(AA13=\"F\",IF(R20>=X13,\"þ\",IF(R20>=Y13,\"G2\",IF(R20>=Z13,\"G3\",\"\"))))))","v":""},"","","","",20,null,99,null,null,null,null,"2=",{"$f":"SUM($AR$6:AR7)/2","v":7.5},{"$f":"SUM($AS$6:AS7)/2","v":5.5}]
[null,null,"","",8,null,{"$f":"IF($F21=\"\",\"\",HLOOKUP(F21,womens_declare,B16,FALSE))","v":""},"",null,{"$f":"IF(I21=\"\",\"\",IF(AND(AA13=\"T\",I21<I20),\"X\",IF(AND(AA13=\"F\",I21>I20),\"X\",\"\")))","v":""},null,{"$f":"IF(AA13=\"T\",AB21,AC21)","v":""},null,8,null,{"$f":"IF($O21=\"\",\"\",HLOOKUP(O21,womens_declare,B16,FALSE))","v":""},"",null,{"$f":"IF(R21=\"\",\"\",IF(AND(AA13=\"T\",R21<R20),\"X\",IF(AND(AA13=\"F\",R21>R20),\"X\",\"\")))","v":""},{"$f":"IF(AA13=\"T\",AD21,AE21)","v":""},null,null,null,null,null,null,null,{"$f":"IF(I21=\"\",\"\",IF(AA13=\"F\",\"\",IF(AA13=\"T\",IF(I21<=X13,\"þ\",IF(I21<=Y13,\"G2\",IF(I21<=Z13,\"G3\",\"\"))))))","v":""},{"$f":"IF(I21=\"\",\"\",IF(AA13=\"T\",\"\",IF(AA13=\"F\",IF(I21>=X13,\"þ\",IF(I21>=Y13,\"G2\",IF(I21>=Z13,\"G3\",\"\"))))))","v":""},{"$f":"IF(R21=\"\",\"\",IF(AA13=\"F\",\"\",IF(AA13=\"T\",IF(R21<=X13,\"þ\",IF(R21<=Y13,\"G2\",IF(R21<=Z13,\"G3\",\"\"))))))","v":""},{"$f":"IF(R21=\"\",\"\",IF(AA13=\"T\",\"\",IF(AA13=\"F\",IF(R21>=X13,\"þ\",IF(R21>=Y13,\"G2\",IF(R21>=Z13,\"G3\",\"\"))))))","v":""},"","","","",21,null,97,null,null,null,null,"2==",{"$f":"SUM($AR$6:AR8)/3","v":7},{"$f":"SUM($AS$6:AS8)/3","v":5}]
[null,null,null,null,null,null,null,null,null,null,null,null,null,null,null,null,null,null,null,null,null,null,null,null,null,null,null,null,null,null,null,null,null,null,null,22,null,98,null,null,null,null,"2===",{"$f":"SUM($AR$6:AR9)/4","v":6.5},{"$f":"SUM($AS$6:AS9)/4","v":4.5}]
[null,null,null,null,{"$f":"CONCATENATE(VLOOKUP(A24,womens_handbook,3,FALSE),\" A\")","v":"Women's 400m A"},null,null,{"$f":"IF(A24=\"\",\"\",IF(VLOOKUP(A24,Handbook!$A$4:$AI$24,35,FALSE)=\"Y\",\"Wind=\",\"\"))","v":""},null,null,null,null,null,null,{"$f":"CONCATENATE(VLOOKUP(A24,womens_handbook,3,FALSE),\" B\")","v":"Women's 400m B"},null,{"$f":"H23","v":""},null,null,null,null,{"$f":"IF($A24=\"\",\"\",VLOOKUP($A24,Handbook!$A$26:$AK$46,21,FALSE))","v":53.7},{"$f":"IF($A24=\"\",\"\",VLOOKUP($A24,Handbook!$A$26:$AK$46,22,FALSE))","v":53.7},{"$f":"IF($A24=\"\",\"\",VLOOKUP($A24,Handbook!$A$26:$AK$46,23,FALSE))","v":64},{"$f":"IF($A24=\"\",\"\",VLOOKUP($A24,Handbook!$A$26:$AK$46,24,FALSE))","v":62},{"$f":"IF($A24=\"\",\"\",VLOOKUP($A24,Handbook!$A$26:$AK$46,25,FALSE))","v":62},{"$f":"IF($A24=\"\",\"\",VLOOKUP($A24,Handbook!$A$26:$AK$46,34,FALSE))","v":"T"},null,null,null,null,null,null,null,null,23,null,96,null,null,null,null,"2====",{"$f":"SUM($AR$6:AR10)/5","v":6},{"$f":"SUM($AS$6:AS10)/5","v":4}]
[4,null,{"$f":"IF(F24=\"\",\"\",IF(F24>10,F24/11,F24))","v":""},{"$f":"IF(O24=\"\",\"\",IF(O24>10,O24/11,O24))","v":""},1,null,{"$f":"IF($F24=\"\",\"\",IF($F24>90,VLOOKUP(F24,eventcodes,2,FALSE),HLOOKUP(F24,womens_declare,B26,FALSE)))","v":""},{"$f":"IF($F24=\"\",\"\",IF($F24>90,\"\",VLOOKUP(C24,matchday,2,FALSE)))","v":""},null,{"$f":"IF(I24=\"\",\"\",IF(AA23=\"T\",V24,V25))","v":""},null,{"$f":"IF(AA23=\"T\",AB24,AC24)","v":""},null,1,null,{"$f":"IF($O24=\"\",\"\",HLOOKUP(O24,womens_declare,B26,FALSE))","v":""},{"$f":"IF($O24=\"\",\"\",VLOOKUP(D24,matchday,2,FALSE))","v":""},null,null,{"$f":"IF(AA23=\"T\",AD24,AE24)","v":""},null,{"$f":"IF(AA23=\"F\",\"\",IF(I24<V23,\"LR\",IF(I24=V23,\"=LR\",IF(I24<W23,\"DR\",IF(I24=W23,\"=DR\",\"\")))))","v":"LR"},null,null,null,null,null,{"$f":"IF(I24=\"\",\"\",IF(AA23=\"F\",\"\",IF(AA23=\"T\",IF(I24<=X23,\"þ\",IF(I24<=Y23,\"G2\",IF(I24<=Z23,\"G3\",\"\"))))))","v":""},{"$f":"IF(I24=\"\",\"\",IF(AA23=\"T\",\"\",IF(AA23=\"F\",IF(I24>=X23,\"þ\",IF(I24>=Y23,\"G2\",IF(I24>=Z23,\"G3\",\"\"))))))","v":""},{"$f":"IF(R24=\"\",\"\",IF(AA23=\"F\",\"\",IF(AA23=\"T\",IF(R24<=X23,\"þ\",IF(R24<=Y23,\"G2\",IF(R24<=Z23,\"G3\",\"\"))))))","v":""},{"$f":"IF(R24=\"\",\"\",IF(AA23=\"T\",\"\",IF(AA23=\"F\",IF(R24>=X23,\"þ\",IF(R24>=Y23,\"G2\",IF(R24>=Z23,\"G3\",\"\"))))))","v":""},{"$f":"C24","v":""},{"$f":"IF(F24=\"\",\"\",IF(LEFT(I24,1)=\"D\",0,VLOOKUP(E24,$AQ$4:$AR$40,2,FALSE)))","v":""},{"$f":"D24","v":""},{"$f":"IF(O24=\"\",\"\",IF(LEFT(R24,1)=\"D\",0,VLOOKUP(N24,$AQ$4:$AS$40,3,FALSE)))","v":""},24,null,"Events Not Held Codes",null,null,null,null,"2=====",{"$f":"SUM($AR$6:AR11)/6","v":5.5},{"$f":"SUM($AS$6:AS11)/6","v":3.5}]
[null,{"$f":"VLOOKUP(A24,Handbook!$A$26:$AK$46,37,FALSE)","v":5},"","",2,null,{"$f":"IF($F25=\"\",\"\",HLOOKUP(F25,womens_declare,B26,FALSE))","v":""},{"$f":"IF($F25=\"\",\"\",VLOOKUP(C25,matchday,2,FALSE))","v":""},null,{"$f":"IF(I25=\"\",\"\",IF(AND(AA23=\"T\",I25<I24),\"X\",IF(AND(AA23=\"F\",I25>I24),\"X\",\"\")))","v":""},null,{"$f":"IF(AA23=\"T\",AB25,AC25)","v":""},null,2,null,{"$f":"IF($O25=\"\",\"\",HLOOKUP(O25,womens_declare,B26,FALSE))","v":""},"",null,{"$f":"IF(R25=\"\",\"\",IF(AND(AA23=\"T\",R25<R24),\"X\",IF(AND(AA23=\"F\",R25>R24),\"X\",\"\")))","v":""},{"$f":"IF(AA23=\"T\",AD25,AE25)","v":""},null,{"$f":"IF(AA23=\"T\",\"\",IF(I24>V23,\"LR\",IF(I24=V23,\"=LR\",IF(I24>W23,\"DR\",IF(I24=W23,\"=DR\",\"\")))))","v":""},null,null,null,null,null,{"$f":"IF(I25=\"\",\"\",IF(AA23=\"F\",\"\",IF(AA23=\"T\",IF(I25<=X23,\"þ\",IF(I25<=Y23,\"G2\",IF(I25<=Z23,\"G3\",\"\"))))))","v":""},{"$f":"IF(I25=\"\",\"\",IF(AA23=\"T\",\"\",IF(AA23=\"F\",IF(I25>=X23,\"þ\",IF(I25>=Y23,\"G2\",IF(I25>=Z23,\"G3\",\"\"))))))","v":""},{"$f":"IF(R25=\"\",\"\",IF(AA23=\"F\",\"\",IF(AA23=\"T\",IF(R25<=X23,\"þ\",IF(R25<=Y23,\"G2\",IF(R25<=Z23,\"G3\",\"\"))))))","v":""},{"$f":"IF(R25=\"\",\"\",IF(AA23=\"T\",\"\",IF(AA23=\"F\",IF(R25>=X23,\"þ\",IF(R25>=Y23,\"G2\",IF(R25>=Z23,\"G3\",\"\"))))))","v":""},"","","","",25,97,"Open Heights Not Cleared",null,null,null,null,"2======",{"$f":"SUM($AR$6:AR12)/7","v":4.7142857142857144},{"$f":"SUM($AS$6:AS12)/7","v":3}]
[null,{"$f":"VLOOKUP(A24,womens_declare,20,FALSE)","v":5},"","",3,null,{"$f":"IF($F26=\"\",\"\",HLOOKUP(F26,womens_declare,B26,FALSE))","v":""},"",null,{"$f":"IF(I26=\"\",\"\",IF(AND(AA23=\"T\",I26<I25),\"X\",IF(AND(AA23=\"F\",I26>I25),\"X\",\"\")))","v":""},null,{"$f":"IF(AA23=\"T\",AB26,AC26)","v":""},null,3,null,{"$f":"IF($O26=\"\",\"\",HLOOKUP(O26,womens_declare,B26,FALSE))","v":""},"",null,{"$f":"IF(R26=\"\",\"\",IF(AND(AA23=\"T\",R26<R25),\"X\",IF(AND(AA23=\"F\",R26>R25),\"X\",\"\")))","v":""},{"$f":"IF(AA23=\"T\",AD26,AE26)","v":""},null,null,null,null,null,null,null,{"$f":"IF(I26=\"\",\"\",IF(AA23=\"F\",\"\",IF(AA23=\"T\",IF(I26<=X23,\"þ\",IF(I26<=Y23,\"G2\",IF(I26<=Z23,\"G3\",\"\"))))))","v":""},{"$f":"IF(I26=\"\",\"\",IF(AA23=\"T\",\"\",IF(AA23=\"F\",IF(I26>=X23,\"þ\",IF(I26>=Y23,\"G2\",IF(I26>=Z23,\"G3\",\"\"))))))","v":""},{"$f":"IF(R26=\"\",\"\",IF(AA23=\"F\",\"\",IF(AA23=\"T\",IF(R26<=X23,\"þ\",IF(R26<=Y23,\"G2\",IF(R26<=Z23,\"G3\",\"\"))))))","v":""},{"$f":"IF(R26=\"\",\"\",IF(AA23=\"T\",\"\",IF(AA23=\"F\",IF(R26>=X23,\"þ\",IF(R26>=Y23,\"G2\",IF(R26>=Z23,\"G3\",\"\"))))))","v":""},"","","","",26,98,"No Valid Performances",null,null,null,null,"3=",{"$f":"SUM($AR$7:AR8)/2","v":6.5},{"$f":"SUM($AS$7:AS8)/2","v":4.5}]
[null,null,"","",4,null,{"$f":"IF($F27=\"\",\"\",HLOOKUP(F27,womens_declare,B26,FALSE))","v":""},"",null,{"$f":"IF(I27=\"\",\"\",IF(AND(AA23=\"T\",I27<I26),\"X\",IF(AND(AA23=\"F\",I27>I26),\"X\",\"\")))","v":""},null,{"$f":"IF(AA23=\"T\",AB27,AC27)","v":""},null,4,null,{"$f":"IF($O27=\"\",\"\",HLOOKUP(O27,womens_declare,B26,FALSE))","v":""},"",null,{"$f":"IF(R27=\"\",\"\",IF(AND(AA23=\"T\",R27<R26),\"X\",IF(AND(AA23=\"F\",R27>R26),\"X\",\"\")))","v":""},{"$f":"IF(AA23=\"T\",AD27,AE27)","v":""},null,null,null,null,null,null,null,{"$f":"IF(I27=\"\",\"\",IF(AA23=\"F\",\"\",IF(AA23=\"T\",IF(I27<=X23,\"þ\",IF(I27<=Y23,\"G2\",IF(I27<=Z23,\"G3\",\"\"))))))","v":""},{"$f":"IF(I27=\"\",\"\",IF(AA23=\"T\",\"\",IF(AA23=\"F\",IF(I27>=X23,\"þ\",IF(I27>=Y23,\"G2\",IF(I27>=Z23,\"G3\",\"\"))))))","v":""},{"$f":"IF(R27=\"\",\"\",IF(AA23=\"F\",\"\",IF(AA23=\"T\",IF(R27<=X23,\"þ\",IF(R27<=Y23,\"G2\",IF(R27<=Z23,\"G3\",\"\"))))))","v":""},{"$f":"IF(R27=\"\",\"\",IF(AA23=\"T\",\"\",IF(AA23=\"F\",IF(R27>=X23,\"þ\",IF(R27>=Y23,\"G2\",IF(R27>=Z23,\"G3\",\"\"))))))","v":""},"","","","",27,99,"Event Cancelled",null,null,null,null,"3==",{"$f":"SUM($AR$7:AR9)/3","v":6},{"$f":"SUM($AS$7:AS9)/3","v":4}]
[null,null,"","",5,null,{"$f":"IF($F28=\"\",\"\",HLOOKUP(F28,womens_declare,B26,FALSE))","v":""},"",null,{"$f":"IF(I28=\"\",\"\",IF(AND(AA23=\"T\",I28<I27),\"X\",IF(AND(AA23=\"F\",I28>I27),\"X\",\"\")))","v":""},null,{"$f":"IF(AA23=\"T\",AB28,AC28)","v":""},null,5,null,{"$f":"IF($O28=\"\",\"\",HLOOKUP(O28,womens_declare,B26,FALSE))","v":""},"",null,{"$f":"IF(R28=\"\",\"\",IF(AND(AA23=\"T\",R28<R27),\"X\",IF(AND(AA23=\"F\",R28>R27),\"X\",\"\")))","v":""},{"$f":"IF(AA23=\"T\",AD28,AE28)","v":""},null,null,null,null,null,null,null,{"$f":"IF(I28=\"\",\"\",IF(AA23=\"F\",\"\",IF(AA23=\"T\",IF(I28<=X23,\"þ\",IF(I28<=Y23,\"G2\",IF(I28<=Z23,\"G3\",\"\"))))))","v":""},{"$f":"IF(I28=\"\",\"\",IF(AA23=\"T\",\"\",IF(AA23=\"F\",IF(I28>=X23,\"þ\",IF(I28>=Y23,\"G2\",IF(I28>=Z23,\"G3\",\"\"))))))","v":""},{"$f":"IF(R28=\"\",\"\",IF(AA23=\"F\",\"\",IF(AA23=\"T\",IF(R28<=X23,\"þ\",IF(R28<=Y23,\"G2\",IF(R28<=Z23,\"G3\",\"\"))))))","v":""},{"$f":"IF(R28=\"\",\"\",IF(AA23=\"T\",\"\",IF(AA23=\"F\",IF(R28>=X23,\"þ\",IF(R28>=Y23,\"G2\",IF(R28>=Z23,\"G3\",\"\"))))))","v":""},"","","","",28,96,"No Competitors Entered",null,null,null,null,"3===",{"$f":"SUM($AR$7:AR10)/4","v":5.5},{"$f":"SUM($AS$7:AS10)/4","v":3.5}]
[null,null,"","",6,null,{"$f":"IF($F29=\"\",\"\",HLOOKUP(F29,womens_declare,B26,FALSE))","v":""},"",null,{"$f":"IF(I29=\"\",\"\",IF(AND(AA23=\"T\",I29<I28),\"X\",IF(AND(AA23=\"F\",I29>I28),\"X\",\"\")))","v":""},null,{"$f":"IF(AA23=\"T\",AB29,AC29)","v":""},null,6,null,{"$f":"IF($O29=\"\",\"\",HLOOKUP(O29,womens_declare,B26,FALSE))","v":""},"",null,{"$f":"IF(R29=\"\",\"\",IF(AND(AA23=\"T\",R29<R28),\"X\",IF(AND(AA23=\"F\",R29>R28),\"X\",\"\")))","v":""},{"$f":"IF(AA23=\"T\",AD29,AE29)","v":""},null,null,null,null,null,null,null,{"$f":"IF(I29=\"\",\"\",IF(AA23=\"F\",\"\",IF(AA23=\"T\",IF(I29<=X23,\"þ\",IF(I29<=Y23,\"G2\",IF(I29<=Z23,\"G3\",\"\"))))))","v":""},{"$f":"IF(I29=\"\",\"\",IF(AA23=\"T\",\"\",IF(AA23=\"F\",IF(I29>=X23,\"þ\",IF(I29>=Y23,\"G2\",IF(I29>=Z23,\"G3\",\"\"))))))","v":""},{"$f":"IF(R29=\"\",\"\",IF(AA23=\"F\",\"\",IF(AA23=\"T\",IF(R29<=X23,\"þ\",IF(R29<=Y23,\"G2\",IF(R29<=Z23,\"G3\",\"\"))))))","v":""},{"$f":"IF(R29=\"\",\"\",IF(AA23=\"T\",\"\",IF(AA23=\"F\",IF(R29>=X23,\"þ\",IF(R29>=Y23,\"G2\",IF(R29>=Z23,\"G3\",\"\"))))))","v":""},"","","","",29,null,null,null,null,null,null,"3====",{"$f":"SUM($AR$7:AR11)/5","v":5},{"$f":"SUM($AS$7:AS11)/5","v":3}]
[null,null,"","",7,null,{"$f":"IF($F30=\"\",\"\",HLOOKUP(F30,womens_declare,B26,FALSE))","v":""},"",null,{"$f":"IF(I30=\"\",\"\",IF(AND(AA23=\"T\",I30<I29),\"X\",IF(AND(AA23=\"F\",I30>I29),\"X\",\"\")))","v":""},null,{"$f":"IF(AA23=\"T\",AB30,AC30)","v":""},null,7,null,{"$f":"IF($O30=\"\",\"\",HLOOKUP(O30,womens_declare,B26,FALSE))","v":""},"",null,{"$f":"IF(R30=\"\",\"\",IF(AND(AA23=\"T\",R30<R29),\"X\",IF(AND(AA23=\"F\",R30>R29),\"X\",\"\")))","v":""},{"$f":"IF(AA23=\"T\",AD30,AE30)","v":""},null,null,null,null,null,null,null,{"$f":"IF(I30=\"\",\"\",IF(AA23=\"F\",\"\",IF(AA23=\"T\",IF(I30<=X23,\"þ\",IF(I30<=Y23,\"G2\",IF(I30<=Z23,\"G3\",\"\"))))))","v":""},{"$f":"IF(I30=\"\",\"\",IF(AA23=\"T\",\"\",IF(AA23=\"F\",IF(I30>=X23,\"þ\",IF(I30>=Y23,\"G2\",IF(I30>=Z23,\"G3\",\"\"))))))","v":""},{"$f":"IF(R30=\"\",\"\",IF(AA23=\"F\",\"\",IF(AA23=\"T\",IF(R30<=X23,\"þ\",IF(R30<=Y23,\"G2\",IF(R30<=Z23,\"G3\",\"\"))))))","v":""},{"$f":"IF(R30=\"\",\"\",IF(AA23=\"T\",\"\",IF(AA23=\"F\",IF(R30>=X23,\"þ\",IF(R30>=Y23,\"G2\",IF(R30>=Z23,\"G3\",\"\"))))))","v":""},"","","","",30,null,null,null,null,null,null,"3=====",{"$f":"SUM($AR$7:AR12)/6","v":4.166666666666667},{"$f":"SUM($AS$7:AS12)/6","v":2.5}]
[null,null,"","",8,null,{"$f":"IF($F31=\"\",\"\",HLOOKUP(F31,womens_declare,B26,FALSE))","v":""},"",null,{"$f":"IF(I31=\"\",\"\",IF(AND(AA23=\"T\",I31<I30),\"X\",IF(AND(AA23=\"F\",I31>I30),\"X\",\"\")))","v":""},null,{"$f":"IF(AA23=\"T\",AB31,AC31)","v":""},null,8,null,{"$f":"IF($O31=\"\",\"\",HLOOKUP(O31,womens_declare,B26,FALSE))","v":""},"",null,{"$f":"IF(R31=\"\",\"\",IF(AND(AA23=\"T\",R31<R30),\"X\",IF(AND(AA23=\"F\",R31>R30),\"X\",\"\")))","v":""},{"$f":"IF(AA23=\"T\",AD31,AE31)","v":""},null,null,null,null,null,null,null,{"$f":"IF(I31=\"\",\"\",IF(AA23=\"F\",\"\",IF(AA23=\"T\",IF(I31<=X23,\"þ\",IF(I31<=Y23,\"G2\",IF(I31<=Z23,\"G3\",\"\"))))))","v":""},{"$f":"IF(I31=\"\",\"\",IF(AA23=\"T\",\"\",IF(AA23=\"F\",IF(I31>=X23,\"þ\",IF(I31>=Y23,\"G2\",IF(I31>=Z23,\"G3\",\"\"))))))","v":""},{"$f":"IF(R31=\"\",\"\",IF(AA23=\"F\",\"\",IF(AA23=\"T\",IF(R31<=X23,\"þ\",IF(R31<=Y23,\"G2\",IF(R31<=Z23,\"G3\",\"\"))))))","v":""},{"$f":"IF(R31=\"\",\"\",IF(AA23=\"T\",\"\",IF(AA23=\"F\",IF(R31>=X23,\"þ\",IF(R31>=Y23,\"G2\",IF(R31>=Z23,\"G3\",\"\"))))))","v":""},"","","","",31,null,null,null,null,null,null,"4=",{"$f":"SUM($AR$8:AR9)/2","v":5.5},{"$f":"SUM($AS$8:AS9)/2","v":3.5}]
[null,null,null,null,null,null,null,null,null,null,null,null,null,null,null,null,null,null,null,null,null,null,null,null,null,null,null,null,null,null,null,null,null,null,null,32,null,null,null,null,null,null,"4==",{"$f":"SUM($AR$8:AR10)/3","v":5},{"$f":"SUM($AS$8:AS10)/3","v":3}]
[null,null,null,null,{"$f":"CONCATENATE(VLOOKUP(A34,womens_handbook,3,FALSE),\" A\")","v":"Women's 800m A"},null,null,{"$f":"IF(A34=\"\",\"\",IF(VLOOKUP(A34,Handbook!$A$4:$AI$24,35,FALSE)=\"Y\",\"Wind=\",\"\"))","v":""},null,null,null,null,null,null,{"$f":"CONCATENATE(VLOOKUP(A34,womens_handbook,3,FALSE),\" B\")","v":"Women's 800m B"},{"$f":"CONCATENATE(VLOOKUP(M34,Handbook!$A$4:$C$24,3,FALSE),\" A\")","v":{"$error":"#N/A"}},{"$f":"H33","v":""},null,null,null,null,{"$f":"IF($A34=\"\",\"\",VLOOKUP($A34,Handbook!$A$26:$AK$46,21,FALSE))","v":"00:02:04.300"},{"$f":"IF($A34=\"\",\"\",VLOOKUP($A34,Handbook!$A$26:$AK$46,22,FALSE))","v":"00:02:04.300"},{"$f":"IF($A34=\"\",\"\",VLOOKUP($A34,Handbook!$A$26:$AK$46,23,FALSE))","v":"00:02:27"},{"$f":"IF($A34=\"\",\"\",VLOOKUP($A34,Handbook!$A$26:$AK$46,24,FALSE))","v":"00:02:25"},{"$f":"IF($A34=\"\",\"\",VLOOKUP($A34,Handbook!$A$26:$AK$46,25,FALSE))","v":"00:02:25"},{"$f":"IF($A34=\"\",\"\",VLOOKUP($A34,Handbook!$A$26:$AK$46,34,FALSE))","v":"T"},null,null,null,null,null,null,null,null,33,null,null,null,null,null,null,"4===",{"$f":"SUM($AR$8:AR11)/4","v":4.5},{"$f":"SUM($AS$8:AS11)/4","v":2.5}]
[2,null,{"$f":"IF(F34=\"\",\"\",IF(F34>10,F34/11,F34))","v":""},{"$f":"IF(O34=\"\",\"\",IF(O34>10,O34/11,O34))","v":""},1,null,{"$f":"IF($F34=\"\",\"\",IF($F34>90,VLOOKUP(F34,eventcodes,2,FALSE),HLOOKUP(F34,womens_declare,B36,FALSE)))","v":""},{"$f":"IF($F34=\"\",\"\",IF($F34>90,\"\",VLOOKUP(C34,matchday,2,FALSE)))","v":""},null,{"$f":"IF(I34=\"\",\"\",IF(AA33=\"T\",V34,V35))","v":""},null,{"$f":"IF(AA33=\"T\",AB34,AC34)","v":""},null,1,null,{"$f":"IF($O34=\"\",\"\",HLOOKUP(O34,womens_declare,B36,FALSE))","v":""},{"$f":"IF($O34=\"\",\"\",VLOOKUP(D34,matchday,2,FALSE))","v":""},null,null,{"$f":"IF(AA33=\"T\",AD34,AE34)","v":""},null,{"$f":"IF(AA33=\"F\",\"\",IF(I34<V33,\"LR\",IF(I34=V33,\"=LR\",IF(I34<W33,\"DR\",IF(I34=W33,\"=DR\",\"\")))))","v":"LR"},null,null,null,null,null,{"$f":"IF(I34=\"\",\"\",IF(AA33=\"F\",\"\",IF(AA33=\"T\",IF(I34<=X33,\"þ\",IF(I34<=Y33,\"G2\",IF(I34<=Z33,\"G3\",\"\"))))))","v":""},{"$f":"IF(I34=\"\",\"\",IF(AA33=\"T\",\"\",IF(AA33=\"F\",IF(I34>=X33,\"þ\",IF(I34>=Y33,\"G2\",IF(I34>=Z33,\"G3\",\"\"))))))","v":""},{"$f":"IF(R34=\"\",\"\",IF(AA33=\"F\",\"\",IF(AA33=\"T\",IF(R34<=X33,\"þ\",IF(R34<=Y33,\"G2\",IF(R34<=Z33,\"G3\",\"\"))))))","v":""},{"$f":"IF(R34=\"\",\"\",IF(AA33=\"T\",\"\",IF(AA33=\"F\",IF(R34>=X33,\"þ\",IF(R34>=Y33,\"G2\",IF(R34>=Z33,\"G3\",\"\"))))))","v":""},{"$f":"C34","v":""},{"$f":"IF(F34=\"\",\"\",IF(LEFT(I34,1)=\"D\",0,VLOOKUP(E34,$AQ$4:$AR$40,2,FALSE)))","v":""},{"$f":"D34","v":""},{"$f":"IF(O34=\"\",\"\",IF(LEFT(R34,1)=\"D\",0,VLOOKUP(N34,$AQ$4:$AS$40,3,FALSE)))","v":""},34,null,null,null,null,null,null,"4====",{"$f":"SUM($AR$8:AR12)/5","v":3.6},{"$f":"SUM($AS$8:AS12)/5","v":2}]
[null,{"$f":"VLOOKUP(A34,Handbook!$A$26:$AK$46,37,FALSE)","v":3},"","",2,null,{"$f":"IF($F35=\"\",\"\",HLOOKUP(F35,womens_declare,B36,FALSE))","v":""},{"$f":"IF($F35=\"\",\"\",VLOOKUP(C35,matchday,2,FALSE))","v":""},null,{"$f":"IF(I35=\"\",\"\",IF(AND(AA33=\"T\",I35<I34),\"X\",IF(AND(AA33=\"F\",I35>I34),\"X\",\"\")))","v":""},null,{"$f":"IF(AA33=\"T\",AB35,AC35)","v":""},null,2,null,{"$f":"IF($O35=\"\",\"\",HLOOKUP(O35,womens_declare,B36,FALSE))","v":""},"",null,{"$f":"IF(R35=\"\",\"\",IF(AND(AA33=\"T\",R35<R34),\"X\",IF(AND(AA33=\"F\",R35>R34),\"X\",\"\")))","v":""},{"$f":"IF(AA33=\"T\",AD35,AE35)","v":""},null,{"$f":"IF(AA33=\"T\",\"\",IF(I34>V33,\"LR\",IF(I34=V33,\"=LR\",IF(I34>W33,\"DR\",IF(I34=W33,\"=DR\",\"\")))))","v":""},null,null,null,null,null,{"$f":"IF(I35=\"\",\"\",IF(AA33=\"F\",\"\",IF(AA33=\"T\",IF(I35<=X33,\"þ\",IF(I35<=Y33,\"G2\",IF(I35<=Z33,\"G3\",\"\"))))))","v":""},{"$f":"IF(I35=\"\",\"\",IF(AA33=\"T\",\"\",IF(AA33=\"F\",IF(I35>=X33,\"þ\",IF(I35>=Y33,\"G2\",IF(I35>=Z33,\"G3\",\"\"))))))","v":""},{"$f":"IF(R35=\"\",\"\",IF(AA33=\"F\",\"\",IF(AA33=\"T\",IF(R35<=X33,\"þ\",IF(R35<=Y33,\"G2\",IF(R35<=Z33,\"G3\",\"\"))))))","v":""},{"$f":"IF(R35=\"\",\"\",IF(AA33=\"T\",\"\",IF(AA33=\"F\",IF(R35>=X33,\"þ\",IF(R35>=Y33,\"G2\",IF(R35>=Z33,\"G3\",\"\"))))))","v":""},"","","","",35,null,null,null,null,null,null,"5=",{"$f":"SUM($AR$9:AR10)/2","v":4.5},{"$f":"SUM($AS$9:AS10)/2","v":2.5}]
[null,{"$f":"VLOOKUP(A34,womens_declare,20,FALSE)","v":6},"","",3,null,{"$f":"IF($F36=\"\",\"\",HLOOKUP(F36,womens_declare,B36,FALSE))","v":""},"",null,{"$f":"IF(I36=\"\",\"\",IF(AND(AA33=\"T\",I36<I35),\"X\",IF(AND(AA33=\"F\",I36>I35),\"X\",\"\")))","v":""},null,{"$f":"IF(AA33=\"T\",AB36,AC36)","v":""},null,3,null,{"$f":"IF($O36=\"\",\"\",HLOOKUP(O36,womens_declare,B36,FALSE))","v":""},"",null,{"$f":"IF(R36=\"\",\"\",IF(AND(AA33=\"T\",R36<R35),\"X\",IF(AND(AA33=\"F\",R36>R35),\"X\",\"\")))","v":""},{"$f":"IF(AA33=\"T\",AD36,AE36)","v":""},null,null,null,null,null,null,null,{"$f":"IF(I36=\"\",\"\",IF(AA33=\"F\",\"\",IF(AA33=\"T\",IF(I36<=X33,\"þ\",IF(I36<=Y33,\"G2\",IF(I36<=Z33,\"G3\",\"\"))))))","v":""},{"$f":"IF(I36=\"\",\"\",IF(AA33=\"T\",\"\",IF(AA33=\"F\",IF(I36>=X33,\"þ\",IF(I36>=Y33,\"G2\",IF(I36>=Z33,\"G3\",\"\"))))))","v":""},{"$f":"IF(R36=\"\",\"\",IF(AA33=\"F\",\"\",IF(AA33=\"T\",IF(R36<=X33,\"þ\",IF(R36<=Y33,\"G2\",IF(R36<=Z33,\"G3\",\"\"))))))","v":""},{"$f":"IF(R36=\"\",\"\",IF(AA33=\"T\",\"\",IF(AA33=\"F\",IF(R36>=X33,\"þ\",IF(R36>=Y33,\"G2\",IF(R36>=Z33,\"G3\",\"\"))))))","v":""},"","","","",36,null,null,null,null,null,null,"5==",{"$f":"SUM($AR$9:AR11)/3","v":4},{"$f":"SUM($AS$9:AS11)/3","v":2}]
[null,null,"","",4,null,{"$f":"IF($F37=\"\",\"\",HLOOKUP(F37,womens_declare,B36,FALSE))","v":""},"",null,{"$f":"IF(I37=\"\",\"\",IF(AND(AA33=\"T\",I37<I36),\"X\",IF(AND(AA33=\"F\",I37>I36),\"X\",\"\")))","v":""},null,{"$f":"IF(AA33=\"T\",AB37,AC37)","v":""},null,4,null,{"$f":"IF($O37=\"\",\"\",HLOOKUP(O37,womens_declare,B36,FALSE))","v":""},"",null,{"$f":"IF(R37=\"\",\"\",IF(AND(AA33=\"T\",R37<R36),\"X\",IF(AND(AA33=\"F\",R37>R36),\"X\",\"\")))","v":""},{"$f":"IF(AA33=\"T\",AD37,AE37)","v":""},null,null,null,null,null,null,null,{"$f":"IF(I37=\"\",\"\",IF(AA33=\"F\",\"\",IF(AA33=\"T\",IF(I37<=X33,\"þ\",IF(I37<=Y33,\"G2\",IF(I37<=Z33,\"G3\",\"\"))))))","v":""},{"$f":"IF(I37=\"\",\"\",IF(AA33=\"T\",\"\",IF(AA33=\"F\",IF(I37>=X33,\"þ\",IF(I37>=Y33,\"G2\",IF(I37>=Z33,\"G3\",\"\"))))))","v":""},{"$f":"IF(R37=\"\",\"\",IF(AA33=\"F\",\"\",IF(AA33=\"T\",IF(R37<=X33,\"þ\",IF(R37<=Y33,\"G2\",IF(R37<=Z33,\"G3\",\"\"))))))","v":""},{"$f":"IF(R37=\"\",\"\",IF(AA33=\"T\",\"\",IF(AA33=\"F\",IF(R37>=X33,\"þ\",IF(R37>=Y33,\"G2\",IF(R37>=Z33,\"G3\",\"\"))))))","v":""},"","","","",37,null,null,null,null,null,null,"5===",{"$f":"SUM($AR$9:AR12)/4","v":3},{"$f":"SUM($AS$9:AS12)/4","v":1.5}]
[null,null,"","",5,null,{"$f":"IF($F38=\"\",\"\",HLOOKUP(F38,womens_declare,B36,FALSE))","v":""},"",null,{"$f":"IF(I38=\"\",\"\",IF(AND(AA33=\"T\",I38<I37),\"X\",IF(AND(AA33=\"F\",I38>I37),\"X\",\"\")))","v":""},null,{"$f":"IF(AA33=\"T\",AB38,AC38)","v":""},null,5,null,{"$f":"IF($O38=\"\",\"\",HLOOKUP(O38,womens_declare,B36,FALSE))","v":""},"",null,{"$f":"IF(R38=\"\",\"\",IF(AND(AA33=\"T\",R38<R37),\"X\",IF(AND(AA33=\"F\",R38>R37),\"X\",\"\")))","v":""},{"$f":"IF(AA33=\"T\",AD38,AE38)","v":""},null,null,null,null,null,null,null,{"$f":"IF(I38=\"\",\"\",IF(AA33=\"F\",\"\",IF(AA33=\"T\",IF(I38<=X33,\"þ\",IF(I38<=Y33,\"G2\",IF(I38<=Z33,\"G3\",\"\"))))))","v":""},{"$f":"IF(I38=\"\",\"\",IF(AA33=\"T\",\"\",IF(AA33=\"F\",IF(I38>=X33,\"þ\",IF(I38>=Y33,\"G2\",IF(I38>=Z33,\"G3\",\"\"))))))","v":""},{"$f":"IF(R38=\"\",\"\",IF(AA33=\"F\",\"\",IF(AA33=\"T\",IF(R38<=X33,\"þ\",IF(R38<=Y33,\"G2\",IF(R38<=Z33,\"G3\",\"\"))))))","v":""},{"$f":"IF(R38=\"\",\"\",IF(AA33=\"T\",\"\",IF(AA33=\"F\",IF(R38>=X33,\"þ\",IF(R38>=Y33,\"G2\",IF(R38>=Z33,\"G3\",\"\"))))))","v":""},"","","","",38,null,null,null,null,null,null,"6=",{"$f":"SUM($AR$10:AR11)/2","v":3.5},{"$f":"SUM($AS$10:AS11)/2","v":1.5}]
[null,null,"","",6,null,{"$f":"IF($F39=\"\",\"\",HLOOKUP(F39,womens_declare,B36,FALSE))","v":""},"",null,{"$f":"IF(I39=\"\",\"\",IF(AND(AA33=\"T\",I39<I38),\"X\",IF(AND(AA33=\"F\",I39>I38),\"X\",\"\")))","v":""},null,{"$f":"IF(AA33=\"T\",AB39,AC39)","v":""},null,6,null,{"$f":"IF($O39=\"\",\"\",HLOOKUP(O39,womens_declare,B36,FALSE))","v":""},"",null,{"$f":"IF(R39=\"\",\"\",IF(AND(AA33=\"T\",R39<R38),\"X\",IF(AND(AA33=\"F\",R39>R38),\"X\",\"\")))","v":""},{"$f":"IF(AA33=\"T\",AD39,AE39)","v":""},null,null,null,null,null,null,null,{"$f":"IF(I39=\"\",\"\",IF(AA33=\"F\",\"\",IF(AA33=\"T\",IF(I39<=X33,\"þ\",IF(I39<=Y33,\"G2\",IF(I39<=Z33,\"G3\",\"\"))))))","v":""},{"$f":"IF(I39=\"\",\"\",IF(AA33=\"T\",\"\",IF(AA33=\"F\",IF(I39>=X33,\"þ\",IF(I39>=Y33,\"G2\",IF(I39>=Z33,\"G3\",\"\"))))))","v":""},{"$f":"IF(R39=\"\",\"\",IF(AA33=\"F\",\"\",IF(AA33=\"T\",IF(R39<=X33,\"þ\",IF(R39<=Y33,\"G2\",IF(R39<=Z33,\"G3\",\"\"))))))","v":""},{"$f":"IF(R39=\"\",\"\",IF(AA33=\"T\",\"\",IF(AA33=\"F\",IF(R39>=X33,\"þ\",IF(R39>=Y33,\"G2\",IF(R39>=Z33,\"G3\",\"\"))))))","v":""},"","","","",39,null,null,null,null,null,null,"6==",{"$f":"SUM($AR$10:AR12)/3","v":2.3333333333333335},{"$f":"SUM($AS$10:AS12)/3","v":1}]
[null,null,"","",7,null,{"$f":"IF($F40=\"\",\"\",HLOOKUP(F40,womens_declare,B36,FALSE))","v":""},"",null,{"$f":"IF(I40=\"\",\"\",IF(AND(AA33=\"T\",I40<I39),\"X\",IF(AND(AA33=\"F\",I40>I39),\"X\",\"\")))","v":""},null,{"$f":"IF(AA33=\"T\",AB40,AC40)","v":""},null,7,null,{"$f":"IF($O40=\"\",\"\",HLOOKUP(O40,womens_declare,B36,FALSE))","v":""},"",null,{"$f":"IF(R40=\"\",\"\",IF(AND(AA33=\"T\",R40<R39),\"X\",IF(AND(AA33=\"F\",R40>R39),\"X\",\"\")))","v":""},{"$f":"IF(AA33=\"T\",AD40,AE40)","v":""},null,null,null,null,null,null,null,{"$f":"IF(I40=\"\",\"\",IF(AA33=\"F\",\"\",IF(AA33=\"T\",IF(I40<=X33,\"þ\",IF(I40<=Y33,\"G2\",IF(I40<=Z33,\"G3\",\"\"))))))","v":""},{"$f":"IF(I40=\"\",\"\",IF(AA33=\"T\",\"\",IF(AA33=\"F\",IF(I40>=X33,\"þ\",IF(I40>=Y33,\"G2\",IF(I40>=Z33,\"G3\",\"\"))))))","v":""},{"$f":"IF(R40=\"\",\"\",IF(AA33=\"F\",\"\",IF(AA33=\"T\",IF(R40<=X33,\"þ\",IF(R40<=Y33,\"G2\",IF(R40<=Z33,\"G3\",\"\"))))))","v":""},{"$f":"IF(R40=\"\",\"\",IF(AA33=\"T\",\"\",IF(AA33=\"F\",IF(R40>=X33,\"þ\",IF(R40>=Y33,\"G2\",IF(R40>=Z33,\"G3\",\"\"))))))","v":""},"","","","",40,null,null,null,null,null,null,"7=",{"$f":"SUM($AR$11:AR12)/2","v":1.5},{"$f":"SUM($AS$11:AS12)/2","v":0.5}]
[null,null,"","",8,null,{"$f":"IF($F41=\"\",\"\",HLOOKUP(F41,womens_declare,B36,FALSE))","v":""},"",null,{"$f":"IF(I41=\"\",\"\",IF(AND(AA33=\"T\",I41<I40),\"X\",IF(AND(AA33=\"F\",I41>I40),\"X\",\"\")))","v":""},null,{"$f":"IF(AA33=\"T\",AB41,AC41)","v":""},null,8,null,{"$f":"IF($O41=\"\",\"\",HLOOKUP(O41,womens_declare,B36,FALSE))","v":""},"",null,{"$f":"IF(R41=\"\",\"\",IF(AND(AA33=\"T\",R41<R40),\"X\",IF(AND(AA33=\"F\",R41>R40),\"X\",\"\")))","v":""},{"$f":"IF(AA33=\"T\",AD41,AE41)","v":""},null,null,null,null,null,null,null,{"$f":"IF(I41=\"\",\"\",IF(AA33=\"F\",\"\",IF(AA33=\"T\",IF(I41<=X33,\"þ\",IF(I41<=Y33,\"G2\",IF(I41<=Z33,\"G3\",\"\"))))))","v":""},{"$f":"IF(I41=\"\",\"\",IF(AA33=\"T\",\"\",IF(AA33=\"F\",IF(I41>=X33,\"þ\",IF(I41>=Y33,\"G2\",IF(I41>=Z33,\"G3\",\"\"))))))","v":""},{"$f":"IF(R41=\"\",\"\",IF(AA33=\"F\",\"\",IF(AA33=\"T\",IF(R41<=X33,\"þ\",IF(R41<=Y33,\"G2\",IF(R41<=Z33,\"G3\",\"\"))))))","v":""},{"$f":"IF(R41=\"\",\"\",IF(AA33=\"T\",\"\",IF(AA33=\"F\",IF(R41>=X33,\"þ\",IF(R41>=Y33,\"G2\",IF(R41>=Z33,\"G3\",\"\"))))))","v":""},"","","","",41]
[null,null,null,null,null,null,null,null,null,null,null,null,null,null,null,null,null,null,null,null,null,null,null,null,null,null,null,null,null,null,null,null,null,null,null,42]
[null,null,null,null,{"$f":"CONCATENATE(VLOOKUP(A44,womens_handbook,3,FALSE),\" A\")","v":"Women's 1500m A"},null,null,{"$f":"IF(A44=\"\",\"\",IF(VLOOKUP(A44,Handbook!$A$4:$AI$24,35,FALSE)=\"Y\",\"Wind=\",\"\"))","v":""},null,null,null,null,null,null,{"$f":"CONCATENATE(VLOOKUP(A44,womens_handbook,3,FALSE),\" B\")","v":"Women's 1500m B"},{"$f":"CONCATENATE(VLOOKUP(M44,Handbook!$A$4:$C$24,3,FALSE),\" A\")","v":{"$error":"#N/A"}},{"$f":"H43","v":""},null,null,null,null,{"$f":"IF($A44=\"\",\"\",VLOOKUP($A44,Handbook!$A$26:$AK$46,21,FALSE))","v":"00:04:07.600"},{"$f":"IF($A44=\"\",\"\",VLOOKUP($A44,Handbook!$A$26:$AK$46,22,FALSE))","v":"00:04:07.600"},{"$f":"IF($A44=\"\",\"\",VLOOKUP($A44,Handbook!$A$26:$AK$46,23,FALSE))","v":"00:05:05"},{"$f":"IF($A44=\"\",\"\",VLOOKUP($A44,Handbook!$A$26:$AK$46,24,FALSE))","v":"00:05:00"},{"$f":"IF($A44=\"\",\"\",VLOOKUP($A44,Handbook!$A$26:$AK$46,25,FALSE))","v":"00:05:00"},{"$f":"IF($A44=\"\",\"\",VLOOKUP($A44,Handbook!$A$26:$AK$46,34,FALSE))","v":"T"},null,null,null,null,null,null,null,null,43]
[8,null,{"$f":"IF(F44=\"\",\"\",IF(F44>10,F44/11,F44))","v":""},{"$f":"IF(O44=\"\",\"\",IF(O44>10,O44/11,O44))","v":""},1,{"$f":"IF(OR(F_1500m!D20=0,F_1500m!D20=\"\"),\"\",F_1500m!D20)","v":""},{"$f":"IF(OR($F44=\"\",$F44=0),\"\",IF($F44>90,VLOOKUP(F44,eventcodes,2,FALSE),HLOOKUP(F44,womens_declare,B46,FALSE)))","v":""},{"$f":"IF(OR($F44=\"\",$F44=0),\"\",IF($F44>90,\"\",VLOOKUP(C44,matchday,2,FALSE)))","v":""},{"$f":"IF(OR(F_1500m!G20=0,F_1500m!G20=\"\"),\"\",F_1500m!G20)","v":""},{"$f":"IF(OR(I44=\"\",I44=0),\"\",IF(AA43=\"T\",V44,V45))","v":""},null,{"$f":"IF(AA43=\"T\",AB44,AC44)","v":""},null,1,{"$f":"IF(OR(F_1500m!D29=0,F_1500m!D29=\"\"),\"\",F_1500m!D29)","v":""},{"$f":"IF(OR($O44=\"\",$O44=0),\"\",IF($O44>90,VLOOKUP(O44,eventcodes,2,FALSE),HLOOKUP(O44,womens_declare,B46,FALSE)))","v":""},{"$f":"IF(OR($O44=\"\",$O44=0),\"\",IF($O44>90,\"\",VLOOKUP(D44,matchday,2,FALSE)))","v":""},{"$f":"IF(OR(F_1500m!G29=0,F_1500m!G29=\"\"),\"\",F_1500m!G29)","v":""},null,{"$f":"IF(AA43=\"T\",AD44,AE44)","v":""},null,{"$f":"IF(AA43=\"F\",\"\",IF(I44<V43,\"LR\",IF(I44=V43,\"=LR\",IF(I44<W43,\"DR\",IF(I44=W43,\"=DR\",\"\")))))","v":""},null,null,null,null,null,{"$f":"IF(OR(I44=\"\",I44=0),\"\",IF(AA43=\"F\",\"\",IF(AA43=\"T\",IF(I44<=X43,\"þ\",IF(I44<=Y43,\"G2\",IF(I44<=Z43,\"G3\",\"\"))))))","v":""},{"$f":"IF(OR(I44=\"\",I44=0),\"\",IF(AA43=\"T\",\"\",IF(AA43=\"F\",IF(I44>=X43,\"þ\",IF(I44>=Y43,\"G2\",IF(I44>=Z43,\"G3\",\"\"))))))","v":""},{"$f":"IF(OR(R44=\"\",R44=0),\"\",IF(AA43=\"F\",\"\",IF(AA43=\"T\",IF(R44<=X43,\"þ\",IF(R44<=Y43,\"G2\",IF(R44<=Z43,\"G3\",\"\"))))))","v":""},{"$f":"IF(R44=\"\",\"\",IF(AA43=\"T\",\"\",IF(AA43=\"F\",IF(R44>=X43,\"þ\",IF(R44>=Y43,\"G2\",IF(R44>=Z43,\"G3\",\"\"))))))","v":""},{"$f":"C44","v":""},{"$f":"IF(F44=\"\",\"\",IF(LEFT(I44,1)=\"D\",0,VLOOKUP(E44,$AQ$4:$AR$40,2,FALSE)))","v":""},{"$f":"D44","v":""},{"$f":"IF(O44=\"\",\"\",IF(LEFT(R44,1)=\"D\",0,VLOOKUP(N44,$AQ$4:$AS$40,3,FALSE)))","v":""},44]
[null,{"$f":"VLOOKUP(A44,Handbook!$A$26:$AK$46,37,FALSE)","v":9},"","",2,{"$f":"IF(OR(F_1500m!D21=0,F_1500m!D21=\"\"),\"\",F_1500m!D21)","v":""},{"$f":"IF(OR($F45=\"\",$F45=0),\"\",IF($F45>90,VLOOKUP(F45,eventcodes,2,FALSE),HLOOKUP(F45,womens_declare,B46,FALSE)))","v":""},"",{"$f":"IF(OR(F_1500m!G21=0,F_1500m!G21=\"\"),\"\",F_1500m!G21)","v":""},{"$f":"IF(OR(I45=\"\",I45=0),\"\",IF(AND(AA43=\"T\",I45<I44),\"X\",IF(AND(AA43=\"F\",I45>I44),\"X\",\"\")))","v":""},null,{"$f":"IF(AA43=\"T\",AB45,AC45)","v":""},null,2,{"$f":"IF(OR(F_1500m!D30=0,F_1500m!D30=\"\"),\"\",F_1500m!D30)","v":""},{"$f":"IF(OR($O45=\"\",$O45=0),\"\",IF($O45>90,VLOOKUP(O45,eventcodes,2,FALSE),HLOOKUP(O45,womens_declare,B46,FALSE)))","v":""},"",{"$f":"IF(OR(F_1500m!G30=0,F_1500m!G30=\"\"),\"\",F_1500m!G30)","v":""},{"$f":"IF(OR(R45=\"\",R45=0),\"\",IF(AND(AA43=\"T\",R45<R44),\"X\",IF(AND(AA43=\"F\",R45>R44),\"X\",\"\")))","v":""},{"$f":"IF(AA43=\"T\",AD45,AE45)","v":""},null,{"$f":"IF(AA43=\"T\",\"\",IF(I44>V43,\"LR\",IF(I44=V43,\"=LR\",IF(I44>W43,\"DR\",IF(I44=W43,\"=DR\",\"\")))))","v":""},null,null,null,null,null,{"$f":"IF(OR(I45=\"\",I45=0),\"\",IF(AA43=\"F\",\"\",IF(AA43=\"T\",IF(I45<=X43,\"þ\",IF(I45<=Y43,\"G2\",IF(I45<=Z43,\"G3\",\"\"))))))","v":""},{"$f":"IF(OR(I45=\"\",I45=0),\"\",IF(AA43=\"T\",\"\",IF(AA43=\"F\",IF(I45>=X43,\"þ\",IF(I45>=Y43,\"G2\",IF(I45>=Z43,\"G3\",\"\"))))))","v":""},{"$f":"IF(OR(R45=\"\",R45=0),\"\",IF(AA43=\"F\",\"\",IF(AA43=\"T\",IF(R45<=X43,\"þ\",IF(R45<=Y43,\"G2\",IF(R45<=Z43,\"G3\",\"\"))))))","v":""},{"$f":"IF(R45=\"\",\"\",IF(AA43=\"T\",\"\",IF(AA43=\"F\",IF(R45>=X43,\"þ\",IF(R45>=Y43,\"G2\",IF(R45>=Z43,\"G3\",\"\"))))))","v":""},"","","","",45]
[null,{"$f":"VLOOKUP(A44,womens_declare,20,FALSE)","v":7},"","",3,{"$f":"IF(OR(F_1500m!D22=0,F_1500m!D22=\"\"),\"\",F_1500m!D22)","v":""},{"$f":"IF(OR($F46=\"\",$F46=0),\"\",IF($F46>90,VLOOKUP(F46,eventcodes,2,FALSE),HLOOKUP(F46,womens_declare,B46,FALSE)))","v":""},"",{"$f":"IF(OR(F_1500m!G22=0,F_1500m!G22=\"\"),\"\",F_1500m!G22)","v":""},{"$f":"IF(OR(I46=\"\",I46=0),\"\",IF(AND(AA43=\"T\",I46<I45),\"X\",IF(AND(AA43=\"F\",I46>I45),\"X\",\"\")))","v":""},null,{"$f":"IF(AA43=\"T\",AB46,AC46)","v":""},null,3,{"$f":"IF(OR(F_1500m!D31=0,F_1500m!D31=\"\"),\"\",F_1500m!D31)","v":""},{"$f":"IF(OR($O46=\"\",$O46=0),\"\",IF($O46>90,VLOOKUP(O46,eventcodes,2,FALSE),HLOOKUP(O46,womens_declare,B46,FALSE)))","v":""},"",{"$f":"IF(OR(F_1500m!G31=0,F_1500m!G31=\"\"),\"\",F_1500m!G31)","v":""},{"$f":"IF(OR(R46=\"\",R46=0),\"\",IF(AND(AA44=\"T\",R46<R45),\"X\",IF(AND(AA44=\"F\",R46>R45),\"X\",\"\")))","v":""},{"$f":"IF(AA43=\"T\",AD46,AE46)","v":""},null,null,null,null,null,null,null,{"$f":"IF(OR(I46=\"\",I46=0),\"\",IF(AA43=\"F\",\"\",IF(AA43=\"T\",IF(I46<=X43,\"þ\",IF(I46<=Y43,\"G2\",IF(I46<=Z43,\"G3\",\"\"))))))","v":""},{"$f":"IF(OR(I46=\"\",I46=0),\"\",IF(AA43=\"T\",\"\",IF(AA43=\"F\",IF(I46>=X43,\"þ\",IF(I46>=Y43,\"G2\",IF(I46>=Z43,\"G3\",\"\"))))))","v":""},{"$f":"IF(OR(R46=\"\",R46=0),\"\",IF(AA43=\"F\",\"\",IF(AA43=\"T\",IF(R46<=X43,\"þ\",IF(R46<=Y43,\"G2\",IF(R46<=Z43,\"G3\",\"\"))))))","v":""},{"$f":"IF(R46=\"\",\"\",IF(AA43=\"T\",\"\",IF(AA43=\"F\",IF(R46>=X43,\"þ\",IF(R46>=Y43,\"G2\",IF(R46>=Z43,\"G3\",\"\"))))))","v":""},"","","","",46]
[null,null,"","",4,{"$f":"IF(OR(F_1500m!D23=0,F_1500m!D23=\"\"),\"\",F_1500m!D23)","v":""},{"$f":"IF(OR($F47=\"\",$F47=0),\"\",IF($F47>90,VLOOKUP(F47,eventcodes,2,FALSE),HLOOKUP(F47,womens_declare,B46,FALSE)))","v":""},"",{"$f":"IF(OR(F_1500m!G23=0,F_1500m!G23=\"\"),\"\",F_1500m!G23)","v":""},{"$f":"IF(OR(I47=\"\",I47=0),\"\",IF(AND(AA43=\"T\",I47<I46),\"X\",IF(AND(AA43=\"F\",I47>I46),\"X\",\"\")))","v":""},null,{"$f":"IF(AA43=\"T\",AB47,AC47)","v":""},null,4,{"$f":"IF(OR(F_1500m!D32=0,F_1500m!D32=\"\"),\"\",F_1500m!D32)","v":""},{"$f":"IF(OR($O47=\"\",$O47=0),\"\",IF($O47>90,VLOOKUP(O47,eventcodes,2,FALSE),HLOOKUP(O47,womens_declare,B46,FALSE)))","v":""},"",{"$f":"IF(OR(F_1500m!G32=0,F_1500m!G32=\"\"),\"\",F_1500m!G32)","v":""},"",{"$f":"IF(AA43=\"T\",AD47,AE47)","v":""},null,null,null,null,null,null,null,{"$f":"IF(OR(I47=\"\",I47=0),\"\",IF(AA43=\"F\",\"\",IF(AA43=\"T\",IF(I47<=X43,\"þ\",IF(I47<=Y43,\"G2\",IF(I47<=Z43,\"G3\",\"\"))))))","v":""},{"$f":"IF(OR(I47=\"\",I47=0),\"\",IF(AA43=\"T\",\"\",IF(AA43=\"F\",IF(I47>=X43,\"þ\",IF(I47>=Y43,\"G2\",IF(I47>=Z43,\"G3\",\"\"))))))","v":""},{"$f":"IF(OR(R47=\"\",R47=0),\"\",IF(AA43=\"F\",\"\",IF(AA43=\"T\",IF(R47<=X43,\"þ\",IF(R47<=Y43,\"G2\",IF(R47<=Z43,\"G3\",\"\"))))))","v":""},{"$f":"IF(R47=\"\",\"\",IF(AA43=\"T\",\"\",IF(AA43=\"F\",IF(R47>=X43,\"þ\",IF(R47>=Y43,\"G2\",IF(R47>=Z43,\"G3\",\"\"))))))","v":""},"","","","",47]
[null,null,"","",5,{"$f":"IF(OR(F_1500m!D24=0,F_1500m!D24=\"\"),\"\",F_1500m!D24)","v":""},{"$f":"IF(OR($F48=\"\",$F48=0),\"\",IF($F48>90,VLOOKUP(F48,eventcodes,2,FALSE),HLOOKUP(F48,womens_declare,B46,FALSE)))","v":""},"",{"$f":"IF(OR(F_1500m!G24=0,F_1500m!G24=\"\"),\"\",F_1500m!G24)","v":""},{"$f":"IF(OR(I48=\"\",I48=0),\"\",IF(AND(AA43=\"T\",I48<I47),\"X\",IF(AND(AA43=\"F\",I48>I47),\"X\",\"\")))","v":""},null,{"$f":"IF(AA43=\"T\",AB48,AC48)","v":""},null,5,{"$f":"IF(OR(F_1500m!D33=0,F_1500m!D33=\"\"),\"\",F_1500m!D33)","v":""},{"$f":"IF(OR($O48=\"\",$O48=0),\"\",IF($O48>90,VLOOKUP(O48,eventcodes,2,FALSE),HLOOKUP(O48,womens_declare,B46,FALSE)))","v":""},"",{"$f":"IF(OR(F_1500m!G33=0,F_1500m!G33=\"\"),\"\",F_1500m!G33)","v":""},"",{"$f":"IF(AA43=\"T\",AD48,AE48)","v":""},null,null,null,null,null,null,null,{"$f":"IF(OR(I48=\"\",I48=0),\"\",IF(AA43=\"F\",\"\",IF(AA43=\"T\",IF(I48<=X43,\"þ\",IF(I48<=Y43,\"G2\",IF(I48<=Z43,\"G3\",\"\"))))))","v":""},{"$f":"IF(OR(I48=\"\",I48=0),\"\",IF(AA43=\"T\",\"\",IF(AA43=\"F\",IF(I48>=X43,\"þ\",IF(I48>=Y43,\"G2\",IF(I48>=Z43,\"G3\",\"\"))))))","v":""},{"$f":"IF(OR(R48=\"\",R48=0),\"\",IF(AA43=\"F\",\"\",IF(AA43=\"T\",IF(R48<=X43,\"þ\",IF(R48<=Y43,\"G2\",IF(R48<=Z43,\"G3\",\"\"))))))","v":""},{"$f":"IF(R48=\"\",\"\",IF(AA43=\"T\",\"\",IF(AA43=\"F\",IF(R48>=X43,\"þ\",IF(R48>=Y43,\"G2\",IF(R48>=Z43,\"G3\",\"\"))))))","v":""},"","","","",48]
[null,null,"","",6,{"$f":"IF(OR(F_1500m!D25=0,F_1500m!D25=\"\"),\"\",F_1500m!D25)","v":""},{"$f":"IF(OR($F49=\"\",$F49=0),\"\",IF($F49>90,VLOOKUP(F49,eventcodes,2,FALSE),HLOOKUP(F49,womens_declare,B46,FALSE)))","v":""},"",{"$f":"IF(OR(F_1500m!G25=0,F_1500m!G25=\"\"),\"\",F_1500m!G25)","v":""},{"$f":"IF(OR(I49=\"\",I49=0),\"\",IF(AND(AA43=\"T\",I49<I48),\"X\",IF(AND(AA43=\"F\",I49>I48),\"X\",\"\")))","v":""},null,{"$f":"IF(AA43=\"T\",AB49,AC49)","v":""},null,6,{"$f":"IF(OR(F_1500m!D34=0,F_1500m!D34=\"\"),\"\",F_1500m!D34)","v":""},{"$f":"IF(OR($O49=\"\",$O49=0),\"\",IF($O49>90,VLOOKUP(O49,eventcodes,2,FALSE),HLOOKUP(O49,womens_declare,B46,FALSE)))","v":""},"",{"$f":"IF(OR(F_1500m!G34=0,F_1500m!G34=\"\"),\"\",F_1500m!G34)","v":""},"",{"$f":"IF(AA43=\"T\",AD49,AE49)","v":""},null,null,null,null,null,null,null,{"$f":"IF(OR(I49=\"\",I49=0),\"\",IF(AA43=\"F\",\"\",IF(AA43=\"T\",IF(I49<=X43,\"þ\",IF(I49<=Y43,\"G2\",IF(I49<=Z43,\"G3\",\"\"))))))","v":""},{"$f":"IF(OR(I49=\"\",I49=0),\"\",IF(AA43=\"T\",\"\",IF(AA43=\"F\",IF(I49>=X43,\"þ\",IF(I49>=Y43,\"G2\",IF(I49>=Z43,\"G3\",\"\"))))))","v":""},{"$f":"IF(OR(R49=\"\",R49=0),\"\",IF(AA43=\"F\",\"\",IF(AA43=\"T\",IF(R49<=X43,\"þ\",IF(R49<=Y43,\"G2\",IF(R49<=Z43,\"G3\",\"\"))))))","v":""},{"$f":"IF(R49=\"\",\"\",IF(AA43=\"T\",\"\",IF(AA43=\"F\",IF(R49>=X43,\"þ\",IF(R49>=Y43,\"G2\",IF(R49>=Z43,\"G3\",\"\"))))))","v":""},"","","","",49]
[null,null,"","",7,{"$f":"IF(OR(F_1500m!D26=0,F_1500m!D26=\"\"),\"\",F_1500m!D26)","v":""},{"$f":"IF(OR($F50=\"\",$F50=0),\"\",IF($F50>90,VLOOKUP(F50,eventcodes,2,FALSE),HLOOKUP(F50,womens_declare,B46,FALSE)))","v":""},"",{"$f":"IF(OR(F_1500m!G26=0,F_1500m!G26=\"\"),\"\",F_1500m!G26)","v":""},{"$f":"IF(OR(I50=\"\",I50=0),\"\",IF(AND(AA43=\"T\",I50<I49),\"X\",IF(AND(AA43=\"F\",I50>I49),\"X\",\"\")))","v":""},null,{"$f":"IF(AA43=\"T\",AB50,AC50)","v":""},null,7,{"$f":"IF(OR(F_1500m!D35=0,F_1500m!D35=\"\"),\"\",F_1500m!D35)","v":""},{"$f":"IF(OR($O50=\"\",$O50=0),\"\",IF($O50>90,VLOOKUP(O50,eventcodes,2,FALSE),HLOOKUP(O50,womens_declare,B46,FALSE)))","v":""},"",{"$f":"IF(OR(F_1500m!G35=0,F_1500m!G35=\"\"),\"\",F_1500m!G35)","v":""},"",{"$f":"IF(AA43=\"T\",AD50,AE50)","v":""},null,null,null,null,null,null,null,{"$f":"IF(OR(I50=\"\",I50=0),\"\",IF(AA43=\"F\",\"\",IF(AA43=\"T\",IF(I50<=X43,\"þ\",IF(I50<=Y43,\"G2\",IF(I50<=Z43,\"G3\",\"\"))))))","v":""},{"$f":"IF(OR(I50=\"\",I50=0),\"\",IF(AA43=\"T\",\"\",IF(AA43=\"F\",IF(I50>=X43,\"þ\",IF(I50>=Y43,\"G2\",IF(I50>=Z43,\"G3\",\"\"))))))","v":""},{"$f":"IF(OR(R50=\"\",R50=0),\"\",IF(AA43=\"F\",\"\",IF(AA43=\"T\",IF(R50<=X43,\"þ\",IF(R50<=Y43,\"G2\",IF(R50<=Z43,\"G3\",\"\"))))))","v":""},{"$f":"IF(R50=\"\",\"\",IF(AA43=\"T\",\"\",IF(AA43=\"F\",IF(R50>=X43,\"þ\",IF(R50>=Y43,\"G2\",IF(R50>=Z43,\"G3\",\"\"))))))","v":""},"","","","",50]
[null,null,"","",8,{"$f":"IF(OR(F_1500m!D27=0,F_1500m!D27=\"\"),\"\",F_1500m!D27)","v":""},{"$f":"IF(OR($F51=\"\",$F51=0),\"\",IF($F51>90,VLOOKUP(F51,eventcodes,2,FALSE),HLOOKUP(F51,womens_declare,B46,FALSE)))","v":""},"",{"$f":"IF(OR(F_1500m!G27=0,F_1500m!G27=\"\"),\"\",F_1500m!G27)","v":""},{"$f":"IF(OR(I51=\"\",I51=0),\"\",IF(AND(AA43=\"T\",I51<I50),\"X\",IF(AND(AA43=\"F\",I51>I50),\"X\",\"\")))","v":""},null,{"$f":"IF(AA43=\"T\",AB51,AC51)","v":""},null,8,{"$f":"IF(OR(F_1500m!D36=0,F_1500m!D36=\"\"),\"\",F_1500m!D36)","v":""},{"$f":"IF(OR($O51=\"\",$O51=0),\"\",IF($O51>90,VLOOKUP(O51,eventcodes,2,FALSE),HLOOKUP(O51,womens_declare,B46,FALSE)))","v":""},"",{"$f":"IF(OR(F_1500m!G36=0,F_1500m!G36=\"\"),\"\",F_1500m!G36)","v":""},"",{"$f":"IF(AA43=\"T\",AD51,AE51)","v":""},null,null,null,null,null,null,null,{"$f":"IF(OR(I51=\"\",I51=0),\"\",IF(AA43=\"F\",\"\",IF(AA43=\"T\",IF(I51<=X43,\"þ\",IF(I51<=Y43,\"G2\",IF(I51<=Z43,\"G3\",\"\"))))))","v":""},{"$f":"IF(OR(I51=\"\",I51=0),\"\",IF(AA43=\"T\",\"\",IF(AA43=\"F\",IF(I51>=X43,\"þ\",IF(I51>=Y43,\"G2\",IF(I51>=Z43,\"G3\",\"\"))))))","v":""},{"$f":"IF(OR(R51=\"\",R51=0),\"\",IF(AA43=\"F\",\"\",IF(AA43=\"T\",IF(R51<=X43,\"þ\",IF(R51<=Y43,\"G2\",IF(R51<=Z43,\"G3\",\"\"))))))","v":""},{"$f":"IF(R51=\"\",\"\",IF(AA43=\"T\",\"\",IF(AA43=\"F\",IF(R51>=X43,\"þ\",IF(R51>=Y43,\"G2\",IF(R51>=Z43,\"G3\",\"\"))))))","v":""},"","","","",51]
[null,null,null,null,null,null,null,null,null,null,null,null,null,null,null,null,null,null,null,null,null,null,null,null,null,null,null,null,null,null,null,null,null,null,null,52]
[null,null,null,null,{"$f":"CONCATENATE(VLOOKUP(A54,womens_handbook,3,FALSE),\" A\")","v":"Women's 1500m S/Chase A"},null,null,{"$f":"IF(A54=\"\",\"\",IF(VLOOKUP(A54,Handbook!$A$4:$AI$24,35,FALSE)=\"Y\",\"Wind=\",\"\"))","v":""},null,null,null,null,null,null,{"$f":"CONCATENATE(VLOOKUP(A54,womens_handbook,3,FALSE),\" B\")","v":"Women's 1500m S/Chase B"},null,{"$f":"H53","v":""},null,null,null,null,{"$f":"IF($A54=\"\",\"\",VLOOKUP($A54,Handbook!$A$26:$AK$46,21,FALSE))","v":"-"},{"$f":"IF($A54=\"\",\"\",VLOOKUP($A54,Handbook!$A$26:$AK$46,22,FALSE))","v":"-"},{"$f":"IF($A54=\"\",\"\",VLOOKUP($A54,Handbook!$A$26:$AK$46,23,FALSE))","v":"00:07:00"},{"$f":"IF($A54=\"\",\"\",VLOOKUP($A54,Handbook!$A$26:$AK$46,24,FALSE))","v":"00:10:00"},{"$f":"IF($A54=\"\",\"\",VLOOKUP($A54,Handbook!$A$26:$AK$46,25,FALSE))","v":"00:10:00"},{"$f":"IF($A54=\"\",\"\",VLOOKUP($A54,Handbook!$A$26:$AK$46,34,FALSE))","v":"T"},null,null,null,null,null,null,null,null,53]
[5,null,{"$f":"IF(F54=\"\",\"\",IF(F54>10,F54/11,F54))","v":""},{"$f":"IF(O54=\"\",\"\",IF(O54>10,O54/11,O54))","v":""},1,null,{"$f":"IF($F54=\"\",\"\",IF($F54>90,VLOOKUP(F54,eventcodes,2,FALSE),HLOOKUP(F54,womens_declare,B56,FALSE)))","v":""},{"$f":"IF($F54=\"\",\"\",IF($F54>90,\"\",VLOOKUP(C54,matchday,2,FALSE)))","v":""},null,{"$f":"IF(I54=\"\",\"\",IF(AA53=\"T\",V54,V55))","v":""},null,{"$f":"IF(AA53=\"T\",AB54,AC54)","v":""},null,1,null,{"$f":"IF($O54=\"\",\"\",HLOOKUP(O54,womens_declare,B56,FALSE))","v":""},{"$f":"IF($O54=\"\",\"\",VLOOKUP(D54,matchday,2,FALSE))","v":""},null,null,{"$f":"IF(AA53=\"T\",AD54,AE54)","v":""},null,{"$f":"IF(AA53=\"F\",\"\",IF(I54<V53,\"LR\",IF(I54=V53,\"=LR\",IF(I54<W53,\"DR\",IF(I54=W53,\"=DR\",\"\")))))","v":"LR"},null,null,null,null,null,{"$f":"IF(OR(I54=\"\",I54=0),\"\",IF(AA53=\"F\",\"\",IF(AA53=\"T\",IF(I54<=X53,\"þ\",IF(I54<=Y53,\"G2\",IF(I54<=Z53,\"G3\",\"\"))))))","v":""},{"$f":"IF(OR(I54=\"\",I54=0),\"\",IF(AA53=\"T\",\"\",IF(AA53=\"F\",IF(I54>=X53,\"þ\",IF(I54>=Y53,\"G2\",IF(I54>=Z53,\"G3\",\"\"))))))","v":""},{"$f":"IF(OR(R54=\"\",R54=0),\"\",IF(AA53=\"F\",\"\",IF(AA53=\"T\",IF(R54<=X53,\"þ\",IF(R54<=Y53,\"G2\",IF(R54<=Z53,\"G3\",\"\"))))))","v":""},{"$f":"IF(R54=\"\",\"\",IF(AA53=\"T\",\"\",IF(AA53=\"F\",IF(R54>=X53,\"þ\",IF(R54>=Y53,\"G2\",IF(R54>=Z53,\"G3\",\"\"))))))","v":""},{"$f":"C54","v":""},{"$f":"IF(F54=\"\",\"\",IF(LEFT(I54,1)=\"D\",0,VLOOKUP(E54,$AQ$4:$AR$40,2,FALSE)))","v":""},{"$f":"D54","v":""},{"$f":"IF(O54=\"\",\"\",IF(LEFT(R54,1)=\"D\",0,VLOOKUP(N54,$AQ$4:$AS$40,3,FALSE)))","v":""},54]
[null,{"$f":"VLOOKUP(A54,Handbook!$A$26:$AK$46,37,FALSE)","v":6},"","",2,null,{"$f":"IF($F55=\"\",\"\",HLOOKUP(F55,womens_declare,B56,FALSE))","v":""},{"$f":"IF($F55=\"\",\"\",VLOOKUP(C55,matchday,2,FALSE))","v":""},null,{"$f":"IF(I55=\"\",\"\",IF(AND(AA53=\"T\",I55<I54),\"X\",IF(AND(AA53=\"F\",I55>I54),\"X\",\"\")))","v":""},null,{"$f":"IF(AA53=\"T\",AB55,AC55)","v":""},null,2,null,{"$f":"IF($O55=\"\",\"\",HLOOKUP(O55,womens_declare,B56,FALSE))","v":""},"",null,{"$f":"IF(R55=\"\",\"\",IF(AND(AA53=\"T\",R55<R54),\"X\",IF(AND(AA53=\"F\",R55>R54),\"X\",\"\")))","v":""},{"$f":"IF(AA53=\"T\",AD55,AE55)","v":""},null,{"$f":"IF(AA53=\"T\",\"\",IF(I54>V53,\"LR\",IF(I54=V53,\"=LR\",IF(I54>W53,\"DR\",IF(I54=W53,\"=DR\",\"\")))))","v":""},null,null,null,null,null,{"$f":"IF(OR(I55=\"\",I55=0),\"\",IF(AA53=\"F\",\"\",IF(AA53=\"T\",IF(I55<=X53,\"þ\",IF(I55<=Y53,\"G2\",IF(I55<=Z53,\"G3\",\"\"))))))","v":""},{"$f":"IF(OR(I55=\"\",I55=0),\"\",IF(AA53=\"T\",\"\",IF(AA53=\"F\",IF(I55>=X53,\"þ\",IF(I55>=Y53,\"G2\",IF(I55>=Z53,\"G3\",\"\"))))))","v":""},{"$f":"IF(OR(R55=\"\",R55=0),\"\",IF(AA53=\"F\",\"\",IF(AA53=\"T\",IF(R55<=X53,\"þ\",IF(R55<=Y53,\"G2\",IF(R55<=Z53,\"G3\",\"\"))))))","v":""},{"$f":"IF(R55=\"\",\"\",IF(AA53=\"T\",\"\",IF(AA53=\"F\",IF(R55>=X53,\"þ\",IF(R55>=Y53,\"G2\",IF(R55>=Z53,\"G3\",\"\"))))))","v":""},"","","","",55]
[null,{"$f":"VLOOKUP(A54,womens_declare,20,FALSE)","v":8},"","",3,null,{"$f":"IF($F56=\"\",\"\",HLOOKUP(F56,womens_declare,B56,FALSE))","v":""},"",null,{"$f":"IF(I56=\"\",\"\",IF(AND(AA53=\"T\",I56<I55),\"X\",IF(AND(AA53=\"F\",I56>I55),\"X\",\"\")))","v":""},null,{"$f":"IF(AA53=\"T\",AB56,AC56)","v":""},null,3,null,{"$f":"IF($O56=\"\",\"\",HLOOKUP(O56,womens_declare,B56,FALSE))","v":""},"",null,{"$f":"IF(R56=\"\",\"\",IF(AND(AA53=\"T\",R56<R55),\"X\",IF(AND(AA53=\"F\",R56>R55),\"X\",\"\")))","v":""},{"$f":"IF(AA53=\"T\",AD56,AE56)","v":""},null,null,null,null,null,null,null,{"$f":"IF(OR(I56=\"\",I56=0),\"\",IF(AA53=\"F\",\"\",IF(AA53=\"T\",IF(I56<=X53,\"þ\",IF(I56<=Y53,\"G2\",IF(I56<=Z53,\"G3\",\"\"))))))","v":""},{"$f":"IF(OR(I56=\"\",I56=0),\"\",IF(AA53=\"T\",\"\",IF(AA53=\"F\",IF(I56>=X53,\"þ\",IF(I56>=Y53,\"G2\",IF(I56>=Z53,\"G3\",\"\"))))))","v":""},{"$f":"IF(OR(R56=\"\",R56=0),\"\",IF(AA53=\"F\",\"\",IF(AA53=\"T\",IF(R56<=X53,\"þ\",IF(R56<=Y53,\"G2\",IF(R56<=Z53,\"G3\",\"\"))))))","v":""},{"$f":"IF(R56=\"\",\"\",IF(AA53=\"T\",\"\",IF(AA53=\"F\",IF(R56>=X53,\"þ\",IF(R56>=Y53,\"G2\",IF(R56>=Z53,\"G3\",\"\"))))))","v":""},"","","","",56]
[null,null,"","",4,null,{"$f":"IF($F57=\"\",\"\",HLOOKUP(F57,womens_declare,B56,FALSE))","v":""},"",null,{"$f":"IF(I57=\"\",\"\",IF(AND(AA53=\"T\",I57<I56),\"X\",IF(AND(AA53=\"F\",I57>I56),\"X\",\"\")))","v":""},null,{"$f":"IF(AA53=\"T\",AB57,AC57)","v":""},null,4,null,{"$f":"IF($O57=\"\",\"\",HLOOKUP(O57,womens_declare,B56,FALSE))","v":""},"",null,{"$f":"IF(R57=\"\",\"\",IF(AND(AA53=\"T\",R57<R56),\"X\",IF(AND(AA53=\"F\",R57>R56),\"X\",\"\")))","v":""},{"$f":"IF(AA53=\"T\",AD57,AE57)","v":""},null,null,null,null,null,null,null,{"$f":"IF(OR(I57=\"\",I57=0),\"\",IF(AA53=\"F\",\"\",IF(AA53=\"T\",IF(I57<=X53,\"þ\",IF(I57<=Y53,\"G2\",IF(I57<=Z53,\"G3\",\"\"))))))","v":""},{"$f":"IF(OR(I57=\"\",I57=0),\"\",IF(AA53=\"T\",\"\",IF(AA53=\"F\",IF(I57>=X53,\"þ\",IF(I57>=Y53,\"G2\",IF(I57>=Z53,\"G3\",\"\"))))))","v":""},{"$f":"IF(OR(R57=\"\",R57=0),\"\",IF(AA53=\"F\",\"\",IF(AA53=\"T\",IF(R57<=X53,\"þ\",IF(R57<=Y53,\"G2\",IF(R57<=Z53,\"G3\",\"\"))))))","v":""},{"$f":"IF(R57=\"\",\"\",IF(AA53=\"T\",\"\",IF(AA53=\"F\",IF(R57>=X53,\"þ\",IF(R57>=Y53,\"G2\",IF(R57>=Z53,\"G3\",\"\"))))))","v":""},"","","","",57]
[null,null,"","",5,null,{"$f":"IF($F58=\"\",\"\",HLOOKUP(F58,womens_declare,B56,FALSE))","v":""},"",null,{"$f":"IF(I58=\"\",\"\",IF(AND(AA53=\"T\",I58<I57),\"X\",IF(AND(AA53=\"F\",I58>I57),\"X\",\"\")))","v":""},null,{"$f":"IF(AA53=\"T\",AB58,AC58)","v":""},null,5,null,{"$f":"IF($O58=\"\",\"\",HLOOKUP(O58,womens_declare,B56,FALSE))","v":""},"",null,{"$f":"IF(R58=\"\",\"\",IF(AND(AA53=\"T\",R58<R57),\"X\",IF(AND(AA53=\"F\",R58>R57),\"X\",\"\")))","v":""},{"$f":"IF(AA53=\"T\",AD58,AE58)","v":""},null,null,null,null,null,null,null,{"$f":"IF(OR(I58=\"\",I58=0),\"\",IF(AA53=\"F\",\"\",IF(AA53=\"T\",IF(I58<=X53,\"þ\",IF(I58<=Y53,\"G2\",IF(I58<=Z53,\"G3\",\"\"))))))","v":""},{"$f":"IF(OR(I58=\"\",I58=0),\"\",IF(AA53=\"T\",\"\",IF(AA53=\"F\",IF(I58>=X53,\"þ\",IF(I58>=Y53,\"G2\",IF(I58>=Z53,\"G3\",\"\"))))))","v":""},{"$f":"IF(OR(R58=\"\",R58=0),\"\",IF(AA53=\"F\",\"\",IF(AA53=\"T\",IF(R58<=X53,\"þ\",IF(R58<=Y53,\"G2\",IF(R58<=Z53,\"G3\",\"\"))))))","v":""},{"$f":"IF(R58=\"\",\"\",IF(AA53=\"T\",\"\",IF(AA53=\"F\",IF(R58>=X53,\"þ\",IF(R58>=Y53,\"G2\",IF(R58>=Z53,\"G3\",\"\"))))))","v":""},"","","","",58]
[null,null,"","",6,null,{"$f":"IF($F59=\"\",\"\",HLOOKUP(F59,womens_declare,B56,FALSE))","v":""},"",null,{"$f":"IF(I59=\"\",\"\",IF(AND(AA53=\"T\",I59<I58),\"X\",IF(AND(AA53=\"F\",I59>I58),\"X\",\"\")))","v":""},null,{"$f":"IF(AA53=\"T\",AB59,AC59)","v":""},null,6,null,{"$f":"IF($O59=\"\",\"\",HLOOKUP(O59,womens_declare,B56,FALSE))","v":""},"",null,{"$f":"IF(R59=\"\",\"\",IF(AND(AA53=\"T\",R59<R58),\"X\",IF(AND(AA53=\"F\",R59>R58),\"X\",\"\")))","v":""},{"$f":"IF(AA53=\"T\",AD59,AE59)","v":""},null,null,null,null,null,null,null,{"$f":"IF(OR(I59=\"\",I59=0),\"\",IF(AA53=\"F\",\"\",IF(AA53=\"T\",IF(I59<=X53,\"þ\",IF(I59<=Y53,\"G2\",IF(I59<=Z53,\"G3\",\"\"))))))","v":""},{"$f":"IF(OR(I59=\"\",I59=0),\"\",IF(AA53=\"T\",\"\",IF(AA53=\"F\",IF(I59>=X53,\"þ\",IF(I59>=Y53,\"G2\",IF(I59>=Z53,\"G3\",\"\"))))))","v":""},{"$f":"IF(OR(R59=\"\",R59=0),\"\",IF(AA53=\"F\",\"\",IF(AA53=\"T\",IF(R59<=X53,\"þ\",IF(R59<=Y53,\"G2\",IF(R59<=Z53,\"G3\",\"\"))))))","v":""},{"$f":"IF(R59=\"\",\"\",IF(AA53=\"T\",\"\",IF(AA53=\"F\",IF(R59>=X53,\"þ\",IF(R59>=Y53,\"G2\",IF(R59>=Z53,\"G3\",\"\"))))))","v":""},"","","","",59]
[null,null,"","",7,null,{"$f":"IF($F60=\"\",\"\",HLOOKUP(F60,womens_declare,B56,FALSE))","v":""},"",null,{"$f":"IF(I60=\"\",\"\",IF(AND(AA53=\"T\",I60<I59),\"X\",IF(AND(AA53=\"F\",I60>I59),\"X\",\"\")))","v":""},null,{"$f":"IF(AA53=\"T\",AB60,AC60)","v":""},null,7,null,{"$f":"IF($O60=\"\",\"\",HLOOKUP(O60,womens_declare,B56,FALSE))","v":""},"",null,{"$f":"IF(R60=\"\",\"\",IF(AND(AA53=\"T\",R60<R59),\"X\",IF(AND(AA53=\"F\",R60>R59),\"X\",\"\")))","v":""},{"$f":"IF(AA53=\"T\",AD60,AE60)","v":""},null,null,null,null,null,null,null,{"$f":"IF(OR(I60=\"\",I60=0),\"\",IF(AA53=\"F\",\"\",IF(AA53=\"T\",IF(I60<=X53,\"þ\",IF(I60<=Y53,\"G2\",IF(I60<=Z53,\"G3\",\"\"))))))","v":""},{"$f":"IF(OR(I60=\"\",I60=0),\"\",IF(AA53=\"T\",\"\",IF(AA53=\"F\",IF(I60>=X53,\"þ\",IF(I60>=Y53,\"G2\",IF(I60>=Z53,\"G3\",\"\"))))))","v":""},{"$f":"IF(OR(R60=\"\",R60=0),\"\",IF(AA53=\"F\",\"\",IF(AA53=\"T\",IF(R60<=X53,\"þ\",IF(R60<=Y53,\"G2\",IF(R60<=Z53,\"G3\",\"\"))))))","v":""},{"$f":"IF(R60=\"\",\"\",IF(AA53=\"T\",\"\",IF(AA53=\"F\",IF(R60>=X53,\"þ\",IF(R60>=Y53,\"G2\",IF(R60>=Z53,\"G3\",\"\"))))))","v":""},"","","","",60]
[null,null,"","",8,null,{"$f":"IF($F61=\"\",\"\",HLOOKUP(F61,womens_declare,B56,FALSE))","v":""},"",null,{"$f":"IF(I61=\"\",\"\",IF(AND(AA53=\"T\",I61<I60),\"X\",IF(AND(AA53=\"F\",I61>I60),\"X\",\"\")))","v":""},null,{"$f":"IF(AA53=\"T\",AB61,AC61)","v":""},null,8,null,{"$f":"IF($O61=\"\",\"\",HLOOKUP(O61,womens_declare,B56,FALSE))","v":""},"",null,{"$f":"IF(R61=\"\",\"\",IF(AND(AA53=\"T\",R61<R60),\"X\",IF(AND(AA53=\"F\",R61>R60),\"X\",\"\")))","v":""},{"$f":"IF(AA53=\"T\",AD61,AE61)","v":""},null,null,null,null,null,null,null,{"$f":"IF(OR(I61=\"\",I61=0),\"\",IF(AA53=\"F\",\"\",IF(AA53=\"T\",IF(I61<=X53,\"þ\",IF(I61<=Y53,\"G2\",IF(I61<=Z53,\"G3\",\"\"))))))","v":""},{"$f":"IF(OR(I61=\"\",I61=0),\"\",IF(AA53=\"T\",\"\",IF(AA53=\"F\",IF(I61>=X53,\"þ\",IF(I61>=Y53,\"G2\",IF(I61>=Z53,\"G3\",\"\"))))))","v":""},{"$f":"IF(OR(R61=\"\",R61=0),\"\",IF(AA53=\"F\",\"\",IF(AA53=\"T\",IF(R61<=X53,\"þ\",IF(R61<=Y53,\"G2\",IF(R61<=Z53,\"G3\",\"\"))))))","v":""},{"$f":"IF(R61=\"\",\"\",IF(AA53=\"T\",\"\",IF(AA53=\"F\",IF(R61>=X53,\"þ\",IF(R61>=Y53,\"G2\",IF(R61>=Z53,\"G3\",\"\"))))))","v":""},"","","","",61]
[null,null,null,null,null,null,null,null,null,null,null,null,null,null,null,null,null,null,null,null,null,null,null,null,null,null,null,null,null,null,null,null,null,null,null,62]
[null,null,null,null,{"$f":"CONCATENATE(VLOOKUP(A64,womens_handbook,3,FALSE),\" A\")","v":"Women's 3000m A"},null,null,{"$f":"IF(A64=\"\",\"\",IF(VLOOKUP(A64,Handbook!$A$4:$AI$24,35,FALSE)=\"Y\",\"Wind=\",\"\"))","v":""},null,null,null,null,null,null,{"$f":"CONCATENATE(VLOOKUP(A64,womens_handbook,3,FALSE),\" B\")","v":"Women's 3000m B"},{"$f":"CONCATENATE(VLOOKUP(M64,Handbook!$A$4:$C$24,3,FALSE),\" A\")","v":{"$error":"#N/A"}},{"$f":"H63","v":""},null,null,null,null,{"$f":"IF($A64=\"\",\"\",VLOOKUP($A64,Handbook!$A$26:$AK$46,21,FALSE))","v":"00:09:25"},{"$f":"IF($A64=\"\",\"\",VLOOKUP($A64,Handbook!$A$26:$AK$46,22,FALSE))","v":"00:09:25"},{"$f":"IF($A64=\"\",\"\",VLOOKUP($A64,Handbook!$A$26:$AK$46,23,FALSE))","v":"00:11:30"},{"$f":"IF($A64=\"\",\"\",VLOOKUP($A64,Handbook!$A$26:$AK$46,24,FALSE))","v":"00:11:00"},{"$f":"IF($A64=\"\",\"\",VLOOKUP($A64,Handbook!$A$26:$AK$46,25,FALSE))","v":"00:11:00"},{"$f":"IF($A64=\"\",\"\",VLOOKUP($A64,Handbook!$A$26:$AK$46,34,FALSE))","v":"T"},null,null,null,null,null,null,null,null,63]
[21,null,{"$f":"IF(F64=\"\",\"\",IF(F64>10,F64/11,F64))","v":""},{"$f":"IF(O64=\"\",\"\",IF(O64>10,O64/11,O64))","v":""},1,{"$f":"IF(OR(F_3000m!D20=0,F_3000m!D20=\"\"),\"\",F_3000m!D20)","v":""},{"$f":"IF(OR($F64=\"\",$F64=0),\"\",IF($F64>90,VLOOKUP(F64,eventcodes,2,FALSE),HLOOKUP(F64,womens_declare,B66,FALSE)))","v":""},{"$f":"IF(OR($F64=\"\",$F64=0),\"\",IF($F64>90,\"\",VLOOKUP(C64,matchday,2,FALSE)))","v":""},{"$f":"IF(OR(F_3000m!G20=0,F_3000m!G20=\"\"),\"\",F_3000m!G20)","v":""},{"$f":"IF(OR(I64=\"\",I64=0),\"\",IF(AA63=\"T\",V64,V65))","v":""},null,{"$f":"IF(AA63=\"T\",AB64,AC64)","v":""},null,1,{"$f":"IF(OR(F_3000m!D29=0,F_3000m!D29=\"\"),\"\",F_3000m!D29)","v":""},{"$f":"IF(OR($O64=\"\",$O64=0),\"\",IF($O64>90,VLOOKUP(O64,eventcodes,2,FALSE),HLOOKUP(O64,womens_declare,B66,FALSE)))","v":""},{"$f":"IF(OR($O64=\"\",$O64=0),\"\",IF($O64>90,\"\",VLOOKUP(D64,matchday,2,FALSE)))","v":""},{"$f":"IF(OR(F_3000m!G29=0,F_3000m!G29=\"\"),\"\",F_3000m!G29)","v":""},null,{"$f":"IF(AA63=\"T\",AD64,AE64)","v":""},null,{"$f":"IF(AA63=\"F\",\"\",IF(I64<V63,\"LR\",IF(I64=V63,\"=LR\",IF(I64<W63,\"DR\",IF(I64=W63,\"=DR\",\"\")))))","v":""},null,null,null,null,null,{"$f":"IF(OR(I64=\"\",I64=0),\"\",IF(AA63=\"F\",\"\",IF(AA63=\"T\",IF(I64<=X63,\"þ\",IF(I64<=Y63,\"G2\",IF(I64<=Z63,\"G3\",\"\"))))))","v":""},{"$f":"IF(OR(I64=\"\",I64=0),\"\",IF(AA63=\"T\",\"\",IF(AA63=\"F\",IF(I64>=X63,\"þ\",IF(I64>=Y63,\"G2\",IF(I64>=Z63,\"G3\",\"\"))))))","v":""},{"$f":"IF(OR(R64=\"\",R64=0),\"\",IF(AA63=\"F\",\"\",IF(AA63=\"T\",IF(R64<=X63,\"þ\",IF(R64<=Y63,\"G2\",IF(R64<=Z63,\"G3\",\"\"))))))","v":""},{"$f":"IF(R64=\"\",\"\",IF(AA63=\"T\",\"\",IF(AA63=\"F\",IF(R64>=X63,\"þ\",IF(R64>=Y63,\"G2\",IF(R64>=Z63,\"G3\",\"\"))))))","v":""},{"$f":"C64","v":""},{"$f":"IF(F64=\"\",\"\",IF(LEFT(I64,1)=\"D\",0,VLOOKUP(E64,$AQ$4:$AR$40,2,FALSE)))","v":""},{"$f":"D64","v":""},{"$f":"IF(O64=\"\",\"\",IF(LEFT(R64,1)=\"D\",0,VLOOKUP(N64,$AQ$4:$AS$40,3,FALSE)))","v":""},64]
[null,{"$f":"VLOOKUP(A64,Handbook!$A$26:$AK$46,37,FALSE)","v":22},"","",2,{"$f":"IF(OR(F_3000m!D21=0,F_3000m!D21=\"\"),\"\",F_3000m!D21)","v":""},{"$f":"IF(OR($F65=\"\",$F65=0),\"\",IF($F65>90,VLOOKUP(F65,eventcodes,2,FALSE),HLOOKUP(F65,womens_declare,B66,FALSE)))","v":""},"",{"$f":"IF(OR(F_3000m!G21=0,F_3000m!G21=\"\"),\"\",F_3000m!G21)","v":""},{"$f":"IF(OR(I65=\"\",I65=0),\"\",IF(AND(AA63=\"T\",I65<I64),\"X\",IF(AND(AA63=\"F\",I65>I64),\"X\",\"\")))","v":""},null,{"$f":"IF(AA63=\"T\",AB65,AC65)","v":""},null,2,{"$f":"IF(OR(F_3000m!D30=0,F_3000m!D30=\"\"),\"\",F_3000m!D30)","v":""},{"$f":"IF(OR($O65=\"\",$O65=0),\"\",IF($O65>90,VLOOKUP(O65,eventcodes,2,FALSE),HLOOKUP(O65,womens_declare,B66,FALSE)))","v":""},"",{"$f":"IF(OR(F_3000m!G30=0,F_3000m!G30=\"\"),\"\",F_3000m!G30)","v":""},{"$f":"IF(OR(R65=\"\",R65=0),\"\",IF(AND(AA63=\"T\",R65<R64),\"X\",IF(AND(AA63=\"F\",R65>R64),\"X\",\"\")))","v":""},{"$f":"IF(AA63=\"T\",AD65,AE65)","v":""},null,{"$f":"IF(AA63=\"T\",\"\",IF(I64>V63,\"LR\",IF(I64=V63,\"=LR\",IF(I64>W63,\"DR\",IF(I64=W63,\"=DR\",\"\")))))","v":""},null,null,null,null,null,{"$f":"IF(OR(I65=\"\",I65=0),\"\",IF(AA63=\"F\",\"\",IF(AA63=\"T\",IF(I65<=X63,\"þ\",IF(I65<=Y63,\"G2\",IF(I65<=Z63,\"G3\",\"\"))))))","v":""},{"$f":"IF(OR(I65=\"\",I65=0),\"\",IF(AA63=\"T\",\"\",IF(AA63=\"F\",IF(I65>=X63,\"þ\",IF(I65>=Y63,\"G2\",IF(I65>=Z63,\"G3\",\"\"))))))","v":""},{"$f":"IF(OR(R65=\"\",R65=0),\"\",IF(AA63=\"F\",\"\",IF(AA63=\"T\",IF(R65<=X63,\"þ\",IF(R65<=Y63,\"G2\",IF(R65<=Z63,\"G3\",\"\"))))))","v":""},{"$f":"IF(R65=\"\",\"\",IF(AA63=\"T\",\"\",IF(AA63=\"F\",IF(R65>=X63,\"þ\",IF(R65>=Y63,\"G2\",IF(R65>=Z63,\"G3\",\"\"))))))","v":""},"","","","",65]
[null,{"$f":"VLOOKUP(A64,womens_declare,20,FALSE)","v":9},"","",3,{"$f":"IF(OR(F_3000m!D22=0,F_3000m!D22=\"\"),\"\",F_3000m!D22)","v":""},{"$f":"IF(OR($F66=\"\",$F66=0),\"\",IF($F66>90,VLOOKUP(F66,eventcodes,2,FALSE),HLOOKUP(F66,womens_declare,B66,FALSE)))","v":""},"",{"$f":"IF(OR(F_3000m!G22=0,F_3000m!G22=\"\"),\"\",F_3000m!G22)","v":""},{"$f":"IF(OR(I66=\"\",I66=0),\"\",IF(AND(AA63=\"T\",I66<I65),\"X\",IF(AND(AA63=\"F\",I66>I65),\"X\",\"\")))","v":""},null,{"$f":"IF(AA63=\"T\",AB66,AC66)","v":""},null,3,{"$f":"IF(OR(F_3000m!D31=0,F_3000m!D31=\"\"),\"\",F_3000m!D31)","v":""},{"$f":"IF(OR($O66=\"\",$O66=0),\"\",IF($O66>90,VLOOKUP(O66,eventcodes,2,FALSE),HLOOKUP(O66,womens_declare,B66,FALSE)))","v":""},"",{"$f":"IF(OR(F_3000m!G31=0,F_3000m!G31=\"\"),\"\",F_3000m!G31)","v":""},{"$f":"IF(OR(R66=\"\",R66=0),\"\",IF(AND(AA64=\"T\",R66<R65),\"X\",IF(AND(AA64=\"F\",R66>R65),\"X\",\"\")))","v":""},{"$f":"IF(AA63=\"T\",AD66,AE66)","v":""},null,null,null,null,null,null,null,{"$f":"IF(OR(I66=\"\",I66=0),\"\",IF(AA63=\"F\",\"\",IF(AA63=\"T\",IF(I66<=X63,\"þ\",IF(I66<=Y63,\"G2\",IF(I66<=Z63,\"G3\",\"\"))))))","v":""},{"$f":"IF(OR(I66=\"\",I66=0),\"\",IF(AA63=\"T\",\"\",IF(AA63=\"F\",IF(I66>=X63,\"þ\",IF(I66>=Y63,\"G2\",IF(I66>=Z63,\"G3\",\"\"))))))","v":""},{"$f":"IF(OR(R66=\"\",R66=0),\"\",IF(AA63=\"F\",\"\",IF(AA63=\"T\",IF(R66<=X63,\"þ\",IF(R66<=Y63,\"G2\",IF(R66<=Z63,\"G3\",\"\"))))))","v":""},{"$f":"IF(R66=\"\",\"\",IF(AA63=\"T\",\"\",IF(AA63=\"F\",IF(R66>=X63,\"þ\",IF(R66>=Y63,\"G2\",IF(R66>=Z63,\"G3\",\"\"))))))","v":""},"","","","",66]
[null,null,"","",4,{"$f":"IF(OR(F_3000m!D23=0,F_3000m!D23=\"\"),\"\",F_3000m!D23)","v":""},{"$f":"IF(OR($F67=\"\",$F67=0),\"\",IF($F67>90,VLOOKUP(F67,eventcodes,2,FALSE),HLOOKUP(F67,womens_declare,B66,FALSE)))","v":""},"",{"$f":"IF(OR(F_3000m!G23=0,F_3000m!G23=\"\"),\"\",F_3000m!G23)","v":""},{"$f":"IF(OR(I67=\"\",I67=0),\"\",IF(AND(AA63=\"T\",I67<I66),\"X\",IF(AND(AA63=\"F\",I67>I66),\"X\",\"\")))","v":""},null,{"$f":"IF(AA63=\"T\",AB67,AC67)","v":""},null,4,{"$f":"IF(OR(F_3000m!D32=0,F_3000m!D32=\"\"),\"\",F_3000m!D32)","v":""},{"$f":"IF(OR($O67=\"\",$O67=0),\"\",IF($O67>90,VLOOKUP(O67,eventcodes,2,FALSE),HLOOKUP(O67,womens_declare,B66,FALSE)))","v":""},"",{"$f":"IF(OR(F_3000m!G32=0,F_3000m!G32=\"\"),\"\",F_3000m!G32)","v":""},"",{"$f":"IF(AA63=\"T\",AD67,AE67)","v":""},null,null,null,null,null,null,null,{"$f":"IF(OR(I67=\"\",I67=0),\"\",IF(AA63=\"F\",\"\",IF(AA63=\"T\",IF(I67<=X63,\"þ\",IF(I67<=Y63,\"G2\",IF(I67<=Z63,\"G3\",\"\"))))))","v":""},{"$f":"IF(OR(I67=\"\",I67=0),\"\",IF(AA63=\"T\",\"\",IF(AA63=\"F\",IF(I67>=X63,\"þ\",IF(I67>=Y63,\"G2\",IF(I67>=Z63,\"G3\",\"\"))))))","v":""},{"$f":"IF(OR(R67=\"\",R67=0),\"\",IF(AA63=\"F\",\"\",IF(AA63=\"T\",IF(R67<=X63,\"þ\",IF(R67<=Y63,\"G2\",IF(R67<=Z63,\"G3\",\"\"))))))","v":""},{"$f":"IF(R67=\"\",\"\",IF(AA63=\"T\",\"\",IF(AA63=\"F\",IF(R67>=X63,\"þ\",IF(R67>=Y63,\"G2\",IF(R67>=Z63,\"G3\",\"\"))))))","v":""},"","","","",67]
[null,null,"","",5,{"$f":"IF(OR(F_3000m!D24=0,F_3000m!D24=\"\"),\"\",F_3000m!D24)","v":""},{"$f":"IF(OR($F68=\"\",$F68=0),\"\",IF($F68>90,VLOOKUP(F68,eventcodes,2,FALSE),HLOOKUP(F68,womens_declare,B66,FALSE)))","v":""},"",{"$f":"IF(OR(F_3000m!G24=0,F_3000m!G24=\"\"),\"\",F_3000m!G24)","v":""},{"$f":"IF(OR(I68=\"\",I68=0),\"\",IF(AND(AA63=\"T\",I68<I67),\"X\",IF(AND(AA63=\"F\",I68>I67),\"X\",\"\")))","v":""},null,{"$f":"IF(AA63=\"T\",AB68,AC68)","v":""},null,5,{"$f":"IF(OR(F_3000m!D33=0,F_3000m!D33=\"\"),\"\",F_3000m!D33)","v":""},{"$f":"IF(OR($O68=\"\",$O68=0),\"\",IF($O68>90,VLOOKUP(O68,eventcodes,2,FALSE),HLOOKUP(O68,womens_declare,B66,FALSE)))","v":""},"",{"$f":"IF(OR(F_3000m!G33=0,F_3000m!G33=\"\"),\"\",F_3000m!G33)","v":""},"",{"$f":"IF(AA63=\"T\",AD68,AE68)","v":""},null,null,null,null,null,null,null,{"$f":"IF(OR(I68=\"\",I68=0),\"\",IF(AA63=\"F\",\"\",IF(AA63=\"T\",IF(I68<=X63,\"þ\",IF(I68<=Y63,\"G2\",IF(I68<=Z63,\"G3\",\"\"))))))","v":""},{"$f":"IF(OR(I68=\"\",I68=0),\"\",IF(AA63=\"T\",\"\",IF(AA63=\"F\",IF(I68>=X63,\"þ\",IF(I68>=Y63,\"G2\",IF(I68>=Z63,\"G3\",\"\"))))))","v":""},{"$f":"IF(OR(R68=\"\",R68=0),\"\",IF(AA63=\"F\",\"\",IF(AA63=\"T\",IF(R68<=X63,\"þ\",IF(R68<=Y63,\"G2\",IF(R68<=Z63,\"G3\",\"\"))))))","v":""},{"$f":"IF(R68=\"\",\"\",IF(AA63=\"T\",\"\",IF(AA63=\"F\",IF(R68>=X63,\"þ\",IF(R68>=Y63,\"G2\",IF(R68>=Z63,\"G3\",\"\"))))))","v":""},"","","","",68]
[null,null,"","",6,{"$f":"IF(OR(F_3000m!D25=0,F_3000m!D25=\"\"),\"\",F_3000m!D25)","v":""},{"$f":"IF(OR($F69=\"\",$F69=0),\"\",IF($F69>90,VLOOKUP(F69,eventcodes,2,FALSE),HLOOKUP(F69,womens_declare,B66,FALSE)))","v":""},"",{"$f":"IF(OR(F_3000m!G25=0,F_3000m!G25=\"\"),\"\",F_3000m!G25)","v":""},{"$f":"IF(OR(I69=\"\",I69=0),\"\",IF(AND(AA63=\"T\",I69<I68),\"X\",IF(AND(AA63=\"F\",I69>I68),\"X\",\"\")))","v":""},null,{"$f":"IF(AA63=\"T\",AB69,AC69)","v":""},null,6,{"$f":"IF(OR(F_3000m!D34=0,F_3000m!D34=\"\"),\"\",F_3000m!D34)","v":""},{"$f":"IF(OR($O69=\"\",$O69=0),\"\",IF($O69>90,VLOOKUP(O69,eventcodes,2,FALSE),HLOOKUP(O69,womens_declare,B66,FALSE)))","v":""},"",{"$f":"IF(OR(F_3000m!G34=0,F_3000m!G34=\"\"),\"\",F_3000m!G34)","v":""},"",{"$f":"IF(AA63=\"T\",AD69,AE69)","v":""},null,null,null,null,null,null,null,{"$f":"IF(OR(I69=\"\",I69=0),\"\",IF(AA63=\"F\",\"\",IF(AA63=\"T\",IF(I69<=X63,\"þ\",IF(I69<=Y63,\"G2\",IF(I69<=Z63,\"G3\",\"\"))))))","v":""},{"$f":"IF(OR(I69=\"\",I69=0),\"\",IF(AA63=\"T\",\"\",IF(AA63=\"F\",IF(I69>=X63,\"þ\",IF(I69>=Y63,\"G2\",IF(I69>=Z63,\"G3\",\"\"))))))","v":""},{"$f":"IF(OR(R69=\"\",R69=0),\"\",IF(AA63=\"F\",\"\",IF(AA63=\"T\",IF(R69<=X63,\"þ\",IF(R69<=Y63,\"G2\",IF(R69<=Z63,\"G3\",\"\"))))))","v":""},{"$f":"IF(R69=\"\",\"\",IF(AA63=\"T\",\"\",IF(AA63=\"F\",IF(R69>=X63,\"þ\",IF(R69>=Y63,\"G2\",IF(R69>=Z63,\"G3\",\"\"))))))","v":""},"","","","",69]
[null,null,"","",7,{"$f":"IF(OR(F_3000m!D26=0,F_3000m!D26=\"\"),\"\",F_3000m!D26)","v":""},{"$f":"IF(OR($F70=\"\",$F70=0),\"\",IF($F70>90,VLOOKUP(F70,eventcodes,2,FALSE),HLOOKUP(F70,womens_declare,B66,FALSE)))","v":""},"",{"$f":"IF(OR(F_3000m!G26=0,F_3000m!G26=\"\"),\"\",F_3000m!G26)","v":""},{"$f":"IF(OR(I70=\"\",I70=0),\"\",IF(AND(AA63=\"T\",I70<I69),\"X\",IF(AND(AA63=\"F\",I70>I69),\"X\",\"\")))","v":""},null,{"$f":"IF(AA63=\"T\",AB70,AC70)","v":""},null,7,{"$f":"IF(OR(F_3000m!D35=0,F_3000m!D35=\"\"),\"\",F_3000m!D35)","v":""},{"$f":"IF(OR($O70=\"\",$O70=0),\"\",IF($O70>90,VLOOKUP(O70,eventcodes,2,FALSE),HLOOKUP(O70,womens_declare,B66,FALSE)))","v":""},"",{"$f":"IF(OR(F_3000m!G35=0,F_3000m!G35=\"\"),\"\",F_3000m!G35)","v":""},"",{"$f":"IF(AA63=\"T\",AD70,AE70)","v":""},null,null,null,null,null,null,null,{"$f":"IF(OR(I70=\"\",I70=0),\"\",IF(AA63=\"F\",\"\",IF(AA63=\"T\",IF(I70<=X63,\"þ\",IF(I70<=Y63,\"G2\",IF(I70<=Z63,\"G3\",\"\"))))))","v":""},{"$f":"IF(OR(I70=\"\",I70=0),\"\",IF(AA63=\"T\",\"\",IF(AA63=\"F\",IF(I70>=X63,\"þ\",IF(I70>=Y63,\"G2\",IF(I70>=Z63,\"G3\",\"\"))))))","v":""},{"$f":"IF(OR(R70=\"\",R70=0),\"\",IF(AA63=\"F\",\"\",IF(AA63=\"T\",IF(R70<=X63,\"þ\",IF(R70<=Y63,\"G2\",IF(R70<=Z63,\"G3\",\"\"))))))","v":""},{"$f":"IF(R70=\"\",\"\",IF(AA63=\"T\",\"\",IF(AA63=\"F\",IF(R70>=X63,\"þ\",IF(R70>=Y63,\"G2\",IF(R70>=Z63,\"G3\",\"\"))))))","v":""},"","","","",70]
[null,null,"","",8,{"$f":"IF(OR(F_3000m!D27=0,F_3000m!D27=\"\"),\"\",F_3000m!D27)","v":""},{"$f":"IF(OR($F71=\"\",$F71=0),\"\",IF($F71>90,VLOOKUP(F71,eventcodes,2,FALSE),HLOOKUP(F71,womens_declare,B66,FALSE)))","v":""},"",{"$f":"IF(OR(F_3000m!G27=0,F_3000m!G27=\"\"),\"\",F_3000m!G27)","v":""},{"$f":"IF(OR(I71=\"\",I71=0),\"\",IF(AND(AA63=\"T\",I71<I70),\"X\",IF(AND(AA63=\"F\",I71>I70),\"X\",\"\")))","v":""},null,{"$f":"IF(AA63=\"T\",AB71,AC71)","v":""},null,8,{"$f":"IF(OR(F_3000m!D36=0,F_3000m!D36=\"\"),\"\",F_3000m!D36)","v":""},{"$f":"IF(OR($O71=\"\",$O71=0),\"\",IF($O71>90,VLOOKUP(O71,eventcodes,2,FALSE),HLOOKUP(O71,womens_declare,B66,FALSE)))","v":""},"",{"$f":"IF(OR(F_3000m!G36=0,F_3000m!G36=\"\"),\"\",F_3000m!G36)","v":""},"",{"$f":"IF(AA63=\"T\",AD71,AE71)","v":""},null,null,null,null,null,null,null,{"$f":"IF(OR(I71=\"\",I71=0),\"\",IF(AA63=\"F\",\"\",IF(AA63=\"T\",IF(I71<=X63,\"þ\",IF(I71<=Y63,\"G2\",IF(I71<=Z63,\"G3\",\"\"))))))","v":""},{"$f":"IF(OR(I71=\"\",I71=0),\"\",IF(AA63=\"T\",\"\",IF(AA63=\"F\",IF(I71>=X63,\"þ\",IF(I71>=Y63,\"G2\",IF(I71>=Z63,\"G3\",\"\"))))))","v":""},{"$f":"IF(OR(R71=\"\",R71=0),\"\",IF(AA63=\"F\",\"\",IF(AA63=\"T\",IF(R71<=X63,\"þ\",IF(R71<=Y63,\"G2\",IF(R71<=Z63,\"G3\",\"\"))))))","v":""},{"$f":"IF(R71=\"\",\"\",IF(AA63=\"T\",\"\",IF(AA63=\"F\",IF(R71>=X63,\"þ\",IF(R71>=Y63,\"G2\",IF(R71>=Z63,\"G3\",\"\"))))))","v":""},"","","","",71]
[null,null,null,null,null,null,null,null,null,null,null,null,null,null,null,null,null,null,null,null,null,null,null,null,null,null,null,null,null,null,null,null,null,null,null,72]
[null,null,null,null,{"$f":"CONCATENATE(VLOOKUP(A74,womens_handbook,3,FALSE),\" A\")","v":"Women's 400m Hurdles A"},null,null,{"$f":"IF(A74=\"\",\"\",IF(VLOOKUP(A74,Handbook!$A$4:$AI$24,35,FALSE)=\"Y\",\"Wind=\",\"\"))","v":""},null,null,null,null,null,null,{"$f":"CONCATENATE(VLOOKUP(A74,womens_handbook,3,FALSE),\" B\")","v":"Women's 400m Hurdles B"},{"$f":"CONCATENATE(VLOOKUP(M74,Handbook!$A$4:$C$24,3,FALSE),\" A\")","v":{"$error":"#N/A"}},{"$f":"H73","v":""},null,null,null,null,{"$f":"IF($A74=\"\",\"\",VLOOKUP($A74,Handbook!$A$26:$AK$46,21,FALSE))","v":58.8},{"$f":"IF($A74=\"\",\"\",VLOOKUP($A74,Handbook!$A$26:$AK$46,22,FALSE))","v":58.8},{"$f":"IF($A74=\"\",\"\",VLOOKUP($A74,Handbook!$A$26:$AK$46,23,FALSE))","v":74},{"$f":"IF($A74=\"\",\"\",VLOOKUP($A74,Handbook!$A$26:$AK$46,24,FALSE))","v":70},{"$f":"IF($A74=\"\",\"\",VLOOKUP($A74,Handbook!$A$26:$AK$46,25,FALSE))","v":70},{"$f":"IF($A74=\"\",\"\",VLOOKUP($A74,Handbook!$A$26:$AK$46,34,FALSE))","v":"T"},null,null,null,null,null,null,null,null,73]
[1,null,{"$f":"IF(F74=\"\",\"\",IF(F74>10,F74/11,F74))","v":""},{"$f":"IF(O74=\"\",\"\",IF(O74>10,O74/11,O74))","v":""},1,null,{"$f":"IF($F74=\"\",\"\",IF($F74>90,VLOOKUP(F74,eventcodes,2,FALSE),HLOOKUP(F74,womens_declare,B76,FALSE)))","v":""},{"$f":"IF($F74=\"\",\"\",IF($F74>90,\"\",VLOOKUP(C74,matchday,2,FALSE)))","v":""},null,{"$f":"IF(I74=\"\",\"\",IF(AA73=\"T\",V74,V75))","v":""},null,{"$f":"IF(AA73=\"T\",AB74,AC74)","v":""},null,1,null,{"$f":"IF($O74=\"\",\"\",HLOOKUP(O74,womens_declare,B76,FALSE))","v":""},{"$f":"IF($O74=\"\",\"\",VLOOKUP(D74,matchday,2,FALSE))","v":""},null,null,{"$f":"IF(AA73=\"T\",AD74,AE74)","v":""},null,{"$f":"IF(AA73=\"F\",\"\",IF(I74<V73,\"LR\",IF(I74=V73,\"=LR\",IF(I74<W73,\"DR\",IF(I74=W73,\"=DR\",\"\")))))","v":"LR"},null,null,null,null,null,{"$f":"IF(I74=\"\",\"\",IF(AA73=\"F\",\"\",IF(AA73=\"T\",IF(I74<=X73,\"þ\",IF(I74<=Y73,\"G2\",IF(I74<=Z73,\"G3\",\"\"))))))","v":""},{"$f":"IF(I74=\"\",\"\",IF(AA73=\"T\",\"\",IF(AA73=\"F\",IF(I74>=X73,\"þ\",IF(I74>=Y73,\"G2\",IF(I74>=Z73,\"G3\",\"\"))))))","v":""},{"$f":"IF(R74=\"\",\"\",IF(AA73=\"F\",\"\",IF(AA73=\"T\",IF(R74<=X73,\"þ\",IF(R74<=Y73,\"G2\",IF(R74<=Z73,\"G3\",\"\"))))))","v":""},{"$f":"IF(R74=\"\",\"\",IF(AA73=\"T\",\"\",IF(AA73=\"F\",IF(R74>=X73,\"þ\",IF(R74>=Y73,\"G2\",IF(R74>=Z73,\"G3\",\"\"))))))","v":""},{"$f":"C74","v":""},{"$f":"IF(F74=\"\",\"\",IF(LEFT(I74,1)=\"D\",0,VLOOKUP(E74,$AQ$4:$AR$40,2,FALSE)))","v":""},{"$f":"D74","v":""},{"$f":"IF(O74=\"\",\"\",IF(LEFT(R74,1)=\"D\",0,VLOOKUP(N74,$AQ$4:$AS$40,3,FALSE)))","v":""},74]
[null,{"$f":"VLOOKUP(A74,Handbook!$A$26:$AK$46,37,FALSE)","v":2},"","",2,null,{"$f":"IF($F75=\"\",\"\",HLOOKUP(F75,womens_declare,B76,FALSE))","v":""},{"$f":"IF($F75=\"\",\"\",VLOOKUP(C75,matchday,2,FALSE))","v":""},null,{"$f":"IF(I75=\"\",\"\",IF(AND(AA73=\"T\",I75<I74),\"X\",IF(AND(AA73=\"F\",I75>I74),\"X\",\"\")))","v":""},null,{"$f":"IF(AA73=\"T\",AB75,AC75)","v":""},null,2,null,{"$f":"IF($O75=\"\",\"\",HLOOKUP(O75,womens_declare,B76,FALSE))","v":""},"",null,{"$f":"IF(R75=\"\",\"\",IF(AND(AA73=\"T\",R75<R74),\"X\",IF(AND(AA73=\"F\",R75>R74),\"X\",\"\")))","v":""},{"$f":"IF(AA73=\"T\",AD75,AE75)","v":""},null,{"$f":"IF(AA73=\"T\",\"\",IF(I74>V73,\"LR\",IF(I74=V73,\"=LR\",IF(I74>W73,\"DR\",IF(I74=W73,\"=DR\",\"\")))))","v":""},null,null,null,null,null,{"$f":"IF(I75=\"\",\"\",IF(AA73=\"F\",\"\",IF(AA73=\"T\",IF(I75<=X73,\"þ\",IF(I75<=Y73,\"G2\",IF(I75<=Z73,\"G3\",\"\"))))))","v":""},{"$f":"IF(I75=\"\",\"\",IF(AA73=\"T\",\"\",IF(AA73=\"F\",IF(I75>=X73,\"þ\",IF(I75>=Y73,\"G2\",IF(I75>=Z73,\"G3\",\"\"))))))","v":""},{"$f":"IF(R75=\"\",\"\",IF(AA73=\"F\",\"\",IF(AA73=\"T\",IF(R75<=X73,\"þ\",IF(R75<=Y73,\"G2\",IF(R75<=Z73,\"G3\",\"\"))))))","v":""},{"$f":"IF(R75=\"\",\"\",IF(AA73=\"T\",\"\",IF(AA73=\"F\",IF(R75>=X73,\"þ\",IF(R75>=Y73,\"G2\",IF(R75>=Z73,\"G3\",\"\"))))))","v":""},"","","","",75]
[null,{"$f":"VLOOKUP(A74,womens_declare,20,FALSE)","v":10},"","",3,null,{"$f":"IF($F76=\"\",\"\",HLOOKUP(F76,womens_declare,B76,FALSE))","v":""},"",null,{"$f":"IF(I76=\"\",\"\",IF(AND(AA73=\"T\",I76<I75),\"X\",IF(AND(AA73=\"F\",I76>I75),\"X\",\"\")))","v":""},null,{"$f":"IF(AA73=\"T\",AB76,AC76)","v":""},null,3,null,{"$f":"IF($O76=\"\",\"\",HLOOKUP(O76,womens_declare,B76,FALSE))","v":""},"",null,{"$f":"IF(R76=\"\",\"\",IF(AND(AA73=\"T\",R76<R75),\"X\",IF(AND(AA73=\"F\",R76>R75),\"X\",\"\")))","v":""},{"$f":"IF(AA73=\"T\",AD76,AE76)","v":""},null,null,null,null,null,null,null,{"$f":"IF(I76=\"\",\"\",IF(AA73=\"F\",\"\",IF(AA73=\"T\",IF(I76<=X73,\"þ\",IF(I76<=Y73,\"G2\",IF(I76<=Z73,\"G3\",\"\"))))))","v":""},{"$f":"IF(I76=\"\",\"\",IF(AA73=\"T\",\"\",IF(AA73=\"F\",IF(I76>=X73,\"þ\",IF(I76>=Y73,\"G2\",IF(I76>=Z73,\"G3\",\"\"))))))","v":""},{"$f":"IF(R76=\"\",\"\",IF(AA73=\"F\",\"\",IF(AA73=\"T\",IF(R76<=X73,\"þ\",IF(R76<=Y73,\"G2\",IF(R76<=Z73,\"G3\",\"\"))))))","v":""},{"$f":"IF(R76=\"\",\"\",IF(AA73=\"T\",\"\",IF(AA73=\"F\",IF(R76>=X73,\"þ\",IF(R76>=Y73,\"G2\",IF(R76>=Z73,\"G3\",\"\"))))))","v":""},"","","","",76]
[null,null,"","",4,null,{"$f":"IF($F77=\"\",\"\",HLOOKUP(F77,womens_declare,B76,FALSE))","v":""},"",null,{"$f":"IF(I77=\"\",\"\",IF(AND(AA73=\"T\",I77<I76),\"X\",IF(AND(AA73=\"F\",I77>I76),\"X\",\"\")))","v":""},null,{"$f":"IF(AA73=\"T\",AB77,AC77)","v":""},null,4,null,{"$f":"IF($O77=\"\",\"\",HLOOKUP(O77,womens_declare,B76,FALSE))","v":""},"",null,{"$f":"IF(R77=\"\",\"\",IF(AND(AA73=\"T\",R77<R76),\"X\",IF(AND(AA73=\"F\",R77>R76),\"X\",\"\")))","v":""},{"$f":"IF(AA73=\"T\",AD77,AE77)","v":""},null,null,null,null,null,null,null,{"$f":"IF(I77=\"\",\"\",IF(AA73=\"F\",\"\",IF(AA73=\"T\",IF(I77<=X73,\"þ\",IF(I77<=Y73,\"G2\",IF(I77<=Z73,\"G3\",\"\"))))))","v":""},{"$f":"IF(I77=\"\",\"\",IF(AA73=\"T\",\"\",IF(AA73=\"F\",IF(I77>=X73,\"þ\",IF(I77>=Y73,\"G2\",IF(I77>=Z73,\"G3\",\"\"))))))","v":""},{"$f":"IF(R77=\"\",\"\",IF(AA73=\"F\",\"\",IF(AA73=\"T\",IF(R77<=X73,\"þ\",IF(R77<=Y73,\"G2\",IF(R77<=Z73,\"G3\",\"\"))))))","v":""},{"$f":"IF(R77=\"\",\"\",IF(AA73=\"T\",\"\",IF(AA73=\"F\",IF(R77>=X73,\"þ\",IF(R77>=Y73,\"G2\",IF(R77>=Z73,\"G3\",\"\"))))))","v":""},"","","","",77]
[null,null,"","",5,null,{"$f":"IF($F78=\"\",\"\",HLOOKUP(F78,womens_declare,B76,FALSE))","v":""},"",null,{"$f":"IF(I78=\"\",\"\",IF(AND(AA73=\"T\",I78<I77),\"X\",IF(AND(AA73=\"F\",I78>I77),\"X\",\"\")))","v":""},null,{"$f":"IF(AA73=\"T\",AB78,AC78)","v":""},null,5,null,{"$f":"IF($O78=\"\",\"\",HLOOKUP(O78,womens_declare,B76,FALSE))","v":""},"",null,{"$f":"IF(R78=\"\",\"\",IF(AND(AA73=\"T\",R78<R77),\"X\",IF(AND(AA73=\"F\",R78>R77),\"X\",\"\")))","v":""},{"$f":"IF(AA73=\"T\",AD78,AE78)","v":""},null,null,null,null,null,null,null,{"$f":"IF(I78=\"\",\"\",IF(AA73=\"F\",\"\",IF(AA73=\"T\",IF(I78<=X73,\"þ\",IF(I78<=Y73,\"G2\",IF(I78<=Z73,\"G3\",\"\"))))))","v":""},{"$f":"IF(I78=\"\",\"\",IF(AA73=\"T\",\"\",IF(AA73=\"F\",IF(I78>=X73,\"þ\",IF(I78>=Y73,\"G2\",IF(I78>=Z73,\"G3\",\"\"))))))","v":""},{"$f":"IF(R78=\"\",\"\",IF(AA73=\"F\",\"\",IF(AA73=\"T\",IF(R78<=X73,\"þ\",IF(R78<=Y73,\"G2\",IF(R78<=Z73,\"G3\",\"\"))))))","v":""},{"$f":"IF(R78=\"\",\"\",IF(AA73=\"T\",\"\",IF(AA73=\"F\",IF(R78>=X73,\"þ\",IF(R78>=Y73,\"G2\",IF(R78>=Z73,\"G3\",\"\"))))))","v":""},"","","","",78]
[null,null,"","",6,null,{"$f":"IF($F79=\"\",\"\",HLOOKUP(F79,womens_declare,B76,FALSE))","v":""},"",null,{"$f":"IF(I79=\"\",\"\",IF(AND(AA73=\"T\",I79<I78),\"X\",IF(AND(AA73=\"F\",I79>I78),\"X\",\"\")))","v":""},null,{"$f":"IF(AA73=\"T\",AB79,AC79)","v":""},null,6,null,{"$f":"IF($O79=\"\",\"\",HLOOKUP(O79,womens_declare,B76,FALSE))","v":""},"",null,{"$f":"IF(R79=\"\",\"\",IF(AND(AA73=\"T\",R79<R78),\"X\",IF(AND(AA73=\"F\",R79>R78),\"X\",\"\")))","v":""},{"$f":"IF(AA73=\"T\",AD79,AE79)","v":""},null,null,null,null,null,null,null,{"$f":"IF(I79=\"\",\"\",IF(AA73=\"F\",\"\",IF(AA73=\"T\",IF(I79<=X73,\"þ\",IF(I79<=Y73,\"G2\",IF(I79<=Z73,\"G3\",\"\"))))))","v":""},{"$f":"IF(I79=\"\",\"\",IF(AA73=\"T\",\"\",IF(AA73=\"F\",IF(I79>=X73,\"þ\",IF(I79>=Y73,\"G2\",IF(I79>=Z73,\"G3\",\"\"))))))","v":""},{"$f":"IF(R79=\"\",\"\",IF(AA73=\"F\",\"\",IF(AA73=\"T\",IF(R79<=X73,\"þ\",IF(R79<=Y73,\"G2\",IF(R79<=Z73,\"G3\",\"\"))))))","v":""},{"$f":"IF(R79=\"\",\"\",IF(AA73=\"T\",\"\",IF(AA73=\"F\",IF(R79>=X73,\"þ\",IF(R79>=Y73,\"G2\",IF(R79>=Z73,\"G3\",\"\"))))))","v":""},"","","","",79]
[null,null,"","",7,null,{"$f":"IF($F80=\"\",\"\",HLOOKUP(F80,womens_declare,B76,FALSE))","v":""},"",null,{"$f":"IF(I80=\"\",\"\",IF(AND(AA73=\"T\",I80<I79),\"X\",IF(AND(AA73=\"F\",I80>I79),\"X\",\"\")))","v":""},null,{"$f":"IF(AA73=\"T\",AB80,AC80)","v":""},null,7,null,{"$f":"IF($O80=\"\",\"\",HLOOKUP(O80,womens_declare,B76,FALSE))","v":""},"",null,{"$f":"IF(R80=\"\",\"\",IF(AND(AA73=\"T\",R80<R79),\"X\",IF(AND(AA73=\"F\",R80>R79),\"X\",\"\")))","v":""},{"$f":"IF(AA73=\"T\",AD80,AE80)","v":""},null,null,null,null,null,null,null,{"$f":"IF(I80=\"\",\"\",IF(AA73=\"F\",\"\",IF(AA73=\"T\",IF(I80<=X73,\"þ\",IF(I80<=Y73,\"G2\",IF(I80<=Z73,\"G3\",\"\"))))))","v":""},{"$f":"IF(I80=\"\",\"\",IF(AA73=\"T\",\"\",IF(AA73=\"F\",IF(I80>=X73,\"þ\",IF(I80>=Y73,\"G2\",IF(I80>=Z73,\"G3\",\"\"))))))","v":""},{"$f":"IF(R80=\"\",\"\",IF(AA73=\"F\",\"\",IF(AA73=\"T\",IF(R80<=X73,\"þ\",IF(R80<=Y73,\"G2\",IF(R80<=Z73,\"G3\",\"\"))))))","v":""},{"$f":"IF(R80=\"\",\"\",IF(AA73=\"T\",\"\",IF(AA73=\"F\",IF(R80>=X73,\"þ\",IF(R80>=Y73,\"G2\",IF(R80>=Z73,\"G3\",\"\"))))))","v":""},"","","","",80]
[null,null,"","",8,null,{"$f":"IF($F81=\"\",\"\",HLOOKUP(F81,womens_declare,B76,FALSE))","v":""},"",null,{"$f":"IF(I81=\"\",\"\",IF(AND(AA73=\"T\",I81<I80),\"X\",IF(AND(AA73=\"F\",I81>I80),\"X\",\"\")))","v":""},null,{"$f":"IF(AA73=\"T\",AB81,AC81)","v":""},null,8,null,{"$f":"IF($O81=\"\",\"\",HLOOKUP(O81,womens_declare,B76,FALSE))","v":""},"",null,{"$f":"IF(R81=\"\",\"\",IF(AND(AA73=\"T\",R81<R80),\"X\",IF(AND(AA73=\"F\",R81>R80),\"X\",\"\")))","v":""},{"$f":"IF(AA73=\"T\",AD81,AE81)","v":""},null,null,null,null,null,null,null,{"$f":"IF(I81=\"\",\"\",IF(AA73=\"F\",\"\",IF(AA73=\"T\",IF(I81<=X73,\"þ\",IF(I81<=Y73,\"G2\",IF(I81<=Z73,\"G3\",\"\"))))))","v":""},{"$f":"IF(I81=\"\",\"\",IF(AA73=\"T\",\"\",IF(AA73=\"F\",IF(I81>=X73,\"þ\",IF(I81>=Y73,\"G2\",IF(I81>=Z73,\"G3\",\"\"))))))","v":""},{"$f":"IF(R81=\"\",\"\",IF(AA73=\"F\",\"\",IF(AA73=\"T\",IF(R81<=X73,\"þ\",IF(R81<=Y73,\"G2\",IF(R81<=Z73,\"G3\",\"\"))))))","v":""},{"$f":"IF(R81=\"\",\"\",IF(AA73=\"T\",\"\",IF(AA73=\"F\",IF(R81>=X73,\"þ\",IF(R81>=Y73,\"G2\",IF(R81>=Z73,\"G3\",\"\"))))))","v":""},"","","","",81]
[null,null,null,null,null,null,null,null,null,null,null,null,null,null,null,null,null,null,null,null,null,null,null,null,null,null,null,null,null,null,null,null,null,null,null,82]
[null,null,null,null,{"$f":"CONCATENATE(VLOOKUP(A84,womens_handbook,3,FALSE),\" A\")","v":"Women's 100m Hurdles A"},null,null,{"$f":"IF(A84=\"\",\"\",IF(VLOOKUP(A84,Handbook!$A$4:$AI$24,35,FALSE)=\"Y\",\"Wind=\",\"\"))","v":"Wind="},null,null,null,null,null,null,{"$f":"CONCATENATE(VLOOKUP(A84,womens_handbook,3,FALSE),\" B\")","v":"Women's 100m Hurdles B"},null,{"$f":"H83","v":"Wind="},null,null,null,null,{"$f":"IF($A84=\"\",\"\",VLOOKUP($A84,Handbook!$A$26:$AK$46,21,FALSE))","v":12.5},{"$f":"IF($A84=\"\",\"\",VLOOKUP($A84,Handbook!$A$26:$AK$46,22,FALSE))","v":12.5},{"$f":"IF($A84=\"\",\"\",VLOOKUP($A84,Handbook!$A$26:$AK$46,23,FALSE))","v":18},{"$f":"IF($A84=\"\",\"\",VLOOKUP($A84,Handbook!$A$26:$AK$46,24,FALSE))","v":16.5},{"$f":"IF($A84=\"\",\"\",VLOOKUP($A84,Handbook!$A$26:$AK$46,25,FALSE))","v":16.5},{"$f":"IF($A84=\"\",\"\",VLOOKUP($A84,Handbook!$A$26:$AK$46,34,FALSE))","v":"T"},null,null,null,null,null,null,null,null,83]
[6,null,{"$f":"IF(F84=\"\",\"\",IF(F84>10,F84/11,F84))","v":""},{"$f":"IF(O84=\"\",\"\",IF(O84>10,O84/11,O84))","v":""},1,null,{"$f":"IF($F84=\"\",\"\",IF($F84>90,VLOOKUP(F84,eventcodes,2,FALSE),HLOOKUP(F84,womens_declare,B86,FALSE)))","v":""},{"$f":"IF($F84=\"\",\"\",IF($F84>90,\"\",VLOOKUP(C84,matchday,2,FALSE)))","v":""},null,{"$f":"IF(I84=\"\",\"\",IF(AA83=\"T\",V84,V85))","v":""},null,{"$f":"IF(AA83=\"T\",AB84,AC84)","v":""},null,1,null,{"$f":"IF($O84=\"\",\"\",HLOOKUP(O84,womens_declare,B86,FALSE))","v":""},{"$f":"IF($O84=\"\",\"\",VLOOKUP(D84,matchday,2,FALSE))","v":""},null,null,{"$f":"IF(AA83=\"T\",AD84,AE84)","v":""},null,{"$f":"IF(AA83=\"F\",\"\",IF(I84<V83,\"LR\",IF(I84=V83,\"=LR\",IF(I84<W83,\"DR\",IF(I84=W83,\"=DR\",\"\")))))","v":"LR"},null,null,null,null,null,{"$f":"IF(I84=\"\",\"\",IF(AA83=\"F\",\"\",IF(AA83=\"T\",IF(I84<=X83,\"þ\",IF(I84<=Y83,\"G2\",IF(I84<=Z83,\"G3\",\"\"))))))","v":""},{"$f":"IF(I84=\"\",\"\",IF(AA83=\"T\",\"\",IF(AA83=\"F\",IF(I84>=X83,\"þ\",IF(I84>=Y83,\"G2\",IF(I84>=Z83,\"G3\",\"\"))))))","v":""},{"$f":"IF(R84=\"\",\"\",IF(AA83=\"F\",\"\",IF(AA83=\"T\",IF(R84<=X83,\"þ\",IF(R84<=Y83,\"G2\",IF(R84<=Z83,\"G3\",\"\"))))))","v":""},{"$f":"IF(R84=\"\",\"\",IF(AA83=\"T\",\"\",IF(AA83=\"F\",IF(R84>=X83,\"þ\",IF(R84>=Y83,\"G2\",IF(R84>=Z83,\"G3\",\"\"))))))","v":""},{"$f":"C84","v":""},{"$f":"IF(F84=\"\",\"\",IF(LEFT(I84,1)=\"D\",0,VLOOKUP(E84,$AQ$4:$AR$40,2,FALSE)))","v":""},{"$f":"D84","v":""},{"$f":"IF(O84=\"\",\"\",IF(LEFT(R84,1)=\"D\",0,VLOOKUP(N84,$AQ$4:$AS$40,3,FALSE)))","v":""},84]
[null,{"$f":"VLOOKUP(A84,Handbook!$A$26:$AK$46,37,FALSE)","v":7},"","",2,null,{"$f":"IF($F85=\"\",\"\",HLOOKUP(F85,womens_declare,B86,FALSE))","v":""},{"$f":"IF($F85=\"\",\"\",VLOOKUP(C85,matchday,2,FALSE))","v":""},null,{"$f":"IF(I85=\"\",\"\",IF(AND(AA83=\"T\",I85<I84),\"X\",IF(AND(AA83=\"F\",I85>I84),\"X\",\"\")))","v":""},null,{"$f":"IF(AA83=\"T\",AB85,AC85)","v":""},null,2,null,{"$f":"IF($O85=\"\",\"\",HLOOKUP(O85,womens_declare,B86,FALSE))","v":""},"",null,{"$f":"IF(R85=\"\",\"\",IF(AND(AA83=\"T\",R85<R84),\"X\",IF(AND(AA83=\"F\",R85>R84),\"X\",\"\")))","v":""},{"$f":"IF(AA83=\"T\",AD85,AE85)","v":""},null,{"$f":"IF(AA83=\"T\",\"\",IF(I84>V83,\"LR\",IF(I84=V83,\"=LR\",IF(I84>W83,\"DR\",IF(I84=W83,\"=DR\",\"\")))))","v":""},null,null,null,null,null,{"$f":"IF(I85=\"\",\"\",IF(AA83=\"F\",\"\",IF(AA83=\"T\",IF(I85<=X83,\"þ\",IF(I85<=Y83,\"G2\",IF(I85<=Z83,\"G3\",\"\"))))))","v":""},{"$f":"IF(I85=\"\",\"\",IF(AA83=\"T\",\"\",IF(AA83=\"F\",IF(I85>=X83,\"þ\",IF(I85>=Y83,\"G2\",IF(I85>=Z83,\"G3\",\"\"))))))","v":""},{"$f":"IF(R85=\"\",\"\",IF(AA83=\"F\",\"\",IF(AA83=\"T\",IF(R85<=X83,\"þ\",IF(R85<=Y83,\"G2\",IF(R85<=Z83,\"G3\",\"\"))))))","v":""},{"$f":"IF(R85=\"\",\"\",IF(AA83=\"T\",\"\",IF(AA83=\"F\",IF(R85>=X83,\"þ\",IF(R85>=Y83,\"G2\",IF(R85>=Z83,\"G3\",\"\"))))))","v":""},"","","","",85]
[null,{"$f":"VLOOKUP(A84,womens_declare,20,FALSE)","v":11},"","",3,null,{"$f":"IF($F86=\"\",\"\",HLOOKUP(F86,womens_declare,B86,FALSE))","v":""},"",null,{"$f":"IF(I86=\"\",\"\",IF(AND(AA83=\"T\",I86<I85),\"X\",IF(AND(AA83=\"F\",I86>I85),\"X\",\"\")))","v":""},null,{"$f":"IF(AA83=\"T\",AB86,AC86)","v":""},null,3,null,{"$f":"IF($O86=\"\",\"\",HLOOKUP(O86,womens_declare,B86,FALSE))","v":""},"",null,{"$f":"IF(R86=\"\",\"\",IF(AND(AA83=\"T\",R86<R85),\"X\",IF(AND(AA83=\"F\",R86>R85),\"X\",\"\")))","v":""},{"$f":"IF(AA83=\"T\",AD86,AE86)","v":""},null,null,null,null,null,null,null,{"$f":"IF(I86=\"\",\"\",IF(AA83=\"F\",\"\",IF(AA83=\"T\",IF(I86<=X83,\"þ\",IF(I86<=Y83,\"G2\",IF(I86<=Z83,\"G3\",\"\"))))))","v":""},{"$f":"IF(I86=\"\",\"\",IF(AA83=\"T\",\"\",IF(AA83=\"F\",IF(I86>=X83,\"þ\",IF(I86>=Y83,\"G2\",IF(I86>=Z83,\"G3\",\"\"))))))","v":""},{"$f":"IF(R86=\"\",\"\",IF(AA83=\"F\",\"\",IF(AA83=\"T\",IF(R86<=X83,\"þ\",IF(R86<=Y83,\"G2\",IF(R86<=Z83,\"G3\",\"\"))))))","v":""},{"$f":"IF(R86=\"\",\"\",IF(AA83=\"T\",\"\",IF(AA83=\"F\",IF(R86>=X83,\"þ\",IF(R86>=Y83,\"G2\",IF(R86>=Z83,\"G3\",\"\"))))))","v":""},"","","","",86]
[null,null,"","",4,null,{"$f":"IF($F87=\"\",\"\",HLOOKUP(F87,womens_declare,B86,FALSE))","v":""},"",null,{"$f":"IF(I87=\"\",\"\",IF(AND(AA83=\"T\",I87<I86),\"X\",IF(AND(AA83=\"F\",I87>I86),\"X\",\"\")))","v":""},null,{"$f":"IF(AA83=\"T\",AB87,AC87)","v":""},null,4,null,{"$f":"IF($O87=\"\",\"\",HLOOKUP(O87,womens_declare,B86,FALSE))","v":""},"",null,{"$f":"IF(R87=\"\",\"\",IF(AND(AA83=\"T\",R87<R86),\"X\",IF(AND(AA83=\"F\",R87>R86),\"X\",\"\")))","v":""},{"$f":"IF(AA83=\"T\",AD87,AE87)","v":""},null,null,null,null,null,null,null,{"$f":"IF(I87=\"\",\"\",IF(AA83=\"F\",\"\",IF(AA83=\"T\",IF(I87<=X83,\"þ\",IF(I87<=Y83,\"G2\",IF(I87<=Z83,\"G3\",\"\"))))))","v":""},{"$f":"IF(I87=\"\",\"\",IF(AA83=\"T\",\"\",IF(AA83=\"F\",IF(I87>=X83,\"þ\",IF(I87>=Y83,\"G2\",IF(I87>=Z83,\"G3\",\"\"))))))","v":""},{"$f":"IF(R87=\"\",\"\",IF(AA83=\"F\",\"\",IF(AA83=\"T\",IF(R87<=X83,\"þ\",IF(R87<=Y83,\"G2\",IF(R87<=Z83,\"G3\",\"\"))))))","v":""},{"$f":"IF(R87=\"\",\"\",IF(AA83=\"T\",\"\",IF(AA83=\"F\",IF(R87>=X83,\"þ\",IF(R87>=Y83,\"G2\",IF(R87>=Z83,\"G3\",\"\"))))))","v":""},"","","","",87]
[null,null,"","",5,null,{"$f":"IF($F88=\"\",\"\",HLOOKUP(F88,womens_declare,B86,FALSE))","v":""},"",null,{"$f":"IF(I88=\"\",\"\",IF(AND(AA83=\"T\",I88<I87),\"X\",IF(AND(AA83=\"F\",I88>I87),\"X\",\"\")))","v":""},null,{"$f":"IF(AA83=\"T\",AB88,AC88)","v":""},null,5,null,{"$f":"IF($O88=\"\",\"\",HLOOKUP(O88,womens_declare,B86,FALSE))","v":""},"",null,{"$f":"IF(R88=\"\",\"\",IF(AND(AA83=\"T\",R88<R87),\"X\",IF(AND(AA83=\"F\",R88>R87),\"X\",\"\")))","v":""},{"$f":"IF(AA83=\"T\",AD88,AE88)","v":""},null,null,null,null,null,null,null,{"$f":"IF(I88=\"\",\"\",IF(AA83=\"F\",\"\",IF(AA83=\"T\",IF(I88<=X83,\"þ\",IF(I88<=Y83,\"G2\",IF(I88<=Z83,\"G3\",\"\"))))))","v":""},{"$f":"IF(I88=\"\",\"\",IF(AA83=\"T\",\"\",IF(AA83=\"F\",IF(I88>=X83,\"þ\",IF(I88>=Y83,\"G2\",IF(I88>=Z83,\"G3\",\"\"))))))","v":""},{"$f":"IF(R88=\"\",\"\",IF(AA83=\"F\",\"\",IF(AA83=\"T\",IF(R88<=X83,\"þ\",IF(R88<=Y83,\"G2\",IF(R88<=Z83,\"G3\",\"\"))))))","v":""},{"$f":"IF(R88=\"\",\"\",IF(AA83=\"T\",\"\",IF(AA83=\"F\",IF(R88>=X83,\"þ\",IF(R88>=Y83,\"G2\",IF(R88>=Z83,\"G3\",\"\"))))))","v":""},"","","","",88]
[null,null,"","",6,null,{"$f":"IF($F89=\"\",\"\",HLOOKUP(F89,womens_declare,B86,FALSE))","v":""},"",null,{"$f":"IF(I89=\"\",\"\",IF(AND(AA83=\"T\",I89<I88),\"X\",IF(AND(AA83=\"F\",I89>I88),\"X\",\"\")))","v":""},null,{"$f":"IF(AA83=\"T\",AB89,AC89)","v":""},null,6,null,{"$f":"IF($O89=\"\",\"\",HLOOKUP(O89,womens_declare,B86,FALSE))","v":""},"",null,{"$f":"IF(R89=\"\",\"\",IF(AND(AA83=\"T\",R89<R88),\"X\",IF(AND(AA83=\"F\",R89>R88),\"X\",\"\")))","v":""},{"$f":"IF(AA83=\"T\",AD89,AE89)","v":""},null,null,null,null,null,null,null,{"$f":"IF(I89=\"\",\"\",IF(AA83=\"F\",\"\",IF(AA83=\"T\",IF(I89<=X83,\"þ\",IF(I89<=Y83,\"G2\",IF(I89<=Z83,\"G3\",\"\"))))))","v":""},{"$f":"IF(I89=\"\",\"\",IF(AA83=\"T\",\"\",IF(AA83=\"F\",IF(I89>=X83,\"þ\",IF(I89>=Y83,\"G2\",IF(I89>=Z83,\"G3\",\"\"))))))","v":""},{"$f":"IF(R89=\"\",\"\",IF(AA83=\"F\",\"\",IF(AA83=\"T\",IF(R89<=X83,\"þ\",IF(R89<=Y83,\"G2\",IF(R89<=Z83,\"G3\",\"\"))))))","v":""},{"$f":"IF(R89=\"\",\"\",IF(AA83=\"T\",\"\",IF(AA83=\"F\",IF(R89>=X83,\"þ\",IF(R89>=Y83,\"G2\",IF(R89>=Z83,\"G3\",\"\"))))))","v":""},"","","","",89]
[null,null,"","",7,null,{"$f":"IF($F90=\"\",\"\",HLOOKUP(F90,womens_declare,B86,FALSE))","v":""},"",null,{"$f":"IF(I90=\"\",\"\",IF(AND(AA83=\"T\",I90<I89),\"X\",IF(AND(AA83=\"F\",I90>I89),\"X\",\"\")))","v":""},null,{"$f":"IF(AA83=\"T\",AB90,AC90)","v":""},null,7,null,{"$f":"IF($O90=\"\",\"\",HLOOKUP(O90,womens_declare,B86,FALSE))","v":""},"",null,{"$f":"IF(R90=\"\",\"\",IF(AND(AA83=\"T\",R90<R89),\"X\",IF(AND(AA83=\"F\",R90>R89),\"X\",\"\")))","v":""},{"$f":"IF(AA83=\"T\",AD90,AE90)","v":""},null,null,null,null,null,null,null,{"$f":"IF(I90=\"\",\"\",IF(AA83=\"F\",\"\",IF(AA83=\"T\",IF(I90<=X83,\"þ\",IF(I90<=Y83,\"G2\",IF(I90<=Z83,\"G3\",\"\"))))))","v":""},{"$f":"IF(I90=\"\",\"\",IF(AA83=\"T\",\"\",IF(AA83=\"F\",IF(I90>=X83,\"þ\",IF(I90>=Y83,\"G2\",IF(I90>=Z83,\"G3\",\"\"))))))","v":""},{"$f":"IF(R90=\"\",\"\",IF(AA83=\"F\",\"\",IF(AA83=\"T\",IF(R90<=X83,\"þ\",IF(R90<=Y83,\"G2\",IF(R90<=Z83,\"G3\",\"\"))))))","v":""},{"$f":"IF(R90=\"\",\"\",IF(AA83=\"T\",\"\",IF(AA83=\"F\",IF(R90>=X83,\"þ\",IF(R90>=Y83,\"G2\",IF(R90>=Z83,\"G3\",\"\"))))))","v":""},"","","","",90]
[null,null,"","",8,null,{"$f":"IF($F91=\"\",\"\",HLOOKUP(F91,womens_declare,B86,FALSE))","v":""},"",null,{"$f":"IF(I91=\"\",\"\",IF(AND(AA83=\"T\",I91<I90),\"X\",IF(AND(AA83=\"F\",I91>I90),\"X\",\"\")))","v":""},null,{"$f":"IF(AA83=\"T\",AB91,AC91)","v":""},null,8,null,{"$f":"IF($O91=\"\",\"\",HLOOKUP(O91,womens_declare,B86,FALSE))","v":""},"",null,{"$f":"IF(R91=\"\",\"\",IF(AND(AA83=\"T\",R91<R90),\"X\",IF(AND(AA83=\"F\",R91>R90),\"X\",\"\")))","v":""},{"$f":"IF(AA83=\"T\",AD91,AE91)","v":""},null,null,null,null,null,null,null,{"$f":"IF(I91=\"\",\"\",IF(AA83=\"F\",\"\",IF(AA83=\"T\",IF(I91<=X83,\"þ\",IF(I91<=Y83,\"G2\",IF(I91<=Z83,\"G3\",\"\"))))))","v":""},{"$f":"IF(I91=\"\",\"\",IF(AA83=\"T\",\"\",IF(AA83=\"F\",IF(I91>=X83,\"þ\",IF(I91>=Y83,\"G2\",IF(I91>=Z83,\"G3\",\"\"))))))","v":""},{"$f":"IF(R91=\"\",\"\",IF(AA83=\"F\",\"\",IF(AA83=\"T\",IF(R91<=X83,\"þ\",IF(R91<=Y83,\"G2\",IF(R91<=Z83,\"G3\",\"\"))))))","v":""},{"$f":"IF(R91=\"\",\"\",IF(AA83=\"T\",\"\",IF(AA83=\"F\",IF(R91>=X83,\"þ\",IF(R91>=Y83,\"G2\",IF(R91>=Z83,\"G3\",\"\"))))))","v":""},"","","","",91]
[null,null,null,null,null,null,null,null,null,null,null,null,null,null,null,null,null,null,null,null,null,null,null,null,null,null,null,null,null,null,null,null,null,null,null,92]
[null,null,{"$f":"VLOOKUP(A94,Handbook!$A$4:$AK$24,36,FALSE)","v":"D"},null,{"$f":"CONCATENATE(VLOOKUP(A94,womens_handbook,3,FALSE),\" A\")","v":"Women's Hammer A"},null,null,{"$f":"IF(A94=\"\",\"\",IF(VLOOKUP(A94,Handbook!$A$4:$AI$24,35,FALSE)=\"Y\",\"Wind=\",\"\"))","v":""},null,null,null,null,null,null,{"$f":"CONCATENATE(VLOOKUP(A94,womens_handbook,3,FALSE),\" B\")","v":"Women's Hammer B"},null,{"$f":"H93","v":""},{"$f":"IF(I93=\"\",\"\",I93)","v":""},null,null,null,{"$f":"IF($A94=\"\",\"\",VLOOKUP($A94,Handbook!$A$26:$AK$46,21,FALSE))","v":64.930000000000007},{"$f":"IF($A94=\"\",\"\",VLOOKUP($A94,Handbook!$A$26:$AK$46,22,FALSE))","v":64.930000000000007},{"$f":"IF($A94=\"\",\"\",VLOOKUP($A94,Handbook!$A$26:$AK$46,23,FALSE))","v":25},{"$f":"IF($A94=\"\",\"\",VLOOKUP($A94,Handbook!$A$26:$AK$46,24,FALSE))","v":30},{"$f":"IF($A94=\"\",\"\",VLOOKUP($A94,Handbook!$A$26:$AK$46,25,FALSE))","v":30},{"$f":"IF($A94=\"\",\"\",VLOOKUP($A94,Handbook!$A$26:$AK$46,34,FALSE))","v":"F"},null,null,null,null,null,null,null,null,93]
[11,null,{"$f":"IF(F94=\"\",\"\",IF(F94>10,F94/11,F94))","v":""},{"$f":"IF(O94=\"\",\"\",IF(O94>10,O94/11,O94))","v":""},{"$f":"'Womens Hammer'!$E$26","v":1},{"$f":"IF('Womens Hammer'!$I$26=0,\"\",'Womens Hammer'!$F$26)","v":""},{"$f":"IF(OR($F94=\"\",$F94=0),\"\",IF($F94>90,VLOOKUP(F94,eventcodes,2,FALSE),HLOOKUP(F94,womens_declare,B96,FALSE)))","v":""},{"$f":"IF(OR($F94=\"\",$F94=0),\"\",IF($F94>90,\"\",VLOOKUP(C94,matchday,2,FALSE)))","v":""},{"$f":"IF('Womens Hammer'!$I$26=0,\"\",'Womens Hammer'!$I$26)","v":""},{"$f":"IF(I94=\"\",\"\",IF(AA93=\"T\",V94,V95))","v":""},null,{"$f":"IF(AA93=\"T\",AB94,AC94)","v":""},null,{"$f":"'Womens Hammer'!$K$26","v":1},{"$f":"IF('Womens Hammer'!$I$26=0,\"\",'Womens Hammer'!$L$26)","v":""},{"$f":"IF(OR($O94=\"\",$O94=0),\"\",HLOOKUP(O94,womens_declare,B96,FALSE))","v":""},{"$f":"IF(OR($O94=\"\",$O94=0),\"\",VLOOKUP(D94,matchday,2,FALSE))","v":""},{"$f":"IF('Womens Hammer'!$I$26=0,\"\",'Womens Hammer'!$U$26)","v":""},null,{"$f":"IF(AA93=\"T\",AD94,AE94)","v":""},null,{"$f":"IF(AA93=\"F\",\"\",IF(I94<V93,\"LR\",IF(I94=V93,\"=LR\",IF(I94<W93,\"DR\",IF(I94=W93,\"=DR\",\"\")))))","v":""},null,null,null,null,null,{"$f":"IF(I94=\"\",\"\",IF(AA93=\"F\",\"\",IF(AA93=\"T\",IF(I94<=X93,\"þ\",IF(I94<=Y93,\"G2\",IF(I94<=Z93,\"G3\",\"\"))))))","v":""},{"$f":"IF(I94=\"\",\"\",IF(AA93=\"T\",\"\",IF(AA93=\"F\",IF(I94>=X93,\"þ\",IF(I94>=Y93,\"G2\",IF(I94>=Z93,\"G3\",\"\"))))))","v":""},{"$f":"IF(R94=\"\",\"\",IF(AA93=\"F\",\"\",IF(AA93=\"T\",IF(R94<=X93,\"þ\",IF(R94<=Y93,\"G2\",IF(R94<=Z93,\"G3\",\"\"))))))","v":""},{"$f":"IF(R94=\"\",\"\",IF(AA93=\"T\",\"\",IF(AA93=\"F\",IF(R94>=X93,\"þ\",IF(R94>=Y93,\"G2\",IF(R94>=Z93,\"G3\",\"\"))))))","v":""},{"$f":"C94","v":""},{"$f":"IF(F94=\"\",\"\",IF(LEFT(I94,1)=\"D\",0,VLOOKUP(E94,$AQ$4:$AR$40,2,FALSE)))","v":""},{"$f":"D94","v":""},{"$f":"IF(O94=\"\",\"\",IF(LEFT(R94,1)=\"D\",0,VLOOKUP(N94,$AQ$4:$AS$40,3,FALSE)))","v":""},94]
[null,{"$f":"VLOOKUP(A94,Handbook!$A$4:$AK$24,37,FALSE)","v":12},{"$f":"IF(F95=\"\",\"\",IF(F95>10,F95/11,F95))","v":""},{"$f":"IF(O95=\"\",\"\",IF(O95>10,O95/11,O95))","v":""},{"$f":"'Womens Hammer'!$E$27","v":2},{"$f":"IF('Womens Hammer'!$I$26=0,\"\",'Womens Hammer'!$F$27)","v":""},{"$f":"IF(OR($F95=\"\",$F95=0),\"\",IF($F95>90,VLOOKUP(F95,eventcodes,2,FALSE),HLOOKUP(F95,womens_declare,B96,FALSE)))","v":""},"",{"$f":"IF('Womens Hammer'!$I$26=0,\"\",'Womens Hammer'!$I$27)","v":""},null,null,{"$f":"IF(AA93=\"T\",AB95,AC95)","v":""},null,{"$f":"'Womens Hammer'!$K$27","v":2},{"$f":"IF('Womens Hammer'!$I$26=0,\"\",'Womens Hammer'!$L$27)","v":""},{"$f":"IF(OR($O95=\"\",$O95=0),\"\",HLOOKUP(O95,womens_declare,B96,FALSE))","v":""},"",{"$f":"IF('Womens Hammer'!$I$26=0,\"\",'Womens Hammer'!$U$27)","v":""},null,{"$f":"IF(AA93=\"T\",AD95,AE95)","v":""},null,{"$f":"IF(AA93=\"T\",\"\",IF(I94>V93,\"LR\",IF(I94=V93,\"=LR\",IF(I94>W93,\"DR\",IF(I94=W93,\"=DR\",\"\")))))","v":"LR"},null,null,null,null,null,{"$f":"IF(I95=\"\",\"\",IF(AA93=\"F\",\"\",IF(AA93=\"T\",IF(I95<=X93,\"þ\",IF(I95<=Y93,\"G2\",IF(I95<=Z93,\"G3\",\"\"))))))","v":""},{"$f":"IF(I95=\"\",\"\",IF(AA93=\"T\",\"\",IF(AA93=\"F\",IF(I95>=X93,\"þ\",IF(I95>=Y93,\"G2\",IF(I95>=Z93,\"G3\",\"\"))))))","v":""},{"$f":"IF(R95=\"\",\"\",IF(AA93=\"F\",\"\",IF(AA93=\"T\",IF(R95<=X93,\"þ\",IF(R95<=Y93,\"G2\",IF(R95<=Z93,\"G3\",\"\"))))))","v":""},{"$f":"IF(R95=\"\",\"\",IF(AA93=\"T\",\"\",IF(AA93=\"F\",IF(R95>=X93,\"þ\",IF(R95>=Y93,\"G2\",IF(R95>=Z93,\"G3\",\"\"))))))","v":""},"","","","",95]
[null,{"$f":"VLOOKUP(A94,'Declarations (M)'!$A$3:$T$31,20,FALSE)","v":12},"","",{"$f":"'Womens Hammer'!$E$28","v":3},{"$f":"IF('Womens Hammer'!$I$26=0,\"\",'Womens Hammer'!$F$28)","v":""},{"$f":"IF(OR($F96=\"\",$F96=0),\"\",IF($F96>90,VLOOKUP(F96,eventcodes,2,FALSE),HLOOKUP(F96,womens_declare,B96,FALSE)))","v":""},"",{"$f":"IF('Womens Hammer'!$I$26=0,\"\",'Womens Hammer'!$I$28)","v":""},null,null,{"$f":"IF(AA93=\"T\",AB96,AC96)","v":""},null,{"$f":"'Womens Hammer'!$K$28","v":3},{"$f":"IF('Womens Hammer'!$I$26=0,\"\",'Womens Hammer'!$L$28)","v":""},{"$f":"IF(OR($O96=\"\",$O96=0),\"\",HLOOKUP(O96,womens_declare,B96,FALSE))","v":""},"",{"$f":"IF('Womens Hammer'!$I$26=0,\"\",'Womens Hammer'!$U$28)","v":""},null,{"$f":"IF(AA93=\"T\",AD96,AE96)","v":""},null,null,null,null,null,null,null,{"$f":"IF(I96=\"\",\"\",IF(AA93=\"F\",\"\",IF(AA93=\"T\",IF(I96<=X93,\"þ\",IF(I96<=Y93,\"G2\",IF(I96<=Z93,\"G3\",\"\"))))))","v":""},{"$f":"IF(I96=\"\",\"\",IF(AA93=\"T\",\"\",IF(AA93=\"F\",IF(I96>=X93,\"þ\",IF(I96>=Y93,\"G2\",IF(I96>=Z93,\"G3\",\"\"))))))","v":""},{"$f":"IF(R96=\"\",\"\",IF(AA93=\"F\",\"\",IF(AA93=\"T\",IF(R96<=X93,\"þ\",IF(R96<=Y93,\"G2\",IF(R96<=Z93,\"G3\",\"\"))))))","v":""},{"$f":"IF(R96=\"\",\"\",IF(AA93=\"T\",\"\",IF(AA93=\"F\",IF(R96>=X93,\"þ\",IF(R96>=Y93,\"G2\",IF(R96>=Z93,\"G3\",\"\"))))))","v":""},"","","","",96]
[null,null,"","",{"$f":"'Womens Hammer'!$E$29","v":4},{"$f":"IF('Womens Hammer'!$I$26=0,\"\",'Womens Hammer'!$F$29)","v":""},{"$f":"IF(OR($F97=\"\",$F97=0),\"\",IF($F97>90,VLOOKUP(F97,eventcodes,2,FALSE),HLOOKUP(F97,womens_declare,B96,FALSE)))","v":""},"",{"$f":"IF('Womens Hammer'!$I$26=0,\"\",'Womens Hammer'!$I$29)","v":""},null,null,{"$f":"IF(AA93=\"T\",AB97,AC97)","v":""},null,{"$f":"'Womens Hammer'!$K$29","v":4},{"$f":"IF('Womens Hammer'!$I$26=0,\"\",'Womens Hammer'!$L$29)","v":""},{"$f":"IF(OR($O97=\"\",$O97=0),\"\",HLOOKUP(O97,womens_declare,B96,FALSE))","v":""},"",{"$f":"IF('Womens Hammer'!$I$26=0,\"\",'Womens Hammer'!$U$29)","v":""},null,{"$f":"IF(AA93=\"T\",AD97,AE97)","v":""},null,null,null,null,null,null,null,{"$f":"IF(I97=\"\",\"\",IF(AA93=\"F\",\"\",IF(AA93=\"T\",IF(I97<=X93,\"þ\",IF(I97<=Y93,\"G2\",IF(I97<=Z93,\"G3\",\"\"))))))","v":""},{"$f":"IF(I97=\"\",\"\",IF(AA93=\"T\",\"\",IF(AA93=\"F\",IF(I97>=X93,\"þ\",IF(I97>=Y93,\"G2\",IF(I97>=Z93,\"G3\",\"\"))))))","v":""},{"$f":"IF(R97=\"\",\"\",IF(AA93=\"F\",\"\",IF(AA93=\"T\",IF(R97<=X93,\"þ\",IF(R97<=Y93,\"G2\",IF(R97<=Z93,\"G3\",\"\"))))))","v":""},{"$f":"IF(R97=\"\",\"\",IF(AA93=\"T\",\"\",IF(AA93=\"F\",IF(R97>=X93,\"þ\",IF(R97>=Y93,\"G2\",IF(R97>=Z93,\"G3\",\"\"))))))","v":""},"","","","",97]
[null,null,"","",{"$f":"'Womens Hammer'!$E$30","v":5},{"$f":"IF('Womens Hammer'!$I$26=0,\"\",'Womens Hammer'!$F$30)","v":""},{"$f":"IF(OR($F98=\"\",$F98=0),\"\",IF($F98>90,VLOOKUP(F98,eventcodes,2,FALSE),HLOOKUP(F98,womens_declare,B96,FALSE)))","v":""},"",{"$f":"IF('Womens Hammer'!$I$26=0,\"\",'Womens Hammer'!$I$30)","v":""},null,null,{"$f":"IF(AA93=\"T\",AB98,AC98)","v":""},null,{"$f":"'Womens Hammer'!$K$30","v":5},{"$f":"IF('Womens Hammer'!$I$26=0,\"\",'Womens Hammer'!$L$30)","v":""},{"$f":"IF(OR($O98=\"\",$O98=0),\"\",HLOOKUP(O98,womens_declare,B96,FALSE))","v":""},"",{"$f":"IF('Womens Hammer'!$I$26=0,\"\",'Womens Hammer'!$U$30)","v":""},null,{"$f":"IF(AA93=\"T\",AD98,AE98)","v":""},null,null,null,null,null,null,null,{"$f":"IF(I98=\"\",\"\",IF(AA93=\"F\",\"\",IF(AA93=\"T\",IF(I98<=X93,\"þ\",IF(I98<=Y93,\"G2\",IF(I98<=Z93,\"G3\",\"\"))))))","v":""},{"$f":"IF(I98=\"\",\"\",IF(AA93=\"T\",\"\",IF(AA93=\"F\",IF(I98>=X93,\"þ\",IF(I98>=Y93,\"G2\",IF(I98>=Z93,\"G3\",\"\"))))))","v":""},{"$f":"IF(R98=\"\",\"\",IF(AA93=\"F\",\"\",IF(AA93=\"T\",IF(R98<=X93,\"þ\",IF(R98<=Y93,\"G2\",IF(R98<=Z93,\"G3\",\"\"))))))","v":""},{"$f":"IF(R98=\"\",\"\",IF(AA93=\"T\",\"\",IF(AA93=\"F\",IF(R98>=X93,\"þ\",IF(R98>=Y93,\"G2\",IF(R98>=Z93,\"G3\",\"\"))))))","v":""},"","","","",98]
[null,null,"","",{"$f":"'Womens Hammer'!$E$31","v":6},{"$f":"IF('Womens Hammer'!$I$26=0,\"\",'Womens Hammer'!$F$31)","v":""},{"$f":"IF(OR($F99=\"\",$F99=0),\"\",IF($F99>90,VLOOKUP(F99,eventcodes,2,FALSE),HLOOKUP(F99,womens_declare,B96,FALSE)))","v":""},"",{"$f":"IF('Womens Hammer'!$I$26=0,\"\",'Womens Hammer'!$I$31)","v":""},null,null,{"$f":"IF(AA93=\"T\",AB99,AC99)","v":""},null,{"$f":"'Womens Hammer'!$K$31","v":6},{"$f":"IF('Womens Hammer'!$I$26=0,\"\",'Womens Hammer'!$L$31)","v":""},{"$f":"IF(OR($O99=\"\",$O99=0),\"\",HLOOKUP(O99,womens_declare,B96,FALSE))","v":""},"",{"$f":"IF('Womens Hammer'!$I$26=0,\"\",'Womens Hammer'!$U$31)","v":""},null,{"$f":"IF(AA93=\"T\",AD99,AE99)","v":""},null,null,null,null,null,null,null,{"$f":"IF(I99=\"\",\"\",IF(AA93=\"F\",\"\",IF(AA93=\"T\",IF(I99<=X93,\"þ\",IF(I99<=Y93,\"G2\",IF(I99<=Z93,\"G3\",\"\"))))))","v":""},{"$f":"IF(I99=\"\",\"\",IF(AA93=\"T\",\"\",IF(AA93=\"F\",IF(I99>=X93,\"þ\",IF(I99>=Y93,\"G2\",IF(I99>=Z93,\"G3\",\"\"))))))","v":""},{"$f":"IF(R99=\"\",\"\",IF(AA93=\"F\",\"\",IF(AA93=\"T\",IF(R99<=X93,\"þ\",IF(R99<=Y93,\"G2\",IF(R99<=Z93,\"G3\",\"\"))))))","v":""},{"$f":"IF(R99=\"\",\"\",IF(AA93=\"T\",\"\",IF(AA93=\"F\",IF(R99>=X93,\"þ\",IF(R99>=Y93,\"G2\",IF(R99>=Z93,\"G3\",\"\"))))))","v":""},"","","","",99]
[null,null,"","",{"$f":"'Womens Hammer'!$E$32","v":7},{"$f":"IF('Womens Hammer'!$I$26=0,\"\",'Womens Hammer'!$F$32)","v":""},{"$f":"IF(OR($F100=\"\",$F100=0),\"\",IF($F100>90,VLOOKUP(F100,eventcodes,2,FALSE),HLOOKUP(F100,womens_declare,B96,FALSE)))","v":""},"",{"$f":"IF('Womens Hammer'!$I$26=0,\"\",'Womens Hammer'!$I$32)","v":""},null,null,{"$f":"IF(AA93=\"T\",AB100,AC100)","v":""},null,{"$f":"'Womens Hammer'!$K$32","v":7},{"$f":"IF('Womens Hammer'!$I$26=0,\"\",'Womens Hammer'!$L$32)","v":""},{"$f":"IF(OR($O100=\"\",$O100=0),\"\",HLOOKUP(O100,womens_declare,B96,FALSE))","v":""},"",{"$f":"IF('Womens Hammer'!$I$26=0,\"\",'Womens Hammer'!$U$32)","v":""},null,{"$f":"IF(AA93=\"T\",AD100,AE100)","v":""},null,null,null,null,null,null,null,{"$f":"IF(I100=\"\",\"\",IF(AA93=\"F\",\"\",IF(AA93=\"T\",IF(I100<=X93,\"þ\",IF(I100<=Y93,\"G2\",IF(I100<=Z93,\"G3\",\"\"))))))","v":""},{"$f":"IF(I100=\"\",\"\",IF(AA93=\"T\",\"\",IF(AA93=\"F\",IF(I100>=X93,\"þ\",IF(I100>=Y93,\"G2\",IF(I100>=Z93,\"G3\",\"\"))))))","v":""},{"$f":"IF(R100=\"\",\"\",IF(AA93=\"F\",\"\",IF(AA93=\"T\",IF(R100<=X93,\"þ\",IF(R100<=Y93,\"G2\",IF(R100<=Z93,\"G3\",\"\"))))))","v":""},{"$f":"IF(R100=\"\",\"\",IF(AA93=\"T\",\"\",IF(AA93=\"F\",IF(R100>=X93,\"þ\",IF(R100>=Y93,\"G2\",IF(R100>=Z93,\"G3\",\"\"))))))","v":""},"","","","",100]
[null,null,"","",{"$f":"'Womens Hammer'!$E$33","v":8},{"$f":"IF('Womens Hammer'!$I$26=0,\"\",'Womens Hammer'!$F$33)","v":""},{"$f":"IF(OR($F101=\"\",$F101=0),\"\",IF($F101>90,VLOOKUP(F101,eventcodes,2,FALSE),HLOOKUP(F101,womens_declare,B96,FALSE)))","v":""},"",{"$f":"IF('Womens Hammer'!$I$26=0,\"\",'Womens Hammer'!$I$33)","v":""},null,null,{"$f":"IF(AA93=\"T\",AB101,AC101)","v":""},null,{"$f":"'Womens Hammer'!$K$33","v":8},{"$f":"IF('Womens Hammer'!$I$26=0,\"\",'Womens Hammer'!$L$33)","v":""},{"$f":"IF(OR($O101=\"\",$O101=0),\"\",HLOOKUP(O101,womens_declare,B96,FALSE))","v":""},"",{"$f":"IF('Womens Hammer'!$I$26=0,\"\",'Womens Hammer'!$U$33)","v":""},null,{"$f":"IF(AA93=\"T\",AD101,AE101)","v":""},null,null,null,null,null,null,null,{"$f":"IF(I101=\"\",\"\",IF(AA93=\"F\",\"\",IF(AA93=\"T\",IF(I101<=X93,\"þ\",IF(I101<=Y93,\"G2\",IF(I101<=Z93,\"G3\",\"\"))))))","v":""},{"$f":"IF(I101=\"\",\"\",IF(AA93=\"T\",\"\",IF(AA93=\"F\",IF(I101>=X93,\"þ\",IF(I101>=Y93,\"G2\",IF(I101>=Z93,\"G3\",\"\"))))))","v":""},{"$f":"IF(R101=\"\",\"\",IF(AA93=\"F\",\"\",IF(AA93=\"T\",IF(R101<=X93,\"þ\",IF(R101<=Y93,\"G2\",IF(R101<=Z93,\"G3\",\"\"))))))","v":""},{"$f":"IF(R101=\"\",\"\",IF(AA93=\"T\",\"\",IF(AA93=\"F\",IF(R101>=X93,\"þ\",IF(R101>=Y93,\"G2\",IF(R101>=Z93,\"G3\",\"\"))))))","v":""},"","","","",101]
[null,null,null,null,null,null,null,null,null,null,null,null,null,null,null,null,null,null,null,null,null,null,null,null,null,null,null,null,null,null,null,null,null,null,null,102]
[null,null,{"$f":"VLOOKUP(A104,Handbook!$A$4:$AK$24,36,FALSE)","v":"D"},null,{"$f":"CONCATENATE(VLOOKUP(A104,womens_handbook,3,FALSE),\" A\")","v":"Women's Discus A"},null,null,{"$f":"IF(A104=\"\",\"\",IF(VLOOKUP(A104,Handbook!$A$4:$AI$24,35,FALSE)=\"Y\",\"Wind=\",\"\"))","v":""},null,null,null,null,null,null,{"$f":"CONCATENATE(VLOOKUP(A104,womens_handbook,3,FALSE),\" B\")","v":"Women's Discus B"},null,{"$f":"H103","v":""},{"$f":"IF(I103=\"\",\"\",I103)","v":""},null,null,null,{"$f":"IF($A104=\"\",\"\",VLOOKUP($A104,Handbook!$A$26:$AK$46,21,FALSE))","v":54.96},{"$f":"IF($A104=\"\",\"\",VLOOKUP($A104,Handbook!$A$26:$AK$46,22,FALSE))","v":54.96},{"$f":"IF($A104=\"\",\"\",VLOOKUP($A104,Handbook!$A$26:$AK$46,23,FALSE))","v":25},{"$f":"IF($A104=\"\",\"\",VLOOKUP($A104,Handbook!$A$26:$AK$46,24,FALSE))","v":30},{"$f":"IF($A104=\"\",\"\",VLOOKUP($A104,Handbook!$A$26:$AK$46,25,FALSE))","v":30},{"$f":"IF($A104=\"\",\"\",VLOOKUP($A104,Handbook!$A$26:$AK$46,34,FALSE))","v":"F"},null,null,null,null,null,null,null,null,103]
[15,null,{"$f":"IF(F104=\"\",\"\",IF(F104>10,F104/11,F104))","v":""},{"$f":"IF(O104=\"\",\"\",IF(O104>10,O104/11,O104))","v":""},{"$f":"'Womens Discus'!$E$26","v":1},{"$f":"IF('Womens Discus'!$I$26=0,\"\",'Womens Discus'!$F$26)","v":""},{"$f":"IF(OR($F104=\"\",$F104=0),\"\",IF($F104>90,VLOOKUP(F104,eventcodes,2,FALSE),HLOOKUP(F104,womens_declare,B106,FALSE)))","v":""},{"$f":"IF(OR($F104=\"\",$F104=0),\"\",IF($F104>90,\"\",VLOOKUP(C104,matchday,2,FALSE)))","v":""},{"$f":"IF('Womens Discus'!$I$26=0,\"\",'Womens Discus'!$I$26)","v":""},{"$f":"IF(I104=\"\",\"\",IF(AA103=\"T\",V104,V105))","v":""},null,{"$f":"IF(AA103=\"T\",AB104,AC104)","v":""},null,{"$f":"'Womens Discus'!$K$26","v":1},{"$f":"IF('Womens Discus'!$I$26=0,\"\",'Womens Discus'!$L$26)","v":""},{"$f":"IF(OR($O104=\"\",$O104=0),\"\",HLOOKUP(O104,womens_declare,B106,FALSE))","v":""},{"$f":"IF(OR($O104=\"\",$O104=0),\"\",VLOOKUP(D104,matchday,2,FALSE))","v":""},{"$f":"IF('Womens Discus'!$I$26=0,\"\",'Womens Discus'!$U$26)","v":""},null,{"$f":"IF(AA103=\"T\",AD104,AE104)","v":""},null,{"$f":"IF(AA103=\"F\",\"\",IF(I104<V103,\"LR\",IF(I104=V103,\"=LR\",IF(I104<W103,\"DR\",IF(I104=W103,\"=DR\",\"\")))))","v":""},null,null,null,null,null,{"$f":"IF(I104=\"\",\"\",IF(AA103=\"F\",\"\",IF(AA103=\"T\",IF(I104<=X103,\"þ\",IF(I104<=Y103,\"G2\",IF(I104<=Z103,\"G3\",\"\"))))))","v":""},{"$f":"IF(I104=\"\",\"\",IF(AA103=\"T\",\"\",IF(AA103=\"F\",IF(I104>=X103,\"þ\",IF(I104>=Y103,\"G2\",IF(I104>=Z103,\"G3\",\"\"))))))","v":""},{"$f":"IF(R104=\"\",\"\",IF(AA103=\"F\",\"\",IF(AA103=\"T\",IF(R104<=X103,\"þ\",IF(R104<=Y103,\"G2\",IF(R104<=Z103,\"G3\",\"\"))))))","v":""},{"$f":"IF(R104=\"\",\"\",IF(AA103=\"T\",\"\",IF(AA103=\"F\",IF(R104>=X103,\"þ\",IF(R104>=Y103,\"G2\",IF(R104>=Z103,\"G3\",\"\"))))))","v":""},{"$f":"C104","v":""},{"$f":"IF(F104=\"\",\"\",IF(LEFT(I104,1)=\"D\",0,VLOOKUP(E104,$AQ$4:$AR$40,2,FALSE)))","v":""},{"$f":"D104","v":""},{"$f":"IF(O104=\"\",\"\",IF(LEFT(R104,1)=\"D\",0,VLOOKUP(N104,$AQ$4:$AS$40,3,FALSE)))","v":""},104]
[null,{"$f":"VLOOKUP(A104,Handbook!$A$4:$AK$24,37,FALSE)","v":16},{"$f":"IF(F105=\"\",\"\",IF(F105>10,F105/11,F105))","v":""},{"$f":"IF(O105=\"\",\"\",IF(O105>10,O105/11,O105))","v":""},{"$f":"'Womens Discus'!$E$27","v":2},{"$f":"IF('Womens Discus'!$I$26=0,\"\",'Womens Discus'!$F$27)","v":""},{"$f":"IF(OR($F105=\"\",$F105=0),\"\",IF($F105>90,VLOOKUP(F105,eventcodes,2,FALSE),HLOOKUP(F105,womens_declare,B106,FALSE)))","v":""},"",{"$f":"IF('Womens Discus'!$I$26=0,\"\",'Womens Discus'!$I$27)","v":""},null,null,{"$f":"IF(AA103=\"T\",AB105,AC105)","v":""},null,{"$f":"'Womens Discus'!$K$27","v":2},{"$f":"IF('Womens Discus'!$I$26=0,\"\",'Womens Discus'!$L$27)","v":""},{"$f":"IF(OR($O105=\"\",$O105=0),\"\",HLOOKUP(O105,womens_declare,B106,FALSE))","v":""},"",{"$f":"IF('Womens Discus'!$I$26=0,\"\",'Womens Discus'!$U$27)","v":""},null,{"$f":"IF(AA103=\"T\",AD105,AE105)","v":""},null,{"$f":"IF(AA103=\"T\",\"\",IF(I104>V103,\"LR\",IF(I104=V103,\"=LR\",IF(I104>W103,\"DR\",IF(I104=W103,\"=DR\",\"\")))))","v":"LR"},null,null,null,null,null,{"$f":"IF(I105=\"\",\"\",IF(AA103=\"F\",\"\",IF(AA103=\"T\",IF(I105<=X103,\"þ\",IF(I105<=Y103,\"G2\",IF(I105<=Z103,\"G3\",\"\"))))))","v":""},{"$f":"IF(I105=\"\",\"\",IF(AA103=\"T\",\"\",IF(AA103=\"F\",IF(I105>=X103,\"þ\",IF(I105>=Y103,\"G2\",IF(I105>=Z103,\"G3\",\"\"))))))","v":""},{"$f":"IF(R105=\"\",\"\",IF(AA103=\"F\",\"\",IF(AA103=\"T\",IF(R105<=X103,\"þ\",IF(R105<=Y103,\"G2\",IF(R105<=Z103,\"G3\",\"\"))))))","v":""},{"$f":"IF(R105=\"\",\"\",IF(AA103=\"T\",\"\",IF(AA103=\"F\",IF(R105>=X103,\"þ\",IF(R105>=Y103,\"G2\",IF(R105>=Z103,\"G3\",\"\"))))))","v":""},"","","","",105]
[null,{"$f":"VLOOKUP(A104,'Declarations (M)'!$A$3:$T$31,20,FALSE)","v":16},"","",{"$f":"'Womens Discus'!$E$28","v":3},{"$f":"IF('Womens Discus'!$I$26=0,\"\",'Womens Discus'!$F$28)","v":""},{"$f":"IF(OR($F106=\"\",$F106=0),\"\",IF($F106>90,VLOOKUP(F106,eventcodes,2,FALSE),HLOOKUP(F106,womens_declare,B106,FALSE)))","v":""},"",{"$f":"IF('Womens Discus'!$I$26=0,\"\",'Womens Discus'!$I$28)","v":""},null,null,{"$f":"IF(AA103=\"T\",AB106,AC106)","v":""},null,{"$f":"'Womens Discus'!$K$28","v":3},{"$f":"IF('Womens Discus'!$I$26=0,\"\",'Womens Discus'!$L$28)","v":""},{"$f":"IF(OR($O106=\"\",$O106=0),\"\",HLOOKUP(O106,womens_declare,B106,FALSE))","v":""},"",{"$f":"IF('Womens Discus'!$I$26=0,\"\",'Womens Discus'!$U$28)","v":""},null,{"$f":"IF(AA103=\"T\",AD106,AE106)","v":""},null,null,null,null,null,null,null,{"$f":"IF(I106=\"\",\"\",IF(AA103=\"F\",\"\",IF(AA103=\"T\",IF(I106<=X103,\"þ\",IF(I106<=Y103,\"G2\",IF(I106<=Z103,\"G3\",\"\"))))))","v":""},{"$f":"IF(I106=\"\",\"\",IF(AA103=\"T\",\"\",IF(AA103=\"F\",IF(I106>=X103,\"þ\",IF(I106>=Y103,\"G2\",IF(I106>=Z103,\"G3\",\"\"))))))","v":""},{"$f":"IF(R106=\"\",\"\",IF(AA103=\"F\",\"\",IF(AA103=\"T\",IF(R106<=X103,\"þ\",IF(R106<=Y103,\"G2\",IF(R106<=Z103,\"G3\",\"\"))))))","v":""},{"$f":"IF(R106=\"\",\"\",IF(AA103=\"T\",\"\",IF(AA103=\"F\",IF(R106>=X103,\"þ\",IF(R106>=Y103,\"G2\",IF(R106>=Z103,\"G3\",\"\"))))))","v":""},"","","","",106]
[null,null,"","",{"$f":"'Womens Discus'!$E$29","v":4},{"$f":"IF('Womens Discus'!$I$26=0,\"\",'Womens Discus'!$F$29)","v":""},{"$f":"IF(OR($F107=\"\",$F107=0),\"\",IF($F107>90,VLOOKUP(F107,eventcodes,2,FALSE),HLOOKUP(F107,womens_declare,B106,FALSE)))","v":""},"",{"$f":"IF('Womens Discus'!$I$26=0,\"\",'Womens Discus'!$I$29)","v":""},null,null,{"$f":"IF(AA103=\"T\",AB107,AC107)","v":""},null,{"$f":"'Womens Discus'!$K$29","v":4},{"$f":"IF('Womens Discus'!$I$26=0,\"\",'Womens Discus'!$L$29)","v":""},{"$f":"IF(OR($O107=\"\",$O107=0),\"\",HLOOKUP(O107,womens_declare,B106,FALSE))","v":""},"",{"$f":"IF('Womens Discus'!$I$26=0,\"\",'Womens Discus'!$U$29)","v":""},null,{"$f":"IF(AA103=\"T\",AD107,AE107)","v":""},null,null,null,null,null,null,null,{"$f":"IF(I107=\"\",\"\",IF(AA103=\"F\",\"\",IF(AA103=\"T\",IF(I107<=X103,\"þ\",IF(I107<=Y103,\"G2\",IF(I107<=Z103,\"G3\",\"\"))))))","v":""},{"$f":"IF(I107=\"\",\"\",IF(AA103=\"T\",\"\",IF(AA103=\"F\",IF(I107>=X103,\"þ\",IF(I107>=Y103,\"G2\",IF(I107>=Z103,\"G3\",\"\"))))))","v":""},{"$f":"IF(R107=\"\",\"\",IF(AA103=\"F\",\"\",IF(AA103=\"T\",IF(R107<=X103,\"þ\",IF(R107<=Y103,\"G2\",IF(R107<=Z103,\"G3\",\"\"))))))","v":""},{"$f":"IF(R107=\"\",\"\",IF(AA103=\"T\",\"\",IF(AA103=\"F\",IF(R107>=X103,\"þ\",IF(R107>=Y103,\"G2\",IF(R107>=Z103,\"G3\",\"\"))))))","v":""},"","","","",107]
[null,null,"","",{"$f":"'Womens Discus'!$E$30","v":5},{"$f":"IF('Womens Discus'!$I$26=0,\"\",'Womens Discus'!$F$30)","v":""},{"$f":"IF(OR($F108=\"\",$F108=0),\"\",IF($F108>90,VLOOKUP(F108,eventcodes,2,FALSE),HLOOKUP(F108,womens_declare,B106,FALSE)))","v":""},"",{"$f":"IF('Womens Discus'!$I$26=0,\"\",'Womens Discus'!$I$30)","v":""},null,null,{"$f":"IF(AA103=\"T\",AB108,AC108)","v":""},null,{"$f":"'Womens Discus'!$K$30","v":5},{"$f":"IF('Womens Discus'!$I$26=0,\"\",'Womens Discus'!$L$30)","v":""},{"$f":"IF(OR($O108=\"\",$O108=0),\"\",HLOOKUP(O108,womens_declare,B106,FALSE))","v":""},"",{"$f":"IF('Womens Discus'!$I$26=0,\"\",'Womens Discus'!$U$30)","v":""},null,{"$f":"IF(AA103=\"T\",AD108,AE108)","v":""},null,null,null,null,null,null,null,{"$f":"IF(I108=\"\",\"\",IF(AA103=\"F\",\"\",IF(AA103=\"T\",IF(I108<=X103,\"þ\",IF(I108<=Y103,\"G2\",IF(I108<=Z103,\"G3\",\"\"))))))","v":""},{"$f":"IF(I108=\"\",\"\",IF(AA103=\"T\",\"\",IF(AA103=\"F\",IF(I108>=X103,\"þ\",IF(I108>=Y103,\"G2\",IF(I108>=Z103,\"G3\",\"\"))))))","v":""},{"$f":"IF(R108=\"\",\"\",IF(AA103=\"F\",\"\",IF(AA103=\"T\",IF(R108<=X103,\"þ\",IF(R108<=Y103,\"G2\",IF(R108<=Z103,\"G3\",\"\"))))))","v":""},{"$f":"IF(R108=\"\",\"\",IF(AA103=\"T\",\"\",IF(AA103=\"F\",IF(R108>=X103,\"þ\",IF(R108>=Y103,\"G2\",IF(R108>=Z103,\"G3\",\"\"))))))","v":""},"","","","",108]
[null,null,"","",{"$f":"'Womens Discus'!$E$31","v":6},{"$f":"IF('Womens Discus'!$I$26=0,\"\",'Womens Discus'!$F$31)","v":""},{"$f":"IF(OR($F109=\"\",$F109=0),\"\",IF($F109>90,VLOOKUP(F109,eventcodes,2,FALSE),HLOOKUP(F109,womens_declare,B106,FALSE)))","v":""},"",{"$f":"IF('Womens Discus'!$I$26=0,\"\",'Womens Discus'!$I$31)","v":""},null,null,{"$f":"IF(AA103=\"T\",AB109,AC109)","v":""},null,{"$f":"'Womens Discus'!$K$31","v":6},{"$f":"IF('Womens Discus'!$I$26=0,\"\",'Womens Discus'!$L$31)","v":""},{"$f":"IF(OR($O109=\"\",$O109=0),\"\",HLOOKUP(O109,womens_declare,B106,FALSE))","v":""},"",{"$f":"IF('Womens Discus'!$I$26=0,\"\",'Womens Discus'!$U$31)","v":""},null,{"$f":"IF(AA103=\"T\",AD109,AE109)","v":""},null,null,null,null,null,null,null,{"$f":"IF(I109=\"\",\"\",IF(AA103=\"F\",\"\",IF(AA103=\"T\",IF(I109<=X103,\"þ\",IF(I109<=Y103,\"G2\",IF(I109<=Z103,\"G3\",\"\"))))))","v":""},{"$f":"IF(I109=\"\",\"\",IF(AA103=\"T\",\"\",IF(AA103=\"F\",IF(I109>=X103,\"þ\",IF(I109>=Y103,\"G2\",IF(I109>=Z103,\"G3\",\"\"))))))","v":""},{"$f":"IF(R109=\"\",\"\",IF(AA103=\"F\",\"\",IF(AA103=\"T\",IF(R109<=X103,\"þ\",IF(R109<=Y103,\"G2\",IF(R109<=Z103,\"G3\",\"\"))))))","v":""},{"$f":"IF(R109=\"\",\"\",IF(AA103=\"T\",\"\",IF(AA103=\"F\",IF(R109>=X103,\"þ\",IF(R109>=Y103,\"G2\",IF(R109>=Z103,\"G3\",\"\"))))))","v":""},"","","","",109]
[null,null,"","",{"$f":"'Womens Discus'!$E$32","v":7},{"$f":"IF('Womens Discus'!$I$26=0,\"\",'Womens Discus'!$F$32)","v":""},{"$f":"IF(OR($F110=\"\",$F110=0),\"\",IF($F110>90,VLOOKUP(F110,eventcodes,2,FALSE),HLOOKUP(F110,womens_declare,B106,FALSE)))","v":""},"",{"$f":"IF('Womens Discus'!$I$26=0,\"\",'Womens Discus'!$I$32)","v":""},null,null,{"$f":"IF(AA103=\"T\",AB110,AC110)","v":""},null,{"$f":"'Womens Discus'!$K$32","v":7},{"$f":"IF('Womens Discus'!$I$26=0,\"\",'Womens Discus'!$L$32)","v":""},{"$f":"IF(OR($O110=\"\",$O110=0),\"\",HLOOKUP(O110,womens_declare,B106,FALSE))","v":""},"",{"$f":"IF('Womens Discus'!$I$26=0,\"\",'Womens Discus'!$U$32)","v":""},null,{"$f":"IF(AA103=\"T\",AD110,AE110)","v":""},null,null,null,null,null,null,null,{"$f":"IF(I110=\"\",\"\",IF(AA103=\"F\",\"\",IF(AA103=\"T\",IF(I110<=X103,\"þ\",IF(I110<=Y103,\"G2\",IF(I110<=Z103,\"G3\",\"\"))))))","v":""},{"$f":"IF(I110=\"\",\"\",IF(AA103=\"T\",\"\",IF(AA103=\"F\",IF(I110>=X103,\"þ\",IF(I110>=Y103,\"G2\",IF(I110>=Z103,\"G3\",\"\"))))))","v":""},{"$f":"IF(R110=\"\",\"\",IF(AA103=\"F\",\"\",IF(AA103=\"T\",IF(R110<=X103,\"þ\",IF(R110<=Y103,\"G2\",IF(R110<=Z103,\"G3\",\"\"))))))","v":""},{"$f":"IF(R110=\"\",\"\",IF(AA103=\"T\",\"\",IF(AA103=\"F\",IF(R110>=X103,\"þ\",IF(R110>=Y103,\"G2\",IF(R110>=Z103,\"G3\",\"\"))))))","v":""},"","","","",110]
[null,null,"","",{"$f":"'Womens Discus'!$E$33","v":8},{"$f":"IF('Womens Discus'!$I$26=0,\"\",'Womens Discus'!$F$33)","v":""},{"$f":"IF(OR($F111=\"\",$F111=0),\"\",IF($F111>90,VLOOKUP(F111,eventcodes,2,FALSE),HLOOKUP(F111,womens_declare,B106,FALSE)))","v":""},"",{"$f":"IF('Womens Discus'!$I$26=0,\"\",'Womens Discus'!$I$33)","v":""},null,null,{"$f":"IF(AA103=\"T\",AB111,AC111)","v":""},null,{"$f":"'Womens Discus'!$K$33","v":8},{"$f":"IF('Womens Discus'!$I$26=0,\"\",'Womens Discus'!$L$33)","v":""},{"$f":"IF(OR($O111=\"\",$O111=0),\"\",HLOOKUP(O111,womens_declare,B106,FALSE))","v":""},"",{"$f":"IF('Womens Discus'!$I$26=0,\"\",'Womens Discus'!$U$33)","v":""},null,{"$f":"IF(AA103=\"T\",AD111,AE111)","v":""},null,null,null,null,null,null,null,{"$f":"IF(I111=\"\",\"\",IF(AA103=\"F\",\"\",IF(AA103=\"T\",IF(I111<=X103,\"þ\",IF(I111<=Y103,\"G2\",IF(I111<=Z103,\"G3\",\"\"))))))","v":""},{"$f":"IF(I111=\"\",\"\",IF(AA103=\"T\",\"\",IF(AA103=\"F\",IF(I111>=X103,\"þ\",IF(I111>=Y103,\"G2\",IF(I111>=Z103,\"G3\",\"\"))))))","v":""},{"$f":"IF(R111=\"\",\"\",IF(AA103=\"F\",\"\",IF(AA103=\"T\",IF(R111<=X103,\"þ\",IF(R111<=Y103,\"G2\",IF(R111<=Z103,\"G3\",\"\"))))))","v":""},{"$f":"IF(R111=\"\",\"\",IF(AA103=\"T\",\"\",IF(AA103=\"F\",IF(R111>=X103,\"þ\",IF(R111>=Y103,\"G2\",IF(R111>=Z103,\"G3\",\"\"))))))","v":""},"","","","",111]
[null,null,null,null,null,null,null,null,null,null,null,null,null,null,null,null,null,null,null,null,null,null,null,null,null,null,null,null,null,null,null,null,null,null,null,112]
[null,null,{"$f":"VLOOKUP(A114,Handbook!$A$4:$AK$24,36,FALSE)","v":"D"},null,{"$f":"CONCATENATE(VLOOKUP(A114,womens_handbook,3,FALSE),\" A\")","v":"Women's Javelin A"},null,null,{"$f":"IF(A114=\"\",\"\",IF(VLOOKUP(A114,Handbook!$A$4:$AI$24,35,FALSE)=\"Y\",\"Wind=\",\"\"))","v":""},null,null,null,null,null,null,{"$f":"CONCATENATE(VLOOKUP(A114,womens_handbook,3,FALSE),\" B\")","v":"Women's Javelin B"},null,{"$f":"H113","v":""},{"$f":"IF(I113=\"\",\"\",I113)","v":""},null,null,null,{"$f":"IF($A114=\"\",\"\",VLOOKUP($A114,Handbook!$A$26:$AK$46,21,FALSE))","v":49.5},{"$f":"IF($A114=\"\",\"\",VLOOKUP($A114,Handbook!$A$26:$AK$46,22,FALSE))","v":49.5},{"$f":"IF($A114=\"\",\"\",VLOOKUP($A114,Handbook!$A$26:$AK$46,23,FALSE))","v":25},{"$f":"IF($A114=\"\",\"\",VLOOKUP($A114,Handbook!$A$26:$AK$46,24,FALSE))","v":30},{"$f":"IF($A114=\"\",\"\",VLOOKUP($A114,Handbook!$A$26:$AK$46,25,FALSE))","v":30},{"$f":"IF($A114=\"\",\"\",VLOOKUP($A114,Handbook!$A$26:$AK$46,34,FALSE))","v":"F"},null,null,null,null,null,null,null,null,113]
[18,null,{"$f":"IF(F114=\"\",\"\",IF(F114>10,F114/11,F114))","v":""},{"$f":"IF(O114=\"\",\"\",IF(O114>10,O114/11,O114))","v":""},{"$f":"'Womens Javelin'!$E$26","v":1},{"$f":"IF('Womens Javelin'!$I$26=0,\"\",'Womens Javelin'!$F$26)","v":""},{"$f":"IF(OR($F114=\"\",$F114=0),\"\",IF($F114>90,VLOOKUP(F114,eventcodes,2,FALSE),HLOOKUP(F114,womens_declare,B116,FALSE)))","v":""},{"$f":"IF(OR($F114=\"\",$F114=0),\"\",IF($F114>90,\"\",VLOOKUP(C114,matchday,2,FALSE)))","v":""},{"$f":"IF('Womens Javelin'!$I$26=0,\"\",'Womens Javelin'!$I$26)","v":""},{"$f":"IF(I114=\"\",\"\",IF(AA113=\"T\",V114,V115))","v":""},null,{"$f":"IF(AA113=\"T\",AB114,AC114)","v":""},null,{"$f":"'Womens Javelin'!$K$26","v":1},{"$f":"IF('Womens Javelin'!$I$26=0,\"\",'Womens Javelin'!$L$26)","v":""},{"$f":"IF(OR($O114=\"\",$O114=0),\"\",HLOOKUP(O114,womens_declare,B116,FALSE))","v":""},{"$f":"IF(OR($O114=\"\",$O114=0),\"\",VLOOKUP(D114,matchday,2,FALSE))","v":""},{"$f":"IF('Womens Javelin'!$I$26=0,\"\",'Womens Javelin'!$U$26)","v":""},null,{"$f":"IF(AA113=\"T\",AD114,AE114)","v":""},null,{"$f":"IF(AA113=\"F\",\"\",IF(I114<V113,\"LR\",IF(I114=V113,\"=LR\",IF(I114<W113,\"DR\",IF(I114=W113,\"=DR\",\"\")))))","v":""},null,null,null,null,null,{"$f":"IF(I114=\"\",\"\",IF(AA113=\"F\",\"\",IF(AA113=\"T\",IF(I114<=X113,\"þ\",IF(I114<=Y113,\"G2\",IF(I114<=Z113,\"G3\",\"\"))))))","v":""},{"$f":"IF(I114=\"\",\"\",IF(AA113=\"T\",\"\",IF(AA113=\"F\",IF(I114>=X113,\"þ\",IF(I114>=Y113,\"G2\",IF(I114>=Z113,\"G3\",\"\"))))))","v":""},{"$f":"IF(R114=\"\",\"\",IF(AA113=\"F\",\"\",IF(AA113=\"T\",IF(R114<=X113,\"þ\",IF(R114<=Y113,\"G2\",IF(R114<=Z113,\"G3\",\"\"))))))","v":""},{"$f":"IF(R114=\"\",\"\",IF(AA113=\"T\",\"\",IF(AA113=\"F\",IF(R114>=X113,\"þ\",IF(R114>=Y113,\"G2\",IF(R114>=Z113,\"G3\",\"\"))))))","v":""},{"$f":"C114","v":""},{"$f":"IF(F114=\"\",\"\",IF(LEFT(I114,1)=\"D\",0,VLOOKUP(E114,$AQ$4:$AR$40,2,FALSE)))","v":""},{"$f":"D114","v":""},{"$f":"IF(O114=\"\",\"\",IF(LEFT(R114,1)=\"D\",0,VLOOKUP(N114,$AQ$4:$AS$40,3,FALSE)))","v":""},114]
[null,{"$f":"VLOOKUP(A114,Handbook!$A$4:$AK$24,37,FALSE)","v":19},{"$f":"IF(F115=\"\",\"\",IF(F115>10,F115/11,F115))","v":""},{"$f":"IF(O115=\"\",\"\",IF(O115>10,O115/11,O115))","v":""},{"$f":"'Womens Javelin'!$E$27","v":2},{"$f":"IF('Womens Javelin'!$I$26=0,\"\",'Womens Javelin'!$F$27)","v":""},{"$f":"IF(OR($F115=\"\",$F115=0),\"\",IF($F115>90,VLOOKUP(F115,eventcodes,2,FALSE),HLOOKUP(F115,womens_declare,B116,FALSE)))","v":""},"",{"$f":"IF('Womens Javelin'!$I$26=0,\"\",'Womens Javelin'!$I$27)","v":""},null,null,{"$f":"IF(AA113=\"T\",AB115,AC115)","v":""},null,{"$f":"'Womens Javelin'!$K$27","v":2},{"$f":"IF('Womens Javelin'!$I$26=0,\"\",'Womens Javelin'!$L$27)","v":""},{"$f":"IF(OR($O115=\"\",$O115=0),\"\",HLOOKUP(O115,womens_declare,B116,FALSE))","v":""},"",{"$f":"IF('Womens Javelin'!$I$26=0,\"\",'Womens Javelin'!$U$27)","v":""},null,{"$f":"IF(AA113=\"T\",AD115,AE115)","v":""},null,{"$f":"IF(AA113=\"T\",\"\",IF(I114>V113,\"LR\",IF(I114=V113,\"=LR\",IF(I114>W113,\"DR\",IF(I114=W113,\"=DR\",\"\")))))","v":"LR"},null,null,null,null,null,{"$f":"IF(I115=\"\",\"\",IF(AA113=\"F\",\"\",IF(AA113=\"T\",IF(I115<=X113,\"þ\",IF(I115<=Y113,\"G2\",IF(I115<=Z113,\"G3\",\"\"))))))","v":""},{"$f":"IF(I115=\"\",\"\",IF(AA113=\"T\",\"\",IF(AA113=\"F\",IF(I115>=X113,\"þ\",IF(I115>=Y113,\"G2\",IF(I115>=Z113,\"G3\",\"\"))))))","v":""},{"$f":"IF(R115=\"\",\"\",IF(AA113=\"F\",\"\",IF(AA113=\"T\",IF(R115<=X113,\"þ\",IF(R115<=Y113,\"G2\",IF(R115<=Z113,\"G3\",\"\"))))))","v":""},{"$f":"IF(R115=\"\",\"\",IF(AA113=\"T\",\"\",IF(AA113=\"F\",IF(R115>=X113,\"þ\",IF(R115>=Y113,\"G2\",IF(R115>=Z113,\"G3\",\"\"))))))","v":""},"","","","",115]
[null,{"$f":"VLOOKUP(A114,'Declarations (M)'!$A$3:$T$31,20,FALSE)","v":19},"","",{"$f":"'Womens Javelin'!$E$28","v":3},{"$f":"IF('Womens Javelin'!$I$26=0,\"\",'Womens Javelin'!$F$28)","v":""},{"$f":"IF(OR($F116=\"\",$F116=0),\"\",IF($F116>90,VLOOKUP(F116,eventcodes,2,FALSE),HLOOKUP(F116,womens_declare,B116,FALSE)))","v":""},"",{"$f":"IF('Womens Javelin'!$I$26=0,\"\",'Womens Javelin'!$I$28)","v":""},null,null,{"$f":"IF(AA113=\"T\",AB116,AC116)","v":""},null,{"$f":"'Womens Javelin'!$K$28","v":3},{"$f":"IF('Womens Javelin'!$I$26=0,\"\",'Womens Javelin'!$L$28)","v":""},{"$f":"IF(OR($O116=\"\",$O116=0),\"\",HLOOKUP(O116,womens_declare,B116,FALSE))","v":""},"",{"$f":"IF('Womens Javelin'!$I$26=0,\"\",'Womens Javelin'!$U$28)","v":""},null,{"$f":"IF(AA113=\"T\",AD116,AE116)","v":""},null,null,null,null,null,null,null,{"$f":"IF(I116=\"\",\"\",IF(AA113=\"F\",\"\",IF(AA113=\"T\",IF(I116<=X113,\"þ\",IF(I116<=Y113,\"G2\",IF(I116<=Z113,\"G3\",\"\"))))))","v":""},{"$f":"IF(I116=\"\",\"\",IF(AA113=\"T\",\"\",IF(AA113=\"F\",IF(I116>=X113,\"þ\",IF(I116>=Y113,\"G2\",IF(I116>=Z113,\"G3\",\"\"))))))","v":""},{"$f":"IF(R116=\"\",\"\",IF(AA113=\"F\",\"\",IF(AA113=\"T\",IF(R116<=X113,\"þ\",IF(R116<=Y113,\"G2\",IF(R116<=Z113,\"G3\",\"\"))))))","v":""},{"$f":"IF(R116=\"\",\"\",IF(AA113=\"T\",\"\",IF(AA113=\"F\",IF(R116>=X113,\"þ\",IF(R116>=Y113,\"G2\",IF(R116>=Z113,\"G3\",\"\"))))))","v":""},"","","","",116]
[null,null,"","",{"$f":"'Womens Javelin'!$E$29","v":4},{"$f":"IF('Womens Javelin'!$I$26=0,\"\",'Womens Javelin'!$F$29)","v":""},{"$f":"IF(OR($F117=\"\",$F117=0),\"\",IF($F117>90,VLOOKUP(F117,eventcodes,2,FALSE),HLOOKUP(F117,womens_declare,B116,FALSE)))","v":""},"",{"$f":"IF('Womens Javelin'!$I$26=0,\"\",'Womens Javelin'!$I$29)","v":""},null,null,{"$f":"IF(AA113=\"T\",AB117,AC117)","v":""},null,{"$f":"'Womens Javelin'!$K$29","v":4},{"$f":"IF('Womens Javelin'!$I$26=0,\"\",'Womens Javelin'!$L$29)","v":""},{"$f":"IF(OR($O117=\"\",$O117=0),\"\",HLOOKUP(O117,womens_declare,B116,FALSE))","v":""},"",{"$f":"IF('Womens Javelin'!$I$26=0,\"\",'Womens Javelin'!$U$29)","v":""},null,{"$f":"IF(AA113=\"T\",AD117,AE117)","v":""},null,null,null,null,null,null,null,{"$f":"IF(I117=\"\",\"\",IF(AA113=\"F\",\"\",IF(AA113=\"T\",IF(I117<=X113,\"þ\",IF(I117<=Y113,\"G2\",IF(I117<=Z113,\"G3\",\"\"))))))","v":""},{"$f":"IF(I117=\"\",\"\",IF(AA113=\"T\",\"\",IF(AA113=\"F\",IF(I117>=X113,\"þ\",IF(I117>=Y113,\"G2\",IF(I117>=Z113,\"G3\",\"\"))))))","v":""},{"$f":"IF(R117=\"\",\"\",IF(AA113=\"F\",\"\",IF(AA113=\"T\",IF(R117<=X113,\"þ\",IF(R117<=Y113,\"G2\",IF(R117<=Z113,\"G3\",\"\"))))))","v":""},{"$f":"IF(R117=\"\",\"\",IF(AA113=\"T\",\"\",IF(AA113=\"F\",IF(R117>=X113,\"þ\",IF(R117>=Y113,\"G2\",IF(R117>=Z113,\"G3\",\"\"))))))","v":""},"","","","",117]
[null,null,"","",{"$f":"'Womens Javelin'!$E$30","v":5},{"$f":"IF('Womens Javelin'!$I$26=0,\"\",'Womens Javelin'!$F$30)","v":""},{"$f":"IF(OR($F118=\"\",$F118=0),\"\",IF($F118>90,VLOOKUP(F118,eventcodes,2,FALSE),HLOOKUP(F118,womens_declare,B116,FALSE)))","v":""},"",{"$f":"IF('Womens Javelin'!$I$26=0,\"\",'Womens Javelin'!$I$30)","v":""},null,null,{"$f":"IF(AA113=\"T\",AB118,AC118)","v":""},null,{"$f":"'Womens Javelin'!$K$30","v":5},{"$f":"IF('Womens Javelin'!$I$26=0,\"\",'Womens Javelin'!$L$30)","v":""},{"$f":"IF(OR($O118=\"\",$O118=0),\"\",HLOOKUP(O118,womens_declare,B116,FALSE))","v":""},"",{"$f":"IF('Womens Javelin'!$I$26=0,\"\",'Womens Javelin'!$U$30)","v":""},null,{"$f":"IF(AA113=\"T\",AD118,AE118)","v":""},null,null,null,null,null,null,null,{"$f":"IF(I118=\"\",\"\",IF(AA113=\"F\",\"\",IF(AA113=\"T\",IF(I118<=X113,\"þ\",IF(I118<=Y113,\"G2\",IF(I118<=Z113,\"G3\",\"\"))))))","v":""},{"$f":"IF(I118=\"\",\"\",IF(AA113=\"T\",\"\",IF(AA113=\"F\",IF(I118>=X113,\"þ\",IF(I118>=Y113,\"G2\",IF(I118>=Z113,\"G3\",\"\"))))))","v":""},{"$f":"IF(R118=\"\",\"\",IF(AA113=\"F\",\"\",IF(AA113=\"T\",IF(R118<=X113,\"þ\",IF(R118<=Y113,\"G2\",IF(R118<=Z113,\"G3\",\"\"))))))","v":""},{"$f":"IF(R118=\"\",\"\",IF(AA113=\"T\",\"\",IF(AA113=\"F\",IF(R118>=X113,\"þ\",IF(R118>=Y113,\"G2\",IF(R118>=Z113,\"G3\",\"\"))))))","v":""},"","","","",118]
[null,null,"","",{"$f":"'Womens Javelin'!$E$31","v":6},{"$f":"IF('Womens Javelin'!$I$26=0,\"\",'Womens Javelin'!$F$31)","v":""},{"$f":"IF(OR($F119=\"\",$F119=0),\"\",IF($F119>90,VLOOKUP(F119,eventcodes,2,FALSE),HLOOKUP(F119,womens_declare,B116,FALSE)))","v":""},"",{"$f":"IF('Womens Javelin'!$I$26=0,\"\",'Womens Javelin'!$I$31)","v":""},null,null,{"$f":"IF(AA113=\"T\",AB119,AC119)","v":""},null,{"$f":"'Womens Javelin'!$K$31","v":6},{"$f":"IF('Womens Javelin'!$I$26=0,\"\",'Womens Javelin'!$L$31)","v":""},{"$f":"IF(OR($O119=\"\",$O119=0),\"\",HLOOKUP(O119,womens_declare,B116,FALSE))","v":""},"",{"$f":"IF('Womens Javelin'!$I$26=0,\"\",'Womens Javelin'!$U$31)","v":""},null,{"$f":"IF(AA113=\"T\",AD119,AE119)","v":""},null,null,null,null,null,null,null,{"$f":"IF(I119=\"\",\"\",IF(AA113=\"F\",\"\",IF(AA113=\"T\",IF(I119<=X113,\"þ\",IF(I119<=Y113,\"G2\",IF(I119<=Z113,\"G3\",\"\"))))))","v":""},{"$f":"IF(I119=\"\",\"\",IF(AA113=\"T\",\"\",IF(AA113=\"F\",IF(I119>=X113,\"þ\",IF(I119>=Y113,\"G2\",IF(I119>=Z113,\"G3\",\"\"))))))","v":""},{"$f":"IF(R119=\"\",\"\",IF(AA113=\"F\",\"\",IF(AA113=\"T\",IF(R119<=X113,\"þ\",IF(R119<=Y113,\"G2\",IF(R119<=Z113,\"G3\",\"\"))))))","v":""},{"$f":"IF(R119=\"\",\"\",IF(AA113=\"T\",\"\",IF(AA113=\"F\",IF(R119>=X113,\"þ\",IF(R119>=Y113,\"G2\",IF(R119>=Z113,\"G3\",\"\"))))))","v":""},"","","","",119]
[null,null,"","",{"$f":"'Womens Javelin'!$E$32","v":7},{"$f":"IF('Womens Javelin'!$I$26=0,\"\",'Womens Javelin'!$F$32)","v":""},{"$f":"IF(OR($F120=\"\",$F120=0),\"\",IF($F120>90,VLOOKUP(F120,eventcodes,2,FALSE),HLOOKUP(F120,womens_declare,B116,FALSE)))","v":""},"",{"$f":"IF('Womens Javelin'!$I$26=0,\"\",'Womens Javelin'!$I$32)","v":""},null,null,{"$f":"IF(AA113=\"T\",AB120,AC120)","v":""},null,{"$f":"'Womens Javelin'!$K$32","v":7},{"$f":"IF('Womens Javelin'!$I$26=0,\"\",'Womens Javelin'!$L$32)","v":""},{"$f":"IF(OR($O120=\"\",$O120=0),\"\",HLOOKUP(O120,womens_declare,B116,FALSE))","v":""},"",{"$f":"IF('Womens Javelin'!$I$26=0,\"\",'Womens Javelin'!$U$32)","v":""},null,{"$f":"IF(AA113=\"T\",AD120,AE120)","v":""},null,null,null,null,null,null,null,{"$f":"IF(I120=\"\",\"\",IF(AA113=\"F\",\"\",IF(AA113=\"T\",IF(I120<=X113,\"þ\",IF(I120<=Y113,\"G2\",IF(I120<=Z113,\"G3\",\"\"))))))","v":""},{"$f":"IF(I120=\"\",\"\",IF(AA113=\"T\",\"\",IF(AA113=\"F\",IF(I120>=X113,\"þ\",IF(I120>=Y113,\"G2\",IF(I120>=Z113,\"G3\",\"\"))))))","v":""},{"$f":"IF(R120=\"\",\"\",IF(AA113=\"F\",\"\",IF(AA113=\"T\",IF(R120<=X113,\"þ\",IF(R120<=Y113,\"G2\",IF(R120<=Z113,\"G3\",\"\"))))))","v":""},{"$f":"IF(R120=\"\",\"\",IF(AA113=\"T\",\"\",IF(AA113=\"F\",IF(R120>=X113,\"þ\",IF(R120>=Y113,\"G2\",IF(R120>=Z113,\"G3\",\"\"))))))","v":""},"","","","",120]
[null,null,"","",{"$f":"'Womens Javelin'!$E$33","v":8},{"$f":"IF('Womens Javelin'!$I$26=0,\"\",'Womens Javelin'!$F$33)","v":""},{"$f":"IF(OR($F121=\"\",$F121=0),\"\",IF($F121>90,VLOOKUP(F121,eventcodes,2,FALSE),HLOOKUP(F121,womens_declare,B116,FALSE)))","v":""},"",{"$f":"IF('Womens Javelin'!$I$26=0,\"\",'Womens Javelin'!$I$33)","v":""},null,null,{"$f":"IF(AA113=\"T\",AB121,AC121)","v":""},null,{"$f":"'Womens Javelin'!$K$33","v":8},{"$f":"IF('Womens Javelin'!$I$26=0,\"\",'Womens Javelin'!$L$33)","v":""},{"$f":"IF(OR($O121=\"\",$O121=0),\"\",HLOOKUP(O121,womens_declare,B116,FALSE))","v":""},"",{"$f":"IF('Womens Javelin'!$I$26=0,\"\",'Womens Javelin'!$U$33)","v":""},null,{"$f":"IF(AA113=\"T\",AD121,AE121)","v":""},null,null,null,null,null,null,null,{"$f":"IF(I121=\"\",\"\",IF(AA113=\"F\",\"\",IF(AA113=\"T\",IF(I121<=X113,\"þ\",IF(I121<=Y113,\"G2\",IF(I121<=Z113,\"G3\",\"\"))))))","v":""},{"$f":"IF(I121=\"\",\"\",IF(AA113=\"T\",\"\",IF(AA113=\"F\",IF(I121>=X113,\"þ\",IF(I121>=Y113,\"G2\",IF(I121>=Z113,\"G3\",\"\"))))))","v":""},{"$f":"IF(R121=\"\",\"\",IF(AA113=\"F\",\"\",IF(AA113=\"T\",IF(R121<=X113,\"þ\",IF(R121<=Y113,\"G2\",IF(R121<=Z113,\"G3\",\"\"))))))","v":""},{"$f":"IF(R121=\"\",\"\",IF(AA113=\"T\",\"\",IF(AA113=\"F\",IF(R121>=X113,\"þ\",IF(R121>=Y113,\"G2\",IF(R121>=Z113,\"G3\",\"\"))))))","v":""},"","","","",121]
[null,null,null,null,null,null,null,null,null,null,null,null,null,null,null,null,null,null,null,null,null,null,null,null,null,null,null,null,null,null,null,null,null,null,null,122]
[null,null,{"$f":"VLOOKUP(A124,Handbook!$A$4:$AK$24,36,FALSE)","v":"D"},null,{"$f":"CONCATENATE(VLOOKUP(A124,womens_handbook,3,FALSE),\" A\")","v":"Women's Shot Putt A"},null,null,{"$f":"IF(A124=\"\",\"\",IF(VLOOKUP(A124,Handbook!$A$4:$AI$24,35,FALSE)=\"Y\",\"Wind=\",\"\"))","v":""},null,null,null,null,null,null,{"$f":"CONCATENATE(VLOOKUP(A124,womens_handbook,3,FALSE),\" B\")","v":"Women's Shot Putt B"},null,{"$f":"H123","v":""},{"$f":"IF(I123=\"\",\"\",I123)","v":""},null,null,null,{"$f":"IF($A124=\"\",\"\",VLOOKUP($A124,Handbook!$A$26:$AK$46,21,FALSE))","v":16.16},{"$f":"IF($A124=\"\",\"\",VLOOKUP($A124,Handbook!$A$26:$AK$46,22,FALSE))","v":16.16},{"$f":"IF($A124=\"\",\"\",VLOOKUP($A124,Handbook!$A$26:$AK$46,23,FALSE))","v":8.3000000000000007},{"$f":"IF($A124=\"\",\"\",VLOOKUP($A124,Handbook!$A$26:$AK$46,24,FALSE))","v":10},{"$f":"IF($A124=\"\",\"\",VLOOKUP($A124,Handbook!$A$26:$AK$46,25,FALSE))","v":10},{"$f":"IF($A124=\"\",\"\",VLOOKUP($A124,Handbook!$A$26:$AK$46,34,FALSE))","v":"F"},null,null,null,null,null,null,null,null,123]
[17,null,{"$f":"IF(F124=\"\",\"\",IF(F124>10,F124/11,F124))","v":""},{"$f":"IF(O124=\"\",\"\",IF(O124>10,O124/11,O124))","v":""},{"$f":"'Womens Shot'!$E$26","v":1},{"$f":"IF('Womens Shot'!$I$26=0,\"\",'Womens Shot'!$F$26)","v":""},{"$f":"IF(OR($F124=\"\",$F124=0),\"\",IF($F124>90,VLOOKUP(F124,eventcodes,2,FALSE),HLOOKUP(F124,womens_declare,B126,FALSE)))","v":""},{"$f":"IF(OR($F124=\"\",$F124=0),\"\",IF($F124>90,\"\",VLOOKUP(C124,matchday,2,FALSE)))","v":""},{"$f":"IF('Womens Shot'!$I$26=0,\"\",'Womens Shot'!$I$26)","v":""},{"$f":"IF(I124=\"\",\"\",IF(AA123=\"T\",V124,V125))","v":""},null,{"$f":"IF(AA123=\"T\",AB124,AC124)","v":""},null,{"$f":"'Womens Shot'!$K$26","v":1},{"$f":"IF('Womens Shot'!$I$26=0,\"\",'Womens Shot'!$L$26)","v":""},{"$f":"IF(OR($O124=\"\",$O124=0),\"\",HLOOKUP(O124,womens_declare,B126,FALSE))","v":""},{"$f":"IF(OR($O124=\"\",$O124=0),\"\",VLOOKUP(D124,matchday,2,FALSE))","v":""},{"$f":"IF('Womens Shot'!$I$26=0,\"\",'Womens Shot'!$U$26)","v":""},null,{"$f":"IF(AA123=\"T\",AD124,AE124)","v":""},null,{"$f":"IF(AA123=\"F\",\"\",IF(I124<V123,\"LR\",IF(I124=V123,\"=LR\",IF(I124<W123,\"DR\",IF(I124=W123,\"=DR\",\"\")))))","v":""},null,null,null,null,null,{"$f":"IF(I124=\"\",\"\",IF(AA123=\"F\",\"\",IF(AA123=\"T\",IF(I124<=X123,\"þ\",IF(I124<=Y123,\"G2\",IF(I124<=Z123,\"G3\",\"\"))))))","v":""},{"$f":"IF(I124=\"\",\"\",IF(AA123=\"T\",\"\",IF(AA123=\"F\",IF(I124>=X123,\"þ\",IF(I124>=Y123,\"G2\",IF(I124>=Z123,\"G3\",\"\"))))))","v":""},{"$f":"IF(R124=\"\",\"\",IF(AA123=\"F\",\"\",IF(AA123=\"T\",IF(R124<=X123,\"þ\",IF(R124<=Y123,\"G2\",IF(R124<=Z123,\"G3\",\"\"))))))","v":""},{"$f":"IF(R124=\"\",\"\",IF(AA123=\"T\",\"\",IF(AA123=\"F\",IF(R124>=X123,\"þ\",IF(R124>=Y123,\"G2\",IF(R124>=Z123,\"G3\",\"\"))))))","v":""},{"$f":"C124","v":""},{"$f":"IF(F124=\"\",\"\",IF(LEFT(I124,1)=\"D\",0,VLOOKUP(E124,$AQ$4:$AR$40,2,FALSE)))","v":""},{"$f":"D124","v":""},{"$f":"IF(O124=\"\",\"\",IF(LEFT(R124,1)=\"D\",0,VLOOKUP(N124,$AQ$4:$AS$40,3,FALSE)))","v":""},124]
[null,{"$f":"VLOOKUP(A124,Handbook!$A$4:$AK$24,37,FALSE)","v":18},{"$f":"IF(F125=\"\",\"\",IF(F125>10,F125/11,F125))","v":""},{"$f":"IF(O125=\"\",\"\",IF(O125>10,O125/11,O125))","v":""},{"$f":"'Womens Shot'!$E$27","v":2},{"$f":"IF('Womens Shot'!$I$26=0,\"\",'Womens Shot'!$F$27)","v":""},{"$f":"IF(OR($F125=\"\",$F125=0),\"\",IF($F125>90,VLOOKUP(F125,eventcodes,2,FALSE),HLOOKUP(F125,womens_declare,B126,FALSE)))","v":""},"",{"$f":"IF('Womens Shot'!$I$26=0,\"\",'Womens Shot'!$I$27)","v":""},null,null,{"$f":"IF(AA123=\"T\",AB125,AC125)","v":""},null,{"$f":"'Womens Shot'!$K$27","v":2},{"$f":"IF('Womens Shot'!$I$26=0,\"\",'Womens Shot'!$L$27)","v":""},{"$f":"IF(OR($O125=\"\",$O125=0),\"\",HLOOKUP(O125,womens_declare,B126,FALSE))","v":""},"",{"$f":"IF('Womens Shot'!$I$26=0,\"\",'Womens Shot'!$U$27)","v":""},null,{"$f":"IF(AA123=\"T\",AD125,AE125)","v":""},null,{"$f":"IF(AA123=\"T\",\"\",IF(I124>V123,\"LR\",IF(I124=V123,\"=LR\",IF(I124>W123,\"DR\",IF(I124=W123,\"=DR\",\"\")))))","v":"LR"},null,null,null,null,null,{"$f":"IF(I125=\"\",\"\",IF(AA123=\"F\",\"\",IF(AA123=\"T\",IF(I125<=X123,\"þ\",IF(I125<=Y123,\"G2\",IF(I125<=Z123,\"G3\",\"\"))))))","v":""},{"$f":"IF(I125=\"\",\"\",IF(AA123=\"T\",\"\",IF(AA123=\"F\",IF(I125>=X123,\"þ\",IF(I125>=Y123,\"G2\",IF(I125>=Z123,\"G3\",\"\"))))))","v":""},{"$f":"IF(R125=\"\",\"\",IF(AA123=\"F\",\"\",IF(AA123=\"T\",IF(R125<=X123,\"þ\",IF(R125<=Y123,\"G2\",IF(R125<=Z123,\"G3\",\"\"))))))","v":""},{"$f":"IF(R125=\"\",\"\",IF(AA123=\"T\",\"\",IF(AA123=\"F\",IF(R125>=X123,\"þ\",IF(R125>=Y123,\"G2\",IF(R125>=Z123,\"G3\",\"\"))))))","v":""},"","","","",125]
[null,{"$f":"VLOOKUP(A124,'Declarations (M)'!$A$3:$T$31,20,FALSE)","v":18},"","",{"$f":"'Womens Shot'!$E$28","v":3},{"$f":"IF('Womens Shot'!$I$26=0,\"\",'Womens Shot'!$F$28)","v":""},{"$f":"IF(OR($F126=\"\",$F126=0),\"\",IF($F126>90,VLOOKUP(F126,eventcodes,2,FALSE),HLOOKUP(F126,womens_declare,B126,FALSE)))","v":""},"",{"$f":"IF('Womens Shot'!$I$26=0,\"\",'Womens Shot'!$I$28)","v":""},null,null,{"$f":"IF(AA123=\"T\",AB126,AC126)","v":""},null,{"$f":"'Womens Shot'!$K$28","v":3},{"$f":"IF('Womens Shot'!$I$26=0,\"\",'Womens Shot'!$L$28)","v":""},{"$f":"IF(OR($O126=\"\",$O126=0),\"\",HLOOKUP(O126,womens_declare,B126,FALSE))","v":""},"",{"$f":"IF('Womens Shot'!$I$26=0,\"\",'Womens Shot'!$U$28)","v":""},null,{"$f":"IF(AA123=\"T\",AD126,AE126)","v":""},null,null,null,null,null,null,null,{"$f":"IF(I126=\"\",\"\",IF(AA123=\"F\",\"\",IF(AA123=\"T\",IF(I126<=X123,\"þ\",IF(I126<=Y123,\"G2\",IF(I126<=Z123,\"G3\",\"\"))))))","v":""},{"$f":"IF(I126=\"\",\"\",IF(AA123=\"T\",\"\",IF(AA123=\"F\",IF(I126>=X123,\"þ\",IF(I126>=Y123,\"G2\",IF(I126>=Z123,\"G3\",\"\"))))))","v":""},{"$f":"IF(R126=\"\",\"\",IF(AA123=\"F\",\"\",IF(AA123=\"T\",IF(R126<=X123,\"þ\",IF(R126<=Y123,\"G2\",IF(R126<=Z123,\"G3\",\"\"))))))","v":""},{"$f":"IF(R126=\"\",\"\",IF(AA123=\"T\",\"\",IF(AA123=\"F\",IF(R126>=X123,\"þ\",IF(R126>=Y123,\"G2\",IF(R126>=Z123,\"G3\",\"\"))))))","v":""},"","","","",126]
[null,null,"","",{"$f":"'Womens Shot'!$E$29","v":4},{"$f":"IF('Womens Shot'!$I$26=0,\"\",'Womens Shot'!$F$29)","v":""},{"$f":"IF(OR($F127=\"\",$F127=0),\"\",IF($F127>90,VLOOKUP(F127,eventcodes,2,FALSE),HLOOKUP(F127,womens_declare,B126,FALSE)))","v":""},"",{"$f":"IF('Womens Shot'!$I$26=0,\"\",'Womens Shot'!$I$29)","v":""},null,null,{"$f":"IF(AA123=\"T\",AB127,AC127)","v":""},null,{"$f":"'Womens Shot'!$K$29","v":4},{"$f":"IF('Womens Shot'!$I$26=0,\"\",'Womens Shot'!$L$29)","v":""},{"$f":"IF(OR($O127=\"\",$O127=0),\"\",HLOOKUP(O127,womens_declare,B126,FALSE))","v":""},"",{"$f":"IF('Womens Shot'!$I$26=0,\"\",'Womens Shot'!$U$29)","v":""},null,{"$f":"IF(AA123=\"T\",AD127,AE127)","v":""},null,null,null,null,null,null,null,{"$f":"IF(I127=\"\",\"\",IF(AA123=\"F\",\"\",IF(AA123=\"T\",IF(I127<=X123,\"þ\",IF(I127<=Y123,\"G2\",IF(I127<=Z123,\"G3\",\"\"))))))","v":""},{"$f":"IF(I127=\"\",\"\",IF(AA123=\"T\",\"\",IF(AA123=\"F\",IF(I127>=X123,\"þ\",IF(I127>=Y123,\"G2\",IF(I127>=Z123,\"G3\",\"\"))))))","v":""},{"$f":"IF(R127=\"\",\"\",IF(AA123=\"F\",\"\",IF(AA123=\"T\",IF(R127<=X123,\"þ\",IF(R127<=Y123,\"G2\",IF(R127<=Z123,\"G3\",\"\"))))))","v":""},{"$f":"IF(R127=\"\",\"\",IF(AA123=\"T\",\"\",IF(AA123=\"F\",IF(R127>=X123,\"þ\",IF(R127>=Y123,\"G2\",IF(R127>=Z123,\"G3\",\"\"))))))","v":""},"","","","",127]
[null,null,"","",{"$f":"'Womens Shot'!$E$30","v":5},{"$f":"IF('Womens Shot'!$I$26=0,\"\",'Womens Shot'!$F$30)","v":""},{"$f":"IF(OR($F128=\"\",$F128=0),\"\",IF($F128>90,VLOOKUP(F128,eventcodes,2,FALSE),HLOOKUP(F128,womens_declare,B126,FALSE)))","v":""},"",{"$f":"IF('Womens Shot'!$I$26=0,\"\",'Womens Shot'!$I$30)","v":""},null,null,{"$f":"IF(AA123=\"T\",AB128,AC128)","v":""},null,{"$f":"'Womens Shot'!$K$30","v":5},{"$f":"IF('Womens Shot'!$I$26=0,\"\",'Womens Shot'!$L$30)","v":""},{"$f":"IF(OR($O128=\"\",$O128=0),\"\",HLOOKUP(O128,womens_declare,B126,FALSE))","v":""},"",{"$f":"IF('Womens Shot'!$I$26=0,\"\",'Womens Shot'!$U$30)","v":""},null,{"$f":"IF(AA123=\"T\",AD128,AE128)","v":""},null,null,null,null,null,null,null,{"$f":"IF(I128=\"\",\"\",IF(AA123=\"F\",\"\",IF(AA123=\"T\",IF(I128<=X123,\"þ\",IF(I128<=Y123,\"G2\",IF(I128<=Z123,\"G3\",\"\"))))))","v":""},{"$f":"IF(I128=\"\",\"\",IF(AA123=\"T\",\"\",IF(AA123=\"F\",IF(I128>=X123,\"þ\",IF(I128>=Y123,\"G2\",IF(I128>=Z123,\"G3\",\"\"))))))","v":""},{"$f":"IF(R128=\"\",\"\",IF(AA123=\"F\",\"\",IF(AA123=\"T\",IF(R128<=X123,\"þ\",IF(R128<=Y123,\"G2\",IF(R128<=Z123,\"G3\",\"\"))))))","v":""},{"$f":"IF(R128=\"\",\"\",IF(AA123=\"T\",\"\",IF(AA123=\"F\",IF(R128>=X123,\"þ\",IF(R128>=Y123,\"G2\",IF(R128>=Z123,\"G3\",\"\"))))))","v":""},"","","","",128]
[null,null,"","",{"$f":"'Womens Shot'!$E$31","v":6},{"$f":"IF('Womens Shot'!$I$26=0,\"\",'Womens Shot'!$F$31)","v":""},{"$f":"IF(OR($F129=\"\",$F129=0),\"\",IF($F129>90,VLOOKUP(F129,eventcodes,2,FALSE),HLOOKUP(F129,womens_declare,B126,FALSE)))","v":""},"",{"$f":"IF('Womens Shot'!$I$26=0,\"\",'Womens Shot'!$I$31)","v":""},null,null,{"$f":"IF(AA123=\"T\",AB129,AC129)","v":""},null,{"$f":"'Womens Shot'!$K$31","v":6},{"$f":"IF('Womens Shot'!$I$26=0,\"\",'Womens Shot'!$L$31)","v":""},{"$f":"IF(OR($O129=\"\",$O129=0),\"\",HLOOKUP(O129,womens_declare,B126,FALSE))","v":""},"",{"$f":"IF('Womens Shot'!$I$26=0,\"\",'Womens Shot'!$U$31)","v":""},null,{"$f":"IF(AA123=\"T\",AD129,AE129)","v":""},null,null,null,null,null,null,null,{"$f":"IF(I129=\"\",\"\",IF(AA123=\"F\",\"\",IF(AA123=\"T\",IF(I129<=X123,\"þ\",IF(I129<=Y123,\"G2\",IF(I129<=Z123,\"G3\",\"\"))))))","v":""},{"$f":"IF(I129=\"\",\"\",IF(AA123=\"T\",\"\",IF(AA123=\"F\",IF(I129>=X123,\"þ\",IF(I129>=Y123,\"G2\",IF(I129>=Z123,\"G3\",\"\"))))))","v":""},{"$f":"IF(R129=\"\",\"\",IF(AA123=\"F\",\"\",IF(AA123=\"T\",IF(R129<=X123,\"þ\",IF(R129<=Y123,\"G2\",IF(R129<=Z123,\"G3\",\"\"))))))","v":""},{"$f":"IF(R129=\"\",\"\",IF(AA123=\"T\",\"\",IF(AA123=\"F\",IF(R129>=X123,\"þ\",IF(R129>=Y123,\"G2\",IF(R129>=Z123,\"G3\",\"\"))))))","v":""},"","","","",129]
[null,null,"","",{"$f":"'Womens Shot'!$E$32","v":7},{"$f":"IF('Womens Shot'!$I$26=0,\"\",'Womens Shot'!$F$32)","v":""},{"$f":"IF(OR($F130=\"\",$F130=0),\"\",IF($F130>90,VLOOKUP(F130,eventcodes,2,FALSE),HLOOKUP(F130,womens_declare,B126,FALSE)))","v":""},"",{"$f":"IF('Womens Shot'!$I$26=0,\"\",'Womens Shot'!$I$32)","v":""},null,null,{"$f":"IF(AA123=\"T\",AB130,AC130)","v":""},null,{"$f":"'Womens Shot'!$K$32","v":7},{"$f":"IF('Womens Shot'!$I$26=0,\"\",'Womens Shot'!$L$32)","v":""},{"$f":"IF(OR($O130=\"\",$O130=0),\"\",HLOOKUP(O130,womens_declare,B126,FALSE))","v":""},"",{"$f":"IF('Womens Shot'!$I$26=0,\"\",'Womens Shot'!$U$32)","v":""},null,{"$f":"IF(AA123=\"T\",AD130,AE130)","v":""},null,null,null,null,null,null,null,{"$f":"IF(I130=\"\",\"\",IF(AA123=\"F\",\"\",IF(AA123=\"T\",IF(I130<=X123,\"þ\",IF(I130<=Y123,\"G2\",IF(I130<=Z123,\"G3\",\"\"))))))","v":""},{"$f":"IF(I130=\"\",\"\",IF(AA123=\"T\",\"\",IF(AA123=\"F\",IF(I130>=X123,\"þ\",IF(I130>=Y123,\"G2\",IF(I130>=Z123,\"G3\",\"\"))))))","v":""},{"$f":"IF(R130=\"\",\"\",IF(AA123=\"F\",\"\",IF(AA123=\"T\",IF(R130<=X123,\"þ\",IF(R130<=Y123,\"G2\",IF(R130<=Z123,\"G3\",\"\"))))))","v":""},{"$f":"IF(R130=\"\",\"\",IF(AA123=\"T\",\"\",IF(AA123=\"F\",IF(R130>=X123,\"þ\",IF(R130>=Y123,\"G2\",IF(R130>=Z123,\"G3\",\"\"))))))","v":""},"","","","",130]
[null,null,"","",{"$f":"'Womens Shot'!$E$33","v":8},{"$f":"IF('Womens Shot'!$I$26=0,\"\",'Womens Shot'!$F$33)","v":""},{"$f":"IF(OR($F131=\"\",$F131=0),\"\",IF($F131>90,VLOOKUP(F131,eventcodes,2,FALSE),HLOOKUP(F131,womens_declare,B126,FALSE)))","v":""},"",{"$f":"IF('Womens Shot'!$I$26=0,\"\",'Womens Shot'!$I$33)","v":""},null,null,{"$f":"IF(AA123=\"T\",AB131,AC131)","v":""},null,{"$f":"'Womens Shot'!$K$33","v":8},{"$f":"IF('Womens Shot'!$I$26=0,\"\",'Womens Shot'!$L$33)","v":""},{"$f":"IF(OR($O131=\"\",$O131=0),\"\",HLOOKUP(O131,womens_declare,B126,FALSE))","v":""},"",{"$f":"IF('Womens Shot'!$I$26=0,\"\",'Womens Shot'!$U$33)","v":""},null,{"$f":"IF(AA123=\"T\",AD131,AE131)","v":""},null,null,null,null,null,null,null,{"$f":"IF(I131=\"\",\"\",IF(AA123=\"F\",\"\",IF(AA123=\"T\",IF(I131<=X123,\"þ\",IF(I131<=Y123,\"G2\",IF(I131<=Z123,\"G3\",\"\"))))))","v":""},{"$f":"IF(I131=\"\",\"\",IF(AA123=\"T\",\"\",IF(AA123=\"F\",IF(I131>=X123,\"þ\",IF(I131>=Y123,\"G2\",IF(I131>=Z123,\"G3\",\"\"))))))","v":""},{"$f":"IF(R131=\"\",\"\",IF(AA123=\"F\",\"\",IF(AA123=\"T\",IF(R131<=X123,\"þ\",IF(R131<=Y123,\"G2\",IF(R131<=Z123,\"G3\",\"\"))))))","v":""},{"$f":"IF(R131=\"\",\"\",IF(AA123=\"T\",\"\",IF(AA123=\"F\",IF(R131>=X123,\"þ\",IF(R131>=Y123,\"G2\",IF(R131>=Z123,\"G3\",\"\"))))))","v":""},"","","","",131]
[null,null,null,null,null,null,null,null,null,null,null,null,null,null,null,null,null,null,null,null,null,null,null,null,null,null,null,null,null,null,null,null,null,null,null,132]
[null,null,{"$f":"VLOOKUP(A134,Handbook!$A$4:$AK$24,36,FALSE)","v":"D"},null,{"$f":"CONCATENATE(VLOOKUP(A134,womens_handbook,3,FALSE),\" A\")","v":"Women's Long Jump A"},null,null,{"$f":"IF(A134=\"\",\"\",IF(VLOOKUP(A134,Handbook!$A$4:$AI$24,35,FALSE)=\"Y\",\"Wind=\",\"\"))","v":""},null,null,null,null,null,null,{"$f":"CONCATENATE(VLOOKUP(A134,womens_handbook,3,FALSE),\" B\")","v":"Women's Long Jump B"},null,{"$f":"H133","v":""},{"$f":"IF(I133=\"\",\"\",I133)","v":""},null,null,null,{"$f":"IF($A134=\"\",\"\",VLOOKUP($A134,Handbook!$A$26:$AK$46,21,FALSE))","v":6.39},{"$f":"IF($A134=\"\",\"\",VLOOKUP($A134,Handbook!$A$26:$AK$46,22,FALSE))","v":6.39},{"$f":"IF($A134=\"\",\"\",VLOOKUP($A134,Handbook!$A$26:$AK$46,23,FALSE))","v":4.75},{"$f":"IF($A134=\"\",\"\",VLOOKUP($A134,Handbook!$A$26:$AK$46,24,FALSE))","v":5},{"$f":"IF($A134=\"\",\"\",VLOOKUP($A134,Handbook!$A$26:$AK$46,25,FALSE))","v":5},{"$f":"IF($A134=\"\",\"\",VLOOKUP($A134,Handbook!$A$26:$AK$46,34,FALSE))","v":"F"},null,null,null,null,null,null,null,null,133]
[13,null,{"$f":"IF(F134=\"\",\"\",IF(F134>10,F134/11,F134))","v":""},{"$f":"IF(O134=\"\",\"\",IF(O134>10,O134/11,O134))","v":""},{"$f":"'Womens LJ'!$E$26","v":1},{"$f":"IF('Womens LJ'!$I$26=0,\"\",'Womens LJ'!$F$26)","v":""},{"$f":"IF(OR($F134=\"\",$F134=0),\"\",IF($F134>90,VLOOKUP(F134,eventcodes,2,FALSE),HLOOKUP(F134,womens_declare,B136,FALSE)))","v":""},{"$f":"IF(OR($F134=\"\",$F134=0),\"\",IF($F134>90,\"\",VLOOKUP(C134,matchday,2,FALSE)))","v":""},{"$f":"IF('Womens LJ'!$I$26=0,\"\",'Womens LJ'!$I$26)","v":""},{"$f":"IF(I134=\"\",\"\",IF(AA133=\"T\",V134,V135))","v":""},null,{"$f":"IF(AA133=\"T\",AB134,AC134)","v":""},null,{"$f":"'Womens LJ'!$K$26","v":1},{"$f":"IF('Womens LJ'!$I$26=0,\"\",'Womens LJ'!$L$26)","v":""},{"$f":"IF(OR($O134=\"\",$O134=0),\"\",HLOOKUP(O134,womens_declare,B136,FALSE))","v":""},{"$f":"IF(OR($O134=\"\",$O134=0),\"\",VLOOKUP(D134,matchday,2,FALSE))","v":""},{"$f":"IF('Womens LJ'!$I$26=0,\"\",'Womens LJ'!$U$26)","v":""},null,{"$f":"IF(AA133=\"T\",AD134,AE134)","v":""},null,{"$f":"IF(AA133=\"F\",\"\",IF(I134<V133,\"LR\",IF(I134=V133,\"=LR\",IF(I134<W133,\"DR\",IF(I134=W133,\"=DR\",\"\")))))","v":""},null,null,null,null,null,{"$f":"IF(I134=\"\",\"\",IF(AA133=\"F\",\"\",IF(AA133=\"T\",IF(I134<=X133,\"þ\",IF(I134<=Y133,\"G2\",IF(I134<=Z133,\"G3\",\"\"))))))","v":""},{"$f":"IF(I134=\"\",\"\",IF(AA133=\"T\",\"\",IF(AA133=\"F\",IF(I134>=X133,\"þ\",IF(I134>=Y133,\"G2\",IF(I134>=Z133,\"G3\",\"\"))))))","v":""},{"$f":"IF(R134=\"\",\"\",IF(AA133=\"F\",\"\",IF(AA133=\"T\",IF(R134<=X133,\"þ\",IF(R134<=Y133,\"G2\",IF(R134<=Z133,\"G3\",\"\"))))))","v":""},{"$f":"IF(R134=\"\",\"\",IF(AA133=\"T\",\"\",IF(AA133=\"F\",IF(R134>=X133,\"þ\",IF(R134>=Y133,\"G2\",IF(R134>=Z133,\"G3\",\"\"))))))","v":""},{"$f":"C134","v":""},{"$f":"IF(F134=\"\",\"\",IF(LEFT(I134,1)=\"D\",0,VLOOKUP(E134,$AQ$4:$AR$40,2,FALSE)))","v":""},{"$f":"D134","v":""},{"$f":"IF(O134=\"\",\"\",IF(LEFT(R134,1)=\"D\",0,VLOOKUP(N134,$AQ$4:$AS$40,3,FALSE)))","v":""},134]
[null,{"$f":"VLOOKUP(A134,Handbook!$A$4:$AK$24,37,FALSE)","v":14},{"$f":"IF(F135=\"\",\"\",IF(F135>10,F135/11,F135))","v":""},{"$f":"IF(O135=\"\",\"\",IF(O135>10,O135/11,O135))","v":""},{"$f":"'Womens LJ'!$E$27","v":2},{"$f":"IF('Womens LJ'!$I$26=0,\"\",'Womens LJ'!$F$27)","v":""},{"$f":"IF(OR($F135=\"\",$F135=0),\"\",IF($F135>90,VLOOKUP(F135,eventcodes,2,FALSE),HLOOKUP(F135,womens_declare,B136,FALSE)))","v":""},"",{"$f":"IF('Womens LJ'!$I$26=0,\"\",'Womens LJ'!$I$27)","v":""},null,null,{"$f":"IF(AA133=\"T\",AB135,AC135)","v":""},null,{"$f":"'Womens LJ'!$K$27","v":2},{"$f":"IF('Womens LJ'!$I$26=0,\"\",'Womens LJ'!$L$27)","v":""},{"$f":"IF(OR($O135=\"\",$O135=0),\"\",HLOOKUP(O135,womens_declare,B136,FALSE))","v":""},"",{"$f":"IF('Womens LJ'!$I$26=0,\"\",'Womens LJ'!$U$27)","v":""},null,{"$f":"IF(AA133=\"T\",AD135,AE135)","v":""},null,{"$f":"IF(AA133=\"T\",\"\",IF(I134>V133,\"LR\",IF(I134=V133,\"=LR\",IF(I134>W133,\"DR\",IF(I134=W133,\"=DR\",\"\")))))","v":"LR"},null,null,null,null,null,{"$f":"IF(I135=\"\",\"\",IF(AA133=\"F\",\"\",IF(AA133=\"T\",IF(I135<=X133,\"þ\",IF(I135<=Y133,\"G2\",IF(I135<=Z133,\"G3\",\"\"))))))","v":""},{"$f":"IF(I135=\"\",\"\",IF(AA133=\"T\",\"\",IF(AA133=\"F\",IF(I135>=X133,\"þ\",IF(I135>=Y133,\"G2\",IF(I135>=Z133,\"G3\",\"\"))))))","v":""},{"$f":"IF(R135=\"\",\"\",IF(AA133=\"F\",\"\",IF(AA133=\"T\",IF(R135<=X133,\"þ\",IF(R135<=Y133,\"G2\",IF(R135<=Z133,\"G3\",\"\"))))))","v":""},{"$f":"IF(R135=\"\",\"\",IF(AA133=\"T\",\"\",IF(AA133=\"F\",IF(R135>=X133,\"þ\",IF(R135>=Y133,\"G2\",IF(R135>=Z133,\"G3\",\"\"))))))","v":""},"","","","",135]
[null,{"$f":"VLOOKUP(A134,'Declarations (M)'!$A$3:$T$31,20,FALSE)","v":14},"","",{"$f":"'Womens LJ'!$E$28","v":3},{"$f":"IF('Womens LJ'!$I$26=0,\"\",'Womens LJ'!$F$28)","v":""},{"$f":"IF(OR($F136=\"\",$F136=0),\"\",IF($F136>90,VLOOKUP(F136,eventcodes,2,FALSE),HLOOKUP(F136,womens_declare,B136,FALSE)))","v":""},"",{"$f":"IF('Womens LJ'!$I$26=0,\"\",'Womens LJ'!$I$28)","v":""},null,null,{"$f":"IF(AA133=\"T\",AB136,AC136)","v":""},null,{"$f":"'Womens LJ'!$K$28","v":3},{"$f":"IF('Womens LJ'!$I$26=0,\"\",'Womens LJ'!$L$28)","v":""},{"$f":"IF(OR($O136=\"\",$O136=0),\"\",HLOOKUP(O136,womens_declare,B136,FALSE))","v":""},"",{"$f":"IF('Womens LJ'!$I$26=0,\"\",'Womens LJ'!$U$28)","v":""},null,{"$f":"IF(AA133=\"T\",AD136,AE136)","v":""},null,null,null,null,null,null,null,{"$f":"IF(I136=\"\",\"\",IF(AA133=\"F\",\"\",IF(AA133=\"T\",IF(I136<=X133,\"þ\",IF(I136<=Y133,\"G2\",IF(I136<=Z133,\"G3\",\"\"))))))","v":""},{"$f":"IF(I136=\"\",\"\",IF(AA133=\"T\",\"\",IF(AA133=\"F\",IF(I136>=X133,\"þ\",IF(I136>=Y133,\"G2\",IF(I136>=Z133,\"G3\",\"\"))))))","v":""},{"$f":"IF(R136=\"\",\"\",IF(AA133=\"F\",\"\",IF(AA133=\"T\",IF(R136<=X133,\"þ\",IF(R136<=Y133,\"G2\",IF(R136<=Z133,\"G3\",\"\"))))))","v":""},{"$f":"IF(R136=\"\",\"\",IF(AA133=\"T\",\"\",IF(AA133=\"F\",IF(R136>=X133,\"þ\",IF(R136>=Y133,\"G2\",IF(R136>=Z133,\"G3\",\"\"))))))","v":""},"","","","",136]
[null,null,"","",{"$f":"'Womens LJ'!$E$29","v":4},{"$f":"IF('Womens LJ'!$I$26=0,\"\",'Womens LJ'!$F$29)","v":""},{"$f":"IF(OR($F137=\"\",$F137=0),\"\",IF($F137>90,VLOOKUP(F137,eventcodes,2,FALSE),HLOOKUP(F137,womens_declare,B136,FALSE)))","v":""},"",{"$f":"IF('Womens LJ'!$I$26=0,\"\",'Womens LJ'!$I$29)","v":""},null,null,{"$f":"IF(AA133=\"T\",AB137,AC137)","v":""},null,{"$f":"'Womens LJ'!$K$29","v":4},{"$f":"IF('Womens LJ'!$I$26=0,\"\",'Womens LJ'!$L$29)","v":""},{"$f":"IF(OR($O137=\"\",$O137=0),\"\",HLOOKUP(O137,womens_declare,B136,FALSE))","v":""},"",{"$f":"IF('Womens LJ'!$I$26=0,\"\",'Womens LJ'!$U$29)","v":""},null,{"$f":"IF(AA133=\"T\",AD137,AE137)","v":""},null,null,null,null,null,null,null,{"$f":"IF(I137=\"\",\"\",IF(AA133=\"F\",\"\",IF(AA133=\"T\",IF(I137<=X133,\"þ\",IF(I137<=Y133,\"G2\",IF(I137<=Z133,\"G3\",\"\"))))))","v":""},{"$f":"IF(I137=\"\",\"\",IF(AA133=\"T\",\"\",IF(AA133=\"F\",IF(I137>=X133,\"þ\",IF(I137>=Y133,\"G2\",IF(I137>=Z133,\"G3\",\"\"))))))","v":""},{"$f":"IF(R137=\"\",\"\",IF(AA133=\"F\",\"\",IF(AA133=\"T\",IF(R137<=X133,\"þ\",IF(R137<=Y133,\"G2\",IF(R137<=Z133,\"G3\",\"\"))))))","v":""},{"$f":"IF(R137=\"\",\"\",IF(AA133=\"T\",\"\",IF(AA133=\"F\",IF(R137>=X133,\"þ\",IF(R137>=Y133,\"G2\",IF(R137>=Z133,\"G3\",\"\"))))))","v":""},"","","","",137]
[null,null,"","",{"$f":"'Womens LJ'!$E$30","v":5},{"$f":"IF('Womens LJ'!$I$26=0,\"\",'Womens LJ'!$F$30)","v":""},{"$f":"IF(OR($F138=\"\",$F138=0),\"\",IF($F138>90,VLOOKUP(F138,eventcodes,2,FALSE),HLOOKUP(F138,womens_declare,B136,FALSE)))","v":""},"",{"$f":"IF('Womens LJ'!$I$26=0,\"\",'Womens LJ'!$I$30)","v":""},null,null,{"$f":"IF(AA133=\"T\",AB138,AC138)","v":""},null,{"$f":"'Womens LJ'!$K$30","v":5},{"$f":"IF('Womens LJ'!$I$26=0,\"\",'Womens LJ'!$L$30)","v":""},{"$f":"IF(OR($O138=\"\",$O138=0),\"\",HLOOKUP(O138,womens_declare,B136,FALSE))","v":""},"",{"$f":"IF('Womens LJ'!$I$26=0,\"\",'Womens LJ'!$U$30)","v":""},null,{"$f":"IF(AA133=\"T\",AD138,AE138)","v":""},null,null,null,null,null,null,null,{"$f":"IF(I138=\"\",\"\",IF(AA133=\"F\",\"\",IF(AA133=\"T\",IF(I138<=X133,\"þ\",IF(I138<=Y133,\"G2\",IF(I138<=Z133,\"G3\",\"\"))))))","v":""},{"$f":"IF(I138=\"\",\"\",IF(AA133=\"T\",\"\",IF(AA133=\"F\",IF(I138>=X133,\"þ\",IF(I138>=Y133,\"G2\",IF(I138>=Z133,\"G3\",\"\"))))))","v":""},{"$f":"IF(R138=\"\",\"\",IF(AA133=\"F\",\"\",IF(AA133=\"T\",IF(R138<=X133,\"þ\",IF(R138<=Y133,\"G2\",IF(R138<=Z133,\"G3\",\"\"))))))","v":""},{"$f":"IF(R138=\"\",\"\",IF(AA133=\"T\",\"\",IF(AA133=\"F\",IF(R138>=X133,\"þ\",IF(R138>=Y133,\"G2\",IF(R138>=Z133,\"G3\",\"\"))))))","v":""},"","","","",138]
[null,null,"","",{"$f":"'Womens LJ'!$E$31","v":6},{"$f":"IF('Womens LJ'!$I$26=0,\"\",'Womens LJ'!$F$31)","v":""},{"$f":"IF(OR($F139=\"\",$F139=0),\"\",IF($F139>90,VLOOKUP(F139,eventcodes,2,FALSE),HLOOKUP(F139,womens_declare,B136,FALSE)))","v":""},"",{"$f":"IF('Womens LJ'!$I$26=0,\"\",'Womens LJ'!$I$31)","v":""},null,null,{"$f":"IF(AA133=\"T\",AB139,AC139)","v":""},null,{"$f":"'Womens LJ'!$K$31","v":6},{"$f":"IF('Womens LJ'!$I$26=0,\"\",'Womens LJ'!$L$31)","v":""},{"$f":"IF(OR($O139=\"\",$O139=0),\"\",HLOOKUP(O139,womens_declare,B136,FALSE))","v":""},"",{"$f":"IF('Womens LJ'!$I$26=0,\"\",'Womens LJ'!$U$31)","v":""},null,{"$f":"IF(AA133=\"T\",AD139,AE139)","v":""},null,null,null,null,null,null,null,{"$f":"IF(I139=\"\",\"\",IF(AA133=\"F\",\"\",IF(AA133=\"T\",IF(I139<=X133,\"þ\",IF(I139<=Y133,\"G2\",IF(I139<=Z133,\"G3\",\"\"))))))","v":""},{"$f":"IF(I139=\"\",\"\",IF(AA133=\"T\",\"\",IF(AA133=\"F\",IF(I139>=X133,\"þ\",IF(I139>=Y133,\"G2\",IF(I139>=Z133,\"G3\",\"\"))))))","v":""},{"$f":"IF(R139=\"\",\"\",IF(AA133=\"F\",\"\",IF(AA133=\"T\",IF(R139<=X133,\"þ\",IF(R139<=Y133,\"G2\",IF(R139<=Z133,\"G3\",\"\"))))))","v":""},{"$f":"IF(R139=\"\",\"\",IF(AA133=\"T\",\"\",IF(AA133=\"F\",IF(R139>=X133,\"þ\",IF(R139>=Y133,\"G2\",IF(R139>=Z133,\"G3\",\"\"))))))","v":""},"","","","",139]
[null,null,"","",{"$f":"'Womens LJ'!$E$32","v":7},{"$f":"IF('Womens LJ'!$I$26=0,\"\",'Womens LJ'!$F$32)","v":""},{"$f":"IF(OR($F140=\"\",$F140=0),\"\",IF($F140>90,VLOOKUP(F140,eventcodes,2,FALSE),HLOOKUP(F140,womens_declare,B136,FALSE)))","v":""},"",{"$f":"IF('Womens LJ'!$I$26=0,\"\",'Womens LJ'!$I$32)","v":""},null,null,{"$f":"IF(AA133=\"T\",AB140,AC140)","v":""},null,{"$f":"'Womens LJ'!$K$32","v":7},{"$f":"IF('Womens LJ'!$I$26=0,\"\",'Womens LJ'!$L$32)","v":""},{"$f":"IF(OR($O140=\"\",$O140=0),\"\",HLOOKUP(O140,womens_declare,B136,FALSE))","v":""},"",{"$f":"IF('Womens LJ'!$I$26=0,\"\",'Womens LJ'!$U$32)","v":""},null,{"$f":"IF(AA133=\"T\",AD140,AE140)","v":""},null,null,null,null,null,null,null,{"$f":"IF(I140=\"\",\"\",IF(AA133=\"F\",\"\",IF(AA133=\"T\",IF(I140<=X133,\"þ\",IF(I140<=Y133,\"G2\",IF(I140<=Z133,\"G3\",\"\"))))))","v":""},{"$f":"IF(I140=\"\",\"\",IF(AA133=\"T\",\"\",IF(AA133=\"F\",IF(I140>=X133,\"þ\",IF(I140>=Y133,\"G2\",IF(I140>=Z133,\"G3\",\"\"))))))","v":""},{"$f":"IF(R140=\"\",\"\",IF(AA133=\"F\",\"\",IF(AA133=\"T\",IF(R140<=X133,\"þ\",IF(R140<=Y133,\"G2\",IF(R140<=Z133,\"G3\",\"\"))))))","v":""},{"$f":"IF(R140=\"\",\"\",IF(AA133=\"T\",\"\",IF(AA133=\"F\",IF(R140>=X133,\"þ\",IF(R140>=Y133,\"G2\",IF(R140>=Z133,\"G3\",\"\"))))))","v":""},"","","","",140]
[null,null,"","",{"$f":"'Womens LJ'!$E$33","v":8},{"$f":"IF('Womens LJ'!$I$26=0,\"\",'Womens LJ'!$F$33)","v":""},{"$f":"IF(OR($F141=\"\",$F141=0),\"\",IF($F141>90,VLOOKUP(F141,eventcodes,2,FALSE),HLOOKUP(F141,womens_declare,B136,FALSE)))","v":""},"",{"$f":"IF('Womens LJ'!$I$26=0,\"\",'Womens LJ'!$I$33)","v":""},null,null,{"$f":"IF(AA133=\"T\",AB141,AC141)","v":""},null,{"$f":"'Womens LJ'!$K$33","v":8},{"$f":"IF('Womens LJ'!$I$26=0,\"\",'Womens LJ'!$L$33)","v":""},{"$f":"IF(OR($O141=\"\",$O141=0),\"\",HLOOKUP(O141,womens_declare,B136,FALSE))","v":""},"",{"$f":"IF('Womens LJ'!$I$26=0,\"\",'Womens LJ'!$U$33)","v":""},null,{"$f":"IF(AA133=\"T\",AD141,AE141)","v":""},null,null,null,null,null,null,null,{"$f":"IF(I141=\"\",\"\",IF(AA133=\"F\",\"\",IF(AA133=\"T\",IF(I141<=X133,\"þ\",IF(I141<=Y133,\"G2\",IF(I141<=Z133,\"G3\",\"\"))))))","v":""},{"$f":"IF(I141=\"\",\"\",IF(AA133=\"T\",\"\",IF(AA133=\"F\",IF(I141>=X133,\"þ\",IF(I141>=Y133,\"G2\",IF(I141>=Z133,\"G3\",\"\"))))))","v":""},{"$f":"IF(R141=\"\",\"\",IF(AA133=\"F\",\"\",IF(AA133=\"T\",IF(R141<=X133,\"þ\",IF(R141<=Y133,\"G2\",IF(R141<=Z133,\"G3\",\"\"))))))","v":""},{"$f":"IF(R141=\"\",\"\",IF(AA133=\"T\",\"\",IF(AA133=\"F\",IF(R141>=X133,\"þ\",IF(R141>=Y133,\"G2\",IF(R141>=Z133,\"G3\",\"\"))))))","v":""},"","","","",141]
[null,null,null,null,null,null,null,null,null,null,null,null,null,null,null,null,null,null,null,null,null,null,null,null,null,null,null,null,null,null,null,null,null,null,null,142]
[null,null,{"$f":"VLOOKUP(A144,Handbook!$A$4:$AK$24,36,FALSE)","v":"D"},null,{"$f":"CONCATENATE(VLOOKUP(A144,womens_handbook,3,FALSE),\" A\")","v":"Women's Triple Jump A"},null,null,{"$f":"IF(A144=\"\",\"\",IF(VLOOKUP(A144,Handbook!$A$4:$AI$24,35,FALSE)=\"Y\",\"Wind=\",\"\"))","v":""},null,null,null,null,null,null,{"$f":"CONCATENATE(VLOOKUP(A144,womens_handbook,3,FALSE),\" B\")","v":"Women's Triple Jump B"},null,{"$f":"H143","v":""},{"$f":"IF(I143=\"\",\"\",I143)","v":""},null,null,null,{"$f":"IF($A144=\"\",\"\",VLOOKUP($A144,Handbook!$A$26:$AK$46,21,FALSE))","v":12.05},{"$f":"IF($A144=\"\",\"\",VLOOKUP($A144,Handbook!$A$26:$AK$46,22,FALSE))","v":12.05},{"$f":"IF($A144=\"\",\"\",VLOOKUP($A144,Handbook!$A$26:$AK$46,23,FALSE))","v":9.5},{"$f":"IF($A144=\"\",\"\",VLOOKUP($A144,Handbook!$A$26:$AK$46,24,FALSE))","v":10},{"$f":"IF($A144=\"\",\"\",VLOOKUP($A144,Handbook!$A$26:$AK$46,25,FALSE))","v":10},{"$f":"IF($A144=\"\",\"\",VLOOKUP($A144,Handbook!$A$26:$AK$46,34,FALSE))","v":"F"},null,null,null,null,null,null,null,null,143]
[16,null,{"$f":"IF(F144=\"\",\"\",IF(F144>10,F144/11,F144))","v":""},{"$f":"IF(O144=\"\",\"\",IF(O144>10,O144/11,O144))","v":""},{"$f":"'Womens TJ'!$E$26","v":1},{"$f":"IF('Womens TJ'!$I$26=0,\"\",'Womens TJ'!$F$26)","v":""},{"$f":"IF(OR($F144=\"\",$F144=0),\"\",IF($F144>90,VLOOKUP(F144,eventcodes,2,FALSE),HLOOKUP(F144,womens_declare,B146,FALSE)))","v":""},{"$f":"IF(OR($F144=\"\",$F144=0),\"\",IF($F144>90,\"\",VLOOKUP(C144,matchday,2,FALSE)))","v":""},{"$f":"IF('Womens TJ'!$I$26=0,\"\",'Womens TJ'!$I$26)","v":""},{"$f":"IF(I144=\"\",\"\",IF(AA143=\"T\",V144,V145))","v":""},null,{"$f":"IF(AA143=\"T\",AB144,AC144)","v":""},null,{"$f":"'Womens TJ'!$K$26","v":1},{"$f":"IF('Womens TJ'!$I$26=0,\"\",'Womens TJ'!$L$26)","v":""},{"$f":"IF(OR($O144=\"\",$O144=0),\"\",HLOOKUP(O144,womens_declare,B146,FALSE))","v":""},{"$f":"IF(OR($O144=\"\",$O144=0),\"\",VLOOKUP(D144,matchday,2,FALSE))","v":""},{"$f":"IF('Womens TJ'!$I$26=0,\"\",'Womens TJ'!$U$26)","v":""},null,{"$f":"IF(AA143=\"T\",AD144,AE144)","v":""},null,{"$f":"IF(AA143=\"F\",\"\",IF(I144<V143,\"LR\",IF(I144=V143,\"=LR\",IF(I144<W143,\"DR\",IF(I144=W143,\"=DR\",\"\")))))","v":""},null,null,null,null,null,{"$f":"IF(I144=\"\",\"\",IF(AA143=\"F\",\"\",IF(AA143=\"T\",IF(I144<=X143,\"þ\",IF(I144<=Y143,\"G2\",IF(I144<=Z143,\"G3\",\"\"))))))","v":""},{"$f":"IF(I144=\"\",\"\",IF(AA143=\"T\",\"\",IF(AA143=\"F\",IF(I144>=X143,\"þ\",IF(I144>=Y143,\"G2\",IF(I144>=Z143,\"G3\",\"\"))))))","v":""},{"$f":"IF(R144=\"\",\"\",IF(AA143=\"F\",\"\",IF(AA143=\"T\",IF(R144<=X143,\"þ\",IF(R144<=Y143,\"G2\",IF(R144<=Z143,\"G3\",\"\"))))))","v":""},{"$f":"IF(R144=\"\",\"\",IF(AA143=\"T\",\"\",IF(AA143=\"F\",IF(R144>=X143,\"þ\",IF(R144>=Y143,\"G2\",IF(R144>=Z143,\"G3\",\"\"))))))","v":""},{"$f":"C144","v":""},{"$f":"IF(F144=\"\",\"\",IF(LEFT(I144,1)=\"D\",0,VLOOKUP(E144,$AQ$4:$AR$40,2,FALSE)))","v":""},{"$f":"D144","v":""},{"$f":"IF(O144=\"\",\"\",IF(LEFT(R144,1)=\"D\",0,VLOOKUP(N144,$AQ$4:$AS$40,3,FALSE)))","v":""},144]
[null,{"$f":"VLOOKUP(A144,Handbook!$A$4:$AK$24,37,FALSE)","v":17},{"$f":"IF(F145=\"\",\"\",IF(F145>10,F145/11,F145))","v":""},{"$f":"IF(O145=\"\",\"\",IF(O145>10,O145/11,O145))","v":""},{"$f":"'Womens TJ'!$E$27","v":2},{"$f":"IF('Womens TJ'!$I$26=0,\"\",'Womens TJ'!$F$27)","v":""},{"$f":"IF(OR($F145=\"\",$F145=0),\"\",IF($F145>90,VLOOKUP(F145,eventcodes,2,FALSE),HLOOKUP(F145,womens_declare,B146,FALSE)))","v":""},"",{"$f":"IF('Womens TJ'!$I$26=0,\"\",'Womens TJ'!$I$27)","v":""},null,null,{"$f":"IF(AA143=\"T\",AB145,AC145)","v":""},null,{"$f":"'Womens TJ'!$K$27","v":2},{"$f":"IF('Womens TJ'!$I$26=0,\"\",'Womens TJ'!$L$27)","v":""},{"$f":"IF(OR($O145=\"\",$O145=0),\"\",HLOOKUP(O145,womens_declare,B146,FALSE))","v":""},"",{"$f":"IF('Womens TJ'!$I$26=0,\"\",'Womens TJ'!$U$27)","v":""},null,{"$f":"IF(AA143=\"T\",AD145,AE145)","v":""},null,{"$f":"IF(AA143=\"T\",\"\",IF(I144>V143,\"LR\",IF(I144=V143,\"=LR\",IF(I144>W143,\"DR\",IF(I144=W143,\"=DR\",\"\")))))","v":"LR"},null,null,null,null,null,{"$f":"IF(I145=\"\",\"\",IF(AA143=\"F\",\"\",IF(AA143=\"T\",IF(I145<=X143,\"þ\",IF(I145<=Y143,\"G2\",IF(I145<=Z143,\"G3\",\"\"))))))","v":""},{"$f":"IF(I145=\"\",\"\",IF(AA143=\"T\",\"\",IF(AA143=\"F\",IF(I145>=X143,\"þ\",IF(I145>=Y143,\"G2\",IF(I145>=Z143,\"G3\",\"\"))))))","v":""},{"$f":"IF(R145=\"\",\"\",IF(AA143=\"F\",\"\",IF(AA143=\"T\",IF(R145<=X143,\"þ\",IF(R145<=Y143,\"G2\",IF(R145<=Z143,\"G3\",\"\"))))))","v":""},{"$f":"IF(R145=\"\",\"\",IF(AA143=\"T\",\"\",IF(AA143=\"F\",IF(R145>=X143,\"þ\",IF(R145>=Y143,\"G2\",IF(R145>=Z143,\"G3\",\"\"))))))","v":""},"","","","",145]
[null,{"$f":"VLOOKUP(A144,'Declarations (M)'!$A$3:$T$31,20,FALSE)","v":17},"","",{"$f":"'Womens TJ'!$E$28","v":3},{"$f":"IF('Womens TJ'!$I$26=0,\"\",'Womens TJ'!$F$28)","v":""},{"$f":"IF(OR($F146=\"\",$F146=0),\"\",IF($F146>90,VLOOKUP(F146,eventcodes,2,FALSE),HLOOKUP(F146,womens_declare,B146,FALSE)))","v":""},"",{"$f":"IF('Womens TJ'!$I$26=0,\"\",'Womens TJ'!$I$28)","v":""},null,null,{"$f":"IF(AA143=\"T\",AB146,AC146)","v":""},null,{"$f":"'Womens TJ'!$K$28","v":3},{"$f":"IF('Womens TJ'!$I$26=0,\"\",'Womens TJ'!$L$28)","v":""},{"$f":"IF(OR($O146=\"\",$O146=0),\"\",HLOOKUP(O146,womens_declare,B146,FALSE))","v":""},"",{"$f":"IF('Womens TJ'!$I$26=0,\"\",'Womens TJ'!$U$28)","v":""},null,{"$f":"IF(AA143=\"T\",AD146,AE146)","v":""},null,null,null,null,null,null,null,{"$f":"IF(I146=\"\",\"\",IF(AA143=\"F\",\"\",IF(AA143=\"T\",IF(I146<=X143,\"þ\",IF(I146<=Y143,\"G2\",IF(I146<=Z143,\"G3\",\"\"))))))","v":""},{"$f":"IF(I146=\"\",\"\",IF(AA143=\"T\",\"\",IF(AA143=\"F\",IF(I146>=X143,\"þ\",IF(I146>=Y143,\"G2\",IF(I146>=Z143,\"G3\",\"\"))))))","v":""},{"$f":"IF(R146=\"\",\"\",IF(AA143=\"F\",\"\",IF(AA143=\"T\",IF(R146<=X143,\"þ\",IF(R146<=Y143,\"G2\",IF(R146<=Z143,\"G3\",\"\"))))))","v":""},{"$f":"IF(R146=\"\",\"\",IF(AA143=\"T\",\"\",IF(AA143=\"F\",IF(R146>=X143,\"þ\",IF(R146>=Y143,\"G2\",IF(R146>=Z143,\"G3\",\"\"))))))","v":""},"","","","",146]
[null,null,"","",{"$f":"'Womens TJ'!$E$29","v":4},{"$f":"IF('Womens TJ'!$I$26=0,\"\",'Womens TJ'!$F$29)","v":""},{"$f":"IF(OR($F147=\"\",$F147=0),\"\",IF($F147>90,VLOOKUP(F147,eventcodes,2,FALSE),HLOOKUP(F147,womens_declare,B146,FALSE)))","v":""},"",{"$f":"IF('Womens TJ'!$I$26=0,\"\",'Womens TJ'!$I$29)","v":""},null,null,{"$f":"IF(AA143=\"T\",AB147,AC147)","v":""},null,{"$f":"'Womens TJ'!$K$29","v":4},{"$f":"IF('Womens TJ'!$I$26=0,\"\",'Womens TJ'!$L$29)","v":""},{"$f":"IF(OR($O147=\"\",$O147=0),\"\",HLOOKUP(O147,womens_declare,B146,FALSE))","v":""},"",{"$f":"IF('Womens TJ'!$I$26=0,\"\",'Womens TJ'!$U$29)","v":""},null,{"$f":"IF(AA143=\"T\",AD147,AE147)","v":""},null,null,null,null,null,null,null,{"$f":"IF(I147=\"\",\"\",IF(AA143=\"F\",\"\",IF(AA143=\"T\",IF(I147<=X143,\"þ\",IF(I147<=Y143,\"G2\",IF(I147<=Z143,\"G3\",\"\"))))))","v":""},{"$f":"IF(I147=\"\",\"\",IF(AA143=\"T\",\"\",IF(AA143=\"F\",IF(I147>=X143,\"þ\",IF(I147>=Y143,\"G2\",IF(I147>=Z143,\"G3\",\"\"))))))","v":""},{"$f":"IF(R147=\"\",\"\",IF(AA143=\"F\",\"\",IF(AA143=\"T\",IF(R147<=X143,\"þ\",IF(R147<=Y143,\"G2\",IF(R147<=Z143,\"G3\",\"\"))))))","v":""},{"$f":"IF(R147=\"\",\"\",IF(AA143=\"T\",\"\",IF(AA143=\"F\",IF(R147>=X143,\"þ\",IF(R147>=Y143,\"G2\",IF(R147>=Z143,\"G3\",\"\"))))))","v":""},"","","","",147]
[null,null,"","",{"$f":"'Womens TJ'!$E$30","v":5},{"$f":"IF('Womens TJ'!$I$26=0,\"\",'Womens TJ'!$F$30)","v":""},{"$f":"IF(OR($F148=\"\",$F148=0),\"\",IF($F148>90,VLOOKUP(F148,eventcodes,2,FALSE),HLOOKUP(F148,womens_declare,B146,FALSE)))","v":""},"",{"$f":"IF('Womens TJ'!$I$26=0,\"\",'Womens TJ'!$I$30)","v":""},null,null,{"$f":"IF(AA143=\"T\",AB148,AC148)","v":""},null,{"$f":"'Womens TJ'!$K$30","v":5},{"$f":"IF('Womens TJ'!$I$26=0,\"\",'Womens TJ'!$L$30)","v":""},{"$f":"IF(OR($O148=\"\",$O148=0),\"\",HLOOKUP(O148,womens_declare,B146,FALSE))","v":""},"",{"$f":"IF('Womens TJ'!$I$26=0,\"\",'Womens TJ'!$U$30)","v":""},null,{"$f":"IF(AA143=\"T\",AD148,AE148)","v":""},null,null,null,null,null,null,null,{"$f":"IF(I148=\"\",\"\",IF(AA143=\"F\",\"\",IF(AA143=\"T\",IF(I148<=X143,\"þ\",IF(I148<=Y143,\"G2\",IF(I148<=Z143,\"G3\",\"\"))))))","v":""},{"$f":"IF(I148=\"\",\"\",IF(AA143=\"T\",\"\",IF(AA143=\"F\",IF(I148>=X143,\"þ\",IF(I148>=Y143,\"G2\",IF(I148>=Z143,\"G3\",\"\"))))))","v":""},{"$f":"IF(R148=\"\",\"\",IF(AA143=\"F\",\"\",IF(AA143=\"T\",IF(R148<=X143,\"þ\",IF(R148<=Y143,\"G2\",IF(R148<=Z143,\"G3\",\"\"))))))","v":""},{"$f":"IF(R148=\"\",\"\",IF(AA143=\"T\",\"\",IF(AA143=\"F\",IF(R148>=X143,\"þ\",IF(R148>=Y143,\"G2\",IF(R148>=Z143,\"G3\",\"\"))))))","v":""},"","","","",148]
[null,null,"","",{"$f":"'Womens TJ'!$E$31","v":6},{"$f":"IF('Womens TJ'!$I$26=0,\"\",'Womens TJ'!$F$31)","v":""},{"$f":"IF(OR($F149=\"\",$F149=0),\"\",IF($F149>90,VLOOKUP(F149,eventcodes,2,FALSE),HLOOKUP(F149,womens_declare,B146,FALSE)))","v":""},"",{"$f":"IF('Womens TJ'!$I$26=0,\"\",'Womens TJ'!$I$31)","v":""},null,null,{"$f":"IF(AA143=\"T\",AB149,AC149)","v":""},null,{"$f":"'Womens TJ'!$K$31","v":6},{"$f":"IF('Womens TJ'!$I$26=0,\"\",'Womens TJ'!$L$31)","v":""},{"$f":"IF(OR($O149=\"\",$O149=0),\"\",HLOOKUP(O149,womens_declare,B146,FALSE))","v":""},"",{"$f":"IF('Womens TJ'!$I$26=0,\"\",'Womens TJ'!$U$31)","v":""},null,{"$f":"IF(AA143=\"T\",AD149,AE149)","v":""},null,null,null,null,null,null,null,{"$f":"IF(I149=\"\",\"\",IF(AA143=\"F\",\"\",IF(AA143=\"T\",IF(I149<=X143,\"þ\",IF(I149<=Y143,\"G2\",IF(I149<=Z143,\"G3\",\"\"))))))","v":""},{"$f":"IF(I149=\"\",\"\",IF(AA143=\"T\",\"\",IF(AA143=\"F\",IF(I149>=X143,\"þ\",IF(I149>=Y143,\"G2\",IF(I149>=Z143,\"G3\",\"\"))))))","v":""},{"$f":"IF(R149=\"\",\"\",IF(AA143=\"F\",\"\",IF(AA143=\"T\",IF(R149<=X143,\"þ\",IF(R149<=Y143,\"G2\",IF(R149<=Z143,\"G3\",\"\"))))))","v":""},{"$f":"IF(R149=\"\",\"\",IF(AA143=\"T\",\"\",IF(AA143=\"F\",IF(R149>=X143,\"þ\",IF(R149>=Y143,\"G2\",IF(R149>=Z143,\"G3\",\"\"))))))","v":""},"","","","",149]
[null,null,"","",{"$f":"'Womens TJ'!$E$32","v":7},{"$f":"IF('Womens TJ'!$I$26=0,\"\",'Womens TJ'!$F$32)","v":""},{"$f":"IF(OR($F150=\"\",$F150=0),\"\",IF($F150>90,VLOOKUP(F150,eventcodes,2,FALSE),HLOOKUP(F150,womens_declare,B146,FALSE)))","v":""},"",{"$f":"IF('Womens TJ'!$I$26=0,\"\",'Womens TJ'!$I$32)","v":""},null,null,{"$f":"IF(AA143=\"T\",AB150,AC150)","v":""},null,{"$f":"'Womens TJ'!$K$32","v":7},{"$f":"IF('Womens TJ'!$I$26=0,\"\",'Womens TJ'!$L$32)","v":""},{"$f":"IF(OR($O150=\"\",$O150=0),\"\",HLOOKUP(O150,womens_declare,B146,FALSE))","v":""},"",{"$f":"IF('Womens TJ'!$I$26=0,\"\",'Womens TJ'!$U$32)","v":""},null,{"$f":"IF(AA143=\"T\",AD150,AE150)","v":""},null,null,null,null,null,null,null,{"$f":"IF(I150=\"\",\"\",IF(AA143=\"F\",\"\",IF(AA143=\"T\",IF(I150<=X143,\"þ\",IF(I150<=Y143,\"G2\",IF(I150<=Z143,\"G3\",\"\"))))))","v":""},{"$f":"IF(I150=\"\",\"\",IF(AA143=\"T\",\"\",IF(AA143=\"F\",IF(I150>=X143,\"þ\",IF(I150>=Y143,\"G2\",IF(I150>=Z143,\"G3\",\"\"))))))","v":""},{"$f":"IF(R150=\"\",\"\",IF(AA143=\"F\",\"\",IF(AA143=\"T\",IF(R150<=X143,\"þ\",IF(R150<=Y143,\"G2\",IF(R150<=Z143,\"G3\",\"\"))))))","v":""},{"$f":"IF(R150=\"\",\"\",IF(AA143=\"T\",\"\",IF(AA143=\"F\",IF(R150>=X143,\"þ\",IF(R150>=Y143,\"G2\",IF(R150>=Z143,\"G3\",\"\"))))))","v":""},"","","","",150]
[null,null,"","",{"$f":"'Womens TJ'!$E$33","v":8},{"$f":"IF('Womens TJ'!$I$26=0,\"\",'Womens TJ'!$F$33)","v":""},{"$f":"IF(OR($F151=\"\",$F151=0),\"\",IF($F151>90,VLOOKUP(F151,eventcodes,2,FALSE),HLOOKUP(F151,womens_declare,B146,FALSE)))","v":""},"",{"$f":"IF('Womens TJ'!$I$26=0,\"\",'Womens TJ'!$I$33)","v":""},null,null,{"$f":"IF(AA143=\"T\",AB151,AC151)","v":""},null,{"$f":"'Womens TJ'!$K$33","v":8},{"$f":"IF('Womens TJ'!$I$26=0,\"\",'Womens TJ'!$L$33)","v":""},{"$f":"IF(OR($O151=\"\",$O151=0),\"\",HLOOKUP(O151,womens_declare,B146,FALSE))","v":""},"",{"$f":"IF('Womens TJ'!$I$26=0,\"\",'Womens TJ'!$U$33)","v":""},null,{"$f":"IF(AA143=\"T\",AD151,AE151)","v":""},null,null,null,null,null,null,null,{"$f":"IF(I151=\"\",\"\",IF(AA143=\"F\",\"\",IF(AA143=\"T\",IF(I151<=X143,\"þ\",IF(I151<=Y143,\"G2\",IF(I151<=Z143,\"G3\",\"\"))))))","v":""},{"$f":"IF(I151=\"\",\"\",IF(AA143=\"T\",\"\",IF(AA143=\"F\",IF(I151>=X143,\"þ\",IF(I151>=Y143,\"G2\",IF(I151>=Z143,\"G3\",\"\"))))))","v":""},{"$f":"IF(R151=\"\",\"\",IF(AA143=\"F\",\"\",IF(AA143=\"T\",IF(R151<=X143,\"þ\",IF(R151<=Y143,\"G2\",IF(R151<=Z143,\"G3\",\"\"))))))","v":""},{"$f":"IF(R151=\"\",\"\",IF(AA143=\"T\",\"\",IF(AA143=\"F\",IF(R151>=X143,\"þ\",IF(R151>=Y143,\"G2\",IF(R151>=Z143,\"G3\",\"\"))))))","v":""},"","","","",151]
[null,null,null,null,null,null,null,null,null,null,null,null,null,null,null,null,null,null,null,null,null,null,null,null,null,null,null,null,null,null,null,null,null,null,null,152]
[null,null,{"$f":"VLOOKUP(A154,Handbook!$A$26:$AK$46,36,FALSE)","v":"H"},null,{"$f":"CONCATENATE(VLOOKUP(A154,womens_handbook,3,FALSE),\" A\")","v":"Women's High Jump A"},null,null,{"$f":"IF(A154=\"\",\"\",IF(VLOOKUP(A154,Handbook!$A$4:$AI$24,35,FALSE)=\"Y\",\"Wind=\",\"\"))","v":""},null,null,null,null,null,null,{"$f":"CONCATENATE(VLOOKUP(A154,womens_handbook,3,FALSE),\" B\")","v":"Women's High Jump B"},null,{"$f":"H153","v":""},{"$f":"IF(I153=\"\",\"\",I153)","v":""},null,null,null,{"$f":"IF($A154=\"\",\"\",VLOOKUP($A154,Handbook!$A$26:$AK$46,21,FALSE))","v":1.86},{"$f":"IF($A154=\"\",\"\",VLOOKUP($A154,Handbook!$A$26:$AK$46,22,FALSE))","v":1.86},{"$f":"IF($A154=\"\",\"\",VLOOKUP($A154,Handbook!$A$26:$AK$46,23,FALSE))","v":1.5},{"$f":"IF($A154=\"\",\"\",VLOOKUP($A154,Handbook!$A$26:$AK$46,24,FALSE))","v":1.55},{"$f":"IF($A154=\"\",\"\",VLOOKUP($A154,Handbook!$A$26:$AK$46,25,FALSE))","v":1.55},{"$f":"IF($A154=\"\",\"\",VLOOKUP($A154,Handbook!$A$26:$AK$46,34,FALSE))","v":"F"},null,null,null,null,null,null,null,null,153]
[14,null,{"$f":"IF(F154=\"\",\"\",IF(F154>10,F154/11,F154))","v":""},{"$f":"IF(O154=\"\",\"\",IF(O154>10,O154/11,O154))","v":""},{"$f":"'Womens HJ'!$E26","v":""},{"$f":"IF('Womens HJ'!$I$26=0,\"\",'Womens HJ'!$F26)","v":""},{"$f":"IF($F154=\"\",\"\",IF($F154>90,VLOOKUP(F154,eventcodes,2,FALSE),HLOOKUP(F154,womens_declare,B156,FALSE)))","v":""},{"$f":"IF($F154=\"\",\"\",IF($F154>90,\"\",VLOOKUP(C154,matchday,2,FALSE)))","v":""},{"$f":"IF('Womens HJ'!$I$26=0,\"\",'Womens HJ'!$I26)","v":""},{"$f":"IF(I154=\"\",\"\",IF(AA153=\"T\",V154,V155))","v":""},null,{"$f":"IF(AA153=\"T\",AB154,AC154)","v":""},null,{"$f":"'Womens HJ'!$K26","v":""},{"$f":"IF('Womens HJ'!$I$26=0,\"\",'Womens HJ'!$M26)","v":""},{"$f":"IF($O154=\"\",\"\",HLOOKUP(O154,womens_declare,B156,FALSE))","v":""},{"$f":"IF($O154=\"\",\"\",VLOOKUP(D154,matchday,2,FALSE))","v":""},{"$f":"IF('Womens HJ'!$I$26=0,\"\",'Womens HJ'!$AA26)","v":""},null,{"$f":"IF(AA153=\"T\",AD154,AE154)","v":""},null,{"$f":"IF(AA153=\"F\",\"\",IF(I154<V153,\"LR\",IF(I154=V153,\"=LR\",IF(I154<W153,\"DR\",IF(I154=W153,\"=DR\",\"\")))))","v":""},null,null,null,null,null,{"$f":"IF(I154=\"\",\"\",IF(AA153=\"F\",\"\",IF(AA153=\"T\",IF(I154<=X153,\"þ\",IF(I154<=Y153,\"G2\",IF(I154<=Z153,\"G3\",\"\"))))))","v":""},{"$f":"IF(I154=\"\",\"\",IF(AA153=\"T\",\"\",IF(AA153=\"F\",IF(I154>=X153,\"þ\",IF(I154>=Y153,\"G2\",IF(I154>=Z153,\"G3\",\"\"))))))","v":""},{"$f":"IF(R154=\"\",\"\",IF(AA153=\"F\",\"\",IF(AA153=\"T\",IF(R154<=X153,\"þ\",IF(R154<=Y153,\"G2\",IF(R154<=Z153,\"G3\",\"\"))))))","v":""},{"$f":"IF(R154=\"\",\"\",IF(AA153=\"T\",\"\",IF(AA153=\"F\",IF(R154>=X153,\"þ\",IF(R154>=Y153,\"G2\",IF(R154>=Z153,\"G3\",\"\"))))))","v":""},{"$f":"C154","v":""},{"$f":"IF(F154=\"\",\"\",IF(LEFT(I154,1)=\"D\",0,VLOOKUP(E154,$AQ$4:$AR$40,2,FALSE)))","v":""},{"$f":"D154","v":""},{"$f":"IF(O154=\"\",\"\",IF(LEFT(R154,1)=\"D\",0,VLOOKUP(N154,$AQ$4:$AS$40,3,FALSE)))","v":""},154]
[null,{"$f":"VLOOKUP(A154,Handbook!$A$26:$AK$46,37,FALSE)","v":15},"","",{"$f":"'Womens HJ'!$E27","v":""},{"$f":"IF('Womens HJ'!$I$26=0,\"\",'Womens HJ'!$F27)","v":""},{"$f":"IF($F155=\"\",\"\",HLOOKUP(F155,womens_declare,B156,FALSE))","v":""},{"$f":"IF($F155=\"\",\"\",VLOOKUP(C155,matchday,2,FALSE))","v":""},{"$f":"IF('Womens HJ'!$I$26=0,\"\",'Womens HJ'!$I27)","v":""},null,null,{"$f":"IF(AA153=\"T\",AB155,AC155)","v":""},null,{"$f":"'Womens HJ'!$K27","v":""},{"$f":"IF('Womens HJ'!$I$26=0,\"\",'Womens HJ'!$M27)","v":""},{"$f":"IF($O155=\"\",\"\",HLOOKUP(O155,womens_declare,B156,FALSE))","v":""},"",{"$f":"IF('Womens HJ'!$I$26=0,\"\",'Womens HJ'!$AA27)","v":""},null,{"$f":"IF(AA153=\"T\",AD155,AE155)","v":""},null,{"$f":"IF(AA153=\"T\",\"\",IF(I154>V153,\"LR\",IF(I154=V153,\"=LR\",IF(I154>W153,\"DR\",IF(I154=W153,\"=DR\",\"\")))))","v":"LR"},null,null,null,null,null,{"$f":"IF(I155=\"\",\"\",IF(AA153=\"F\",\"\",IF(AA153=\"T\",IF(I155<=X153,\"þ\",IF(I155<=Y153,\"G2\",IF(I155<=Z153,\"G3\",\"\"))))))","v":""},{"$f":"IF(I155=\"\",\"\",IF(AA153=\"T\",\"\",IF(AA153=\"F\",IF(I155>=X153,\"þ\",IF(I155>=Y153,\"G2\",IF(I155>=Z153,\"G3\",\"\"))))))","v":""},{"$f":"IF(R155=\"\",\"\",IF(AA153=\"F\",\"\",IF(AA153=\"T\",IF(R155<=X153,\"þ\",IF(R155<=Y153,\"G2\",IF(R155<=Z153,\"G3\",\"\"))))))","v":""},{"$f":"IF(R155=\"\",\"\",IF(AA153=\"T\",\"\",IF(AA153=\"F\",IF(R155>=X153,\"þ\",IF(R155>=Y153,\"G2\",IF(R155>=Z153,\"G3\",\"\"))))))","v":""},"","","","",155]
[null,{"$f":"VLOOKUP(A154,womens_declare,20,FALSE)","v":15},"","",{"$f":"'Womens HJ'!$E28","v":""},{"$f":"IF('Womens HJ'!$I$26=0,\"\",'Womens HJ'!$F28)","v":""},{"$f":"IF($F156=\"\",\"\",HLOOKUP(F156,womens_declare,B156,FALSE))","v":""},"",{"$f":"IF('Womens HJ'!$I$26=0,\"\",'Womens HJ'!$I28)","v":""},null,null,{"$f":"IF(AA153=\"T\",AB156,AC156)","v":""},null,{"$f":"'Womens HJ'!$K28","v":""},{"$f":"IF('Womens HJ'!$I$26=0,\"\",'Womens HJ'!$M28)","v":""},{"$f":"IF($O156=\"\",\"\",HLOOKUP(O156,womens_declare,B156,FALSE))","v":""},"",{"$f":"IF('Womens HJ'!$I$26=0,\"\",'Womens HJ'!$AA28)","v":""},null,{"$f":"IF(AA153=\"T\",AD156,AE156)","v":""},null,null,null,null,null,null,null,{"$f":"IF(I156=\"\",\"\",IF(AA153=\"F\",\"\",IF(AA153=\"T\",IF(I156<=X153,\"þ\",IF(I156<=Y153,\"G2\",IF(I156<=Z153,\"G3\",\"\"))))))","v":""},{"$f":"IF(I156=\"\",\"\",IF(AA153=\"T\",\"\",IF(AA153=\"F\",IF(I156>=X153,\"þ\",IF(I156>=Y153,\"G2\",IF(I156>=Z153,\"G3\",\"\"))))))","v":""},{"$f":"IF(R156=\"\",\"\",IF(AA153=\"F\",\"\",IF(AA153=\"T\",IF(R156<=X153,\"þ\",IF(R156<=Y153,\"G2\",IF(R156<=Z153,\"G3\",\"\"))))))","v":""},{"$f":"IF(R156=\"\",\"\",IF(AA153=\"T\",\"\",IF(AA153=\"F\",IF(R156>=X153,\"þ\",IF(R156>=Y153,\"G2\",IF(R156>=Z153,\"G3\",\"\"))))))","v":""},"","","","",156]
[null,null,"","",{"$f":"'Womens HJ'!$E29","v":""},{"$f":"IF('Womens HJ'!$I$26=0,\"\",'Womens HJ'!$F29)","v":""},{"$f":"IF($F157=\"\",\"\",HLOOKUP(F157,womens_declare,B156,FALSE))","v":""},"",{"$f":"IF('Womens HJ'!$I$26=0,\"\",'Womens HJ'!$I29)","v":""},null,null,{"$f":"IF(AA153=\"T\",AB157,AC157)","v":""},null,{"$f":"'Womens HJ'!$K29","v":""},{"$f":"IF('Womens HJ'!$I$26=0,\"\",'Womens HJ'!$M29)","v":""},{"$f":"IF($O157=\"\",\"\",HLOOKUP(O157,womens_declare,B156,FALSE))","v":""},"",{"$f":"IF('Womens HJ'!$I$26=0,\"\",'Womens HJ'!$AA29)","v":""},null,{"$f":"IF(AA153=\"T\",AD157,AE157)","v":""},null,null,null,null,null,null,null,{"$f":"IF(I157=\"\",\"\",IF(AA153=\"F\",\"\",IF(AA153=\"T\",IF(I157<=X153,\"þ\",IF(I157<=Y153,\"G2\",IF(I157<=Z153,\"G3\",\"\"))))))","v":""},{"$f":"IF(I157=\"\",\"\",IF(AA153=\"T\",\"\",IF(AA153=\"F\",IF(I157>=X153,\"þ\",IF(I157>=Y153,\"G2\",IF(I157>=Z153,\"G3\",\"\"))))))","v":""},{"$f":"IF(R157=\"\",\"\",IF(AA153=\"F\",\"\",IF(AA153=\"T\",IF(R157<=X153,\"þ\",IF(R157<=Y153,\"G2\",IF(R157<=Z153,\"G3\",\"\"))))))","v":""},{"$f":"IF(R157=\"\",\"\",IF(AA153=\"T\",\"\",IF(AA153=\"F\",IF(R157>=X153,\"þ\",IF(R157>=Y153,\"G2\",IF(R157>=Z153,\"G3\",\"\"))))))","v":""},"","","","",157]
[null,null,"","",{"$f":"'Womens HJ'!$E30","v":""},{"$f":"IF('Womens HJ'!$I$26=0,\"\",'Womens HJ'!$F30)","v":""},{"$f":"IF($F158=\"\",\"\",HLOOKUP(F158,womens_declare,B156,FALSE))","v":""},"",{"$f":"IF('Womens HJ'!$I$26=0,\"\",'Womens HJ'!$I30)","v":""},null,null,{"$f":"IF(AA153=\"T\",AB158,AC158)","v":""},null,{"$f":"'Womens HJ'!$K30","v":""},{"$f":"IF('Womens HJ'!$I$26=0,\"\",'Womens HJ'!$M30)","v":""},{"$f":"IF($O158=\"\",\"\",HLOOKUP(O158,womens_declare,B156,FALSE))","v":""},"",{"$f":"IF('Womens HJ'!$I$26=0,\"\",'Womens HJ'!$AA30)","v":""},null,{"$f":"IF(AA153=\"T\",AD158,AE158)","v":""},null,null,null,null,null,null,null,{"$f":"IF(I158=\"\",\"\",IF(AA153=\"F\",\"\",IF(AA153=\"T\",IF(I158<=X153,\"þ\",IF(I158<=Y153,\"G2\",IF(I158<=Z153,\"G3\",\"\"))))))","v":""},{"$f":"IF(I158=\"\",\"\",IF(AA153=\"T\",\"\",IF(AA153=\"F\",IF(I158>=X153,\"þ\",IF(I158>=Y153,\"G2\",IF(I158>=Z153,\"G3\",\"\"))))))","v":""},{"$f":"IF(R158=\"\",\"\",IF(AA153=\"F\",\"\",IF(AA153=\"T\",IF(R158<=X153,\"þ\",IF(R158<=Y153,\"G2\",IF(R158<=Z153,\"G3\",\"\"))))))","v":""},{"$f":"IF(R158=\"\",\"\",IF(AA153=\"T\",\"\",IF(AA153=\"F\",IF(R158>=X153,\"þ\",IF(R158>=Y153,\"G2\",IF(R158>=Z153,\"G3\",\"\"))))))","v":""},"","","","",158]
[null,null,"","",{"$f":"'Womens HJ'!$E31","v":""},{"$f":"IF('Womens HJ'!$I$26=0,\"\",'Womens HJ'!$F31)","v":""},{"$f":"IF($F159=\"\",\"\",HLOOKUP(F159,womens_declare,B156,FALSE))","v":""},"",{"$f":"IF('Womens HJ'!$I$26=0,\"\",'Womens HJ'!$I31)","v":""},null,null,{"$f":"IF(AA153=\"T\",AB159,AC159)","v":""},null,{"$f":"'Womens HJ'!$K31","v":""},{"$f":"IF('Womens HJ'!$I$26=0,\"\",'Womens HJ'!$M31)","v":""},{"$f":"IF($O159=\"\",\"\",HLOOKUP(O159,womens_declare,B156,FALSE))","v":""},"",{"$f":"IF('Womens HJ'!$I$26=0,\"\",'Womens HJ'!$AA31)","v":""},null,{"$f":"IF(AA153=\"T\",AD159,AE159)","v":""},null,null,null,null,null,null,null,{"$f":"IF(I159=\"\",\"\",IF(AA153=\"F\",\"\",IF(AA153=\"T\",IF(I159<=X153,\"þ\",IF(I159<=Y153,\"G2\",IF(I159<=Z153,\"G3\",\"\"))))))","v":""},{"$f":"IF(I159=\"\",\"\",IF(AA153=\"T\",\"\",IF(AA153=\"F\",IF(I159>=X153,\"þ\",IF(I159>=Y153,\"G2\",IF(I159>=Z153,\"G3\",\"\"))))))","v":""},{"$f":"IF(R159=\"\",\"\",IF(AA153=\"F\",\"\",IF(AA153=\"T\",IF(R159<=X153,\"þ\",IF(R159<=Y153,\"G2\",IF(R159<=Z153,\"G3\",\"\"))))))","v":""},{"$f":"IF(R159=\"\",\"\",IF(AA153=\"T\",\"\",IF(AA153=\"F\",IF(R159>=X153,\"þ\",IF(R159>=Y153,\"G2\",IF(R159>=Z153,\"G3\",\"\"))))))","v":""},"","","","",159]
[null,null,"","",{"$f":"'Womens HJ'!$E32","v":""},{"$f":"IF('Womens HJ'!$I$26=0,\"\",'Womens HJ'!$F32)","v":""},{"$f":"IF($F160=\"\",\"\",HLOOKUP(F160,womens_declare,B156,FALSE))","v":""},"",{"$f":"IF('Womens HJ'!$I$26=0,\"\",'Womens HJ'!$I32)","v":""},null,null,{"$f":"IF(AA153=\"T\",AB160,AC160)","v":""},null,{"$f":"'Womens HJ'!$K32","v":""},{"$f":"IF('Womens HJ'!$I$26=0,\"\",'Womens HJ'!$M32)","v":""},{"$f":"IF($O160=\"\",\"\",HLOOKUP(O160,womens_declare,B156,FALSE))","v":""},"",{"$f":"IF('Womens HJ'!$I$26=0,\"\",'Womens HJ'!$AA32)","v":""},null,{"$f":"IF(AA153=\"T\",AD160,AE160)","v":""},null,null,null,null,null,null,null,{"$f":"IF(I160=\"\",\"\",IF(AA153=\"F\",\"\",IF(AA153=\"T\",IF(I160<=X153,\"þ\",IF(I160<=Y153,\"G2\",IF(I160<=Z153,\"G3\",\"\"))))))","v":""},{"$f":"IF(I160=\"\",\"\",IF(AA153=\"T\",\"\",IF(AA153=\"F\",IF(I160>=X153,\"þ\",IF(I160>=Y153,\"G2\",IF(I160>=Z153,\"G3\",\"\"))))))","v":""},{"$f":"IF(R160=\"\",\"\",IF(AA153=\"F\",\"\",IF(AA153=\"T\",IF(R160<=X153,\"þ\",IF(R160<=Y153,\"G2\",IF(R160<=Z153,\"G3\",\"\"))))))","v":""},{"$f":"IF(R160=\"\",\"\",IF(AA153=\"T\",\"\",IF(AA153=\"F\",IF(R160>=X153,\"þ\",IF(R160>=Y153,\"G2\",IF(R160>=Z153,\"G3\",\"\"))))))","v":""},"","","","",160]
[null,null,"","",{"$f":"'Womens HJ'!$E33","v":""},{"$f":"IF('Womens HJ'!$I$26=0,\"\",'Womens HJ'!$F33)","v":""},{"$f":"IF($F161=\"\",\"\",HLOOKUP(F161,womens_declare,B156,FALSE))","v":""},"",{"$f":"IF('Womens HJ'!$I$26=0,\"\",'Womens HJ'!$I33)","v":""},null,null,{"$f":"IF(AA153=\"T\",AB161,AC161)","v":""},null,{"$f":"'Womens HJ'!$K33","v":""},{"$f":"IF('Womens HJ'!$I$26=0,\"\",'Womens HJ'!$M33)","v":""},{"$f":"IF($O161=\"\",\"\",HLOOKUP(O161,womens_declare,B156,FALSE))","v":""},"",{"$f":"IF('Womens HJ'!$I$26=0,\"\",'Womens HJ'!$AA33)","v":""},null,{"$f":"IF(AA153=\"T\",AD161,AE161)","v":""},null,null,null,null,null,null,null,{"$f":"IF(I161=\"\",\"\",IF(AA153=\"F\",\"\",IF(AA153=\"T\",IF(I161<=X153,\"þ\",IF(I161<=Y153,\"G2\",IF(I161<=Z153,\"G3\",\"\"))))))","v":""},{"$f":"IF(I161=\"\",\"\",IF(AA153=\"T\",\"\",IF(AA153=\"F\",IF(I161>=X153,\"þ\",IF(I161>=Y153,\"G2\",IF(I161>=Z153,\"G3\",\"\"))))))","v":""},{"$f":"IF(R161=\"\",\"\",IF(AA153=\"F\",\"\",IF(AA153=\"T\",IF(R161<=X153,\"þ\",IF(R161<=Y153,\"G2\",IF(R161<=Z153,\"G3\",\"\"))))))","v":""},{"$f":"IF(R161=\"\",\"\",IF(AA153=\"T\",\"\",IF(AA153=\"F\",IF(R161>=X153,\"þ\",IF(R161>=Y153,\"G2\",IF(R161>=Z153,\"G3\",\"\"))))))","v":""},"","","","",161]
[null,null,null,null,null,null,null,null,null,null,null,null,null,null,null,null,null,null,null,null,null,null,null,null,null,null,null,null,null,null,null,null,null,null,null,162]
[null,null,{"$f":"VLOOKUP(A164,Handbook!$A$26:$AK$46,36,FALSE)","v":"H"},null,{"$f":"CONCATENATE(VLOOKUP(A164,womens_handbook,3,FALSE),\" A\")","v":"Women's Pole Vault A"},null,null,{"$f":"IF(A164=\"\",\"\",IF(VLOOKUP(A164,Handbook!$A$4:$AI$24,35,FALSE)=\"Y\",\"Wind=\",\"\"))","v":""},null,null,null,null,null,null,{"$f":"CONCATENATE(VLOOKUP(A164,womens_handbook,3,FALSE),\" B\")","v":"Women's Pole Vault B"},null,{"$f":"H163","v":""},{"$f":"IF(I163=\"\",\"\",I163)","v":""},null,null,null,{"$f":"IF($A164=\"\",\"\",VLOOKUP($A164,Handbook!$A$26:$AK$46,21,FALSE))","v":4.01},{"$f":"IF($A164=\"\",\"\",VLOOKUP($A164,Handbook!$A$26:$AK$46,22,FALSE))","v":4.01},{"$f":"IF($A164=\"\",\"\",VLOOKUP($A164,Handbook!$A$26:$AK$46,23,FALSE))","v":2.2999999999999998},{"$f":"IF($A164=\"\",\"\",VLOOKUP($A164,Handbook!$A$26:$AK$46,24,FALSE))","v":2.25},{"$f":"IF($A164=\"\",\"\",VLOOKUP($A164,Handbook!$A$26:$AK$46,25,FALSE))","v":2.25},{"$f":"IF($A164=\"\",\"\",VLOOKUP($A164,Handbook!$A$26:$AK$46,34,FALSE))","v":"F"},null,null,null,null,null,null,null,null,163]
[12,null,{"$f":"IF(F164=\"\",\"\",IF(F164>10,F164/11,F164))","v":""},{"$f":"IF(O164=\"\",\"\",IF(O164>10,O164/11,O164))","v":""},{"$f":"'Womens PV'!$E26","v":""},{"$f":"IF('Womens PV'!$I$26=0,\"\",'Womens PV'!$F26)","v":""},{"$f":"IF($F164=\"\",\"\",IF($F164>90,VLOOKUP(F164,eventcodes,2,FALSE),HLOOKUP(F164,womens_declare,B166,FALSE)))","v":""},{"$f":"IF($F164=\"\",\"\",IF($F164>90,\"\",VLOOKUP(C164,matchday,2,FALSE)))","v":""},{"$f":"IF('Womens PV'!$I$26=0,\"\",'Womens PV'!$I26)","v":""},{"$f":"IF(I164=\"\",\"\",IF(AA163=\"T\",V164,V165))","v":""},null,{"$f":"IF(AA163=\"T\",AB164,AC164)","v":""},null,{"$f":"'Womens PV'!$K26","v":""},{"$f":"IF('Womens PV'!$I$26=0,\"\",'Womens PV'!$M26)","v":""},{"$f":"IF($O164=\"\",\"\",HLOOKUP(O164,womens_declare,B166,FALSE))","v":""},{"$f":"IF($O164=\"\",\"\",VLOOKUP(D164,matchday,2,FALSE))","v":""},{"$f":"IF('Womens PV'!$I$26=0,\"\",'Womens PV'!$AA26)","v":""},null,{"$f":"IF(AA163=\"T\",AD164,AE164)","v":""},null,{"$f":"IF(AA163=\"F\",\"\",IF(I164<V163,\"LR\",IF(I164=V163,\"=LR\",IF(I164<W163,\"DR\",IF(I164=W163,\"=DR\",\"\")))))","v":""},null,null,null,null,null,{"$f":"IF(I164=\"\",\"\",IF(AA163=\"F\",\"\",IF(AA163=\"T\",IF(I164<=X163,\"þ\",IF(I164<=Y163,\"G2\",IF(I164<=Z163,\"G3\",\"\"))))))","v":""},{"$f":"IF(I164=\"\",\"\",IF(AA163=\"T\",\"\",IF(AA163=\"F\",IF(I164>=X163,\"þ\",IF(I164>=Y163,\"G2\",IF(I164>=Z163,\"G3\",\"\"))))))","v":""},{"$f":"IF(R164=\"\",\"\",IF(AA163=\"F\",\"\",IF(AA163=\"T\",IF(R164<=X163,\"þ\",IF(R164<=Y163,\"G2\",IF(R164<=Z163,\"G3\",\"\"))))))","v":""},{"$f":"IF(R164=\"\",\"\",IF(AA163=\"T\",\"\",IF(AA163=\"F\",IF(R164>=X163,\"þ\",IF(R164>=Y163,\"G2\",IF(R164>=Z163,\"G3\",\"\"))))))","v":""},{"$f":"C164","v":""},{"$f":"IF(F164=\"\",\"\",IF(LEFT(I164,1)=\"D\",0,VLOOKUP(E164,$AQ$4:$AR$40,2,FALSE)))","v":""},{"$f":"D164","v":""},{"$f":"IF(O164=\"\",\"\",IF(LEFT(R164,1)=\"D\",0,VLOOKUP(N164,$AQ$4:$AS$40,3,FALSE)))","v":""},164]
[null,{"$f":"VLOOKUP(A164,Handbook!$A$26:$AK$46,37,FALSE)","v":13},"","",{"$f":"'Womens PV'!$E27","v":""},{"$f":"IF('Womens PV'!$I$26=0,\"\",'Womens PV'!$F27)","v":""},{"$f":"IF($F165=\"\",\"\",HLOOKUP(F165,womens_declare,B166,FALSE))","v":""},{"$f":"IF($F165=\"\",\"\",VLOOKUP(C165,matchday,2,FALSE))","v":""},{"$f":"IF('Womens PV'!$I$26=0,\"\",'Womens PV'!$I27)","v":""},null,null,{"$f":"IF(AA163=\"T\",AB165,AC165)","v":""},null,{"$f":"'Womens PV'!$K27","v":""},{"$f":"IF('Womens PV'!$I$26=0,\"\",'Womens PV'!$M27)","v":""},{"$f":"IF($O165=\"\",\"\",HLOOKUP(O165,womens_declare,B166,FALSE))","v":""},"",{"$f":"IF('Womens PV'!$I$26=0,\"\",'Womens PV'!$AA27)","v":""},null,{"$f":"IF(AA163=\"T\",AD165,AE165)","v":""},null,{"$f":"IF(AA163=\"T\",\"\",IF(I164>V163,\"LR\",IF(I164=V163,\"=LR\",IF(I164>W163,\"DR\",IF(I164=W163,\"=DR\",\"\")))))","v":"LR"},null,null,null,null,null,{"$f":"IF(I165=\"\",\"\",IF(AA163=\"F\",\"\",IF(AA163=\"T\",IF(I165<=X163,\"þ\",IF(I165<=Y163,\"G2\",IF(I165<=Z163,\"G3\",\"\"))))))","v":""},{"$f":"IF(I165=\"\",\"\",IF(AA163=\"T\",\"\",IF(AA163=\"F\",IF(I165>=X163,\"þ\",IF(I165>=Y163,\"G2\",IF(I165>=Z163,\"G3\",\"\"))))))","v":""},{"$f":"IF(R165=\"\",\"\",IF(AA163=\"F\",\"\",IF(AA163=\"T\",IF(R165<=X163,\"þ\",IF(R165<=Y163,\"G2\",IF(R165<=Z163,\"G3\",\"\"))))))","v":""},{"$f":"IF(R165=\"\",\"\",IF(AA163=\"T\",\"\",IF(AA163=\"F\",IF(R165>=X163,\"þ\",IF(R165>=Y163,\"G2\",IF(R165>=Z163,\"G3\",\"\"))))))","v":""},"","","","",165]
[null,{"$f":"VLOOKUP(A164,womens_declare,20,FALSE)","v":13},"","",{"$f":"'Womens PV'!$E28","v":""},{"$f":"IF('Womens PV'!$I$26=0,\"\",'Womens PV'!$F28)","v":""},{"$f":"IF($F166=\"\",\"\",HLOOKUP(F166,womens_declare,B166,FALSE))","v":""},"",{"$f":"IF('Womens PV'!$I$26=0,\"\",'Womens PV'!$I28)","v":""},null,null,{"$f":"IF(AA163=\"T\",AB166,AC166)","v":""},null,{"$f":"'Womens PV'!$K28","v":""},{"$f":"IF('Womens PV'!$I$26=0,\"\",'Womens PV'!$M28)","v":""},{"$f":"IF($O166=\"\",\"\",HLOOKUP(O166,womens_declare,B166,FALSE))","v":""},"",{"$f":"IF('Womens PV'!$I$26=0,\"\",'Womens PV'!$AA28)","v":""},null,{"$f":"IF(AA163=\"T\",AD166,AE166)","v":""},null,null,null,null,null,null,null,{"$f":"IF(I166=\"\",\"\",IF(AA163=\"F\",\"\",IF(AA163=\"T\",IF(I166<=X163,\"þ\",IF(I166<=Y163,\"G2\",IF(I166<=Z163,\"G3\",\"\"))))))","v":""},{"$f":"IF(I166=\"\",\"\",IF(AA163=\"T\",\"\",IF(AA163=\"F\",IF(I166>=X163,\"þ\",IF(I166>=Y163,\"G2\",IF(I166>=Z163,\"G3\",\"\"))))))","v":""},{"$f":"IF(R166=\"\",\"\",IF(AA163=\"F\",\"\",IF(AA163=\"T\",IF(R166<=X163,\"þ\",IF(R166<=Y163,\"G2\",IF(R166<=Z163,\"G3\",\"\"))))))","v":""},{"$f":"IF(R166=\"\",\"\",IF(AA163=\"T\",\"\",IF(AA163=\"F\",IF(R166>=X163,\"þ\",IF(R166>=Y163,\"G2\",IF(R166>=Z163,\"G3\",\"\"))))))","v":""},"","","","",166]
[null,null,"","",{"$f":"'Womens PV'!$E29","v":""},{"$f":"IF('Womens PV'!$I$26=0,\"\",'Womens PV'!$F29)","v":""},{"$f":"IF($F167=\"\",\"\",HLOOKUP(F167,womens_declare,B166,FALSE))","v":""},"",{"$f":"IF('Womens PV'!$I$26=0,\"\",'Womens PV'!$I29)","v":""},null,null,{"$f":"IF(AA163=\"T\",AB167,AC167)","v":""},null,{"$f":"'Womens PV'!$K29","v":""},{"$f":"IF('Womens PV'!$I$26=0,\"\",'Womens PV'!$M29)","v":""},{"$f":"IF($O167=\"\",\"\",HLOOKUP(O167,womens_declare,B166,FALSE))","v":""},"",{"$f":"IF('Womens PV'!$I$26=0,\"\",'Womens PV'!$AA29)","v":""},null,{"$f":"IF(AA163=\"T\",AD167,AE167)","v":""},null,null,null,null,null,null,null,{"$f":"IF(I167=\"\",\"\",IF(AA163=\"F\",\"\",IF(AA163=\"T\",IF(I167<=X163,\"þ\",IF(I167<=Y163,\"G2\",IF(I167<=Z163,\"G3\",\"\"))))))","v":""},{"$f":"IF(I167=\"\",\"\",IF(AA163=\"T\",\"\",IF(AA163=\"F\",IF(I167>=X163,\"þ\",IF(I167>=Y163,\"G2\",IF(I167>=Z163,\"G3\",\"\"))))))","v":""},{"$f":"IF(R167=\"\",\"\",IF(AA163=\"F\",\"\",IF(AA163=\"T\",IF(R167<=X163,\"þ\",IF(R167<=Y163,\"G2\",IF(R167<=Z163,\"G3\",\"\"))))))","v":""},{"$f":"IF(R167=\"\",\"\",IF(AA163=\"T\",\"\",IF(AA163=\"F\",IF(R167>=X163,\"þ\",IF(R167>=Y163,\"G2\",IF(R167>=Z163,\"G3\",\"\"))))))","v":""},"","","","",167]
[null,null,"","",{"$f":"'Womens PV'!$E30","v":""},{"$f":"IF('Womens PV'!$I$26=0,\"\",'Womens PV'!$F30)","v":""},{"$f":"IF($F168=\"\",\"\",HLOOKUP(F168,womens_declare,B166,FALSE))","v":""},"",{"$f":"IF('Womens PV'!$I$26=0,\"\",'Womens PV'!$I30)","v":""},null,null,{"$f":"IF(AA163=\"T\",AB168,AC168)","v":""},null,{"$f":"'Womens PV'!$K30","v":""},{"$f":"IF('Womens PV'!$I$26=0,\"\",'Womens PV'!$M30)","v":""},{"$f":"IF($O168=\"\",\"\",HLOOKUP(O168,womens_declare,B166,FALSE))","v":""},"",{"$f":"IF('Womens PV'!$I$26=0,\"\",'Womens PV'!$AA30)","v":""},null,{"$f":"IF(AA163=\"T\",AD168,AE168)","v":""},null,null,null,null,null,null,null,{"$f":"IF(I168=\"\",\"\",IF(AA163=\"F\",\"\",IF(AA163=\"T\",IF(I168<=X163,\"þ\",IF(I168<=Y163,\"G2\",IF(I168<=Z163,\"G3\",\"\"))))))","v":""},{"$f":"IF(I168=\"\",\"\",IF(AA163=\"T\",\"\",IF(AA163=\"F\",IF(I168>=X163,\"þ\",IF(I168>=Y163,\"G2\",IF(I168>=Z163,\"G3\",\"\"))))))","v":""},{"$f":"IF(R168=\"\",\"\",IF(AA163=\"F\",\"\",IF(AA163=\"T\",IF(R168<=X163,\"þ\",IF(R168<=Y163,\"G2\",IF(R168<=Z163,\"G3\",\"\"))))))","v":""},{"$f":"IF(R168=\"\",\"\",IF(AA163=\"T\",\"\",IF(AA163=\"F\",IF(R168>=X163,\"þ\",IF(R168>=Y163,\"G2\",IF(R168>=Z163,\"G3\",\"\"))))))","v":""},"","","","",168]
[null,null,"","",{"$f":"'Womens PV'!$E31","v":""},{"$f":"IF('Womens PV'!$I$26=0,\"\",'Womens PV'!$F31)","v":""},{"$f":"IF($F169=\"\",\"\",HLOOKUP(F169,womens_declare,B166,FALSE))","v":""},"",{"$f":"IF('Womens PV'!$I$26=0,\"\",'Womens PV'!$I31)","v":""},null,null,{"$f":"IF(AA163=\"T\",AB169,AC169)","v":""},null,{"$f":"'Womens PV'!$K31","v":""},{"$f":"IF('Womens PV'!$I$26=0,\"\",'Womens PV'!$M31)","v":""},{"$f":"IF($O169=\"\",\"\",HLOOKUP(O169,womens_declare,B166,FALSE))","v":""},"",{"$f":"IF('Womens PV'!$I$26=0,\"\",'Womens PV'!$AA31)","v":""},null,{"$f":"IF(AA163=\"T\",AD169,AE169)","v":""},null,null,null,null,null,null,null,{"$f":"IF(I169=\"\",\"\",IF(AA163=\"F\",\"\",IF(AA163=\"T\",IF(I169<=X163,\"þ\",IF(I169<=Y163,\"G2\",IF(I169<=Z163,\"G3\",\"\"))))))","v":""},{"$f":"IF(I169=\"\",\"\",IF(AA163=\"T\",\"\",IF(AA163=\"F\",IF(I169>=X163,\"þ\",IF(I169>=Y163,\"G2\",IF(I169>=Z163,\"G3\",\"\"))))))","v":""},{"$f":"IF(R169=\"\",\"\",IF(AA163=\"F\",\"\",IF(AA163=\"T\",IF(R169<=X163,\"þ\",IF(R169<=Y163,\"G2\",IF(R169<=Z163,\"G3\",\"\"))))))","v":""},{"$f":"IF(R169=\"\",\"\",IF(AA163=\"T\",\"\",IF(AA163=\"F\",IF(R169>=X163,\"þ\",IF(R169>=Y163,\"G2\",IF(R169>=Z163,\"G3\",\"\"))))))","v":""},"","","","",169]
[null,null,"","",{"$f":"'Womens PV'!$E32","v":""},{"$f":"IF('Womens PV'!$I$26=0,\"\",'Womens PV'!$F32)","v":""},{"$f":"IF($F170=\"\",\"\",HLOOKUP(F170,womens_declare,B166,FALSE))","v":""},"",{"$f":"IF('Womens PV'!$I$26=0,\"\",'Womens PV'!$I32)","v":""},null,null,{"$f":"IF(AA163=\"T\",AB170,AC170)","v":""},null,{"$f":"'Womens PV'!$K32","v":""},{"$f":"IF('Womens PV'!$I$26=0,\"\",'Womens PV'!$M32)","v":""},{"$f":"IF($O170=\"\",\"\",HLOOKUP(O170,womens_declare,B166,FALSE))","v":""},"",{"$f":"IF('Womens PV'!$I$26=0,\"\",'Womens PV'!$AA32)","v":""},null,{"$f":"IF(AA163=\"T\",AD170,AE170)","v":""},null,null,null,null,null,null,null,{"$f":"IF(I170=\"\",\"\",IF(AA163=\"F\",\"\",IF(AA163=\"T\",IF(I170<=X163,\"þ\",IF(I170<=Y163,\"G2\",IF(I170<=Z163,\"G3\",\"\"))))))","v":""},{"$f":"IF(I170=\"\",\"\",IF(AA163=\"T\",\"\",IF(AA163=\"F\",IF(I170>=X163,\"þ\",IF(I170>=Y163,\"G2\",IF(I170>=Z163,\"G3\",\"\"))))))","v":""},{"$f":"IF(R170=\"\",\"\",IF(AA163=\"F\",\"\",IF(AA163=\"T\",IF(R170<=X163,\"þ\",IF(R170<=Y163,\"G2\",IF(R170<=Z163,\"G3\",\"\"))))))","v":""},{"$f":"IF(R170=\"\",\"\",IF(AA163=\"T\",\"\",IF(AA163=\"F\",IF(R170>=X163,\"þ\",IF(R170>=Y163,\"G2\",IF(R170>=Z163,\"G3\",\"\"))))))","v":""},"","","","",170]
[null,null,"","",{"$f":"'Womens PV'!$E33","v":""},{"$f":"IF('Womens PV'!$I$26=0,\"\",'Womens PV'!$F33)","v":""},{"$f":"IF($F171=\"\",\"\",HLOOKUP(F171,womens_declare,B166,FALSE))","v":""},"",{"$f":"IF('Womens PV'!$I$26=0,\"\",'Womens PV'!$I33)","v":""},null,null,{"$f":"IF(AA163=\"T\",AB171,AC171)","v":""},null,{"$f":"'Womens HJ'!$K33","v":""},{"$f":"IF('Womens HJ'!$I$26=0,\"\",'Womens HJ'!$M33)","v":""},{"$f":"IF($O171=\"\",\"\",HLOOKUP(O171,womens_declare,B166,FALSE))","v":""},"",{"$f":"IF('Womens HJ'!$I$26=0,\"\",'Womens HJ'!$AA33)","v":""},null,{"$f":"IF(AA163=\"T\",AD171,AE171)","v":""},null,null,null,null,null,null,null,{"$f":"IF(I171=\"\",\"\",IF(AA163=\"F\",\"\",IF(AA163=\"T\",IF(I171<=X163,\"þ\",IF(I171<=Y163,\"G2\",IF(I171<=Z163,\"G3\",\"\"))))))","v":""},{"$f":"IF(I171=\"\",\"\",IF(AA163=\"T\",\"\",IF(AA163=\"F\",IF(I171>=X163,\"þ\",IF(I171>=Y163,\"G2\",IF(I171>=Z163,\"G3\",\"\"))))))","v":""},{"$f":"IF(R171=\"\",\"\",IF(AA163=\"F\",\"\",IF(AA163=\"T\",IF(R171<=X163,\"þ\",IF(R171<=Y163,\"G2\",IF(R171<=Z163,\"G3\",\"\"))))))","v":""},{"$f":"IF(R171=\"\",\"\",IF(AA163=\"T\",\"\",IF(AA163=\"F\",IF(R171>=X163,\"þ\",IF(R171>=Y163,\"G2\",IF(R171>=Z163,\"G3\",\"\"))))))","v":""},"","","","",171]
[null,null,null,null,null,null,null,null,null,null,null,null,null,null,null,null,null,null,null,null,null,null,null,null,null,null,null,null,null,null,null,null,null,null,null,172]
[null,null,null,null,{"$f":"VLOOKUP(A174,womens_handbook,3,FALSE)","v":"Women's 4x100m Relay"},null,null,null,null,null,null,null,null,null,null,null,null,null,null,null,null,{"$f":"IF($A174=\"\",\"\",VLOOKUP($A174,Handbook!$A$26:$AK$46,21,FALSE))","v":48.2},{"$f":"IF($A174=\"\",\"\",VLOOKUP($A174,Handbook!$A$26:$AK$46,22,FALSE))","v":48.2},{"$f":"IF($A174=\"\",\"\",VLOOKUP($A174,Handbook!$A$26:$AK$46,23,FALSE))","v":52},{"$f":"IF($A174=\"\",\"\",VLOOKUP($A174,Handbook!$A$26:$AK$46,24,FALSE))","v":52},{"$f":"IF($A174=\"\",\"\",VLOOKUP($A174,Handbook!$A$26:$AK$46,25,FALSE))","v":52},{"$f":"IF($A174=\"\",\"\",VLOOKUP($A174,Handbook!$A$26:$AK$46,34,FALSE))","v":"T"},null,null,null,null,null,null,null,null,173]
[9,null,{"$f":"IF(F174=\"\",\"\",IF(F174>10,F174/11,F174))","v":""},{"$f":"IF(O174=\"\",\"\",IF(O174>10,O174/11,O174))","v":""},1,null,{"$f":"IF($F174=\"\",\"\",IF($F174>90,VLOOKUP(F174,eventcodes,2,FALSE),VLOOKUP(C174,matchday,2,FALSE)))","v":""},{"$f":"IF($F174=\"\",\"\",IF($F174>90,\"\",HLOOKUP($C174,womens_declare,$B176,FALSE)))","v":""},{"$f":"IF($F174=\"\",\"\",IF($F174>90,\"\",HLOOKUP($C174,womens_declare,$B176+1,FALSE)))","v":""},null,null,null,null,{"$f":"IF($F174=\"\",\"\",IF($F174>90,\"\",HLOOKUP($C174,womens_declare,$B176+2,FALSE)))","v":""},null,null,{"$f":"IF($F174=\"\",\"\",IF($F174>90,\"\",HLOOKUP($C174,womens_declare,$B176+3,FALSE)))","v":""},null,null,{"$f":"IF(AA173=\"T\",AD174,AE174)","v":""},null,{"$f":"IF(AA173=\"F\",\"\",IF(R174<V173,\"LR\",IF(R174=V173,\"=LR\",IF(R174<W173,\"DR\",IF(R174=W173,\"=DR\",\"\")))))","v":"LR"},null,null,null,null,null,null,null,{"$f":"IF(R174=\"\",\"\",IF(AA173=\"F\",\"\",IF(AA173=\"T\",IF(R174<=X173,\"þ\",IF(R174<=Y173,\"G2\",IF(R174<=Z173,\"G3\",\"\"))))))","v":""},{"$f":"IF(R174=\"\",\"\",IF(AA173=\"T\",\"\",IF(AA173=\"F\",IF(R174>=X173,\"þ\",IF(R174>=Y173,\"G2\",IF(R174>=Z173,\"G3\",\"\"))))))","v":""},{"$f":"C174","v":""},{"$f":"IF(F174=\"\",\"\",IF(LEFT(R174,1)=\"D\",0,VLOOKUP(E174,$AQ$4:$AR$40,2,FALSE)))","v":""},{"$f":"D174","v":""},{"$f":"IF(O174=\"\",\"\",IF(LEFT(R174,1)=\"D\",0,VLOOKUP(N174,$AQ$4:$AS$40,3,FALSE)))","v":""},174]
[null,{"$f":"VLOOKUP(A174,Handbook!$A$26:$AK$46,37,FALSE)","v":10},"","",2,null,{"$f":"IF($F175=\"\",\"\",VLOOKUP(C175,matchday,2,FALSE))","v":""},{"$f":"IF($F175=\"\",\"\",IF($F175>90,\"\",HLOOKUP($C175,womens_declare,$B176,FALSE)))","v":""},{"$f":"IF($F175=\"\",\"\",IF($F175>90,\"\",HLOOKUP($C175,womens_declare,$B176+1,FALSE)))","v":""},null,null,null,null,{"$f":"IF($F175=\"\",\"\",IF($F175>90,\"\",HLOOKUP($C175,womens_declare,$B176+2,FALSE)))","v":""},null,null,{"$f":"IF($F175=\"\",\"\",IF($F175>90,\"\",HLOOKUP($C175,womens_declare,$B176+3,FALSE)))","v":""},null,{"$f":"IF(R175=\"\",\"\",IF(AND(AA173=\"T\",R175<R174),\"X\",IF(AND(AA173=\"F\",R175>R174),\"X\",\"\")))","v":""},{"$f":"IF(AA173=\"T\",AD175,AE175)","v":""},null,{"$f":"IF(AA173=\"T\",\"\",IF(R174>V173,\"LR\",IF(R174=V173,\"=LR\",IF(R174>W173,\"DR\",IF(R174=W173,\"=DR\",\"\")))))","v":""},null,null,null,null,null,null,null,{"$f":"IF(R175=\"\",\"\",IF(AA173=\"F\",\"\",IF(AA173=\"T\",IF(R175<=X173,\"þ\",IF(R175<=Y173,\"G2\",IF(R175<=Z173,\"G3\",\"\"))))))","v":""},{"$f":"IF(R175=\"\",\"\",IF(AA173=\"T\",\"\",IF(AA173=\"F\",IF(R175>=X173,\"þ\",IF(R175>=Y173,\"G2\",IF(R175>=Z173,\"G3\",\"\"))))))","v":""},"","","","",175]
[null,{"$f":"VLOOKUP(A174,womens_declare,20,FALSE)","v":22},"","",3,null,"",{"$f":"IF($F176=\"\",\"\",IF($F176>90,\"\",HLOOKUP($C176,womens_declare,$B176,FALSE)))","v":""},{"$f":"IF($F176=\"\",\"\",IF($F176>90,\"\",HLOOKUP($C176,womens_declare,$B176+1,FALSE)))","v":""},null,null,null,null,{"$f":"IF($F176=\"\",\"\",IF($F176>90,\"\",HLOOKUP($C176,womens_declare,$B176+2,FALSE)))","v":""},null,null,{"$f":"IF($F176=\"\",\"\",IF($F176>90,\"\",HLOOKUP($C176,womens_declare,$B176+3,FALSE)))","v":""},null,{"$f":"IF(R176=\"\",\"\",IF(AND(AA173=\"T\",R176<R175),\"X\",IF(AND(AA173=\"F\",R176>R175),\"X\",\"\")))","v":""},{"$f":"IF(AA173=\"T\",AD176,AE176)","v":""},null,null,null,null,null,null,null,null,null,{"$f":"IF(R176=\"\",\"\",IF(AA173=\"F\",\"\",IF(AA173=\"T\",IF(R176<=X173,\"þ\",IF(R176<=Y173,\"G2\",IF(R176<=Z173,\"G3\",\"\"))))))","v":""},{"$f":"IF(R176=\"\",\"\",IF(AA173=\"T\",\"\",IF(AA173=\"F\",IF(R176>=X173,\"þ\",IF(R176>=Y173,\"G2\",IF(R176>=Z173,\"G3\",\"\"))))))","v":""},"","","","",176]
[null,null,"","",4,null,"",{"$f":"IF($F177=\"\",\"\",IF($F177>90,\"\",HLOOKUP($C177,womens_declare,$B176,FALSE)))","v":""},{"$f":"IF($F177=\"\",\"\",IF($F177>90,\"\",HLOOKUP($C177,womens_declare,$B176+1,FALSE)))","v":""},null,null,null,null,{"$f":"IF($F177=\"\",\"\",IF($F177>90,\"\",HLOOKUP($C177,womens_declare,$B176+2,FALSE)))","v":""},null,null,{"$f":"IF($F177=\"\",\"\",IF($F177>90,\"\",HLOOKUP($C177,womens_declare,$B176+3,FALSE)))","v":""},null,{"$f":"IF(R177=\"\",\"\",IF(AND(AA173=\"T\",R177<R176),\"X\",IF(AND(AA173=\"F\",R177>R176),\"X\",\"\")))","v":""},{"$f":"IF(AA173=\"T\",AD177,AE177)","v":""},null,null,null,null,null,null,null,null,null,{"$f":"IF(R177=\"\",\"\",IF(AA173=\"F\",\"\",IF(AA173=\"T\",IF(R177<=X173,\"þ\",IF(R177<=Y173,\"G2\",IF(R177<=Z173,\"G3\",\"\"))))))","v":""},{"$f":"IF(R177=\"\",\"\",IF(AA173=\"T\",\"\",IF(AA173=\"F\",IF(R177>=X173,\"þ\",IF(R177>=Y173,\"G2\",IF(R177>=Z173,\"G3\",\"\"))))))","v":""},"","","","",177]
[null,null,"","",5,null,"",{"$f":"IF($F178=\"\",\"\",IF($F178>90,\"\",HLOOKUP($C178,womens_declare,$B176,FALSE)))","v":""},{"$f":"IF($F178=\"\",\"\",IF($F178>90,\"\",HLOOKUP($C178,womens_declare,$B176+1,FALSE)))","v":""},null,null,null,null,{"$f":"IF($F178=\"\",\"\",IF($F178>90,\"\",HLOOKUP($C178,womens_declare,$B176+2,FALSE)))","v":""},null,null,{"$f":"IF($F178=\"\",\"\",IF($F178>90,\"\",HLOOKUP($C178,womens_declare,$B176+3,FALSE)))","v":""},null,{"$f":"IF(R178=\"\",\"\",IF(AND(AA173=\"T\",R178<R177),\"X\",IF(AND(AA173=\"F\",R178>R177),\"X\",\"\")))","v":""},{"$f":"IF(AA173=\"T\",AD178,AE178)","v":""},null,null,null,null,null,null,null,null,null,{"$f":"IF(R178=\"\",\"\",IF(AA173=\"F\",\"\",IF(AA173=\"T\",IF(R178<=X173,\"þ\",IF(R178<=Y173,\"G2\",IF(R178<=Z173,\"G3\",\"\"))))))","v":""},{"$f":"IF(R178=\"\",\"\",IF(AA173=\"T\",\"\",IF(AA173=\"F\",IF(R178>=X173,\"þ\",IF(R178>=Y173,\"G2\",IF(R178>=Z173,\"G3\",\"\"))))))","v":""},"","","","",178]
[null,null,"","",6,null,"",{"$f":"IF($F179=\"\",\"\",IF($F179>90,\"\",HLOOKUP($C179,womens_declare,$B176,FALSE)))","v":""},{"$f":"IF($F179=\"\",\"\",IF($F179>90,\"\",HLOOKUP($C179,womens_declare,$B176+1,FALSE)))","v":""},null,null,null,null,{"$f":"IF($F179=\"\",\"\",IF($F179>90,\"\",HLOOKUP($C179,womens_declare,$B176+2,FALSE)))","v":""},null,null,{"$f":"IF($F179=\"\",\"\",IF($F179>90,\"\",HLOOKUP($C179,womens_declare,$B176+3,FALSE)))","v":""},null,{"$f":"IF(R179=\"\",\"\",IF(AND(AA173=\"T\",R179<R178),\"X\",IF(AND(AA173=\"F\",R179>R178),\"X\",\"\")))","v":""},{"$f":"IF(AA173=\"T\",AD179,AE179)","v":""},null,null,null,null,null,null,null,null,null,{"$f":"IF(R179=\"\",\"\",IF(AA173=\"F\",\"\",IF(AA173=\"T\",IF(R179<=X173,\"þ\",IF(R179<=Y173,\"G2\",IF(R179<=Z173,\"G3\",\"\"))))))","v":""},{"$f":"IF(R179=\"\",\"\",IF(AA173=\"T\",\"\",IF(AA173=\"F\",IF(R179>=X173,\"þ\",IF(R179>=Y173,\"G2\",IF(R179>=Z173,\"G3\",\"\"))))))","v":""},"","","","",179]
[null,null,"","",7,null,"",{"$f":"IF($F180=\"\",\"\",IF($F180>90,\"\",HLOOKUP($C180,womens_declare,$B176,FALSE)))","v":""},{"$f":"IF($F180=\"\",\"\",IF($F180>90,\"\",HLOOKUP($C180,womens_declare,$B176+1,FALSE)))","v":""},null,null,null,null,{"$f":"IF($F180=\"\",\"\",IF($F180>90,\"\",HLOOKUP($C180,womens_declare,$B176+2,FALSE)))","v":""},null,null,{"$f":"IF($F180=\"\",\"\",IF($F180>90,\"\",HLOOKUP($C180,womens_declare,$B176+3,FALSE)))","v":""},null,{"$f":"IF(R180=\"\",\"\",IF(AND(AA173=\"T\",R180<R179),\"X\",IF(AND(AA173=\"F\",R180>R179),\"X\",\"\")))","v":""},{"$f":"IF(AA173=\"T\",AD180,AE180)","v":""},null,null,null,null,null,null,null,null,null,{"$f":"IF(R180=\"\",\"\",IF(AA173=\"F\",\"\",IF(AA173=\"T\",IF(R180<=X173,\"þ\",IF(R180<=Y173,\"G2\",IF(R180<=Z173,\"G3\",\"\"))))))","v":""},{"$f":"IF(R180=\"\",\"\",IF(AA173=\"T\",\"\",IF(AA173=\"F\",IF(R180>=X173,\"þ\",IF(R180>=Y173,\"G2\",IF(R180>=Z173,\"G3\",\"\"))))))","v":""},"","","","",180]
[null,null,"","",8,null,"",{"$f":"IF($F181=\"\",\"\",IF($F181>90,\"\",HLOOKUP($C181,womens_declare,$B176,FALSE)))","v":""},{"$f":"IF($F181=\"\",\"\",IF($F181>90,\"\",HLOOKUP($C181,womens_declare,$B176+1,FALSE)))","v":""},null,null,null,null,{"$f":"IF($F181=\"\",\"\",IF($F181>90,\"\",HLOOKUP($C181,womens_declare,$B176+2,FALSE)))","v":""},null,null,{"$f":"IF($F181=\"\",\"\",IF($F181>90,\"\",HLOOKUP($C181,womens_declare,$B176+3,FALSE)))","v":""},null,{"$f":"IF(R181=\"\",\"\",IF(AND(AA173=\"T\",R181<R180),\"X\",IF(AND(AA173=\"F\",R181>R180),\"X\",\"\")))","v":""},{"$f":"IF(AA173=\"T\",AD181,AE181)","v":""},null,null,null,null,null,null,null,null,null,{"$f":"IF(R181=\"\",\"\",IF(AA173=\"F\",\"\",IF(AA173=\"T\",IF(R181<=X173,\"þ\",IF(R181<=Y173,\"G2\",IF(R181<=Z173,\"G3\",\"\"))))))","v":""},{"$f":"IF(R181=\"\",\"\",IF(AA173=\"T\",\"\",IF(AA173=\"F\",IF(R181>=X173,\"þ\",IF(R181>=Y173,\"G2\",IF(R181>=Z173,\"G3\",\"\"))))))","v":""},"","","","",181]
[null,null,null,null,null,null,null,null,null,null,null,null,null,null,null,null,null,null,null,null,null,null,null,null,null,null,null,null,null,null,null,null,null,null,null,182]
[null,null,null,null,{"$f":"VLOOKUP(A184,womens_handbook,3,FALSE)","v":"Women's 4x400m Relay"},null,null,null,null,null,null,null,null,null,null,null,null,null,null,null,null,{"$f":"IF($A184=\"\",\"\",VLOOKUP($A184,Handbook!$A$26:$AK$46,21,FALSE))","v":"00:03:52"},{"$f":"IF($A184=\"\",\"\",VLOOKUP($A184,Handbook!$A$26:$AK$46,22,FALSE))","v":"00:03:52"},{"$f":"IF($A184=\"\",\"\",VLOOKUP($A184,Handbook!$A$26:$AK$46,23,FALSE))","v":"00:04:15"},{"$f":"IF($A184=\"\",\"\",VLOOKUP($A184,Handbook!$A$26:$AK$46,24,FALSE))","v":"00:04:15"},{"$f":"IF($A184=\"\",\"\",VLOOKUP($A184,Handbook!$A$26:$AK$46,25,FALSE))","v":"00:04:15"},{"$f":"IF($A184=\"\",\"\",VLOOKUP($A184,Handbook!$A$26:$AK$46,34,FALSE))","v":"T"},null,null,null,null,null,null,null,null,183]
[10,null,{"$f":"IF(F184=\"\",\"\",IF(F184>10,F184/11,F184))","v":""},{"$f":"IF(O184=\"\",\"\",IF(O184>10,O184/11,O184))","v":""},1,null,{"$f":"IF($F184=\"\",\"\",IF($F184>90,VLOOKUP(F184,eventcodes,2,FALSE),VLOOKUP(C184,matchday,2,FALSE)))","v":""},{"$f":"IF($F184=\"\",\"\",IF($F184>90,\"\",HLOOKUP($C184,womens_declare,$B186,FALSE)))","v":""},{"$f":"IF($F184=\"\",\"\",IF($F184>90,\"\",HLOOKUP($C184,womens_declare,$B186+1,FALSE)))","v":""},null,null,null,null,{"$f":"IF($F184=\"\",\"\",IF($F184>90,\"\",HLOOKUP($C184,womens_declare,$B186+2,FALSE)))","v":""},null,null,{"$f":"IF($F184=\"\",\"\",IF($F184>90,\"\",HLOOKUP($C184,womens_declare,$B186+3,FALSE)))","v":""},null,null,{"$f":"IF(AA183=\"T\",AD184,AE184)","v":""},null,{"$f":"IF(AA183=\"F\",\"\",IF(R184<V183,\"LR\",IF(R184=V183,\"=LR\",IF(R184<W183,\"DR\",IF(R184=W183,\"=DR\",\"\")))))","v":"LR"},null,null,null,null,null,null,null,{"$f":"IF(R184=\"\",\"\",IF(AA183=\"F\",\"\",IF(AA183=\"T\",IF(R184<=X183,\"þ\",IF(R184<=Y183,\"G2\",IF(R184<=Z183,\"G3\",\"\"))))))","v":""},{"$f":"IF(R184=\"\",\"\",IF(AA183=\"T\",\"\",IF(AA183=\"F\",IF(R184>=X183,\"þ\",IF(R184>=Y183,\"G2\",IF(R184>=Z183,\"G3\",\"\"))))))","v":""},{"$f":"C184","v":""},{"$f":"IF(F184=\"\",\"\",IF(LEFT(R184,1)=\"D\",0,VLOOKUP(E184,$AQ$4:$AR$40,2,FALSE)))","v":""},{"$f":"D184","v":""},{"$f":"IF(O184=\"\",\"\",IF(LEFT(R184,1)=\"D\",0,VLOOKUP(N184,$AQ$4:$AS$40,3,FALSE)))","v":""},184]
[null,{"$f":"VLOOKUP(A184,Handbook!$A$26:$AK$46,37,FALSE)","v":11},"","",2,null,{"$f":"IF($F185=\"\",\"\",VLOOKUP(C185,matchday,2,FALSE))","v":""},{"$f":"IF($F185=\"\",\"\",IF($F185>90,\"\",HLOOKUP($C185,womens_declare,$B186,FALSE)))","v":""},{"$f":"IF($F185=\"\",\"\",IF($F185>90,\"\",HLOOKUP($C185,womens_declare,$B186+1,FALSE)))","v":""},null,null,null,null,{"$f":"IF($F185=\"\",\"\",IF($F185>90,\"\",HLOOKUP($C185,womens_declare,$B186+2,FALSE)))","v":""},null,null,{"$f":"IF($F185=\"\",\"\",IF($F185>90,\"\",HLOOKUP($C185,womens_declare,$B186+3,FALSE)))","v":""},null,{"$f":"IF(R185=\"\",\"\",IF(AND(AA183=\"T\",R185<R184),\"X\",IF(AND(AA183=\"F\",R185>R184),\"X\",\"\")))","v":""},{"$f":"IF(AA183=\"T\",AD185,AE185)","v":""},null,{"$f":"IF(AA183=\"T\",\"\",IF(R184>V183,\"LR\",IF(R184=V183,\"=LR\",IF(R184>W183,\"DR\",IF(R184=W183,\"=DR\",\"\")))))","v":""},null,null,null,null,null,null,null,{"$f":"IF(R185=\"\",\"\",IF(AA183=\"F\",\"\",IF(AA183=\"T\",IF(R185<=X183,\"þ\",IF(R185<=Y183,\"G2\",IF(R185<=Z183,\"G3\",\"\"))))))","v":""},{"$f":"IF(R185=\"\",\"\",IF(AA183=\"T\",\"\",IF(AA183=\"F\",IF(R185>=X183,\"þ\",IF(R185>=Y183,\"G2\",IF(R185>=Z183,\"G3\",\"\"))))))","v":""},"","","","",185]
[null,{"$f":"VLOOKUP(A184,womens_declare,20,FALSE)","v":26},"","",3,null,"",{"$f":"IF($F186=\"\",\"\",IF($F186>90,\"\",HLOOKUP($C186,womens_declare,$B186,FALSE)))","v":""},{"$f":"IF($F186=\"\",\"\",IF($F186>90,\"\",HLOOKUP($C186,womens_declare,$B186+1,FALSE)))","v":""},null,null,null,null,{"$f":"IF($F186=\"\",\"\",IF($F186>90,\"\",HLOOKUP($C186,womens_declare,$B186+2,FALSE)))","v":""},null,null,{"$f":"IF($F186=\"\",\"\",IF($F186>90,\"\",HLOOKUP($C186,womens_declare,$B186+3,FALSE)))","v":""},null,{"$f":"IF(R186=\"\",\"\",IF(AND(AA183=\"T\",R186<R185),\"X\",IF(AND(AA183=\"F\",R186>R185),\"X\",\"\")))","v":""},{"$f":"IF(AA183=\"T\",AD186,AE186)","v":""},null,null,null,null,null,null,null,null,null,{"$f":"IF(R186=\"\",\"\",IF(AA183=\"F\",\"\",IF(AA183=\"T\",IF(R186<=X183,\"þ\",IF(R186<=Y183,\"G2\",IF(R186<=Z183,\"G3\",\"\"))))))","v":""},{"$f":"IF(R186=\"\",\"\",IF(AA183=\"T\",\"\",IF(AA183=\"F\",IF(R186>=X183,\"þ\",IF(R186>=Y183,\"G2\",IF(R186>=Z183,\"G3\",\"\"))))))","v":""},"","","","",186]
[null,null,"","",4,null,"",{"$f":"IF($F187=\"\",\"\",IF($F187>90,\"\",HLOOKUP($C187,womens_declare,$B186,FALSE)))","v":""},{"$f":"IF($F187=\"\",\"\",IF($F187>90,\"\",HLOOKUP($C187,womens_declare,$B186+1,FALSE)))","v":""},null,null,null,null,{"$f":"IF($F187=\"\",\"\",IF($F187>90,\"\",HLOOKUP($C187,womens_declare,$B186+2,FALSE)))","v":""},null,null,{"$f":"IF($F187=\"\",\"\",IF($F187>90,\"\",HLOOKUP($C187,womens_declare,$B186+3,FALSE)))","v":""},null,{"$f":"IF(R187=\"\",\"\",IF(AND(AA183=\"T\",R187<R186),\"X\",IF(AND(AA183=\"F\",R187>R186),\"X\",\"\")))","v":""},{"$f":"IF(AA183=\"T\",AD187,AE187)","v":""},null,null,null,null,null,null,null,null,null,{"$f":"IF(R187=\"\",\"\",IF(AA183=\"F\",\"\",IF(AA183=\"T\",IF(R187<=X183,\"þ\",IF(R187<=Y183,\"G2\",IF(R187<=Z183,\"G3\",\"\"))))))","v":""},{"$f":"IF(R187=\"\",\"\",IF(AA183=\"T\",\"\",IF(AA183=\"F\",IF(R187>=X183,\"þ\",IF(R187>=Y183,\"G2\",IF(R187>=Z183,\"G3\",\"\"))))))","v":""},"","","","",187]
[null,null,"","",5,null,"",{"$f":"IF($F188=\"\",\"\",IF($F188>90,\"\",HLOOKUP($C188,womens_declare,$B186,FALSE)))","v":""},{"$f":"IF($F188=\"\",\"\",IF($F188>90,\"\",HLOOKUP($C188,womens_declare,$B186+1,FALSE)))","v":""},null,null,null,null,{"$f":"IF($F188=\"\",\"\",IF($F188>90,\"\",HLOOKUP($C188,womens_declare,$B186+2,FALSE)))","v":""},null,null,{"$f":"IF($F188=\"\",\"\",IF($F188>90,\"\",HLOOKUP($C188,womens_declare,$B186+3,FALSE)))","v":""},null,{"$f":"IF(R188=\"\",\"\",IF(AND(AA183=\"T\",R188<R187),\"X\",IF(AND(AA183=\"F\",R188>R187),\"X\",\"\")))","v":""},{"$f":"IF(AA183=\"T\",AD188,AE188)","v":""},null,null,null,null,null,null,null,null,null,{"$f":"IF(R188=\"\",\"\",IF(AA183=\"F\",\"\",IF(AA183=\"T\",IF(R188<=X183,\"þ\",IF(R188<=Y183,\"G2\",IF(R188<=Z183,\"G3\",\"\"))))))","v":""},{"$f":"IF(R188=\"\",\"\",IF(AA183=\"T\",\"\",IF(AA183=\"F\",IF(R188>=X183,\"þ\",IF(R188>=Y183,\"G2\",IF(R188>=Z183,\"G3\",\"\"))))))","v":""},"","","","",188]
[null,null,"","",6,null,"",{"$f":"IF($F189=\"\",\"\",IF($F189>90,\"\",HLOOKUP($C189,womens_declare,$B186,FALSE)))","v":""},{"$f":"IF($F189=\"\",\"\",IF($F189>90,\"\",HLOOKUP($C189,womens_declare,$B186+1,FALSE)))","v":""},null,null,null,null,{"$f":"IF($F189=\"\",\"\",IF($F189>90,\"\",HLOOKUP($C189,womens_declare,$B186+2,FALSE)))","v":""},null,null,{"$f":"IF($F189=\"\",\"\",IF($F189>90,\"\",HLOOKUP($C189,womens_declare,$B186+3,FALSE)))","v":""},null,{"$f":"IF(R189=\"\",\"\",IF(AND(AA183=\"T\",R189<R188),\"X\",IF(AND(AA183=\"F\",R189>R188),\"X\",\"\")))","v":""},{"$f":"IF(AA183=\"T\",AD189,AE189)","v":""},null,null,null,null,null,null,null,null,null,{"$f":"IF(R189=\"\",\"\",IF(AA183=\"F\",\"\",IF(AA183=\"T\",IF(R189<=X183,\"þ\",IF(R189<=Y183,\"G2\",IF(R189<=Z183,\"G3\",\"\"))))))","v":""},{"$f":"IF(R189=\"\",\"\",IF(AA183=\"T\",\"\",IF(AA183=\"F\",IF(R189>=X183,\"þ\",IF(R189>=Y183,\"G2\",IF(R189>=Z183,\"G3\",\"\"))))))","v":""},"","","","",189]
[null,null,"","",7,null,"",{"$f":"IF($F190=\"\",\"\",IF($F190>90,\"\",HLOOKUP($C190,womens_declare,$B186,FALSE)))","v":""},{"$f":"IF($F190=\"\",\"\",IF($F190>90,\"\",HLOOKUP($C190,womens_declare,$B186+1,FALSE)))","v":""},null,null,null,null,{"$f":"IF($F190=\"\",\"\",IF($F190>90,\"\",HLOOKUP($C190,womens_declare,$B186+2,FALSE)))","v":""},null,null,{"$f":"IF($F190=\"\",\"\",IF($F190>90,\"\",HLOOKUP($C190,womens_declare,$B186+3,FALSE)))","v":""},null,{"$f":"IF(R190=\"\",\"\",IF(AND(AA183=\"T\",R190<R189),\"X\",IF(AND(AA183=\"F\",R190>R189),\"X\",\"\")))","v":""},{"$f":"IF(AA183=\"T\",AD190,AE190)","v":""},null,null,null,null,null,null,null,null,null,{"$f":"IF(R190=\"\",\"\",IF(AA183=\"F\",\"\",IF(AA183=\"T\",IF(R190<=X183,\"þ\",IF(R190<=Y183,\"G2\",IF(R190<=Z183,\"G3\",\"\"))))))","v":""},{"$f":"IF(R190=\"\",\"\",IF(AA183=\"T\",\"\",IF(AA183=\"F\",IF(R190>=X183,\"þ\",IF(R190>=Y183,\"G2\",IF(R190>=Z183,\"G3\",\"\"))))))","v":""},"","","","",190]
[null,null,"","",8,null,"",{"$f":"IF($F191=\"\",\"\",IF($F191>90,\"\",HLOOKUP($C191,womens_declare,$B186,FALSE)))","v":""},{"$f":"IF($F191=\"\",\"\",IF($F191>90,\"\",HLOOKUP($C191,womens_declare,$B186+1,FALSE)))","v":""},null,null,null,null,{"$f":"IF($F191=\"\",\"\",IF($F191>90,\"\",HLOOKUP($C191,womens_declare,$B186+2,FALSE)))","v":""},null,null,{"$f":"IF($F191=\"\",\"\",IF($F191>90,\"\",HLOOKUP($C191,womens_declare,$B186+3,FALSE)))","v":""},null,{"$f":"IF(R191=\"\",\"\",IF(AND(AA183=\"T\",R191<R190),\"X\",IF(AND(AA183=\"F\",R191>R190),\"X\",\"\")))","v":""},{"$f":"IF(AA183=\"T\",AD191,AE191)","v":""},null,null,null,null,null,null,null,null,null,{"$f":"IF(R191=\"\",\"\",IF(AA183=\"F\",\"\",IF(AA183=\"T\",IF(R191<=X183,\"þ\",IF(R191<=Y183,\"G2\",IF(R191<=Z183,\"G3\",\"\"))))))","v":""},{"$f":"IF(R191=\"\",\"\",IF(AA183=\"T\",\"\",IF(AA183=\"F\",IF(R191>=X183,\"þ\",IF(R191>=Y183,\"G2\",IF(R191>=Z183,\"G3\",\"\"))))))","v":""},"","","","",191]
[]
[null,null,null,null,{"$f":"CONCATENATE(VLOOKUP(A194,womens_handbook,3,FALSE),\" Non Scoring\")","v":"Women's 100m Non Scoring"},null,null,{"$f":"IF(A194=\"\",\"\",IF(VLOOKUP(A194,Handbook!$A$4:$AI$24,35,FALSE)=\"Y\",\"Wind=\",\"\"))","v":"Wind="},null,null,null,null,null,{"$f":"CONCATENATE(VLOOKUP(A194,womens_handbook,3,FALSE),\" Non Scoring\")","v":"Women's 100m Non Scoring"},null,null,{"$f":"H193","v":"Wind="},null,null,null,null,{"$f":"IF($A194=\"\",\"\",VLOOKUP($A194,Handbook!$A$26:$AK$46,21,FALSE))","v":11.6},{"$f":"IF($A194=\"\",\"\",VLOOKUP($A194,Handbook!$A$26:$AK$46,22,FALSE))","v":11.6},{"$f":"IF($A194=\"\",\"\",VLOOKUP($A194,Handbook!$A$26:$AK$46,23,FALSE))","v":13.2},{"$f":"IF($A194=\"\",\"\",VLOOKUP($A194,Handbook!$A$26:$AK$46,24,FALSE))","v":13},{"$f":"IF($A194=\"\",\"\",VLOOKUP($A194,Handbook!$A$26:$AK$46,25,FALSE))","v":13},{"$f":"IF($A194=\"\",\"\",VLOOKUP($A194,Handbook!$A$26:$AK$46,34,FALSE))","v":"T"},null,null,null,null,null,null,null,null,3,null,null,null,null,null,null,null,"A","B"]
[3,null,{"$f":"IF(F194=\"\",\"\",IF(F194>10,F194/11,F194))","v":""},{"$f":"IF(O194=\"\",\"\",IF(O194>10,O194/11,O194))","v":""},1,null,null,null,null,{"$f":"IF(I194=\"\",\"\",IF(AA193=\"T\",V194,V195))","v":""},null,{"$f":"IF(AA193=\"T\",AB194,AC194)","v":""},null,1,null,null,null,null,null,{"$f":"IF(AA193=\"T\",AD194,AE194)","v":""},null,{"$f":"IF(AA193=\"F\",\"\",IF(I194<V193,\"LR\",IF(I194=V193,\"=LR\",IF(I194<W193,\"DR\",IF(I194=W193,\"=DR\",\"\")))))","v":"LR"},null,null,null,null,null,{"$f":"IF(I194=\"\",\"\",IF(AA193=\"F\",\"\",IF(AA193=\"T\",IF(I194<=X193,\"þ\",IF(I194<=Y193,\"G2\",IF(I194<=Z193,\"G3\",\"\"))))))","v":""},{"$f":"IF(I194=\"\",\"\",IF(AA193=\"T\",\"\",IF(AA193=\"F\",IF(I194>=X193,\"þ\",IF(I194>=Y193,\"G2\",IF(I194>=Z193,\"G3\",\"\"))))))","v":""},{"$f":"IF(R194=\"\",\"\",IF(AA193=\"F\",\"\",IF(AA193=\"T\",IF(R194<=X193,\"þ\",IF(R194<=Y193,\"G2\",IF(R194<=Z193,\"G3\",\"\"))))))","v":""},{"$f":"IF(R194=\"\",\"\",IF(AA193=\"T\",\"\",IF(AA193=\"F\",IF(R194>=X193,\"þ\",IF(R194>=Y193,\"G2\",IF(R194>=Z193,\"G3\",\"\"))))))","v":""},{"$f":"C194","v":""},{"$f":"IF(F194=\"\",\"\",IF(LEFT(I194,1)=\"D\",0,VLOOKUP(E194,$AQ$4:$AR$40,2,FALSE)))","v":""},{"$f":"D194","v":""},{"$f":"IF(O194=\"\",\"\",IF(LEFT(R194,1)=\"D\",0,VLOOKUP(N194,$AQ$4:$AS$40,3,FALSE)))","v":""},4,null,{"$f":"'Match Day'!B195","v":0},null,null,null,null,"Posn","Points","Points"]
[null,{"$f":"VLOOKUP(A194,Handbook!$A$26:$AK$46,37,FALSE)","v":4},"","",2,null,null,null,null,{"$f":"IF(I195=\"\",\"\",IF(AND(AA193=\"T\",I195<I194),\"X\",IF(AND(AA193=\"F\",I195>I194),\"X\",\"\")))","v":""},null,{"$f":"IF(AA193=\"T\",AB195,AC195)","v":""},null,2,null,null,null,null,{"$f":"IF(R195=\"\",\"\",IF(AND(AA193=\"T\",R195<R194),\"X\",IF(AND(AA193=\"F\",R195>R194),\"X\",\"\")))","v":""},{"$f":"IF(AA193=\"T\",AD195,AE195)","v":""},null,{"$f":"IF(AA193=\"T\",\"\",IF(I194>V193,\"LR\",IF(I194=V193,\"=LR\",IF(I194>W193,\"DR\",IF(I194=W193,\"=DR\",\"\")))))","v":""},null,null,null,null,null,{"$f":"IF(I195=\"\",\"\",IF(AA193=\"F\",\"\",IF(AA193=\"T\",IF(I195<=X193,\"þ\",IF(I195<=Y193,\"G2\",IF(I195<=Z193,\"G3\",\"\"))))))","v":""},{"$f":"IF(I195=\"\",\"\",IF(AA193=\"T\",\"\",IF(AA193=\"F\",IF(I195>=X193,\"þ\",IF(I195>=Y193,\"G2\",IF(I195>=Z193,\"G3\",\"\"))))))","v":""},{"$f":"IF(R195=\"\",\"\",IF(AA193=\"F\",\"\",IF(AA193=\"T\",IF(R195<=X193,\"þ\",IF(R195<=Y193,\"G2\",IF(R195<=Z193,\"G3\",\"\"))))))","v":""},{"$f":"IF(R195=\"\",\"\",IF(AA193=\"T\",\"\",IF(AA193=\"F\",IF(R195>=X193,\"þ\",IF(R195>=Y193,\"G2\",IF(R195>=Z193,\"G3\",\"\"))))))","v":""},"","","","",5,null,{"$f":"'Match Day'!B197","v":0},null,null,null,null,1,9,7]
[null,{"$f":"VLOOKUP(A194,womens_declare,20,FALSE)","v":3},"","",3,null,null,null,null,{"$f":"IF(I196=\"\",\"\",IF(AND(AA193=\"T\",I196<I195),\"X\",IF(AND(AA193=\"F\",I196>I195),\"X\",\"\")))","v":""},null,{"$f":"IF(AA193=\"T\",AB196,AC196)","v":""},null,3,null,null,null,null,{"$f":"IF(R196=\"\",\"\",IF(AND(AA193=\"T\",R196<R195),\"X\",IF(AND(AA193=\"F\",R196>R195),\"X\",\"\")))","v":""},{"$f":"IF(AA193=\"T\",AD196,AE196)","v":""},null,null,null,null,null,null,null,{"$f":"IF(I196=\"\",\"\",IF(AA193=\"F\",\"\",IF(AA193=\"T\",IF(I196<=X193,\"þ\",IF(I196<=Y193,\"G2\",IF(I196<=Z193,\"G3\",\"\"))))))","v":""},{"$f":"IF(I196=\"\",\"\",IF(AA193=\"T\",\"\",IF(AA193=\"F\",IF(I196>=X193,\"þ\",IF(I196>=Y193,\"G2\",IF(I196>=Z193,\"G3\",\"\"))))))","v":""},{"$f":"IF(R196=\"\",\"\",IF(AA193=\"F\",\"\",IF(AA193=\"T\",IF(R196<=X193,\"þ\",IF(R196<=Y193,\"G2\",IF(R196<=Z193,\"G3\",\"\"))))))","v":""},{"$f":"IF(R196=\"\",\"\",IF(AA193=\"T\",\"\",IF(AA193=\"F\",IF(R196>=X193,\"þ\",IF(R196>=Y193,\"G2\",IF(R196>=Z193,\"G3\",\"\"))))))","v":""},"","","","",6,null,{"$f":"'Match Day'!B199","v":0},null,null,null,null,2,7,5]
[null,null,"","",4,null,null,null,null,{"$f":"IF(I197=\"\",\"\",IF(AND(AA193=\"T\",I197<I196),\"X\",IF(AND(AA193=\"F\",I197>I196),\"X\",\"\")))","v":""},null,{"$f":"IF(AA193=\"T\",AB197,AC197)","v":""},null,4,null,null,null,null,{"$f":"IF(R197=\"\",\"\",IF(AND(AA193=\"T\",R197<R196),\"X\",IF(AND(AA193=\"F\",R197>R196),\"X\",\"\")))","v":""},{"$f":"IF(AA193=\"T\",AD197,AE197)","v":""},null,null,null,null,null,null,null,{"$f":"IF(I197=\"\",\"\",IF(AA193=\"F\",\"\",IF(AA193=\"T\",IF(I197<=X193,\"þ\",IF(I197<=Y193,\"G2\",IF(I197<=Z193,\"G3\",\"\"))))))","v":""},{"$f":"IF(I197=\"\",\"\",IF(AA193=\"T\",\"\",IF(AA193=\"F\",IF(I197>=X193,\"þ\",IF(I197>=Y193,\"G2\",IF(I197>=Z193,\"G3\",\"\"))))))","v":""},{"$f":"IF(R197=\"\",\"\",IF(AA193=\"F\",\"\",IF(AA193=\"T\",IF(R197<=X193,\"þ\",IF(R197<=Y193,\"G2\",IF(R197<=Z193,\"G3\",\"\"))))))","v":""},{"$f":"IF(R197=\"\",\"\",IF(AA193=\"T\",\"\",IF(AA193=\"F\",IF(R197>=X193,\"þ\",IF(R197>=Y193,\"G2\",IF(R197>=Z193,\"G3\",\"\"))))))","v":""},"","","","",7,null,{"$f":"'Match Day'!B201","v":0},null,null,null,null,3,6,4]
[null,null,"","",5,null,null,null,null,{"$f":"IF(I198=\"\",\"\",IF(AND(AA193=\"T\",I198<I197),\"X\",IF(AND(AA193=\"F\",I198>I197),\"X\",\"\")))","v":""},null,{"$f":"IF(AA193=\"T\",AB198,AC198)","v":""},null,5,null,null,null,null,{"$f":"IF(R198=\"\",\"\",IF(AND(AA193=\"T\",R198<R197),\"X\",IF(AND(AA193=\"F\",R198>R197),\"X\",\"\")))","v":""},{"$f":"IF(AA193=\"T\",AD198,AE198)","v":""},null,null,null,null,null,null,null,{"$f":"IF(I198=\"\",\"\",IF(AA193=\"F\",\"\",IF(AA193=\"T\",IF(I198<=X193,\"þ\",IF(I198<=Y193,\"G2\",IF(I198<=Z193,\"G3\",\"\"))))))","v":""},{"$f":"IF(I198=\"\",\"\",IF(AA193=\"T\",\"\",IF(AA193=\"F\",IF(I198>=X193,\"þ\",IF(I198>=Y193,\"G2\",IF(I198>=Z193,\"G3\",\"\"))))))","v":""},{"$f":"IF(R198=\"\",\"\",IF(AA193=\"F\",\"\",IF(AA193=\"T\",IF(R198<=X193,\"þ\",IF(R198<=Y193,\"G2\",IF(R198<=Z193,\"G3\",\"\"))))))","v":""},{"$f":"IF(R198=\"\",\"\",IF(AA193=\"T\",\"\",IF(AA193=\"F\",IF(R198>=X193,\"þ\",IF(R198>=Y193,\"G2\",IF(R198>=Z193,\"G3\",\"\"))))))","v":""},"","","","",8,null,{"$f":"'Match Day'!B203","v":0},null,null,null,null,4,5,3]
[null,null,"","",6,null,null,null,null,{"$f":"IF(I199=\"\",\"\",IF(AND(AA193=\"T\",I199<I198),\"X\",IF(AND(AA193=\"F\",I199>I198),\"X\",\"\")))","v":""},null,{"$f":"IF(AA193=\"T\",AB199,AC199)","v":""},null,6,null,null,null,null,{"$f":"IF(R199=\"\",\"\",IF(AND(AA193=\"T\",R199<R198),\"X\",IF(AND(AA193=\"F\",R199>R198),\"X\",\"\")))","v":""},{"$f":"IF(AA193=\"T\",AD199,AE199)","v":""},null,null,null,null,null,null,null,{"$f":"IF(I199=\"\",\"\",IF(AA193=\"F\",\"\",IF(AA193=\"T\",IF(I199<=X193,\"þ\",IF(I199<=Y193,\"G2\",IF(I199<=Z193,\"G3\",\"\"))))))","v":""},{"$f":"IF(I199=\"\",\"\",IF(AA193=\"T\",\"\",IF(AA193=\"F\",IF(I199>=X193,\"þ\",IF(I199>=Y193,\"G2\",IF(I199>=Z193,\"G3\",\"\"))))))","v":""},{"$f":"IF(R199=\"\",\"\",IF(AA193=\"F\",\"\",IF(AA193=\"T\",IF(R199<=X193,\"þ\",IF(R199<=Y193,\"G2\",IF(R199<=Z193,\"G3\",\"\"))))))","v":""},{"$f":"IF(R199=\"\",\"\",IF(AA193=\"T\",\"\",IF(AA193=\"F\",IF(R199>=X193,\"þ\",IF(R199>=Y193,\"G2\",IF(R199>=Z193,\"G3\",\"\"))))))","v":""},"","","","",9,null,{"$f":"'Match Day'!B205","v":0},null,null,null,null,5,4,2]
[null,null,"","",7,null,null,null,null,{"$f":"IF(I200=\"\",\"\",IF(AND(AA193=\"T\",I200<I199),\"X\",IF(AND(AA193=\"F\",I200>I199),\"X\",\"\")))","v":""},null,{"$f":"IF(AA193=\"T\",AB200,AC200)","v":""},null,7,null,null,null,null,{"$f":"IF(R200=\"\",\"\",IF(AND(AA193=\"T\",R200<R199),\"X\",IF(AND(AA193=\"F\",R200>R199),\"X\",\"\")))","v":""},{"$f":"IF(AA193=\"T\",AD200,AE200)","v":""},null,null,null,null,null,null,null,{"$f":"IF(I200=\"\",\"\",IF(AA193=\"F\",\"\",IF(AA193=\"T\",IF(I200<=X193,\"þ\",IF(I200<=Y193,\"G2\",IF(I200<=Z193,\"G3\",\"\"))))))","v":""},{"$f":"IF(I200=\"\",\"\",IF(AA193=\"T\",\"\",IF(AA193=\"F\",IF(I200>=X193,\"þ\",IF(I200>=Y193,\"G2\",IF(I200>=Z193,\"G3\",\"\"))))))","v":""},{"$f":"IF(R200=\"\",\"\",IF(AA193=\"F\",\"\",IF(AA193=\"T\",IF(R200<=X193,\"þ\",IF(R200<=Y193,\"G2\",IF(R200<=Z193,\"G3\",\"\"))))))","v":""},{"$f":"IF(R200=\"\",\"\",IF(AA193=\"T\",\"\",IF(AA193=\"F\",IF(R200>=X193,\"þ\",IF(R200>=Y193,\"G2\",IF(R200>=Z193,\"G3\",\"\"))))))","v":""},"","","","",10,null,{"$f":"'Match Day'!B207","v":0},null,null,null,null,6,3,1]
[null,null,"","",8,null,null,null,null,{"$f":"IF(I201=\"\",\"\",IF(AND(AA193=\"T\",I201<I200),\"X\",IF(AND(AA193=\"F\",I201>I200),\"X\",\"\")))","v":""},null,{"$f":"IF(AA193=\"T\",AB201,AC201)","v":""},null,8,null,null,null,null,{"$f":"IF(R201=\"\",\"\",IF(AND(AA193=\"T\",R201<R200),\"X\",IF(AND(AA193=\"F\",R201>R200),\"X\",\"\")))","v":""},{"$f":"IF(AA193=\"T\",AD201,AE201)","v":""},null,null,null,null,null,null,null,{"$f":"IF(I201=\"\",\"\",IF(AA193=\"F\",\"\",IF(AA193=\"T\",IF(I201<=X193,\"þ\",IF(I201<=Y193,\"G2\",IF(I201<=Z193,\"G3\",\"\"))))))","v":""},{"$f":"IF(I201=\"\",\"\",IF(AA193=\"T\",\"\",IF(AA193=\"F\",IF(I201>=X193,\"þ\",IF(I201>=Y193,\"G2\",IF(I201>=Z193,\"G3\",\"\"))))))","v":""},{"$f":"IF(R201=\"\",\"\",IF(AA193=\"F\",\"\",IF(AA193=\"T\",IF(R201<=X193,\"þ\",IF(R201<=Y193,\"G2\",IF(R201<=Z193,\"G3\",\"\"))))))","v":""},{"$f":"IF(R201=\"\",\"\",IF(AA193=\"T\",\"\",IF(AA193=\"F\",IF(R201>=X193,\"þ\",IF(R201>=Y193,\"G2\",IF(R201>=Z193,\"G3\",\"\"))))))","v":""},"","","","",11,null,{"$f":"'Match Day'!B209","v":0},null,null,null,null,7,0,0]
[]
[null,null,null,null,"Womens 1500m Steeplechase",null,null,{"$f":"IF(A204=\"\",\"\",IF(VLOOKUP(A204,Handbook!$A$4:$AI$24,35,FALSE)=\"Y\",\"Wind=\",\"\"))","v":""},{"$f":"IF(B204=\"\",\"\",IF(VLOOKUP(B204,Handbook!$A$4:$AI$24,35,FALSE)=\"Y\",\"Wind=\",\"\"))","v":""}]
[null,null,null,null,1]
[null,null,null,null,2]
[null,null,null,null,3]
[null,null,null,null,4]
[null,null,null,null,5]
[null,null,null,null,6]
[null,null,null,null,7]
[null,null,null,null,8]

{"sheet":"Points","index":3,"n_rows":80,"n_cols":34,"rows_kept":80,"cut":false,"hidden":false,"merged":[[45,12,45,13],[47,8,47,9],[53,10,53,11],[53,12,53,13],[45,2,45,3],[49,16,49,17],[47,10,47,11],[47,12,47,13],[48,12,48,13],[48,10,48,11],[46,12,46,13],[50,6,50,7],[46,8,46,9],[45,16,45,17],[45,14,45,15],[47,14,47,15],[48,14,48,15],[49,14,49,15],[50,14,50,15],[50,16,50,17],[48,16,48,17],[51,16,51,17],[52,16,52,17],[51,14,51,15],[3,22,3,23],[3,12,3,13],[3,14,3,15],[3,18,3,19],[3,10,3,11],[3,16,3,17],[50,18,50,19],[48,20,48,21],[45,6,45,7],[45,8,45,9],[46,14,46,15],[49,20,49,21],[46,20,46,21],[47,20,47,21],[46,16,46,17],[46,10,46,11],[50,8,50,9],[49,12,49,13],[50,12,50,13],[49,10,49,11],[50,10,50,11],[48,8,48,9],[47,16,47,17],[45,10,45,11],[52,10,52,11],[52,4,52,5],[52,6,52,7],[52,8,52,9],[3,2,3,3],[3,4,3,5],[50,4,50,5],[48,2,48,3],[3,6,3,7],[3,8,3,9],[49,2,49,3],[46,6,46,7],[47,6,47,7],[48,6,48,7],[49,6,49,7],[49,8,49,9],[46,2,46,3],[47,2,47,3],[45,4,45,5],[50,2,50,3],[46,4,46,5],[47,4,47,5],[48,4,48,5],[49,4,49,5],[0,18,0,21],[54,18,54,19],[54,20,54,21],[51,18,51,19],[51,20,51,21],[45,18,45,19],[45,20,45,21],[50,20,50,21],[48,18,48,19],[49,18,49,19],[52,20,52,21],[46,18,46,19],[47,18,47,19],[3,20,3,21],[53,20,53,21],[52,18,52,19],[55,2,55,3],[55,18,55,19],[55,10,55,11],[55,12,55,13],[54,16,54,17],[53,18,53,19],[55,4,55,5],[55,6,55,7],[55,8,55,9],[55,16,55,17],[55,14,55,15],[54,14,54,15],[53,16,53,17],[53,14,53,15],[54,10,54,11],[54,12,54,13],[54,2,54,3],[54,4,54,5],[54,6,54,7],[54,8,54,9],[53,2,53,3],[53,4,53,5],[53,6,53,7],[53,8,53,9],[60,16,60,17],[60,2,60,3],[59,12,59,13],[60,4,60,5],[59,8,59,9],[59,14,59,15],[56,8,56,9],[61,16,61,17],[61,2,61,3],[61,4,61,5],[61,6,61,7],[61,8,61,9],[61,14,61,15],[59,16,59,17],[60,6,60,7],[60,8,60,9],[60,14,60,15],[56,16,56,17],[56,14,56,15],[56,2,56,3],[56,4,56,5],[56,6,56,7],[56,12,56,13],[57,20,57,21],[57,10,57,11],[57,12,57,13],[57,14,57,15],[57,16,57,17],[57,4,57,5],[57,6,57,7],[57,8,57,9],[57,18,57,19],[1,1,1,10],[55,20,55,21],[56,18,56,19],[56,20,56,21],[52,12,52,13],[52,14,52,15],[61,10,61,11],[61,12,61,13],[60,10,60,11],[60,12,60,13],[59,10,59,11],[57,2,57,3],[59,2,59,3],[59,4,59,5],[59,6,59,7],[56,10,56,11],[51,2,51,3],[51,4,51,5],[51,6,51,7],[51,8,51,9],[51,10,51,11],[51,12,51,13],[2,1,2,7],[52,2,52,3]]}
[null,"Home",null,null,null,null,null,null,null,null,null,null,null,null,null,null,null,null,"Home"]
[null,{"$f":"CONCATENATE('Match Day'!I8,\" \",'Match Day'!I10,\" - \",'Match Day'!I12)","v":"Division 4W Match 1 - Litherland"}]
[null,{"$f":"'Match Day'!I6","v":"2014-05-04"},null,null,null,null,null,null,null,null,null,null,null,null,null,null,null,null,null,null,null,null,null,null,null,null,null,null,null,null,"Row"]
[null,"Events",{"$f":"'Match Day'!F4","v":"Altrincham"},null,{"$f":"'Match Day'!F6","v":"Crewe"},null,{"$f":"'Match Day'!F8","v":"IoM"},null,{"$f":"'Match Day'!F10","v":"Salford"},null,{"$f":"'Match Day'!F12","v":"Southport"},null,{"$f":"'Match Day'!F14","v":"Warrington"},null,{"$f":"'Match Day'!F16","v":"Wrexham"},null,{"$f":"'Match Day'!F18","v":" "},null,"UNUSED",null,"TOTAL",null,null,null,null,null,null,null,null,null,"$ab XX:$ac XX","$ad XX:$ae XX"]
[{"$f":"Results!A$4","v":3},{"$f":"VLOOKUP(A5,Handbook!$A$4:$C$24,3,FALSE)","v":"Men's 100m"},{"$f":"IF(ISERROR(VLOOKUP('Match Day'!$B$4,Results!$AF$4:$AG$11,2,FALSE))=TRUE,0,VLOOKUP('Match Day'!$B$4,Results!$AF$4:$AG$11,2,FALSE))","v":0},{"$f":"IF(ISERROR(VLOOKUP('Match Day'!$B$4,Results!$AH$4:$AI$11,2,FALSE))=TRUE,0,VLOOKUP('Match Day'!$B$4,Results!$AH$4:$AI$11,2,FALSE))","v":0},{"$f":"IF(ISERROR(VLOOKUP('Match Day'!$B$6,Results!$AF$4:$AG$11,2,FALSE))=TRUE,0,VLOOKUP('Match Day'!$B$6,Results!$AF$4:$AG$11,2,FALSE))","v":0},{"$f":"IF(ISERROR(VLOOKUP('Match Day'!$B$6,Results!$AH$4:$AI$11,2,FALSE))=TRUE,0,VLOOKUP('Match Day'!$B$6,Results!$AH$4:$AI$11,2,FALSE))","v":0},{"$f":"IF(ISERROR(VLOOKUP('Match Day'!$B$8,Results!$AF$4:$AG$11,2,FALSE))=TRUE,0,VLOOKUP('Match Day'!$B$8,Results!$AF$4:$AG$11,2,FALSE))","v":0},{"$f":"IF(ISERROR(VLOOKUP('Match Day'!$B$8,Results!$AH$4:$AI$11,2,FALSE))=TRUE,0,VLOOKUP('Match Day'!$B$8,Results!$AH$4:$AI$11,2,FALSE))","v":0},{"$f":"IF(ISERROR(VLOOKUP('Match Day'!$B$10,Results!$AF$4:$AG$11,2,FALSE))=TRUE,0,VLOOKUP('Match Day'!$B$10,Results!$AF$4:$AG$11,2,FALSE))","v":0},{"$f":"IF(ISERROR(VLOOKUP('Match Day'!$B$10,Results!$AH$4:$AI$11,2,FALSE))=TRUE,0,VLOOKUP('Match Day'!$B$10,Results!$AH$4:$AI$11,2,FALSE))","v":0},{"$f":"IF(ISERROR(VLOOKUP('Match Day'!$B$12,Results!$AF$4:$AG$11,2,FALSE))=TRUE,0,VLOOKUP('Match Day'!$B$12,Results!$AF$4:$AG$11,2,FALSE))","v":0},{"$f":"IF(ISERROR(VLOOKUP('Match Day'!$B$12,Results!$AH$4:$AI$11,2,FALSE))=TRUE,0,VLOOKUP('Match Day'!$B$12,Results!$AH$4:$AI$11,2,FALSE))","v":0},{"$f":"IF(ISERROR(VLOOKUP('Match Day'!$B$14,Results!$AF$4:$AG$11,2,FALSE))=TRUE,0,VLOOKUP('Match Day'!$B$14,Results!$AF$4:$AG$11,2,FALSE))","v":0},{"$f":"IF(ISERROR(VLOOKUP('Match Day'!$B$14,Results!$AH$4:$AI$11,2,FALSE))=TRUE,0,VLOOKUP('Match Day'!$B$14,Results!$AH$4:$AI$11,2,FALSE))","v":0},{"$f":"IF(ISERROR(VLOOKUP('Match Day'!$B$16,Results!$AF$4:$AG$11,2,FALSE))=TRUE,0,VLOOKUP('Match Day'!$B$16,Results!$AF$4:$AG$11,2,FALSE))","v":0},{"$f":"IF(ISERROR(VLOOKUP('Match Day'!$B$16,Results!$AH$4:$AI$11,2,FALSE))=TRUE,0,VLOOKUP('Match Day'!$B$16,Results!$AH$4:$AI$11,2,FALSE))","v":0},{"$f":"IF(ISERROR(VLOOKUP('Match Day'!$B$18,Results!$AF$4:$AG$11,2,FALSE))=TRUE,0,VLOOKUP('Match Day'!$B$18,Results!$AF$4:$AG$11,2,FALSE))","v":0},{"$f":"IF(ISERROR(VLOOKUP('Match Day'!$B$18,Results!$AH$4:$AI$11,2,FALSE))=TRUE,0,VLOOKUP('Match Day'!$B$18,Results!$AH$4:$AI$11,2,FALSE))","v":0},{"$f":"IF(Home!X9=\"\",0,Results!$AT$12-AG5)","v":0},{"$f":"IF(Home!X9=\"\",0,Results!$AU$12-AH5)","v":0},{"$f":"C5+E5+G5+I5+K5+M5+O5+Q5+S5","v":0},{"$f":"D5+F5+H5+J5+L5+N5+P5+R5+T5","v":0},null,{"$f":"IF(U5>0,1,0)","v":0},null,null,null,null,null,null,{"$f":"IF(A5=\"\",\"\",VLOOKUP(A5,Results!$A$4:$AJ$191,36,FALSE))","v":4},{"$f":"AE5+7","v":11},{"$f":"C5+E5+G5+I5+K5+M5+O5+Q5","v":0},{"$f":"D5+F5+H5+J5+L5+N5+P5+R5","v":0}]
[{"$f":"Results!A$14","v":7},{"$f":"VLOOKUP(A6,Handbook!$A$4:$C$24,3,FALSE)","v":"Men's 200m"},{"$f":"IF(ISERROR(VLOOKUP('Match Day'!$B$4,Results!$AF$14:$AG$21,2,FALSE))=TRUE,0,VLOOKUP('Match Day'!$B$4,Results!$AF$14:$AG$21,2,FALSE))","v":0},{"$f":"IF(ISERROR(VLOOKUP('Match Day'!$B$4,Results!$AH$14:$AI$21,2,FALSE))=TRUE,0,VLOOKUP('Match Day'!$B$4,Results!$AH$14:$AI$21,2,FALSE))","v":0},{"$f":"IF(ISERROR(VLOOKUP('Match Day'!$B$6,Results!$AF$14:$AG$21,2,FALSE))=TRUE,0,VLOOKUP('Match Day'!$B$6,Results!$AF$14:$AG$21,2,FALSE))","v":0},{"$f":"IF(ISERROR(VLOOKUP('Match Day'!$B$6,Results!$AH$14:$AI$21,2,FALSE))=TRUE,0,VLOOKUP('Match Day'!$B$6,Results!$AH$14:$AI$21,2,FALSE))","v":0},{"$f":"IF(ISERROR(VLOOKUP('Match Day'!$B$8,Results!$AF$14:$AG$21,2,FALSE))=TRUE,0,VLOOKUP('Match Day'!$B$8,Results!$AF$14:$AG$21,2,FALSE))","v":0},{"$f":"IF(ISERROR(VLOOKUP('Match Day'!$B$8,Results!$AH$14:$AI$21,2,FALSE))=TRUE,0,VLOOKUP('Match Day'!$B$8,Results!$AH$14:$AI$21,2,FALSE))","v":0},{"$f":"IF(ISERROR(VLOOKUP('Match Day'!$B$10,Results!$AF$14:$AG$21,2,FALSE))=TRUE,0,VLOOKUP('Match Day'!$B$10,Results!$AF$14:$AG$21,2,FALSE))","v":0},{"$f":"IF(ISERROR(VLOOKUP('Match Day'!$B$10,Results!$AH$14:$AI$21,2,FALSE))=TRUE,0,VLOOKUP('Match Day'!$B$10,Results!$AH$14:$AI$21,2,FALSE))","v":0},{"$f":"IF(ISERROR(VLOOKUP('Match Day'!$B$12,Results!$AF$14:$AG$21,2,FALSE))=TRUE,0,VLOOKUP('Match Day'!$B$12,Results!$AF$14:$AG$21,2,FALSE))","v":0},{"$f":"IF(ISERROR(VLOOKUP('Match Day'!$B$12,Results!$AH$14:$AI$21,2,FALSE))=TRUE,0,VLOOKUP('Match Day'!$B$12,Results!$AH$14:$AI$21,2,FALSE))","v":0},{"$f":"IF(ISERROR(VLOOKUP('Match Day'!$B$14,Results!$AF$14:$AG$21,2,FALSE))=TRUE,0,VLOOKUP('Match Day'!$B$14,Results!$AF$14:$AG$21,2,FALSE))","v":0},{"$f":"IF(ISERROR(VLOOKUP('Match Day'!$B$14,Results!$AH$14:$AI$21,2,FALSE))=TRUE,0,VLOOKUP('Match Day'!$B$14,Results!$AH$14:$AI$21,2,FALSE))","v":0},{"$f":"IF(ISERROR(VLOOKUP('Match Day'!$B$16,Results!$AF$14:$AG$21,2,FALSE))=TRUE,0,VLOOKUP('Match Day'!$B$16,Results!$AF$14:$AG$21,2,FALSE))","v":0},{"$f":"IF(ISERROR(VLOOKUP('Match Day'!$B$16,Results!$AH$14:$AI$21,2,FALSE))=TRUE,0,VLOOKUP('Match Day'!$B$16,Results!$AH$14:$AI$21,2,FALSE))","v":0},{"$f":"IF(ISERROR(VLOOKUP('Match Day'!$B$18,Results!$AF$14:$AG$21,2,FALSE))=TRUE,0,VLOOKUP('Match Day'!$B$18,Results!$AF$14:$AG$21,2,FALSE))","v":0},{"$f":"IF(ISERROR(VLOOKUP('Match Day'!$B$18,Results!$AH$14:$AI$21,2,FALSE))=TRUE,0,VLOOKUP('Match Day'!$B$18,Results!$AH$14:$AI$21,2,FALSE))","v":0},{"$f":"IF(Home!X10=\"\",0,Results!$AT$12-AG6)","v":0},{"$f":"IF(Home!X10=\"\",0,Results!$AU$12-AH6)","v":0},0,0,null,{"$f":"IF(U6>0,1,0)","v":0},null,null,null,null,null,null,{"$f":"IF(A6=\"\",\"\",VLOOKUP(A6,Results!$A$4:$AJ$191,36,FALSE))","v":14},{"$f":"AE6+7","v":21},0,0]
[{"$f":"Results!A$24","v":4},{"$f":"VLOOKUP(A7,Handbook!$A$4:$C$24,3,FALSE)","v":"Men's 400m"},{"$f":"IF(ISERROR(VLOOKUP('Match Day'!$B$4,Results!$AF$24:$AG$31,2,FALSE))=TRUE,0,VLOOKUP('Match Day'!$B$4,Results!$AF$24:$AG$31,2,FALSE))","v":0},{"$f":"IF(ISERROR(VLOOKUP('Match Day'!$B$4,Results!$AH$24:$AI$31,2,FALSE))=TRUE,0,VLOOKUP('Match Day'!$B$4,Results!$AH$24:$AI$31,2,FALSE))","v":0},{"$f":"IF(ISERROR(VLOOKUP('Match Day'!$B$6,Results!$AF$24:$AG$31,2,FALSE))=TRUE,0,VLOOKUP('Match Day'!$B$6,Results!$AF$24:$AG$31,2,FALSE))","v":0},{"$f":"IF(ISERROR(VLOOKUP('Match Day'!$B$6,Results!$AH$24:$AI$31,2,FALSE))=TRUE,0,VLOOKUP('Match Day'!$B$6,Results!$AH$24:$AI$31,2,FALSE))","v":0},{"$f":"IF(ISERROR(VLOOKUP('Match Day'!$B$8,Results!$AF$24:$AG$31,2,FALSE))=TRUE,0,VLOOKUP('Match Day'!$B$8,Results!$AF$24:$AG$31,2,FALSE))","v":0},{"$f":"IF(ISERROR(VLOOKUP('Match Day'!$B$8,Results!$AH$24:$AI$31,2,FALSE))=TRUE,0,VLOOKUP('Match Day'!$B$8,Results!$AH$24:$AI$31,2,FALSE))","v":0},{"$f":"IF(ISERROR(VLOOKUP('Match Day'!$B$10,Results!$AF$24:$AG$31,2,FALSE))=TRUE,0,VLOOKUP('Match Day'!$B$10,Results!$AF$24:$AG$31,2,FALSE))","v":0},{"$f":"IF(ISERROR(VLOOKUP('Match Day'!$B$10,Results!$AH$24:$AI$31,2,FALSE))=TRUE,0,VLOOKUP('Match Day'!$B$10,Results!$AH$24:$AI$31,2,FALSE))","v":0},{"$f":"IF(ISERROR(VLOOKUP('Match Day'!$B$12,Results!$AF$24:$AG$31,2,FALSE))=TRUE,0,VLOOKUP('Match Day'!$B$12,Results!$AF$24:$AG$31,2,FALSE))","v":0},{"$f":"IF(ISERROR(VLOOKUP('Match Day'!$B$12,Results!$AH$24:$AI$31,2,FALSE))=TRUE,0,VLOOKUP('Match Day'!$B$12,Results!$AH$24:$AI$31,2,FALSE))","v":0},{"$f":"IF(ISERROR(VLOOKUP('Match Day'!$B$14,Results!$AF$24:$AG$31,2,FALSE))=TRUE,0,VLOOKUP('Match Day'!$B$14,Results!$AF$24:$AG$31,2,FALSE))","v":0},{"$f":"IF(ISERROR(VLOOKUP('Match Day'!$B$14,Results!$AH$24:$AI$31,2,FALSE))=TRUE,0,VLOOKUP('Match Day'!$B$14,Results!$AH$24:$AI$31,2,FALSE))","v":0},{"$f":"IF(ISERROR(VLOOKUP('Match Day'!$B$16,Results!$AF$24:$AG$31,2,FALSE))=TRUE,0,VLOOKUP('Match Day'!$B$16,Results!$AF$24:$AG$31,2,FALSE))","v":0},{"$f":"IF(ISERROR(VLOOKUP('Match Day'!$B$16,Results!$AH$24:$AI$31,2,FALSE))=TRUE,0,VLOOKUP('Match Day'!$B$16,Results!$AH$24:$AI$31,2,FALSE))","v":0},{"$f":"IF(ISERROR(VLOOKUP('Match Day'!$B$18,Results!$AF$24:$AG$31,2,FALSE))=TRUE,0,VLOOKUP('Match Day'!$B$18,Results!$AF$24:$AG$31,2,FALSE))","v":0},{"$f":"IF(ISERROR(VLOOKUP('Match Day'!$B$18,Results!$AH$24:$AI$31,2,FALSE))=TRUE,0,VLOOKUP('Match Day'!$B$18,Results!$AH$24:$AI$31,2,FALSE))","v":0},{"$f":"IF(Home!X11=\"\",0,Results!$AT$12-AG7)","v":0},{"$f":"IF(Home!X11=\"\",0,Results!$AU$12-AH7)","v":0},0,0,null,0,null,null,null,null,null,null,{"$f":"IF(A7=\"\",\"\",VLOOKUP(A7,Results!$A$4:$AJ$191,36,FALSE))","v":24},31,0,0]
[{"$f":"Results!A$34","v":2},{"$f":"VLOOKUP(A8,Handbook!$A$4:$C$24,3,FALSE)","v":"Men's 800m"},{"$f":"IF(ISERROR(VLOOKUP('Match Day'!$B$4,Results!$AF$34:$AG$41,2,FALSE))=TRUE,0,VLOOKUP('Match Day'!$B$4,Results!$AF$34:$AG$41,2,FALSE))","v":0},{"$f":"IF(ISERROR(VLOOKUP('Match Day'!$B$4,Results!$AH$34:$AI$41,2,FALSE))=TRUE,0,VLOOKUP('Match Day'!$B$4,Results!$AH$34:$AI$41,2,FALSE))","v":0},{"$f":"IF(ISERROR(VLOOKUP('Match Day'!$B$6,Results!$AF$34:$AG$41,2,FALSE))=TRUE,0,VLOOKUP('Match Day'!$B$6,Results!$AF$34:$AG$41,2,FALSE))","v":0},{"$f":"IF(ISERROR(VLOOKUP('Match Day'!$B$6,Results!$AH$34:$AI$41,2,FALSE))=TRUE,0,VLOOKUP('Match Day'!$B$6,Results!$AH$34:$AI$41,2,FALSE))","v":0},{"$f":"IF(ISERROR(VLOOKUP('Match Day'!$B$8,Results!$AF$34:$AG$41,2,FALSE))=TRUE,0,VLOOKUP('Match Day'!$B$8,Results!$AF$34:$AG$41,2,FALSE))","v":0},{"$f":"IF(ISERROR(VLOOKUP('Match Day'!$B$8,Results!$AH$34:$AI$41,2,FALSE))=TRUE,0,VLOOKUP('Match Day'!$B$8,Results!$AH$34:$AI$41,2,FALSE))","v":0},{"$f":"IF(ISERROR(VLOOKUP('Match Day'!$B$10,Results!$AF$34:$AG$41,2,FALSE))=TRUE,0,VLOOKUP('Match Day'!$B$10,Results!$AF$34:$AG$41,2,FALSE))","v":0},{"$f":"IF(ISERROR(VLOOKUP('Match Day'!$B$10,Results!$AH$34:$AI$41,2,FALSE))=TRUE,0,VLOOKUP('Match Day'!$B$10,Results!$AH$34:$AI$41,2,FALSE))","v":0},{"$f":"IF(ISERROR(VLOOKUP('Match Day'!$B$12,Results!$AF$34:$AG$41,2,FALSE))=TRUE,0,VLOOKUP('Match Day'!$B$12,Results!$AF$34:$AG$41,2,FALSE))","v":0},{"$f":"IF(ISERROR(VLOOKUP('Match Day'!$B$12,Results!$AH$34:$AI$41,2,FALSE))=TRUE,0,VLOOKUP('Match Day'!$B$12,Results!$AH$34:$AI$41,2,FALSE))","v":0},{"$f":"IF(ISERROR(VLOOKUP('Match Day'!$B$14,Results!$AF$34:$AG$41,2,FALSE))=TRUE,0,VLOOKUP('Match Day'!$B$14,Results!$AF$34:$AG$41,2,FALSE))","v":0},{"$f":"IF(ISERROR(VLOOKUP('Match Day'!$B$14,Results!$AH$34:$AI$41,2,FALSE))=TRUE,0,VLOOKUP('Match Day'!$B$14,Results!$AH$34:$AI$41,2,FALSE))","v":0},{"$f":"IF(ISERROR(VLOOKUP('Match Day'!$B$16,Results!$AF$34:$AG$41,2,FALSE))=TRUE,0,VLOOKUP('Match Day'!$B$16,Results!$AF$34:$AG$41,2,FALSE))","v":0},{"$f":"IF(ISERROR(VLOOKUP('Match Day'!$B$16,Results!$AH$34:$AI$41,2,FALSE))=TRUE,0,VLOOKUP('Match Day'!$B$16,Results!$AH$34:$AI$41,2,FALSE))","v":0},{"$f":"IF(ISERROR(VLOOKUP('Match Day'!$B$18,Results!$AF$34:$AG$41,2,FALSE))=TRUE,0,VLOOKUP('Match Day'!$B$18,Results!$AF$34:$AG$41,2,FALSE))","v":0},{"$f":"IF(ISERROR(VLOOKUP('Match Day'!$B$18,Results!$AH$34:$AI$41,2,FALSE))=TRUE,0,VLOOKUP('Match Day'!$B$18,Results!$AH$34:$AI$41,2,FALSE))","v":0},{"$f":"IF(Home!X12=\"\",0,Results!$AT$12-AG8)","v":0},{"$f":"IF(Home!X12=\"\",0,Results!$AU$12-AH8)","v":0},0,0,null,0,null,null,null,null,null,null,{"$f":"IF(A8=\"\",\"\",VLOOKUP(A8,Results!$A$4:$AJ$191,36,FALSE))","v":34},41,0,0]
[{"$f":"Results!A$44","v":8},{"$f":"VLOOKUP(A9,Handbook!$A$4:$C$24,3,FALSE)","v":"Men's 1500m"},{"$f":"IF(ISERROR(VLOOKUP('Match Day'!$B$4,Results!$AF$44:$AG$51,2,FALSE))=TRUE,0,VLOOKUP('Match Day'!$B$4,Results!$AF$44:$AG$51,2,FALSE))","v":0},{"$f":"IF(ISERROR(VLOOKUP('Match Day'!$B$4,Results!$AH$44:$AI$51,2,FALSE))=TRUE,0,VLOOKUP('Match Day'!$B$4,Results!$AH$44:$AI$51,2,FALSE))","v":0},{"$f":"IF(ISERROR(VLOOKUP('Match Day'!$B$6,Results!$AF$44:$AG$51,2,FALSE))=TRUE,0,VLOOKUP('Match Day'!$B$6,Results!$AF$44:$AG$51,2,FALSE))","v":0},{"$f":"IF(ISERROR(VLOOKUP('Match Day'!$B$6,Results!$AH$44:$AI$51,2,FALSE))=TRUE,0,VLOOKUP('Match Day'!$B$6,Results!$AH$44:$AI$51,2,FALSE))","v":0},{"$f":"IF(ISERROR(VLOOKUP('Match Day'!$B$8,Results!$AF$44:$AG$51,2,FALSE))=TRUE,0,VLOOKUP('Match Day'!$B$8,Results!$AF$44:$AG$51,2,FALSE))","v":0},{"$f":"IF(ISERROR(VLOOKUP('Match Day'!$B$8,Results!$AH$44:$AI$51,2,FALSE))=TRUE,0,VLOOKUP('Match Day'!$B$8,Results!$AH$44:$AI$51,2,FALSE))","v":0},{"$f":"IF(ISERROR(VLOOKUP('Match Day'!$B$10,Results!$AF$44:$AG$51,2,FALSE))=TRUE,0,VLOOKUP('Match Day'!$B$10,Results!$AF$44:$AG$51,2,FALSE))","v":0},{"$f":"IF(ISERROR(VLOOKUP('Match Day'!$B$10,Results!$AH$44:$AI$51,2,FALSE))=TRUE,0,VLOOKUP('Match Day'!$B$10,Results!$AH$44:$AI$51,2,FALSE))","v":0},{"$f":"IF(ISERROR(VLOOKUP('Match Day'!$B$12,Results!$AF$44:$AG$51,2,FALSE))=TRUE,0,VLOOKUP('Match Day'!$B$12,Results!$AF$44:$AG$51,2,FALSE))","v":0},{"$f":"IF(ISERROR(VLOOKUP('Match Day'!$B$12,Results!$AH$44:$AI$51,2,FALSE))=TRUE,0,VLOOKUP('Match Day'!$B$12,Results!$AH$44:$AI$51,2,FALSE))","v":0},{"$f":"IF(ISERROR(VLOOKUP('Match Day'!$B$14,Results!$AF$44:$AG$51,2,FALSE))=TRUE,0,VLOOKUP('Match Day'!$B$14,Results!$AF$44:$AG$51,2,FALSE))","v":0},{"$f":"IF(ISERROR(VLOOKUP('Match Day'!$B$14,Results!$AH$44:$AI$51,2,FALSE))=TRUE,0,VLOOKUP('Match Day'!$B$14,Results!$AH$44:$AI$51,2,FALSE))","v":0},{"$f":"IF(ISERROR(VLOOKUP('Match Day'!$B$16,Results!$AF$44:$AG$51,2,FALSE))=TRUE,0,VLOOKUP('Match Day'!$B$16,Results!$AF$44:$AG$51,2,FALSE))","v":0},{"$f":"IF(ISERROR(VLOOKUP('Match Day'!$B$16,Results!$AH$44:$AI$51,2,FALSE))=TRUE,0,VLOOKUP('Match Day'!$B$16,Results!$AH$44:$AI$51,2,FALSE))","v":0},{"$f":"IF(ISERROR(VLOOKUP('Match Day'!$B$18,Results!$AF$44:$AG$51,2,FALSE))=TRUE,0,VLOOKUP('Match Day'!$B$18,Results!$AF$44:$AG$51,2,FALSE))","v":0},{"$f":"IF(ISERROR(VLOOKUP('Match Day'!$B$18,Results!$AH$44:$AI$51,2,FALSE))=TRUE,0,VLOOKUP('Match Day'!$B$18,Results!$AH$44:$AI$51,2,FALSE))","v":0},{"$f":"IF(Home!X13=\"\",0,Results!$AT$12-AG9)","v":0},{"$f":"IF(Home!X13=\"\",0,Results!$AU$12-AH9)","v":0},0,0,null,0,null,null,null,null,null,null,{"$f":"IF(A9=\"\",\"\",VLOOKUP(A9,Results!$A$4:$AJ$191,36,FALSE))","v":44},51,0,0]
[{"$f":"Results!A$54","v":5},{"$f":"VLOOKUP(A10,Handbook!$A$4:$C$24,3,FALSE)","v":"Men's 3000m S/Chase"},{"$f":"IF(ISERROR(VLOOKUP('Match Day'!$B$4,Results!$AF$54:$AG$61,2,FALSE))=TRUE,0,VLOOKUP('Match Day'!$B$4,Results!$AF$54:$AG$61,2,FALSE))","v":0},{"$f":"IF(ISERROR(VLOOKUP('Match Day'!$B$4,Results!$AH$54:$AI$61,2,FALSE))=TRUE,0,VLOOKUP('Match Day'!$B$4,Results!$AH$54:$AI$61,2,FALSE))","v":0},{"$f":"IF(ISERROR(VLOOKUP('Match Day'!$B$6,Results!$AF$54:$AG$61,2,FALSE))=TRUE,0,VLOOKUP('Match Day'!$B$6,Results!$AF$54:$AG$61,2,FALSE))","v":0},{"$f":"IF(ISERROR(VLOOKUP('Match Day'!$B$6,Results!$AH$54:$AI$61,2,FALSE))=TRUE,0,VLOOKUP('Match Day'!$B$6,Results!$AH$54:$AI$61,2,FALSE))","v":0},{"$f":"IF(ISERROR(VLOOKUP('Match Day'!$B$8,Results!$AF$54:$AG$61,2,FALSE))=TRUE,0,VLOOKUP('Match Day'!$B$8,Results!$AF$54:$AG$61,2,FALSE))","v":0},{"$f":"IF(ISERROR(VLOOKUP('Match Day'!$B$8,Results!$AH$54:$AI$61,2,FALSE))=TRUE,0,VLOOKUP('Match Day'!$B$8,Results!$AH$54:$AI$61,2,FALSE))","v":0},{"$f":"IF(ISERROR(VLOOKUP('Match Day'!$B$10,Results!$AF$54:$AG$61,2,FALSE))=TRUE,0,VLOOKUP('Match Day'!$B$10,Results!$AF$54:$AG$61,2,FALSE))","v":0},{"$f":"IF(ISERROR(VLOOKUP('Match Day'!$B$10,Results!$AH$54:$AI$61,2,FALSE))=TRUE,0,VLOOKUP('Match Day'!$B$10,Results!$AH$54:$AI$61,2,FALSE))","v":0},{"$f":"IF(ISERROR(VLOOKUP('Match Day'!$B$12,Results!$AF$54:$AG$61,2,FALSE))=TRUE,0,VLOOKUP('Match Day'!$B$12,Results!$AF$54:$AG$61,2,FALSE))","v":0},{"$f":"IF(ISERROR(VLOOKUP('Match Day'!$B$12,Results!$AH$54:$AI$61,2,FALSE))=TRUE,0,VLOOKUP('Match Day'!$B$12,Results!$AH$54:$AI$61,2,FALSE))","v":0},{"$f":"IF(ISERROR(VLOOKUP('Match Day'!$B$14,Results!$AF$54:$AG$61,2,FALSE))=TRUE,0,VLOOKUP('Match Day'!$B$14,Results!$AF$54:$AG$61,2,FALSE))","v":0},{"$f":"IF(ISERROR(VLOOKUP('Match Day'!$B$14,Results!$AH$54:$AI$61,2,FALSE))=TRUE,0,VLOOKUP('Match Day'!$B$14,Results!$AH$54:$AI$61,2,FALSE))","v":0},{"$f":"IF(ISERROR(VLOOKUP('Match Day'!$B$16,Results!$AF$54:$AG$61,2,FALSE))=TRUE,0,VLOOKUP('Match Day'!$B$16,Results!$AF$54:$AG$61,2,FALSE))","v":0},{"$f":"IF(ISERROR(VLOOKUP('Match Day'!$B$16,Results!$AH$54:$AI$61,2,FALSE))=TRUE,0,VLOOKUP('Match Day'!$B$16,Results!$AH$54:$AI$61,2,FALSE))","v":0},{"$f":"IF(ISERROR(VLOOKUP('Match Day'!$B$18,Results!$AF$54:$AG$61,2,FALSE))=TRUE,0,VLOOKUP('Match Day'!$B$18,Results!$AF$54:$AG$61,2,FALSE))","v":0},{"$f":"IF(ISERROR(VLOOKUP('Match Day'!$B$18,Results!$AH$54:$AI$61,2,FALSE))=TRUE,0,VLOOKUP('Match Day'!$B$18,Results!$AH$54:$AI$61,2,FALSE))","v":0},{"$f":"IF(Home!X14=\"\",0,Results!$AT$12-AG10)","v":0},{"$f":"IF(Home!X14=\"\",0,Results!$AU$12-AH10)","v":0},0,0,null,0,null,null,null,null,null,null,{"$f":"IF(A10=\"\",\"\",VLOOKUP(A10,Results!$A$4:$AJ$191,36,FALSE))","v":54},61,0,0]
[{"$f":"Results!A$64","v":21},{"$f":"VLOOKUP(A11,Handbook!$A$4:$C$24,3,FALSE)","v":"Men's 5000m"},{"$f":"IF(ISERROR(VLOOKUP('Match Day'!$B$4,Results!$AF$64:$AG$71,2,FALSE))=TRUE,0,VLOOKUP('Match Day'!$B$4,Results!$AF$64:$AG$71,2,FALSE))","v":0},{"$f":"IF(ISERROR(VLOOKUP('Match Day'!$B$4,Results!$AH$64:$AI$71,2,FALSE))=TRUE,0,VLOOKUP('Match Day'!$B$4,Results!$AH$64:$AI$71,2,FALSE))","v":0},{"$f":"IF(ISERROR(VLOOKUP('Match Day'!$B$6,Results!$AF$64:$AG$71,2,FALSE))=TRUE,0,VLOOKUP('Match Day'!$B$6,Results!$AF$64:$AG$71,2,FALSE))","v":0},{"$f":"IF(ISERROR(VLOOKUP('Match Day'!$B$6,Results!$AH$64:$AI$71,2,FALSE))=TRUE,0,VLOOKUP('Match Day'!$B$6,Results!$AH$64:$AI$71,2,FALSE))","v":0},{"$f":"IF(ISERROR(VLOOKUP('Match Day'!$B$8,Results!$AF$64:$AG$71,2,FALSE))=TRUE,0,VLOOKUP('Match Day'!$B$8,Results!$AF$64:$AG$71,2,FALSE))","v":0},{"$f":"IF(ISERROR(VLOOKUP('Match Day'!$B$8,Results!$AH$64:$AI$71,2,FALSE))=TRUE,0,VLOOKUP('Match Day'!$B$8,Results!$AH$64:$AI$71,2,FALSE))","v":0},{"$f":"IF(ISERROR(VLOOKUP('Match Day'!$B$10,Results!$AF$64:$AG$71,2,FALSE))=TRUE,0,VLOOKUP('Match Day'!$B$10,Results!$AF$64:$AG$71,2,FALSE))","v":0},{"$f":"IF(ISERROR(VLOOKUP('Match Day'!$B$10,Results!$AH$64:$AI$71,2,FALSE))=TRUE,0,VLOOKUP('Match Day'!$B$10,Results!$AH$64:$AI$71,2,FALSE))","v":0},{"$f":"IF(ISERROR(VLOOKUP('Match Day'!$B$12,Results!$AF$64:$AG$71,2,FALSE))=TRUE,0,VLOOKUP('Match Day'!$B$12,Results!$AF$64:$AG$71,2,FALSE))","v":0},{"$f":"IF(ISERROR(VLOOKUP('Match Day'!$B$12,Results!$AH$64:$AI$71,2,FALSE))=TRUE,0,VLOOKUP('Match Day'!$B$12,Results!$AH$64:$AI$71,2,FALSE))","v":0},{"$f":"IF(ISERROR(VLOOKUP('Match Day'!$B$14,Results!$AF$64:$AG$71,2,FALSE))=TRUE,0,VLOOKUP('Match Day'!$B$14,Results!$AF$64:$AG$71,2,FALSE))","v":0},{"$f":"IF(ISERROR(VLOOKUP('Match Day'!$B$14,Results!$AH$64:$AI$71,2,FALSE))=TRUE,0,VLOOKUP('Match Day'!$B$14,Results!$AH$64:$AI$71,2,FALSE))","v":0},{"$f":"IF(ISERROR(VLOOKUP('Match Day'!$B$16,Results!$AF$64:$AG$71,2,FALSE))=TRUE,0,VLOOKUP('Match Day'!$B$16,Results!$AF$64:$AG$71,2,FALSE))","v":0},{"$f":"IF(ISERROR(VLOOKUP('Match Day'!$B$16,Results!$AH$64:$AI$71,2,FALSE))=TRUE,0,VLOOKUP('Match Day'!$B$16,Results!$AH$64:$AI$71,2,FALSE))","v":0},{"$f":"IF(ISERROR(VLOOKUP('Match Day'!$B$18,Results!$AF$64:$AG$71,2,FALSE))=TRUE,0,VLOOKUP('Match Day'!$B$18,Results!$AF$64:$AG$71,2,FALSE))","v":0},{"$f":"IF(ISERROR(VLOOKUP('Match Day'!$B$18,Results!$AH$64:$AI$71,2,FALSE))=TRUE,0,VLOOKUP('Match Day'!$B$18,Results!$AH$64:$AI$71,2,FALSE))","v":0},{"$f":"IF(Home!X15=\"\",0,Results!$AT$12-AG11)","v":0},{"$f":"IF(Home!X15=\"\",0,Results!$AU$12-AH11)","v":0},0,0,null,0,null,null,null,null,null,null,{"$f":"IF(A11=\"\",\"\",VLOOKUP(A11,Results!$A$4:$AJ$191,36,FALSE))","v":64},71,0,0]
[1,{"$f":"VLOOKUP(A12,Handbook!$A$4:$C$24,3,FALSE)","v":"Men's 400m Hurdles"},{"$f":"IF(ISERROR(VLOOKUP('Match Day'!$B$4,Results!$AF$74:$AG$81,2,FALSE))=TRUE,0,VLOOKUP('Match Day'!$B$4,Results!$AF$74:$AG$81,2,FALSE))","v":0},{"$f":"IF(ISERROR(VLOOKUP('Match Day'!$B$4,Results!$AH$74:$AI$81,2,FALSE))=TRUE,0,VLOOKUP('Match Day'!$B$4,Results!$AH$74:$AI$81,2,FALSE))","v":0},{"$f":"IF(ISERROR(VLOOKUP('Match Day'!$B$6,Results!$AF$74:$AG$81,2,FALSE))=TRUE,0,VLOOKUP('Match Day'!$B$6,Results!$AF$74:$AG$81,2,FALSE))","v":0},{"$f":"IF(ISERROR(VLOOKUP('Match Day'!$B$6,Results!$AH$74:$AI$81,2,FALSE))=TRUE,0,VLOOKUP('Match Day'!$B$6,Results!$AH$74:$AI$81,2,FALSE))","v":0},{"$f":"IF(ISERROR(VLOOKUP('Match Day'!$B$8,Results!$AF$74:$AG$81,2,FALSE))=TRUE,0,VLOOKUP('Match Day'!$B$8,Results!$AF$74:$AG$81,2,FALSE))","v":0},{"$f":"IF(ISERROR(VLOOKUP('Match Day'!$B$8,Results!$AH$74:$AI$81,2,FALSE))=TRUE,0,VLOOKUP('Match Day'!$B$8,Results!$AH$74:$AI$81,2,FALSE))","v":0},{"$f":"IF(ISERROR(VLOOKUP('Match Day'!$B$10,Results!$AF$74:$AG$81,2,FALSE))=TRUE,0,VLOOKUP('Match Day'!$B$10,Results!$AF$74:$AG$81,2,FALSE))","v":0},{"$f":"IF(ISERROR(VLOOKUP('Match Day'!$B$10,Results!$AH$74:$AI$81,2,FALSE))=TRUE,0,VLOOKUP('Match Day'!$B$10,Results!$AH$74:$AI$81,2,FALSE))","v":0},{"$f":"IF(ISERROR(VLOOKUP('Match Day'!$B$12,Results!$AF$74:$AG$81,2,FALSE))=TRUE,0,VLOOKUP('Match Day'!$B$12,Results!$AF$74:$AG$81,2,FALSE))","v":0},{"$f":"IF(ISERROR(VLOOKUP('Match Day'!$B$12,Results!$AH$74:$AI$81,2,FALSE))=TRUE,0,VLOOKUP('Match Day'!$B$12,Results!$AH$74:$AI$81,2,FALSE))","v":0},{"$f":"IF(ISERROR(VLOOKUP('Match Day'!$B$14,Results!$AF$74:$AG$81,2,FALSE))=TRUE,0,VLOOKUP('Match Day'!$B$14,Results!$AF$74:$AG$81,2,FALSE))","v":0},{"$f":"IF(ISERROR(VLOOKUP('Match Day'!$B$14,Results!$AH$74:$AI$81,2,FALSE))=TRUE,0,VLOOKUP('Match Day'!$B$14,Results!$AH$74:$AI$81,2,FALSE))","v":0},{"$f":"IF(ISERROR(VLOOKUP('Match Day'!$B$16,Results!$AF$74:$AG$81,2,FALSE))=TRUE,0,VLOOKUP('Match Day'!$B$16,Results!$AF$74:$AG$81,2,FALSE))","v":0},{"$f":"IF(ISERROR(VLOOKUP('Match Day'!$B$16,Results!$AH$74:$AI$81,2,FALSE))=TRUE,0,VLOOKUP('Match Day'!$B$16,Results!$AH$74:$AI$81,2,FALSE))","v":0},{"$f":"IF(ISERROR(VLOOKUP('Match Day'!$B$18,Results!$AF$74:$AG$81,2,FALSE))=TRUE,0,VLOOKUP('Match Day'!$B$18,Results!$AF$74:$AG$81,2,FALSE))","v":0},{"$f":"IF(ISERROR(VLOOKUP('Match Day'!$B$18,Results!$AH$74:$AI$81,2,FALSE))=TRUE,0,VLOOKUP('Match Day'!$B$18,Results!$AH$74:$AI$81,2,FALSE))","v":0},{"$f":"IF(Home!X16=\"\",0,Results!$AT$12-AG12)","v":0},{"$f":"IF(Home!X16=\"\",0,Results!$AU$12-AH12)","v":0},0,0,null,0,null,null,null,null,null,null,{"$f":"IF(A12=\"\",\"\",VLOOKUP(A12,Results!$A$4:$AJ$191,36,FALSE))","v":74},81,0,0]
[6,{"$f":"VLOOKUP(A13,Handbook!$A$4:$C$24,3,FALSE)","v":"Men's 110m Hurdles"},{"$f":"IF(ISERROR(VLOOKUP('Match Day'!$B$4,Results!$AF$84:$AG$91,2,FALSE))=TRUE,0,VLOOKUP('Match Day'!$B$4,Results!$AF$84:$AG$91,2,FALSE))","v":0},{"$f":"IF(ISERROR(VLOOKUP('Match Day'!$B$4,Results!$AH$84:$AI$91,2,FALSE))=TRUE,0,VLOOKUP('Match Day'!$B$4,Results!$AH$84:$AI$91,2,FALSE))","v":0},{"$f":"IF(ISERROR(VLOOKUP('Match Day'!$B$6,Results!$AF$84:$AG$91,2,FALSE))=TRUE,0,VLOOKUP('Match Day'!$B$6,Results!$AF$84:$AG$91,2,FALSE))","v":0},{"$f":"IF(ISERROR(VLOOKUP('Match Day'!$B$6,Results!$AH$84:$AI$91,2,FALSE))=TRUE,0,VLOOKUP('Match Day'!$B$6,Results!$AH$84:$AI$91,2,FALSE))","v":0},{"$f":"IF(ISERROR(VLOOKUP('Match Day'!$B$8,Results!$AF$84:$AG$91,2,FALSE))=TRUE,0,VLOOKUP('Match Day'!$B$8,Results!$AF$84:$AG$91,2,FALSE))","v":0},{"$f":"IF(ISERROR(VLOOKUP('Match Day'!$B$8,Results!$AH$84:$AI$91,2,FALSE))=TRUE,0,VLOOKUP('Match Day'!$B$8,Results!$AH$84:$AI$91,2,FALSE))","v":0},{"$f":"IF(ISERROR(VLOOKUP('Match Day'!$B$10,Results!$AF$84:$AG$91,2,FALSE))=TRUE,0,VLOOKUP('Match Day'!$B$10,Results!$AF$84:$AG$91,2,FALSE))","v":0},{"$f":"IF(ISERROR(VLOOKUP('Match Day'!$B$10,Results!$AH$84:$AI$91,2,FALSE))=TRUE,0,VLOOKUP('Match Day'!$B$10,Results!$AH$84:$AI$91,2,FALSE))","v":0},{"$f":"IF(ISERROR(VLOOKUP('Match Day'!$B$12,Results!$AF$84:$AG$91,2,FALSE))=TRUE,0,VLOOKUP('Match Day'!$B$12,Results!$AF$84:$AG$91,2,FALSE))","v":0},{"$f":"IF(ISERROR(VLOOKUP('Match Day'!$B$12,Results!$AH$84:$AI$91,2,FALSE))=TRUE,0,VLOOKUP('Match Day'!$B$12,Results!$AH$84:$AI$91,2,FALSE))","v":0},{"$f":"IF(ISERROR(VLOOKUP('Match Day'!$B$14,Results!$AF$84:$AG$91,2,FALSE))=TRUE,0,VLOOKUP('Match Day'!$B$14,Results!$AF$84:$AG$91,2,FALSE))","v":0},{"$f":"IF(ISERROR(VLOOKUP('Match Day'!$B$14,Results!$AH$84:$AI$91,2,FALSE))=TRUE,0,VLOOKUP('Match Day'!$B$14,Results!$AH$84:$AI$91,2,FALSE))","v":0},{"$f":"IF(ISERROR(VLOOKUP('Match Day'!$B$16,Results!$AF$84:$AG$91,2,FALSE))=TRUE,0,VLOOKUP('Match Day'!$B$16,Results!$AF$84:$AG$91,2,FALSE))","v":0},{"$f":"IF(ISERROR(VLOOKUP('Match Day'!$B$16,Results!$AH$84:$AI$91,2,FALSE))=TRUE,0,VLOOKUP('Match Day'!$B$16,Results!$AH$84:$AI$91,2,FALSE))","v":0},{"$f":"IF(ISERROR(VLOOKUP('Match Day'!$B$18,Results!$AF$84:$AG$91,2,FALSE))=TRUE,0,VLOOKUP('Match Day'!$B$18,Results!$AF$84:$AG$91,2,FALSE))","v":0},{"$f":"IF(ISERROR(VLOOKUP('Match Day'!$B$18,Results!$AH$84:$AI$91,2,FALSE))=TRUE,0,VLOOKUP('Match Day'!$B$18,Results!$AH$84:$AI$91,2,FALSE))","v":0},{"$f":"IF(Home!X17=\"\",0,Results!$AT$12-AG13)","v":0},{"$f":"IF(Home!X17=\"\",0,Results!$AU$12-AH13)","v":0},0,0,null,0,null,null,null,null,null,null,{"$f":"IF(A13=\"\",\"\",VLOOKUP(A13,Results!$A$4:$AJ$191,36,FALSE))","v":84},91,0,0]
[{"$f":"Results!A$94","v":11},{"$f":"VLOOKUP(A14,Handbook!$A$4:$C$24,3,FALSE)","v":"Men's Hammer"},{"$f":"IF(ISERROR(VLOOKUP('Match Day'!$B$4,Results!$AF$94:$AG$101,2,FALSE))=TRUE,0,VLOOKUP('Match Day'!$B$4,Results!$AF$94:$AG$101,2,FALSE))","v":0},{"$f":"IF(ISERROR(VLOOKUP('Match Day'!$B$4,Results!$AH$94:$AI$101,2,FALSE))=TRUE,0,VLOOKUP('Match Day'!$B$4,Results!$AH$94:$AI$101,2,FALSE))","v":0},{"$f":"IF(ISERROR(VLOOKUP('Match Day'!$B$6,Results!$AF$94:$AG$101,2,FALSE))=TRUE,0,VLOOKUP('Match Day'!$B$6,Results!$AF$94:$AG$101,2,FALSE))","v":0},{"$f":"IF(ISERROR(VLOOKUP('Match Day'!$B$6,Results!$AH$94:$AI$101,2,FALSE))=TRUE,0,VLOOKUP('Match Day'!$B$6,Results!$AH$94:$AI$101,2,FALSE))","v":0},{"$f":"IF(ISERROR(VLOOKUP('Match Day'!$B$8,Results!$AF$94:$AG$101,2,FALSE))=TRUE,0,VLOOKUP('Match Day'!$B$8,Results!$AF$94:$AG$101,2,FALSE))","v":0},{"$f":"IF(ISERROR(VLOOKUP('Match Day'!$B$8,Results!$AH$94:$AI$101,2,FALSE))=TRUE,0,VLOOKUP('Match Day'!$B$8,Results!$AH$94:$AI$101,2,FALSE))","v":0},{"$f":"IF(ISERROR(VLOOKUP('Match Day'!$B$10,Results!$AF$94:$AG$101,2,FALSE))=TRUE,0,VLOOKUP('Match Day'!$B$10,Results!$AF$94:$AG$101,2,FALSE))","v":0},{"$f":"IF(ISERROR(VLOOKUP('Match Day'!$B$10,Results!$AH$94:$AI$101,2,FALSE))=TRUE,0,VLOOKUP('Match Day'!$B$10,Results!$AH$94:$AI$101,2,FALSE))","v":0},{"$f":"IF(ISERROR(VLOOKUP('Match Day'!$B$12,Results!$AF$94:$AG$101,2,FALSE))=TRUE,0,VLOOKUP('Match Day'!$B$12,Results!$AF$94:$AG$101,2,FALSE))","v":0},{"$f":"IF(ISERROR(VLOOKUP('Match Day'!$B$12,Results!$AH$94:$AI$101,2,FALSE))=TRUE,0,VLOOKUP('Match Day'!$B$12,Results!$AH$94:$AI$101,2,FALSE))","v":0},{"$f":"IF(ISERROR(VLOOKUP('Match Day'!$B$14,Results!$AF$94:$AG$101,2,FALSE))=TRUE,0,VLOOKUP('Match Day'!$B$14,Results!$AF$94:$AG$101,2,FALSE))","v":0},{"$f":"IF(ISERROR(VLOOKUP('Match Day'!$B$14,Results!$AH$94:$AI$101,2,FALSE))=TRUE,0,VLOOKUP('Match Day'!$B$14,Results!$AH$94:$AI$101,2,FALSE))","v":0},{"$f":"IF(ISERROR(VLOOKUP('Match Day'!$B$16,Results!$AF$94:$AG$101,2,FALSE))=TRUE,0,VLOOKUP('Match Day'!$B$16,Results!$AF$94:$AG$101,2,FALSE))","v":0},{"$f":"IF(ISERROR(VLOOKUP('Match Day'!$B$16,Results!$AH$94:$AI$101,2,FALSE))=TRUE,0,VLOOKUP('Match Day'!$B$16,Results!$AH$94:$AI$101,2,FALSE))","v":0},{"$f":"IF(ISERROR(VLOOKUP('Match Day'!$B$18,Results!$AF$94:$AG$101,2,FALSE))=TRUE,0,VLOOKUP('Match Day'!$B$18,Results!$AF$94:$AG$101,2,FALSE))","v":0},{"$f":"IF(ISERROR(VLOOKUP('Match Day'!$B$18,Results!$AH$94:$AI$101,2,FALSE))=TRUE,0,VLOOKUP('Match Day'!$B$18,Results!$AH$94:$AI$101,2,FALSE))","v":0},{"$f":"IF(Home!X18=\"\",0,Results!$AT$12-AG14)","v":0},{"$f":"IF(Home!X18=\"\",0,Results!$AU$12-AH14)","v":0},0,0,null,0,null,null,null,null,null,null,{"$f":"IF(A14=\"\",\"\",VLOOKUP(A14,Results!$A$4:$AJ$191,36,FALSE))","v":94},101,0,0]
[{"$f":"Results!A$104","v":15},{"$f":"VLOOKUP(A15,Handbook!$A$4:$C$24,3,FALSE)","v":"Men's Discus"},{"$f":"IF(ISERROR(VLOOKUP('Match Day'!$B$4,Results!$AF$104:$AG$111,2,FALSE))=TRUE,0,VLOOKUP('Match Day'!$B$4,Results!$AF$104:$AG$111,2,FALSE))","v":0},{"$f":"IF(ISERROR(VLOOKUP('Match Day'!$B$4,Results!$AH$104:$AI$111,2,FALSE))=TRUE,0,VLOOKUP('Match Day'!$B$4,Results!$AH$104:$AI$111,2,FALSE))","v":0},{"$f":"IF(ISERROR(VLOOKUP('Match Day'!$B$6,Results!$AF$104:$AG$111,2,FALSE))=TRUE,0,VLOOKUP('Match Day'!$B$6,Results!$AF$104:$AG$111,2,FALSE))","v":0},{"$f":"IF(ISERROR(VLOOKUP('Match Day'!$B$6,Results!$AH$104:$AI$111,2,FALSE))=TRUE,0,VLOOKUP('Match Day'!$B$6,Results!$AH$104:$AI$111,2,FALSE))","v":0},{"$f":"IF(ISERROR(VLOOKUP('Match Day'!$B$8,Results!$AF$104:$AG$111,2,FALSE))=TRUE,0,VLOOKUP('Match Day'!$B$8,Results!$AF$104:$AG$111,2,FALSE))","v":0},{"$f":"IF(ISERROR(VLOOKUP('Match Day'!$B$8,Results!$AH$104:$AI$111,2,FALSE))=TRUE,0,VLOOKUP('Match Day'!$B$8,Results!$AH$104:$AI$111,2,FALSE))","v":0},{"$f":"IF(ISERROR(VLOOKUP('Match Day'!$B$10,Results!$AF$104:$AG$111,2,FALSE))=TRUE,0,VLOOKUP('Match Day'!$B$10,Results!$AF$104:$AG$111,2,FALSE))","v":0},{"$f":"IF(ISERROR(VLOOKUP('Match Day'!$B$10,Results!$AH$104:$AI$111,2,FALSE))=TRUE,0,VLOOKUP('Match Day'!$B$10,Results!$AH$104:$AI$111,2,FALSE))","v":0},{"$f":"IF(ISERROR(VLOOKUP('Match Day'!$B$12,Results!$AF$104:$AG$111,2,FALSE))=TRUE,0,VLOOKUP('Match Day'!$B$12,Results!$AF$104:$AG$111,2,FALSE))","v":0},{"$f":"IF(ISERROR(VLOOKUP('Match Day'!$B$12,Results!$AH$104:$AI$111,2,FALSE))=TRUE,0,VLOOKUP('Match Day'!$B$12,Results!$AH$104:$AI$111,2,FALSE))","v":0},{"$f":"IF(ISERROR(VLOOKUP('Match Day'!$B$14,Results!$AF$104:$AG$111,2,FALSE))=TRUE,0,VLOOKUP('Match Day'!$B$14,Results!$AF$104:$AG$111,2,FALSE))","v":0},{"$f":"IF(ISERROR(VLOOKUP('Match Day'!$B$14,Results!$AH$104:$AI$111,2,FALSE))=TRUE,0,VLOOKUP('Match Day'!$B$14,Results!$AH$104:$AI$111,2,FALSE))","v":0},{"$f":"IF(ISERROR(VLOOKUP('Match Day'!$B$16,Results!$AF$104:$AG$111,2,FALSE))=TRUE,0,VLOOKUP('Match Day'!$B$16,Results!$AF$104:$AG$111,2,FALSE))","v":0},{"$f":"IF(ISERROR(VLOOKUP('Match Day'!$B$16,Results!$AH$104:$AI$111,2,FALSE))=TRUE,0,VLOOKUP('Match Day'!$B$16,Results!$AH$104:$AI$111,2,FALSE))","v":0},{"$f":"IF(ISERROR(VLOOKUP('Match Day'!$B$18,Results!$AF$104:$AG$111,2,FALSE))=TRUE,0,VLOOKUP('Match Day'!$B$18,Results!$AF$104:$AG$111,2,FALSE))","v":0},{"$f":"IF(ISERROR(VLOOKUP('Match Day'!$B$18,Results!$AH$104:$AI$111,2,FALSE))=TRUE,0,VLOOKUP('Match Day'!$B$18,Results!$AH$104:$AI$111,2,FALSE))","v":0},{"$f":"IF(Home!X19=\"\",0,Results!$AT$12-AG15)","v":0},{"$f":"IF(Home!X19=\"\",0,Results!$AU$12-AH15)","v":0},0,0,null,0,null,null,null,null,null,null,{"$f":"IF(A15=\"\",\"\",VLOOKUP(A15,Results!$A$4:$AJ$191,36,FALSE))","v":104},111,0,0]
[{"$f":"Results!A$114","v":18},{"$f":"VLOOKUP(A16,Handbook!$A$4:$C$24,3,FALSE)","v":"Men's Javelin"},{"$f":"IF(ISERROR(VLOOKUP('Match Day'!$B$4,Results!$AF$114:$AG$121,2,FALSE))=TRUE,0,VLOOKUP('Match Day'!$B$4,Results!$AF$114:$AG$121,2,FALSE))","v":0},{"$f":"IF(ISERROR(VLOOKUP('Match Day'!$B$4,Results!$AH$114:$AI$121,2,FALSE))=TRUE,0,VLOOKUP('Match Day'!$B$4,Results!$AH$114:$AI$121,2,FALSE))","v":0},{"$f":"IF(ISERROR(VLOOKUP('Match Day'!$B$6,Results!$AF$114:$AG$121,2,FALSE))=TRUE,0,VLOOKUP('Match Day'!$B$6,Results!$AF$114:$AG$121,2,FALSE))","v":0},{"$f":"IF(ISERROR(VLOOKUP('Match Day'!$B$6,Results!$AH$114:$AI$121,2,FALSE))=TRUE,0,VLOOKUP('Match Day'!$B$6,Results!$AH$114:$AI$121,2,FALSE))","v":0},{"$f":"IF(ISERROR(VLOOKUP('Match Day'!$B$8,Results!$AF$114:$AG$121,2,FALSE))=TRUE,0,VLOOKUP('Match Day'!$B$8,Results!$AF$114:$AG$121,2,FALSE))","v":0},{"$f":"IF(ISERROR(VLOOKUP('Match Day'!$B$8,Results!$AH$114:$AI$121,2,FALSE))=TRUE,0,VLOOKUP('Match Day'!$B$8,Results!$AH$114:$AI$121,2,FALSE))","v":0},{"$f":"IF(ISERROR(VLOOKUP('Match Day'!$B$10,Results!$AF$114:$AG$121,2,FALSE))=TRUE,0,VLOOKUP('Match Day'!$B$10,Results!$AF$114:$AG$121,2,FALSE))","v":0},{"$f":"IF(ISERROR(VLOOKUP('Match Day'!$B$10,Results!$AH$114:$AI$121,2,FALSE))=TRUE,0,VLOOKUP('Match Day'!$B$10,Results!$AH$114:$AI$121,2,FALSE))","v":0},{"$f":"IF(ISERROR(VLOOKUP('Match Day'!$B$12,Results!$AF$114:$AG$121,2,FALSE))=TRUE,0,VLOOKUP('Match Day'!$B$12,Results!$AF$114:$AG$121,2,FALSE))","v":0},{"$f":"IF(ISERROR(VLOOKUP('Match Day'!$B$12,Results!$AH$114:$AI$121,2,FALSE))=TRUE,0,VLOOKUP('Match Day'!$B$12,Results!$AH$114:$AI$121,2,FALSE))","v":0},{"$f":"IF(ISERROR(VLOOKUP('Match Day'!$B$14,Results!$AF$114:$AG$121,2,FALSE))=TRUE,0,VLOOKUP('Match Day'!$B$14,Results!$AF$114:$AG$121,2,FALSE))","v":0},{"$f":"IF(ISERROR(VLOOKUP('Match Day'!$B$14,Results!$AH$114:$AI$121,2,FALSE))=TRUE,0,VLOOKUP('Match Day'!$B$14,Results!$AH$114:$AI$121,2,FALSE))","v":0},{"$f":"IF(ISERROR(VLOOKUP('Match Day'!$B$16,Results!$AF$114:$AG$121,2,FALSE))=TRUE,0,VLOOKUP('Match Day'!$B$16,Results!$AF$114:$AG$121,2,FALSE))","v":0},{"$f":"IF(ISERROR(VLOOKUP('Match Day'!$B$16,Results!$AH$114:$AI$121,2,FALSE))=TRUE,0,VLOOKUP('Match Day'!$B$16,Results!$AH$114:$AI$121,2,FALSE))","v":0},{"$f":"IF(ISERROR(VLOOKUP('Match Day'!$B$18,Results!$AF$114:$AG$121,2,FALSE))=TRUE,0,VLOOKUP('Match Day'!$B$18,Results!$AF$114:$AG$121,2,FALSE))","v":0},{"$f":"IF(ISERROR(VLOOKUP('Match Day'!$B$18,Results!$AH$114:$AI$121,2,FALSE))=TRUE,0,VLOOKUP('Match Day'!$B$18,Results!$AH$114:$AI$121,2,FALSE))","v":0},{"$f":"IF(Home!X20=\"\",0,Results!$AT$12-AG16)","v":0},{"$f":"IF(Home!X20=\"\",0,Results!$AU$12-AH16)","v":0},0,0,null,0,null,null,null,null,null,null,{"$f":"IF(A16=\"\",\"\",VLOOKUP(A16,Results!$A$4:$AJ$191,36,FALSE))","v":114},121,0,0]
[{"$f":"Results!A$124","v":17},{"$f":"VLOOKUP(A17,Handbook!$A$4:$C$24,3,FALSE)","v":"Men's Shot Putt"},{"$f":"IF(ISERROR(VLOOKUP('Match Day'!$B$4,Results!$AF$124:$AG$131,2,FALSE))=TRUE,0,VLOOKUP('Match Day'!$B$4,Results!$AF$124:$AG$131,2,FALSE))","v":0},{"$f":"IF(ISERROR(VLOOKUP('Match Day'!$B$4,Results!$AH$124:$AI$131,2,FALSE))=TRUE,0,VLOOKUP('Match Day'!$B$4,Results!$AH$124:$AI$131,2,FALSE))","v":0},{"$f":"IF(ISERROR(VLOOKUP('Match Day'!$B$6,Results!$AF$124:$AG$131,2,FALSE))=TRUE,0,VLOOKUP('Match Day'!$B$6,Results!$AF$124:$AG$131,2,FALSE))","v":0},{"$f":"IF(ISERROR(VLOOKUP('Match Day'!$B$6,Results!$AH$124:$AI$131,2,FALSE))=TRUE,0,VLOOKUP('Match Day'!$B$6,Results!$AH$124:$AI$131,2,FALSE))","v":0},{"$f":"IF(ISERROR(VLOOKUP('Match Day'!$B$8,Results!$AF$124:$AG$131,2,FALSE))=TRUE,0,VLOOKUP('Match Day'!$B$8,Results!$AF$124:$AG$131,2,FALSE))","v":0},{"$f":"IF(ISERROR(VLOOKUP('Match Day'!$B$8,Results!$AH$124:$AI$131,2,FALSE))=TRUE,0,VLOOKUP('Match Day'!$B$8,Results!$AH$124:$AI$131,2,FALSE))","v":0},{"$f":"IF(ISERROR(VLOOKUP('Match Day'!$B$10,Results!$AF$124:$AG$131,2,FALSE))=TRUE,0,VLOOKUP('Match Day'!$B$10,Results!$AF$124:$AG$131,2,FALSE))","v":0},{"$f":"IF(ISERROR(VLOOKUP('Match Day'!$B$10,Results!$AH$124:$AI$131,2,FALSE))=TRUE,0,VLOOKUP('Match Day'!$B$10,Results!$AH$124:$AI$131,2,FALSE))","v":0},{"$f":"IF(ISERROR(VLOOKUP('Match Day'!$B$12,Results!$AF$124:$AG$131,2,FALSE))=TRUE,0,VLOOKUP('Match Day'!$B$12,Results!$AF$124:$AG$131,2,FALSE))","v":0},{"$f":"IF(ISERROR(VLOOKUP('Match Day'!$B$12,Results!$AH$124:$AI$131,2,FALSE))=TRUE,0,VLOOKUP('Match Day'!$B$12,Results!$AH$124:$AI$131,2,FALSE))","v":0},{"$f":"IF(ISERROR(VLOOKUP('Match Day'!$B$14,Results!$AF$124:$AG$131,2,FALSE))=TRUE,0,VLOOKUP('Match Day'!$B$14,Results!$AF$124:$AG$131,2,FALSE))","v":0},{"$f":"IF(ISERROR(VLOOKUP('Match Day'!$B$14,Results!$AH$124:$AI$131,2,FALSE))=TRUE,0,VLOOKUP('Match Day'!$B$14,Results!$AH$124:$AI$131,2,FALSE))","v":0},{"$f":"IF(ISERROR(VLOOKUP('Match Day'!$B$16,Results!$AF$124:$AG$131,2,FALSE))=TRUE,0,VLOOKUP('Match Day'!$B$16,Results!$AF$124:$AG$131,2,FALSE))","v":0},{"$f":"IF(ISERROR(VLOOKUP('Match Day'!$B$16,Results!$AH$124:$AI$131,2,FALSE))=TRUE,0,VLOOKUP('Match Day'!$B$16,Results!$AH$124:$AI$131,2,FALSE))","v":0},{"$f":"IF(ISERROR(VLOOKUP('Match Day'!$B$18,Results!$AF$124:$AG$131,2,FALSE))=TRUE,0,VLOOKUP('Match Day'!$B$18,Results!$AF$124:$AG$131,2,FALSE))","v":0},{"$f":"IF(ISERROR(VLOOKUP('Match Day'!$B$18,Results!$AH$124:$AI$131,2,FALSE))=TRUE,0,VLOOKUP('Match Day'!$B$18,Results!$AH$124:$AI$131,2,FALSE))","v":0},{"$f":"IF(Home!X21=\"\",0,Results!$AT$12-AG17)","v":0},{"$f":"IF(Home!X21=\"\",0,Results!$AU$12-AH17)","v":0},0,0,null,0,null,null,null,null,null,null,{"$f":"IF(A17=\"\",\"\",VLOOKUP(A17,Results!$A$4:$AJ$191,36,FALSE))","v":124},131,0,0]
[{"$f":"Results!A$134","v":13},{"$f":"VLOOKUP(A18,Handbook!$A$4:$C$24,3,FALSE)","v":"Men's Long Jump"},{"$f":"IF(ISERROR(VLOOKUP('Match Day'!$B$4,Results!$AF$134:$AG$141,2,FALSE))=TRUE,0,VLOOKUP('Match Day'!$B$4,Results!$AF$134:$AG$141,2,FALSE))","v":0},{"$f":"IF(ISERROR(VLOOKUP('Match Day'!$B$4,Results!$AH$134:$AI$141,2,FALSE))=TRUE,0,VLOOKUP('Match Day'!$B$4,Results!$AH$134:$AI$141,2,FALSE))","v":0},{"$f":"IF(ISERROR(VLOOKUP('Match Day'!$B$6,Results!$AF$134:$AG$141,2,FALSE))=TRUE,0,VLOOKUP('Match Day'!$B$6,Results!$AF$134:$AG$141,2,FALSE))","v":0},{"$f":"IF(ISERROR(VLOOKUP('Match Day'!$B$6,Results!$AH$134:$AI$141,2,FALSE))=TRUE,0,VLOOKUP('Match Day'!$B$6,Results!$AH$134:$AI$141,2,FALSE))","v":0},{"$f":"IF(ISERROR(VLOOKUP('Match Day'!$B$8,Results!$AF$134:$AG$141,2,FALSE))=TRUE,0,VLOOKUP('Match Day'!$B$8,Results!$AF$134:$AG$141,2,FALSE))","v":0},{"$f":"IF(ISERROR(VLOOKUP('Match Day'!$B$8,Results!$AH$134:$AI$141,2,FALSE))=TRUE,0,VLOOKUP('Match Day'!$B$8,Results!$AH$134:$AI$141,2,FALSE))","v":0},{"$f":"IF(ISERROR(VLOOKUP('Match Day'!$B$10,Results!$AF$134:$AG$141,2,FALSE))=TRUE,0,VLOOKUP('Match Day'!$B$10,Results!$AF$134:$AG$141,2,FALSE))","v":0},{"$f":"IF(ISERROR(VLOOKUP('Match Day'!$B$10,Results!$AH$134:$AI$141,2,FALSE))=TRUE,0,VLOOKUP('Match Day'!$B$10,Results!$AH$134:$AI$141,2,FALSE))","v":0},{"$f":"IF(ISERROR(VLOOKUP('Match Day'!$B$12,Results!$AF$134:$AG$141,2,FALSE))=TRUE,0,VLOOKUP('Match Day'!$B$12,Results!$AF$134:$AG$141,2,FALSE))","v":0},{"$f":"IF(ISERROR(VLOOKUP('Match Day'!$B$12,Results!$AH$134:$AI$141,2,FALSE))=TRUE,0,VLOOKUP('Match Day'!$B$12,Results!$AH$134:$AI$141,2,FALSE))","v":0},{"$f":"IF(ISERROR(VLOOKUP('Match Day'!$B$14,Results!$AF$134:$AG$141,2,FALSE))=TRUE,0,VLOOKUP('Match Day'!$B$14,Results!$AF$134:$AG$141,2,FALSE))","v":0},{"$f":"IF(ISERROR(VLOOKUP('Match Day'!$B$14,Results!$AH$134:$AI$141,2,FALSE))=TRUE,0,VLOOKUP('Match Day'!$B$14,Results!$AH$134:$AI$141,2,FALSE))","v":0},{"$f":"IF(ISERROR(VLOOKUP('Match Day'!$B$16,Results!$AF$134:$AG$141,2,FALSE))=TRUE,0,VLOOKUP('Match Day'!$B$16,Results!$AF$134:$AG$141,2,FALSE))","v":0},{"$f":"IF(ISERROR(VLOOKUP('Match Day'!$B$16,Results!$AH$134:$AI$141,2,FALSE))=TRUE,0,VLOOKUP('Match Day'!$B$16,Results!$AH$134:$AI$141,2,FALSE))","v":0},{"$f":"IF(ISERROR(VLOOKUP('Match Day'!$B$18,Results!$AF$134:$AG$141,2,FALSE))=TRUE,0,VLOOKUP('Match Day'!$B$18,Results!$AF$134:$AG$141,2,FALSE))","v":0},{"$f":"IF(ISERROR(VLOOKUP('Match Day'!$B$18,Results!$AH$134:$AI$141,2,FALSE))=TRUE,0,VLOOKUP('Match Day'!$B$18,Results!$AH$134:$AI$141,2,FALSE))","v":0},{"$f":"IF(Home!X22=\"\",0,Results!$AT$12-AG18)","v":0},{"$f":"IF(Home!X22=\"\",0,Results!$AU$12-AH18)","v":0},0,0,null,0,null,null,null,null,null,null,{"$f":"IF(A18=\"\",\"\",VLOOKUP(A18,Results!$A$4:$AJ$191,36,FALSE))","v":134},141,0,0]
[{"$f":"Results!A$144","v":16},{"$f":"VLOOKUP(A19,Handbook!$A$4:$C$24,3,FALSE)","v":"Men's Triple Jump"},{"$f":"IF(ISERROR(VLOOKUP('Match Day'!$B$4,Results!$AF$144:$AG$151,2,FALSE))=TRUE,0,VLOOKUP('Match Day'!$B$4,Results!$AF$144:$AG$151,2,FALSE))","v":0},{"$f":"IF(ISERROR(VLOOKUP('Match Day'!$B$4,Results!$AH$144:$AI$151,2,FALSE))=TRUE,0,VLOOKUP('Match Day'!$B$4,Results!$AH$144:$AI$151,2,FALSE))","v":0},{"$f":"IF(ISERROR(VLOOKUP('Match Day'!$B$6,Results!$AF$144:$AG$151,2,FALSE))=TRUE,0,VLOOKUP('Match Day'!$B$6,Results!$AF$144:$AG$151,2,FALSE))","v":0},{"$f":"IF(ISERROR(VLOOKUP('Match Day'!$B$6,Results!$AH$144:$AI$151,2,FALSE))=TRUE,0,VLOOKUP('Match Day'!$B$6,Results!$AH$144:$AI$151,2,FALSE))","v":0},{"$f":"IF(ISERROR(VLOOKUP('Match Day'!$B$8,Results!$AF$144:$AG$151,2,FALSE))=TRUE,0,VLOOKUP('Match Day'!$B$8,Results!$AF$144:$AG$151,2,FALSE))","v":0},{"$f":"IF(ISERROR(VLOOKUP('Match Day'!$B$8,Results!$AH$144:$AI$151,2,FALSE))=TRUE,0,VLOOKUP('Match Day'!$B$8,Results!$AH$144:$AI$151,2,FALSE))","v":0},{"$f":"IF(ISERROR(VLOOKUP('Match Day'!$B$10,Results!$AF$144:$AG$151,2,FALSE))=TRUE,0,VLOOKUP('Match Day'!$B$10,Results!$AF$144:$AG$151,2,FALSE))","v":0},{"$f":"IF(ISERROR(VLOOKUP('Match Day'!$B$10,Results!$AH$144:$AI$151,2,FALSE))=TRUE,0,VLOOKUP('Match Day'!$B$10,Results!$AH$144:$AI$151,2,FALSE))","v":0},{"$f":"IF(ISERROR(VLOOKUP('Match Day'!$B$12,Results!$AF$144:$AG$151,2,FALSE))=TRUE,0,VLOOKUP('Match Day'!$B$12,Results!$AF$144:$AG$151,2,FALSE))","v":0},{"$f":"IF(ISERROR(VLOOKUP('Match Day'!$B$12,Results!$AH$144:$AI$151,2,FALSE))=TRUE,0,VLOOKUP('Match Day'!$B$12,Results!$AH$144:$AI$151,2,FALSE))","v":0},{"$f":"IF(ISERROR(VLOOKUP('Match Day'!$B$14,Results!$AF$144:$AG$151,2,FALSE))=TRUE,0,VLOOKUP('Match Day'!$B$14,Results!$AF$144:$AG$151,2,FALSE))","v":0},{"$f":"IF(ISERROR(VLOOKUP('Match Day'!$B$14,Results!$AH$144:$AI$151,2,FALSE))=TRUE,0,VLOOKUP('Match Day'!$B$14,Results!$AH$144:$AI$151,2,FALSE))","v":0},{"$f":"IF(ISERROR(VLOOKUP('Match Day'!$B$16,Results!$AF$144:$AG$151,2,FALSE))=TRUE,0,VLOOKUP('Match Day'!$B$16,Results!$AF$144:$AG$151,2,FALSE))","v":0},{"$f":"IF(ISERROR(VLOOKUP('Match Day'!$B$16,Results!$AH$144:$AI$151,2,FALSE))=TRUE,0,VLOOKUP('Match Day'!$B$16,Results!$AH$144:$AI$151,2,FALSE))","v":0},{"$f":"IF(ISERROR(VLOOKUP('Match Day'!$B$18,Results!$AF$144:$AG$151,2,FALSE))=TRUE,0,VLOOKUP('Match Day'!$B$18,Results!$AF$144:$AG$151,2,FALSE))","v":0},{"$f":"IF(ISERROR(VLOOKUP('Match Day'!$B$18,Results!$AH$144:$AI$151,2,FALSE))=TRUE,0,VLOOKUP('Match Day'!$B$18,Results!$AH$144:$AI$151,2,FALSE))","v":0},{"$f":"IF(Home!X23=\"\",0,Results!$AT$12-AG19)","v":0},{"$f":"IF(Home!X23=\"\",0,Results!$AU$12-AH19)","v":0},0,0,null,0,null,null,null,null,null,null,{"$f":"IF(A19=\"\",\"\",VLOOKUP(A19,Results!$A$4:$AJ$191,36,FALSE))","v":144},151,0,0]
[{"$f":"Results!A$154","v":14},{"$f":"VLOOKUP(A20,Handbook!$A$4:$C$24,3,FALSE)","v":"Men's High Jump"},{"$f":"IF(ISERROR(VLOOKUP('Match Day'!$B$4,Results!$AF$154:$AG$161,2,FALSE))=TRUE,0,VLOOKUP('Match Day'!$B$4,Results!$AF$154:$AG$161,2,FALSE))","v":0},{"$f":"IF(ISERROR(VLOOKUP('Match Day'!$B$4,Results!$AH$154:$AI$161,2,FALSE))=TRUE,0,VLOOKUP('Match Day'!$B$4,Results!$AH$154:$AI$161,2,FALSE))","v":0},{"$f":"IF(ISERROR(VLOOKUP('Match Day'!$B$6,Results!$AF$154:$AG$161,2,FALSE))=TRUE,0,VLOOKUP('Match Day'!$B$6,Results!$AF$154:$AG$161,2,FALSE))","v":0},{"$f":"IF(ISERROR(VLOOKUP('Match Day'!$B$6,Results!$AH$154:$AI$161,2,FALSE))=TRUE,0,VLOOKUP('Match Day'!$B$6,Results!$AH$154:$AI$161,2,FALSE))","v":0},{"$f":"IF(ISERROR(VLOOKUP('Match Day'!$B$8,Results!$AF$154:$AG$161,2,FALSE))=TRUE,0,VLOOKUP('Match Day'!$B$8,Results!$AF$154:$AG$161,2,FALSE))","v":0},{"$f":"IF(ISERROR(VLOOKUP('Match Day'!$B$8,Results!$AH$154:$AI$161,2,FALSE))=TRUE,0,VLOOKUP('Match Day'!$B$8,Results!$AH$154:$AI$161,2,FALSE))","v":0},{"$f":"IF(ISERROR(VLOOKUP('Match Day'!$B$10,Results!$AF$154:$AG$161,2,FALSE))=TRUE,0,VLOOKUP('Match Day'!$B$10,Results!$AF$154:$AG$161,2,FALSE))","v":0},{"$f":"IF(ISERROR(VLOOKUP('Match Day'!$B$10,Results!$AH$154:$AI$161,2,FALSE))=TRUE,0,VLOOKUP('Match Day'!$B$10,Results!$AH$154:$AI$161,2,FALSE))","v":0},{"$f":"IF(ISERROR(VLOOKUP('Match Day'!$B$12,Results!$AF$154:$AG$161,2,FALSE))=TRUE,0,VLOOKUP('Match Day'!$B$12,Results!$AF$154:$AG$161,2,FALSE))","v":0},{"$f":"IF(ISERROR(VLOOKUP('Match Day'!$B$12,Results!$AH$154:$AI$161,2,FALSE))=TRUE,0,VLOOKUP('Match Day'!$B$12,Results!$AH$154:$AI$161,2,FALSE))","v":0},{"$f":"IF(ISERROR(VLOOKUP('Match Day'!$B$14,Results!$AF$154:$AG$161,2,FALSE))=TRUE,0,VLOOKUP('Match Day'!$B$14,Results!$AF$154:$AG$161,2,FALSE))","v":0},{"$f":"IF(ISERROR(VLOOKUP('Match Day'!$B$14,Results!$AH$154:$AI$161,2,FALSE))=TRUE,0,VLOOKUP('Match Day'!$B$14,Results!$AH$154:$AI$161,2,FALSE))","v":0},{"$f":"IF(ISERROR(VLOOKUP('Match Day'!$B$16,Results!$AF$154:$AG$161,2,FALSE))=TRUE,0,VLOOKUP('Match Day'!$B$16,Results!$AF$154:$AG$161,2,FALSE))","v":0},{"$f":"IF(ISERROR(VLOOKUP('Match Day'!$B$16,Results!$AH$154:$AI$161,2,FALSE))=TRUE,0,VLOOKUP('Match Day'!$B$16,Results!$AH$154:$AI$161,2,FALSE))","v":0},{"$f":"IF(ISERROR(VLOOKUP('Match Day'!$B$18,Results!$AF$154:$AG$161,2,FALSE))=TRUE,0,VLOOKUP('Match Day'!$B$18,Results!$AF$154:$AG$161,2,FALSE))","v":0},{"$f":"IF(ISERROR(VLOOKUP('Match Day'!$B$18,Results!$AH$154:$AI$161,2,FALSE))=TRUE,0,VLOOKUP('Match Day'!$B$18,Results!$AH$154:$AI$161,2,FALSE))","v":0},{"$f":"IF(Home!X24=\"\",0,Results!$AT$12-AG20)","v":0},{"$f":"IF(Home!X24=\"\",0,Results!$AU$12-AH20)","v":0},0,0,null,0,null,null,null,null,null,null,{"$f":"IF(A20=\"\",\"\",VLOOKUP(A20,Results!$A$4:$AJ$191,36,FALSE))","v":154},161,0,0]
[{"$f":"Results!A$164","v":12},{"$f":"VLOOKUP(A21,Handbook!$A$4:$C$24,3,FALSE)","v":"Men's Pole Vault"},{"$f":"IF(ISERROR(VLOOKUP('Match Day'!$B$4,Results!$AF$164:$AG$171,2,FALSE))=TRUE,0,VLOOKUP('Match Day'!$B$4,Results!$AF$164:$AG$171,2,FALSE))","v":0},{"$f":"IF(ISERROR(VLOOKUP('Match Day'!$B$4,Results!$AH$164:$AI$171,2,FALSE))=TRUE,0,VLOOKUP('Match Day'!$B$4,Results!$AH$164:$AI$171,2,FALSE))","v":0},{"$f":"IF(ISERROR(VLOOKUP('Match Day'!$B$6,Results!$AF$164:$AG$171,2,FALSE))=TRUE,0,VLOOKUP('Match Day'!$B$6,Results!$AF$164:$AG$171,2,FALSE))","v":0},{"$f":"IF(ISERROR(VLOOKUP('Match Day'!$B$6,Results!$AH$164:$AI$171,2,FALSE))=TRUE,0,VLOOKUP('Match Day'!$B$6,Results!$AH$164:$AI$171,2,FALSE))","v":0},{"$f":"IF(ISERROR(VLOOKUP('Match Day'!$B$8,Results!$AF$164:$AG$171,2,FALSE))=TRUE,0,VLOOKUP('Match Day'!$B$8,Results!$AF$164:$AG$171,2,FALSE))","v":0},{"$f":"IF(ISERROR(VLOOKUP('Match Day'!$B$8,Results!$AH$164:$AI$171,2,FALSE))=TRUE,0,VLOOKUP('Match Day'!$B$8,Results!$AH$164:$AI$171,2,FALSE))","v":0},{"$f":"IF(ISERROR(VLOOKUP('Match Day'!$B$10,Results!$AF$164:$AG$171,2,FALSE))=TRUE,0,VLOOKUP('Match Day'!$B$10,Results!$AF$164:$AG$171,2,FALSE))","v":0},{"$f":"IF(ISERROR(VLOOKUP('Match Day'!$B$10,Results!$AH$164:$AI$171,2,FALSE))=TRUE,0,VLOOKUP('Match Day'!$B$10,Results!$AH$164:$AI$171,2,FALSE))","v":0},{"$f":"IF(ISERROR(VLOOKUP('Match Day'!$B$12,Results!$AF$164:$AG$171,2,FALSE))=TRUE,0,VLOOKUP('Match Day'!$B$12,Results!$AF$164:$AG$171,2,FALSE))","v":0},{"$f":"IF(ISERROR(VLOOKUP('Match Day'!$B$12,Results!$AH$164:$AI$171,2,FALSE))=TRUE,0,VLOOKUP('Match Day'!$B$12,Results!$AH$164:$AI$171,2,FALSE))","v":0},{"$f":"IF(ISERROR(VLOOKUP('Match Day'!$B$14,Results!$AF$164:$AG$171,2,FALSE))=TRUE,0,VLOOKUP('Match Day'!$B$14,Results!$AF$164:$AG$171,2,FALSE))","v":0},{"$f":"IF(ISERROR(VLOOKUP('Match Day'!$B$14,Results!$AH$164:$AI$171,2,FALSE))=TRUE,0,VLOOKUP('Match Day'!$B$14,Results!$AH$164:$AI$171,2,FALSE))","v":0},{"$f":"IF(ISERROR(VLOOKUP('Match Day'!$B$16,Results!$AF$164:$AG$171,2,FALSE))=TRUE,0,VLOOKUP('Match Day'!$B$16,Results!$AF$164:$AG$171,2,FALSE))","v":0},{"$f":"IF(ISERROR(VLOOKUP('Match Day'!$B$16,Results!$AH$164:$AI$171,2,FALSE))=TRUE,0,VLOOKUP('Match Day'!$B$16,Results!$AH$164:$AI$171,2,FALSE))","v":0},{"$f":"IF(ISERROR(VLOOKUP('Match Day'!$B$18,Results!$AF$164:$AG$171,2,FALSE))=TRUE,0,VLOOKUP('Match Day'!$B$18,Results!$AF$164:$AG$171,2,FALSE))","v":0},{"$f":"IF(ISERROR(VLOOKUP('Match Day'!$B$18,Results!$AH$164:$AI$171,2,FALSE))=TRUE,0,VLOOKUP('Match Day'!$B$18,Results!$AH$164:$AI$171,2,FALSE))","v":0},{"$f":"IF(Home!X25=\"\",0,Results!$AT$12-AG21)","v":0},{"$f":"IF(Home!X25=\"\",0,Results!$AU$12-AH21)","v":0},0,0,null,0,null,null,null,null,null,null,{"$f":"IF(A21=\"\",\"\",VLOOKUP(A21,Results!$A$4:$AJ$191,36,FALSE))","v":164},171,0,0]
[{"$f":"Results!A$174","v":9},{"$f":"VLOOKUP(A22,Handbook!$A$4:$C$24,3,FALSE)","v":"Men's 4x100m Relay"},{"$f":"IF(ISERROR(VLOOKUP('Match Day'!$B$4,Results!$AF$174:$AG$181,2,FALSE))=TRUE,0,VLOOKUP('Match Day'!$B$4,Results!$AF$174:$AG$181,2,FALSE))","v":0},{"$f":"IF(ISERROR(VLOOKUP('Match Day'!$B$4,Results!$AH$174:$AI$181,2,FALSE))=TRUE,0,VLOOKUP('Match Day'!$B$4,Results!$AH$174:$AI$181,2,FALSE))","v":0},{"$f":"IF(ISERROR(VLOOKUP('Match Day'!$B$6,Results!$AF$174:$AG$181,2,FALSE))=TRUE,0,VLOOKUP('Match Day'!$B$6,Results!$AF$174:$AG$181,2,FALSE))","v":0},{"$f":"IF(ISERROR(VLOOKUP('Match Day'!$B$6,Results!$AH$174:$AI$181,2,FALSE))=TRUE,0,VLOOKUP('Match Day'!$B$6,Results!$AH$174:$AI$181,2,FALSE))","v":0},{"$f":"IF(ISERROR(VLOOKUP('Match Day'!$B$8,Results!$AF$174:$AG$181,2,FALSE))=TRUE,0,VLOOKUP('Match Day'!$B$8,Results!$AF$174:$AG$181,2,FALSE))","v":0},{"$f":"IF(ISERROR(VLOOKUP('Match Day'!$B$8,Results!$AH$174:$AI$181,2,FALSE))=TRUE,0,VLOOKUP('Match Day'!$B$8,Results!$AH$174:$AI$181,2,FALSE))","v":0},{"$f":"IF(ISERROR(VLOOKUP('Match Day'!$B$10,Results!$AF$174:$AG$181,2,FALSE))=TRUE,0,VLOOKUP('Match Day'!$B$10,Results!$AF$174:$AG$181,2,FALSE))","v":0},{"$f":"IF(ISERROR(VLOOKUP('Match Day'!$B$10,Results!$AH$174:$AI$181,2,FALSE))=TRUE,0,VLOOKUP('Match Day'!$B$10,Results!$AH$174:$AI$181,2,FALSE))","v":0},{"$f":"IF(ISERROR(VLOOKUP('Match Day'!$B$12,Results!$AF$174:$AG$181,2,FALSE))=TRUE,0,VLOOKUP('Match Day'!$B$12,Results!$AF$174:$AG$181,2,FALSE))","v":0},{"$f":"IF(ISERROR(VLOOKUP('Match Day'!$B$12,Results!$AH$174:$AI$181,2,FALSE))=TRUE,0,VLOOKUP('Match Day'!$B$12,Results!$AH$174:$AI$181,2,FALSE))","v":0},{"$f":"IF(ISERROR(VLOOKUP('Match Day'!$B$14,Results!$AF$174:$AG$181,2,FALSE))=TRUE,0,VLOOKUP('Match Day'!$B$14,Results!$AF$174:$AG$181,2,FALSE))","v":0},{"$f":"IF(ISERROR(VLOOKUP('Match Day'!$B$14,Results!$AH$174:$AI$181,2,FALSE))=TRUE,0,VLOOKUP('Match Day'!$B$14,Results!$AH$174:$AI$181,2,FALSE))","v":0},{"$f":"IF(ISERROR(VLOOKUP('Match Day'!$B$16,Results!$AF$174:$AG$181,2,FALSE))=TRUE,0,VLOOKUP('Match Day'!$B$16,Results!$AF$174:$AG$181,2,FALSE))","v":0},{"$f":"IF(ISERROR(VLOOKUP('Match Day'!$B$16,Results!$AH$174:$AI$181,2,FALSE))=TRUE,0,VLOOKUP('Match Day'!$B$16,Results!$AH$174:$AI$181,2,FALSE))","v":0},{"$f":"IF(ISERROR(VLOOKUP('Match Day'!$B$18,Results!$AF$174:$AG$181,2,FALSE))=TRUE,0,VLOOKUP('Match Day'!$B$18,Results!$AF$174:$AG$181,2,FALSE))","v":0},{"$f":"IF(ISERROR(VLOOKUP('Match Day'!$B$18,Results!$AH$174:$AI$181,2,FALSE))=TRUE,0,VLOOKUP('Match Day'!$B$18,Results!$AH$174:$AI$181,2,FALSE))","v":0},{"$f":"IF(Home!X26=\"\",0,Results!$AT$12-AG22)","v":0},{"$f":"IF(Home!X26=\"\",0,Results!$AU$12-AH22)","v":0},0,0,null,0,null,null,null,null,null,null,{"$f":"IF(A22=\"\",\"\",VLOOKUP(A22,Results!$A$4:$AJ$191,36,FALSE))","v":174},181,0,0]
[{"$f":"Results!A$184","v":10},{"$f":"VLOOKUP(A23,Handbook!$A$4:$C$24,3,FALSE)","v":"Men's 4x400m Relay"},{"$f":"IF(ISERROR(VLOOKUP('Match Day'!$B$4,Results!$AF$184:$AG$191,2,FALSE))=TRUE,0,VLOOKUP('Match Day'!$B$4,Results!$AF$184:$AG$191,2,FALSE))","v":0},{"$f":"IF(ISERROR(VLOOKUP('Match Day'!$B$4,Results!$AH$184:$AI$191,2,FALSE))=TRUE,0,VLOOKUP('Match Day'!$B$4,Results!$AH$184:$AI$191,2,FALSE))","v":0},{"$f":"IF(ISERROR(VLOOKUP('Match Day'!$B$6,Results!$AF$184:$AG$191,2,FALSE))=TRUE,0,VLOOKUP('Match Day'!$B$6,Results!$AF$184:$AG$191,2,FALSE))","v":0},{"$f":"IF(ISERROR(VLOOKUP('Match Day'!$B$6,Results!$AH$184:$AI$191,2,FALSE))=TRUE,0,VLOOKUP('Match Day'!$B$6,Results!$AH$184:$AI$191,2,FALSE))","v":0},{"$f":"IF(ISERROR(VLOOKUP('Match Day'!$B$8,Results!$AF$184:$AG$191,2,FALSE))=TRUE,0,VLOOKUP('Match Day'!$B$8,Results!$AF$184:$AG$191,2,FALSE))","v":0},{"$f":"IF(ISERROR(VLOOKUP('Match Day'!$B$8,Results!$AH$184:$AI$191,2,FALSE))=TRUE,0,VLOOKUP('Match Day'!$B$8,Results!$AH$184:$AI$191,2,FALSE))","v":0},{"$f":"IF(ISERROR(VLOOKUP('Match Day'!$B$10,Results!$AF$184:$AG$191,2,FALSE))=TRUE,0,VLOOKUP('Match Day'!$B$10,Results!$AF$184:$AG$191,2,FALSE))","v":0},{"$f":"IF(ISERROR(VLOOKUP('Match Day'!$B$10,Results!$AH$184:$AI$191,2,FALSE))=TRUE,0,VLOOKUP('Match Day'!$B$10,Results!$AH$184:$AI$191,2,FALSE))","v":0},{"$f":"IF(ISERROR(VLOOKUP('Match Day'!$B$12,Results!$AF$184:$AG$191,2,FALSE))=TRUE,0,VLOOKUP('Match Day'!$B$12,Results!$AF$184:$AG$191,2,FALSE))","v":0},{"$f":"IF(ISERROR(VLOOKUP('Match Day'!$B$12,Results!$AH$184:$AI$191,2,FALSE))=TRUE,0,VLOOKUP('Match Day'!$B$12,Results!$AH$184:$AI$191,2,FALSE))","v":0},{"$f":"IF(ISERROR(VLOOKUP('Match Day'!$B$14,Results!$AF$184:$AG$191,2,FALSE))=TRUE,0,VLOOKUP('Match Day'!$B$14,Results!$AF$184:$AG$191,2,FALSE))","v":0},{"$f":"IF(ISERROR(VLOOKUP('Match Day'!$B$14,Results!$AH$184:$AI$191,2,FALSE))=TRUE,0,VLOOKUP('Match Day'!$B$14,Results!$AH$184:$AI$191,2,FALSE))","v":0},{"$f":"IF(ISERROR(VLOOKUP('Match Day'!$B$16,Results!$AF$184:$AG$191,2,FALSE))=TRUE,0,VLOOKUP('Match Day'!$B$16,Results!$AF$184:$AG$191,2,FALSE))","v":0},{"$f":"IF(ISERROR(VLOOKUP('Match Day'!$B$16,Results!$AH$184:$AI$191,2,FALSE))=TRUE,0,VLOOKUP('Match Day'!$B$16,Results!$AH$184:$AI$191,2,FALSE))","v":0},{"$f":"IF(ISERROR(VLOOKUP('Match Day'!$B$18,Results!$AF$184:$AG$191,2,FALSE))=TRUE,0,VLOOKUP('Match Day'!$B$18,Results!$AF$184:$AG$191,2,FALSE))","v":0},{"$f":"IF(ISERROR(VLOOKUP('Match Day'!$B$18,Results!$AH$184:$AI$191,2,FALSE))=TRUE,0,VLOOKUP('Match Day'!$B$18,Results!$AH$184:$AI$191,2,FALSE))","v":0},{"$f":"IF(Home!X27=\"\",0,Results!$AT$12-AG23)","v":0},{"$f":"IF(Home!X27=\"\",0,Results!$AU$12-AH23)","v":0},0,0,null,0,null,null,null,null,null,null,{"$f":"IF(A23=\"\",\"\",VLOOKUP(A23,Results!$A$4:$AJ$191,36,FALSE))","v":184},191,0,0]
[null,{"$f":"IF($A24=\"\",\"\",CONCATENATE(VLOOKUP($A24,#REF!,4,FALSE),\" \",VLOOKUP($A24,#REF!,5,FALSE)))","v":""},{"$f":"SUM(C5:C23)","v":0},{"$f":"SUM(D5:D23)","v":0},0,0,0,0,0,0,{"$f":"SUM(K5:K23)","v":0},0,0,0,0,0,0,0,0,0,0,0,null,{"$f":"SUM(X5:X23)","v":0},null,null,null,null,null,null,{"$f":"IF(A24=\"\",\"\",VLOOKUP(A24,Results!$A$93:$AJ$182,32,FALSE))","v":""}]
[]
[{"$f":"ResultsF!A$4","v":3},{"$f":"VLOOKUP(A26,Handbook!$A$26:$AK$46,3,FALSE)","v":"Women's 100m"},{"$f":"IF(ISERROR(VLOOKUP('Match Day'!$B$4,ResultsF!$AF$4:$AG$11,2,FALSE))=TRUE,0,VLOOKUP('Match Day'!$B$4,ResultsF!$AF$4:$AG$11,2,FALSE))","v":0},{"$f":"IF(ISERROR(VLOOKUP('Match Day'!$B$4,ResultsF!$AH$4:$AI$11,2,FALSE))=TRUE,0,VLOOKUP('Match Day'!$B$4,ResultsF!$AH$4:$AI$11,2,FALSE))","v":0},{"$f":"IF(ISERROR(VLOOKUP('Match Day'!$B$6,ResultsF!$AF$4:$AG$11,2,FALSE))=TRUE,0,VLOOKUP('Match Day'!$B$6,ResultsF!$AF$4:$AG$11,2,FALSE))","v":0},{"$f":"IF(ISERROR(VLOOKUP('Match Day'!$B$6,ResultsF!$AH$4:$AI$11,2,FALSE))=TRUE,0,VLOOKUP('Match Day'!$B$6,ResultsF!$AH$4:$AI$11,2,FALSE))","v":0},{"$f":"IF(ISERROR(VLOOKUP('Match Day'!$B$8,ResultsF!$AF$4:$AG$11,2,FALSE))=TRUE,0,VLOOKUP('Match Day'!$B$8,ResultsF!$AF$4:$AG$11,2,FALSE))","v":0},{"$f":"IF(ISERROR(VLOOKUP('Match Day'!$B$8,ResultsF!$AH$4:$AI$11,2,FALSE))=TRUE,0,VLOOKUP('Match Day'!$B$8,ResultsF!$AH$4:$AI$11,2,FALSE))","v":0},{"$f":"IF(ISERROR(VLOOKUP('Match Day'!$B$10,ResultsF!$AF$4:$AG$11,2,FALSE))=TRUE,0,VLOOKUP('Match Day'!$B$10,ResultsF!$AF$4:$AG$11,2,FALSE))","v":0},{"$f":"IF(ISERROR(VLOOKUP('Match Day'!$B$10,ResultsF!$AH$4:$AI$11,2,FALSE))=TRUE,0,VLOOKUP('Match Day'!$B$10,ResultsF!$AH$4:$AI$11,2,FALSE))","v":0},{"$f":"IF(ISERROR(VLOOKUP('Match Day'!$B$12,ResultsF!$AF$4:$AG$11,2,FALSE))=TRUE,0,VLOOKUP('Match Day'!$B$12,ResultsF!$AF$4:$AG$11,2,FALSE))","v":0},{"$f":"IF(ISERROR(VLOOKUP('Match Day'!$B$12,ResultsF!$AH$4:$AI$11,2,FALSE))=TRUE,0,VLOOKUP('Match Day'!$B$12,ResultsF!$AH$4:$AI$11,2,FALSE))","v":0},{"$f":"IF(ISERROR(VLOOKUP('Match Day'!$B$14,ResultsF!$AF$4:$AG$11,2,FALSE))=TRUE,0,VLOOKUP('Match Day'!$B$14,ResultsF!$AF$4:$AG$11,2,FALSE))","v":0},{"$f":"IF(ISERROR(VLOOKUP('Match Day'!$B$14,ResultsF!$AH$4:$AI$11,2,FALSE))=TRUE,0,VLOOKUP('Match Day'!$B$14,ResultsF!$AH$4:$AI$11,2,FALSE))","v":0},{"$f":"IF(ISERROR(VLOOKUP('Match Day'!$B$16,ResultsF!$AF$4:$AG$11,2,FALSE))=TRUE,0,VLOOKUP('Match Day'!$B$16,ResultsF!$AF$4:$AG$11,2,FALSE))","v":0},{"$f":"IF(ISERROR(VLOOKUP('Match Day'!$B$16,ResultsF!$AH$4:$AI$11,2,FALSE))=TRUE,0,VLOOKUP('Match Day'!$B$16,ResultsF!$AH$4:$AI$11,2,FALSE))","v":0},{"$f":"IF(ISERROR(VLOOKUP('Match Day'!$B$18,ResultsF!$AF$4:$AG$11,2,FALSE))=TRUE,0,VLOOKUP('Match Day'!$B$18,ResultsF!$AF$4:$AG$11,2,FALSE))","v":0},{"$f":"IF(ISERROR(VLOOKUP('Match Day'!$B$18,ResultsF!$AH$4:$AI$11,2,FALSE))=TRUE,0,VLOOKUP('Match Day'!$B$18,ResultsF!$AH$4:$AI$11,2,FALSE))","v":0},{"$f":"IF(Home!AC9=\"\",0,ResultsF!$AT$12-AG26)","v":0},{"$f":"IF(Home!AC9=\"\",0,ResultsF!$AU$12-AH26)","v":0},{"$f":"C26+E26+G26+I26+K26+M26+O26+Q26+S26","v":0},{"$f":"D26+F26+H26+J26+L26+N26+P26+R26+T26","v":0},null,{"$f":"IF(U26>0,1,0)","v":0},null,null,null,null,null,null,{"$f":"IF(A26=\"\",\"\",VLOOKUP(A26,ResultsF!$A$4:$AJ$191,36,FALSE))","v":4},{"$f":"AE26+7","v":11},{"$f":"C26+E26+G26+I26+K26+M26+O26+Q26","v":0},{"$f":"D26+F26+H26+J26+L26+N26+P26+R26","v":0}]
[{"$f":"ResultsF!A$14","v":7},{"$f":"VLOOKUP(A27,Handbook!$A$26:$AK$46,3,FALSE)","v":"Women's 200m"},{"$f":"IF(ISERROR(VLOOKUP('Match Day'!$B$4,ResultsF!$AF$14:$AG$21,2,FALSE))=TRUE,0,VLOOKUP('Match Day'!$B$4,ResultsF!$AF$14:$AG$21,2,FALSE))","v":0},{"$f":"IF(ISERROR(VLOOKUP('Match Day'!$B$4,ResultsF!$AH$14:$AI$21,2,FALSE))=TRUE,0,VLOOKUP('Match Day'!$B$4,ResultsF!$AH$14:$AI$21,2,FALSE))","v":0},{"$f":"IF(ISERROR(VLOOKUP('Match Day'!$B$6,ResultsF!$AF$14:$AG$21,2,FALSE))=TRUE,0,VLOOKUP('Match Day'!$B$6,ResultsF!$AF$14:$AG$21,2,FALSE))","v":0},{"$f":"IF(ISERROR(VLOOKUP('Match Day'!$B$6,ResultsF!$AH$14:$AI$21,2,FALSE))=TRUE,0,VLOOKUP('Match Day'!$B$6,ResultsF!$AH$14:$AI$21,2,FALSE))","v":0},{"$f":"IF(ISERROR(VLOOKUP('Match Day'!$B$8,ResultsF!$AF$14:$AG$21,2,FALSE))=TRUE,0,VLOOKUP('Match Day'!$B$8,ResultsF!$AF$14:$AG$21,2,FALSE))","v":0},{"$f":"IF(ISERROR(VLOOKUP('Match Day'!$B$8,ResultsF!$AH$14:$AI$21,2,FALSE))=TRUE,0,VLOOKUP('Match Day'!$B$8,ResultsF!$AH$14:$AI$21,2,FALSE))","v":0},{"$f":"IF(ISERROR(VLOOKUP('Match Day'!$B$10,ResultsF!$AF$14:$AG$21,2,FALSE))=TRUE,0,VLOOKUP('Match Day'!$B$10,ResultsF!$AF$14:$AG$21,2,FALSE))","v":0},{"$f":"IF(ISERROR(VLOOKUP('Match Day'!$B$10,ResultsF!$AH$14:$AI$21,2,FALSE))=TRUE,0,VLOOKUP('Match Day'!$B$10,ResultsF!$AH$14:$AI$21,2,FALSE))","v":0},{"$f":"IF(ISERROR(VLOOKUP('Match Day'!$B$12,ResultsF!$AF$14:$AG$21,2,FALSE))=TRUE,0,VLOOKUP('Match Day'!$B$12,ResultsF!$AF$14:$AG$21,2,FALSE))","v":0},{"$f":"IF(ISERROR(VLOOKUP('Match Day'!$B$12,ResultsF!$AH$14:$AI$21,2,FALSE))=TRUE,0,VLOOKUP('Match Day'!$B$12,ResultsF!$AH$14:$AI$21,2,FALSE))","v":0},{"$f":"IF(ISERROR(VLOOKUP('Match Day'!$B$14,ResultsF!$AF$14:$AG$21,2,FALSE))=TRUE,0,VLOOKUP('Match Day'!$B$14,ResultsF!$AF$14:$AG$21,2,FALSE))","v":0},{"$f":"IF(ISERROR(VLOOKUP('Match Day'!$B$14,ResultsF!$AH$14:$AI$21,2,FALSE))=TRUE,0,VLOOKUP('Match Day'!$B$14,ResultsF!$AH$14:$AI$21,2,FALSE))","v":0},{"$f":"IF(ISERROR(VLOOKUP('Match Day'!$B$16,ResultsF!$AF$14:$AG$21,2,FALSE))=TRUE,0,VLOOKUP('Match Day'!$B$16,ResultsF!$AF$14:$AG$21,2,FALSE))","v":0},{"$f":"IF(ISERROR(VLOOKUP('Match Day'!$B$16,ResultsF!$AH$14:$AI$21,2,FALSE))=TRUE,0,VLOOKUP('Match Day'!$B$16,ResultsF!$AH$14:$AI$21,2,FALSE))","v":0},{"$f":"IF(ISERROR(VLOOKUP('Match Day'!$B$18,ResultsF!$AF$14:$AG$21,2,FALSE))=TRUE,0,VLOOKUP('Match Day'!$B$18,ResultsF!$AF$14:$AG$21,2,FALSE))","v":0},{"$f":"IF(ISERROR(VLOOKUP('Match Day'!$B$18,ResultsF!$AH$14:$AI$21,2,FALSE))=TRUE,0,VLOOKUP('Match Day'!$B$18,ResultsF!$AH$14:$AI$21,2,FALSE))","v":0},{"$f":"IF(Home!AC10=\"\",0,ResultsF!$AT$12-AG27)","v":0},{"$f":"IF(Home!AC10=\"\",0,ResultsF!$AU$12-AH27)","v":0},0,0,null,{"$f":"IF(U27>0,1,0)","v":0},null,null,null,null,null,null,{"$f":"IF(A27=\"\",\"\",VLOOKUP(A27,ResultsF!$A$4:$AJ$191,36,FALSE))","v":14},{"$f":"AE27+7","v":21},0,0]
[{"$f":"ResultsF!A$24","v":4},{"$f":"VLOOKUP(A28,Handbook!$A$26:$AK$46,3,FALSE)","v":"Women's 400m"},{"$f":"IF(ISERROR(VLOOKUP('Match Day'!$B$4,ResultsF!$AF$24:$AG$31,2,FALSE))=TRUE,0,VLOOKUP('Match Day'!$B$4,ResultsF!$AF$24:$AG$31,2,FALSE))","v":0},{"$f":"IF(ISERROR(VLOOKUP('Match Day'!$B$4,ResultsF!$AH$24:$AI$31,2,FALSE))=TRUE,0,VLOOKUP('Match Day'!$B$4,ResultsF!$AH$24:$AI$31,2,FALSE))","v":0},{"$f":"IF(ISERROR(VLOOKUP('Match Day'!$B$6,ResultsF!$AF$24:$AG$31,2,FALSE))=TRUE,0,VLOOKUP('Match Day'!$B$6,ResultsF!$AF$24:$AG$31,2,FALSE))","v":0},{"$f":"IF(ISERROR(VLOOKUP('Match Day'!$B$6,ResultsF!$AH$24:$AI$31,2,FALSE))=TRUE,0,VLOOKUP('Match Day'!$B$6,ResultsF!$AH$24:$AI$31,2,FALSE))","v":0},{"$f":"IF(ISERROR(VLOOKUP('Match Day'!$B$8,ResultsF!$AF$24:$AG$31,2,FALSE))=TRUE,0,VLOOKUP('Match Day'!$B$8,ResultsF!$AF$24:$AG$31,2,FALSE))","v":0},{"$f":"IF(ISERROR(VLOOKUP('Match Day'!$B$8,ResultsF!$AH$24:$AI$31,2,FALSE))=TRUE,0,VLOOKUP('Match Day'!$B$8,ResultsF!$AH$24:$AI$31,2,FALSE))","v":0},{"$f":"IF(ISERROR(VLOOKUP('Match Day'!$B$10,ResultsF!$AF$24:$AG$31,2,FALSE))=TRUE,0,VLOOKUP('Match Day'!$B$10,ResultsF!$AF$24:$AG$31,2,FALSE))","v":0},{"$f":"IF(ISERROR(VLOOKUP('Match Day'!$B$10,ResultsF!$AH$24:$AI$31,2,FALSE))=TRUE,0,VLOOKUP('Match Day'!$B$10,ResultsF!$AH$24:$AI$31,2,FALSE))","v":0},{"$f":"IF(ISERROR(VLOOKUP('Match Day'!$B$12,ResultsF!$AF$24:$AG$31,2,FALSE))=TRUE,0,VLOOKUP('Match Day'!$B$12,ResultsF!$AF$24:$AG$31,2,FALSE))","v":0},{"$f":"IF(ISERROR(VLOOKUP('Match Day'!$B$12,ResultsF!$AH$24:$AI$31,2,FALSE))=TRUE,0,VLOOKUP('Match Day'!$B$12,ResultsF!$AH$24:$AI$31,2,FALSE))","v":0},{"$f":"IF(ISERROR(VLOOKUP('Match Day'!$B$14,ResultsF!$AF$24:$AG$31,2,FALSE))=TRUE,0,VLOOKUP('Match Day'!$B$14,ResultsF!$AF$24:$AG$31,2,FALSE))","v":0},{"$f":"IF(ISERROR(VLOOKUP('Match Day'!$B$14,ResultsF!$AH$24:$AI$31,2,FALSE))=TRUE,0,VLOOKUP('Match Day'!$B$14,ResultsF!$AH$24:$AI$31,2,FALSE))","v":0},{"$f":"IF(ISERROR(VLOOKUP('Match Day'!$B$16,ResultsF!$AF$24:$AG$31,2,FALSE))=TRUE,0,VLOOKUP('Match Day'!$B$16,ResultsF!$AF$24:$AG$31,2,FALSE))","v":0},{"$f":"IF(ISERROR(VLOOKUP('Match Day'!$B$16,ResultsF!$AH$24:$AI$31,2,FALSE))=TRUE,0,VLOOKUP('Match Day'!$B$16,ResultsF!$AH$24:$AI$31,2,FALSE))","v":0},{"$f":"IF(ISERROR(VLOOKUP('Match Day'!$B$18,ResultsF!$AF$24:$AG$31,2,FALSE))=TRUE,0,VLOOKUP('Match Day'!$B$18,ResultsF!$AF$24:$AG$31,2,FALSE))","v":0},{"$f":"IF(ISERROR(VLOOKUP('Match Day'!$B$18,ResultsF!$AH$24:$AI$31,2,FALSE))=TRUE,0,VLOOKUP('Match Day'!$B$18,ResultsF!$AH$24:$AI$31,2,FALSE))","v":0},{"$f":"IF(Home!AC11=\"\",0,ResultsF!$AT$12-AG28)","v":0},{"$f":"IF(Home!AC11=\"\",0,ResultsF!$AU$12-AH28)","v":0},0,0,null,0,null,null,null,null,null,null,{"$f":"IF(A28=\"\",\"\",VLOOKUP(A28,ResultsF!$A$4:$AJ$191,36,FALSE))","v":24},31,0,0]
[{"$f":"ResultsF!A$34","v":2},{"$f":"VLOOKUP(A29,Handbook!$A$26:$AK$46,3,FALSE)","v":"Women's 800m"},{"$f":"IF(ISERROR(VLOOKUP('Match Day'!$B$4,ResultsF!$AF$34:$AG$41,2,FALSE))=TRUE,0,VLOOKUP('Match Day'!$B$4,ResultsF!$AF$34:$AG$41,2,FALSE))","v":0},{"$f":"IF(ISERROR(VLOOKUP('Match Day'!$B$4,ResultsF!$AH$34:$AI$41,2,FALSE))=TRUE,0,VLOOKUP('Match Day'!$B$4,ResultsF!$AH$34:$AI$41,2,FALSE))","v":0},{"$f":"IF(ISERROR(VLOOKUP('Match Day'!$B$6,ResultsF!$AF$34:$AG$41,2,FALSE))=TRUE,0,VLOOKUP('Match Day'!$B$6,ResultsF!$AF$34:$AG$41,2,FALSE))","v":0},{"$f":"IF(ISERROR(VLOOKUP('Match Day'!$B$6,ResultsF!$AH$34:$AI$41,2,FALSE))=TRUE,0,VLOOKUP('Match Day'!$B$6,ResultsF!$AH$34:$AI$41,2,FALSE))","v":0},{"$f":"IF(ISERROR(VLOOKUP('Match Day'!$B$8,ResultsF!$AF$34:$AG$41,2,FALSE))=TRUE,0,VLOOKUP('Match Day'!$B$8,ResultsF!$AF$34:$AG$41,2,FALSE))","v":0},{"$f":"IF(ISERROR(VLOOKUP('Match Day'!$B$8,ResultsF!$AH$34:$AI$41,2,FALSE))=TRUE,0,VLOOKUP('Match Day'!$B$8,ResultsF!$AH$34:$AI$41,2,FALSE))","v":0},{"$f":"IF(ISERROR(VLOOKUP('Match Day'!$B$10,ResultsF!$AF$34:$AG$41,2,FALSE))=TRUE,0,VLOOKUP('Match Day'!$B$10,ResultsF!$AF$34:$AG$41,2,FALSE))","v":0},{"$f":"IF(ISERROR(VLOOKUP('Match Day'!$B$10,ResultsF!$AH$34:$AI$41,2,FALSE))=TRUE,0,VLOOKUP('Match Day'!$B$10,ResultsF!$AH$34:$AI$41,2,FALSE))","v":0},{"$f":"IF(ISERROR(VLOOKUP('Match Day'!$B$12,ResultsF!$AF$34:$AG$41,2,FALSE))=TRUE,0,VLOOKUP('Match Day'!$B$12,ResultsF!$AF$34:$AG$41,2,FALSE))","v":0},{"$f":"IF(ISERROR(VLOOKUP('Match Day'!$B$12,ResultsF!$AH$34:$AI$41,2,FALSE))=TRUE,0,VLOOKUP('Match Day'!$B$12,ResultsF!$AH$34:$AI$41,2,FALSE))","v":0},{"$f":"IF(ISERROR(VLOOKUP('Match Day'!$B$14,ResultsF!$AF$34:$AG$41,2,FALSE))=TRUE,0,VLOOKUP('Match Day'!$B$14,ResultsF!$AF$34:$AG$41,2,FALSE))","v":0},{"$f":"IF(ISERROR(VLOOKUP('Match Day'!$B$14,ResultsF!$AH$34:$AI$41,2,FALSE))=TRUE,0,VLOOKUP('Match Day'!$B$14,ResultsF!$AH$34:$AI$41,2,FALSE))","v":0},{"$f":"IF(ISERROR(VLOOKUP('Match Day'!$B$16,ResultsF!$AF$34:$AG$41,2,FALSE))=TRUE,0,VLOOKUP('Match Day'!$B$16,ResultsF!$AF$34:$AG$41,2,FALSE))","v":0},{"$f":"IF(ISERROR(VLOOKUP('Match Day'!$B$16,ResultsF!$AH$34:$AI$41,2,FALSE))=TRUE,0,VLOOKUP('Match Day'!$B$16,ResultsF!$AH$34:$AI$41,2,FALSE))","v":0},{"$f":"IF(ISERROR(VLOOKUP('Match Day'!$B$18,ResultsF!$AF$34:$AG$41,2,FALSE))=TRUE,0,VLOOKUP('Match Day'!$B$18,ResultsF!$AF$34:$AG$41,2,FALSE))","v":0},{"$f":"IF(ISERROR(VLOOKUP('Match Day'!$B$18,ResultsF!$AH$34:$AI$41,2,FALSE))=TRUE,0,VLOOKUP('Match Day'!$B$18,ResultsF!$AH$34:$AI$41,2,FALSE))","v":0},{"$f":"IF(Home!AC12=\"\",0,ResultsF!$AT$12-AG29)","v":0},{"$f":"IF(Home!AC12=\"\",0,ResultsF!$AU$12-AH29)","v":0},0,0,null,0,null,null,null,null,null,null,{"$f":"IF(A29=\"\",\"\",VLOOKUP(A29,ResultsF!$A$4:$AJ$191,36,FALSE))","v":34},41,0,0]
[{"$f":"ResultsF!A$44","v":8},{"$f":"VLOOKUP(A30,Handbook!$A$26:$AK$46,3,FALSE)","v":"Women's 1500m"},{"$f":"IF(ISERROR(VLOOKUP('Match Day'!$B$4,ResultsF!$AF$44:$AG$51,2,FALSE))=TRUE,0,VLOOKUP('Match Day'!$B$4,ResultsF!$AF$44:$AG$51,2,FALSE))","v":0},{"$f":"IF(ISERROR(VLOOKUP('Match Day'!$B$4,ResultsF!$AH$44:$AI$51,2,FALSE))=TRUE,0,VLOOKUP('Match Day'!$B$4,ResultsF!$AH$44:$AI$51,2,FALSE))","v":0},{"$f":"IF(ISERROR(VLOOKUP('Match Day'!$B$6,ResultsF!$AF$44:$AG$51,2,FALSE))=TRUE,0,VLOOKUP('Match Day'!$B$6,ResultsF!$AF$44:$AG$51,2,FALSE))","v":0},{"$f":"IF(ISERROR(VLOOKUP('Match Day'!$B$6,ResultsF!$AH$44:$AI$51,2,FALSE))=TRUE,0,VLOOKUP('Match Day'!$B$6,ResultsF!$AH$44:$AI$51,2,FALSE))","v":0},{"$f":"IF(ISERROR(VLOOKUP('Match Day'!$B$8,ResultsF!$AF$44:$AG$51,2,FALSE))=TRUE,0,VLOOKUP('Match Day'!$B$8,ResultsF!$AF$44:$AG$51,2,FALSE))","v":0},{"$f":"IF(ISERROR(VLOOKUP('Match Day'!$B$8,ResultsF!$AH$44:$AI$51,2,FALSE))=TRUE,0,VLOOKUP('Match Day'!$B$8,ResultsF!$AH$44:$AI$51,2,FALSE))","v":0},{"$f":"IF(ISERROR(VLOOKUP('Match Day'!$B$10,ResultsF!$AF$44:$AG$51,2,FALSE))=TRUE,0,VLOOKUP('Match Day'!$B$10,ResultsF!$AF$44:$AG$51,2,FALSE))","v":0},{"$f":"IF(ISERROR(VLOOKUP('Match Day'!$B$10,ResultsF!$AH$44:$AI$51,2,FALSE))=TRUE,0,VLOOKUP('Match Day'!$B$10,ResultsF!$AH$44:$AI$51,2,FALSE))","v":0},{"$f":"IF(ISERROR(VLOOKUP('Match Day'!$B$12,ResultsF!$AF$44:$AG$51,2,FALSE))=TRUE,0,VLOOKUP('Match Day'!$B$12,ResultsF!$AF$44:$AG$51,2,FALSE))","v":0},{"$f":"IF(ISERROR(VLOOKUP('Match Day'!$B$12,ResultsF!$AH$44:$AI$51,2,FALSE))=TRUE,0,VLOOKUP('Match Day'!$B$12,ResultsF!$AH$44:$AI$51,2,FALSE))","v":0},{"$f":"IF(ISERROR(VLOOKUP('Match Day'!$B$14,ResultsF!$AF$44:$AG$51,2,FALSE))=TRUE,0,VLOOKUP('Match Day'!$B$14,ResultsF!$AF$44:$AG$51,2,FALSE))","v":0},{"$f":"IF(ISERROR(VLOOKUP('Match Day'!$B$14,ResultsF!$AH$44:$AI$51,2,FALSE))=TRUE,0,VLOOKUP('Match Day'!$B$14,ResultsF!$AH$44:$AI$51,2,FALSE))","v":0},{"$f":"IF(ISERROR(VLOOKUP('Match Day'!$B$16,ResultsF!$AF$44:$AG$51,2,FALSE))=TRUE,0,VLOOKUP('Match Day'!$B$16,ResultsF!$AF$44:$AG$51,2,FALSE))","v":0},{"$f":"IF(ISERROR(VLOOKUP('Match Day'!$B$16,ResultsF!$AH$44:$AI$51,2,FALSE))=TRUE,0,VLOOKUP('Match Day'!$B$16,ResultsF!$AH$44:$AI$51,2,FALSE))","v":0},{"$f":"IF(ISERROR(VLOOKUP('Match Day'!$B$18,ResultsF!$AF$44:$AG$51,2,FALSE))=TRUE,0,VLOOKUP('Match Day'!$B$18,ResultsF!$AF$44:$AG$51,2,FALSE))","v":0},{"$f":"IF(ISERROR(VLOOKUP('Match Day'!$B$18,ResultsF!$AH$44:$AI$51,2,FALSE))=TRUE,0,VLOOKUP('Match Day'!$B$18,ResultsF!$AH$44:$AI$51,2,FALSE))","v":0},{"$f":"IF(Home!AC13=\"\",0,ResultsF!$AT$12-AG30)","v":0},{"$f":"IF(Home!AC13=\"\",0,ResultsF!$AU$12-AH30)","v":0},0,0,null,0,null,null,null,null,null,null,{"$f":"IF(A30=\"\",\"\",VLOOKUP(A30,ResultsF!$A$4:$AJ$191,36,FALSE))","v":44},51,0,0]
[{"$f":"ResultsF!A$54","v":5},{"$f":"VLOOKUP(A31,Handbook!$A$26:$AK$46,3,FALSE)","v":"Women's 1500m S/Chase"},{"$f":"IF(ISERROR(VLOOKUP('Match Day'!$B$4,ResultsF!$AF$54:$AG$61,2,FALSE))=TRUE,0,VLOOKUP('Match Day'!$B$4,ResultsF!$AF$54:$AG$61,2,FALSE))","v":0},{"$f":"IF(ISERROR(VLOOKUP('Match Day'!$B$4,ResultsF!$AH$54:$AI$61,2,FALSE))=TRUE,0,VLOOKUP('Match Day'!$B$4,ResultsF!$AH$54:$AI$61,2,FALSE))","v":0},{"$f":"IF(ISERROR(VLOOKUP('Match Day'!$B$6,ResultsF!$AF$54:$AG$61,2,FALSE))=TRUE,0,VLOOKUP('Match Day'!$B$6,ResultsF!$AF$54:$AG$61,2,FALSE))","v":0},{"$f":"IF(ISERROR(VLOOKUP('Match Day'!$B$6,ResultsF!$AH$54:$AI$61,2,FALSE))=TRUE,0,VLOOKUP('Match Day'!$B$6,ResultsF!$AH$54:$AI$61,2,FALSE))","v":0},{"$f":"IF(ISERROR(VLOOKUP('Match Day'!$B$8,ResultsF!$AF$54:$AG$61,2,FALSE))=TRUE,0,VLOOKUP('Match Day'!$B$8,ResultsF!$AF$54:$AG$61,2,FALSE))","v":0},{"$f":"IF(ISERROR(VLOOKUP('Match Day'!$B$8,ResultsF!$AH$54:$AI$61,2,FALSE))=TRUE,0,VLOOKUP('Match Day'!$B$8,ResultsF!$AH$54:$AI$61,2,FALSE))","v":0},{"$f":"IF(ISERROR(VLOOKUP('Match Day'!$B$10,ResultsF!$AF$54:$AG$61,2,FALSE))=TRUE,0,VLOOKUP('Match Day'!$B$10,ResultsF!$AF$54:$AG$61,2,FALSE))","v":0},{"$f":"IF(ISERROR(VLOOKUP('Match Day'!$B$10,ResultsF!$AH$54:$AI$61,2,FALSE))=TRUE,0,VLOOKUP('Match Day'!$B$10,ResultsF!$AH$54:$AI$61,2,FALSE))","v":0},{"$f":"IF(ISERROR(VLOOKUP('Match Day'!$B$12,ResultsF!$AF$54:$AG$61,2,FALSE))=TRUE,0,VLOOKUP('Match Day'!$B$12,ResultsF!$AF$54:$AG$61,2,FALSE))","v":0},{"$f":"IF(ISERROR(VLOOKUP('Match Day'!$B$12,ResultsF!$AH$54:$AI$61,2,FALSE))=TRUE,0,VLOOKUP('Match Day'!$B$12,ResultsF!$AH$54:$AI$61,2,FALSE))","v":0},{"$f":"IF(ISERROR(VLOOKUP('Match Day'!$B$14,ResultsF!$AF$54:$AG$61,2,FALSE))=TRUE,0,VLOOKUP('Match Day'!$B$14,ResultsF!$AF$54:$AG$61,2,FALSE))","v":0},{"$f":"IF(ISERROR(VLOOKUP('Match Day'!$B$14,ResultsF!$AH$54:$AI$61,2,FALSE))=TRUE,0,VLOOKUP('Match Day'!$B$14,ResultsF!$AH$54:$AI$61,2,FALSE))","v":0},{"$f":"IF(ISERROR(VLOOKUP('Match Day'!$B$16,ResultsF!$AF$54:$AG$61,2,FALSE))=TRUE,0,VLOOKUP('Match Day'!$B$16,ResultsF!$AF$54:$AG$61,2,FALSE))","v":0},{"$f":"IF(ISERROR(VLOOKUP('Match Day'!$B$16,ResultsF!$AH$54:$AI$61,2,FALSE))=TRUE,0,VLOOKUP('Match Day'!$B$16,ResultsF!$AH$54:$AI$61,2,FALSE))","v":0},{"$f":"IF(ISERROR(VLOOKUP('Match Day'!$B$18,ResultsF!$AF$54:$AG$61,2,FALSE))=TRUE,0,VLOOKUP('Match Day'!$B$18,ResultsF!$AF$54:$AG$61,2,FALSE))","v":0},{"$f":"IF(ISERROR(VLOOKUP('Match Day'!$B$18,ResultsF!$AH$54:$AI$61,2,FALSE))=TRUE,0,VLOOKUP('Match Day'!$B$18,ResultsF!$AH$54:$AI$61,2,FALSE))","v":0},{"$f":"IF(Home!AD36=\"\",0,ResultsF!$AT$12-AG31)","v":0},{"$f":"IF(Home!AD36=\"\",0,ResultsF!$AU$12-AH31)","v":0},0,0,null,0,null,null,null,null,null,null,{"$f":"IF(A31=\"\",\"\",VLOOKUP(A31,ResultsF!$A$4:$AJ$191,36,FALSE))","v":54},61,0,0]
[{"$f":"ResultsF!A$64","v":21},{"$f":"VLOOKUP(A32,Handbook!$A$26:$AK$46,3,FALSE)","v":"Women's 3000m"},{"$f":"IF(ISERROR(VLOOKUP('Match Day'!$B$4,ResultsF!$AF$64:$AG$71,2,FALSE))=TRUE,0,VLOOKUP('Match Day'!$B$4,ResultsF!$AF$64:$AG$71,2,FALSE))","v":0},{"$f":"IF(ISERROR(VLOOKUP('Match Day'!$B$4,ResultsF!$AH$64:$AI$71,2,FALSE))=TRUE,0,VLOOKUP('Match Day'!$B$4,ResultsF!$AH$64:$AI$71,2,FALSE))","v":0},{"$f":"IF(ISERROR(VLOOKUP('Match Day'!$B$6,ResultsF!$AF$64:$AG$71,2,FALSE))=TRUE,0,VLOOKUP('Match Day'!$B$6,ResultsF!$AF$64:$AG$71,2,FALSE))","v":0},{"$f":"IF(ISERROR(VLOOKUP('Match Day'!$B$6,ResultsF!$AH$64:$AI$71,2,FALSE))=TRUE,0,VLOOKUP('Match Day'!$B$6,ResultsF!$AH$64:$AI$71,2,FALSE))","v":0},{"$f":"IF(ISERROR(VLOOKUP('Match Day'!$B$8,ResultsF!$AF$64:$AG$71,2,FALSE))=TRUE,0,VLOOKUP('Match Day'!$B$8,ResultsF!$AF$64:$AG$71,2,FALSE))","v":0},{"$f":"IF(ISERROR(VLOOKUP('Match Day'!$B$8,ResultsF!$AH$64:$AI$71,2,FALSE))=TRUE,0,VLOOKUP('Match Day'!$B$8,ResultsF!$AH$64:$AI$71,2,FALSE))","v":0},{"$f":"IF(ISERROR(VLOOKUP('Match Day'!$B$10,ResultsF!$AF$64:$AG$71,2,FALSE))=TRUE,0,VLOOKUP('Match Day'!$B$10,ResultsF!$AF$64:$AG$71,2,FALSE))","v":0},{"$f":"IF(ISERROR(VLOOKUP('Match Day'!$B$10,ResultsF!$AH$64:$AI$71,2,FALSE))=TRUE,0,VLOOKUP('Match Day'!$B$10,ResultsF!$AH$64:$AI$71,2,FALSE))","v":0},{"$f":"IF(ISERROR(VLOOKUP('Match Day'!$B$12,ResultsF!$AF$64:$AG$71,2,FALSE))=TRUE,0,VLOOKUP('Match Day'!$B$12,ResultsF!$AF$64:$AG$71,2,FALSE))","v":0},{"$f":"IF(ISERROR(VLOOKUP('Match Day'!$B$12,ResultsF!$AH$64:$AI$71,2,FALSE))=TRUE,0,VLOOKUP('Match Day'!$B$12,ResultsF!$AH$64:$AI$71,2,FALSE))","v":0},{"$f":"IF(ISERROR(VLOOKUP('Match Day'!$B$14,ResultsF!$AF$64:$AG$71,2,FALSE))=TRUE,0,VLOOKUP('Match Day'!$B$14,ResultsF!$AF$64:$AG$71,2,FALSE))","v":0},{"$f":"IF(ISERROR(VLOOKUP('Match Day'!$B$14,ResultsF!$AH$64:$AI$71,2,FALSE))=TRUE,0,VLOOKUP('Match Day'!$B$14,ResultsF!$AH$64:$AI$71,2,FALSE))","v":0},{"$f":"IF(ISERROR(VLOOKUP('Match Day'!$B$16,ResultsF!$AF$64:$AG$71,2,FALSE))=TRUE,0,VLOOKUP('Match Day'!$B$16,ResultsF!$AF$64:$AG$71,2,FALSE))","v":0},{"$f":"IF(ISERROR(VLOOKUP('Match Day'!$B$16,ResultsF!$AH$64:$AI$71,2,FALSE))=TRUE,0,VLOOKUP('Match Day'!$B$16,ResultsF!$AH$64:$AI$71,2,FALSE))","v":0},{"$f":"IF(ISERROR(VLOOKUP('Match Day'!$B$18,ResultsF!$AF$64:$AG$71,2,FALSE))=TRUE,0,VLOOKUP('Match Day'!$B$18,ResultsF!$AF$64:$AG$71,2,FALSE))","v":0},{"$f":"IF(ISERROR(VLOOKUP('Match Day'!$B$18,ResultsF!$AH$64:$AI$71,2,FALSE))=TRUE,0,VLOOKUP('Match Day'!$B$18,ResultsF!$AH$64:$AI$71,2,FALSE))","v":0},{"$f":"IF(Home!AC15=\"\",0,ResultsF!$AT$12-AG32)","v":0},{"$f":"IF(Home!AC15=\"\",0,ResultsF!$AU$12-AH32)","v":0},0,0,null,0,null,null,null,null,null,null,{"$f":"IF(A32=\"\",\"\",VLOOKUP(A32,ResultsF!$A$4:$AJ$191,36,FALSE))","v":64},71,0,0]
[1,{"$f":"VLOOKUP(A33,Handbook!$A$26:$AK$46,3,FALSE)","v":"Women's 400m Hurdles"},{"$f":"IF(ISERROR(VLOOKUP('Match Day'!$B$4,ResultsF!$AF$74:$AG$81,2,FALSE))=TRUE,0,VLOOKUP('Match Day'!$B$4,ResultsF!$AF$74:$AG$81,2,FALSE))","v":0},{"$f":"IF(ISERROR(VLOOKUP('Match Day'!$B$4,ResultsF!$AH$74:$AI$81,2,FALSE))=TRUE,0,VLOOKUP('Match Day'!$B$4,ResultsF!$AH$74:$AI$81,2,FALSE))","v":0},{"$f":"IF(ISERROR(VLOOKUP('Match Day'!$B$6,ResultsF!$AF$74:$AG$81,2,FALSE))=TRUE,0,VLOOKUP('Match Day'!$B$6,ResultsF!$AF$74:$AG$81,2,FALSE))","v":0},{"$f":"IF(ISERROR(VLOOKUP('Match Day'!$B$6,ResultsF!$AH$74:$AI$81,2,FALSE))=TRUE,0,VLOOKUP('Match Day'!$B$6,ResultsF!$AH$74:$AI$81,2,FALSE))","v":0},{"$f":"IF(ISERROR(VLOOKUP('Match Day'!$B$8,ResultsF!$AF$74:$AG$81,2,FALSE))=TRUE,0,VLOOKUP('Match Day'!$B$8,ResultsF!$AF$74:$AG$81,2,FALSE))","v":0},{"$f":"IF(ISERROR(VLOOKUP('Match Day'!$B$8,ResultsF!$AH$74:$AI$81,2,FALSE))=TRUE,0,VLOOKUP('Match Day'!$B$8,ResultsF!$AH$74:$AI$81,2,FALSE))","v":0},{"$f":"IF(ISERROR(VLOOKUP('Match Day'!$B$10,ResultsF!$AF$74:$AG$81,2,FALSE))=TRUE,0,VLOOKUP('Match Day'!$B$10,ResultsF!$AF$74:$AG$81,2,FALSE))","v":0},{"$f":"IF(ISERROR(VLOOKUP('Match Day'!$B$10,ResultsF!$AH$74:$AI$81,2,FALSE))=TRUE,0,VLOOKUP('Match Day'!$B$10,ResultsF!$AH$74:$AI$81,2,FALSE))","v":0},{"$f":"IF(ISERROR(VLOOKUP('Match Day'!$B$12,ResultsF!$AF$74:$AG$81,2,FALSE))=TRUE,0,VLOOKUP('Match Day'!$B$12,ResultsF!$AF$74:$AG$81,2,FALSE))","v":0},{"$f":"IF(ISERROR(VLOOKUP('Match Day'!$B$12,ResultsF!$AH$74:$AI$81,2,FALSE))=TRUE,0,VLOOKUP('Match Day'!$B$12,ResultsF!$AH$74:$AI$81,2,FALSE))","v":0},{"$f":"IF(ISERROR(VLOOKUP('Match Day'!$B$14,ResultsF!$AF$74:$AG$81,2,FALSE))=TRUE,0,VLOOKUP('Match Day'!$B$14,ResultsF!$AF$74:$AG$81,2,FALSE))","v":0},{"$f":"IF(ISERROR(VLOOKUP('Match Day'!$B$14,ResultsF!$AH$74:$AI$81,2,FALSE))=TRUE,0,VLOOKUP('Match Day'!$B$14,ResultsF!$AH$74:$AI$81,2,FALSE))","v":0},{"$f":"IF(ISERROR(VLOOKUP('Match Day'!$B$16,ResultsF!$AF$74:$AG$81,2,FALSE))=TRUE,0,VLOOKUP('Match Day'!$B$16,ResultsF!$AF$74:$AG$81,2,FALSE))","v":0},{"$f":"IF(ISERROR(VLOOKUP('Match Day'!$B$16,ResultsF!$AH$74:$AI$81,2,FALSE))=TRUE,0,VLOOKUP('Match Day'!$B$16,ResultsF!$AH$74:$AI$81,2,FALSE))","v":0},{"$f":"IF(ISERROR(VLOOKUP('Match Day'!$B$18,ResultsF!$AF$74:$AG$81,2,FALSE))=TRUE,0,VLOOKUP('Match Day'!$B$18,ResultsF!$AF$74:$AG$81,2,FALSE))","v":0},{"$f":"IF(ISERROR(VLOOKUP('Match Day'!$B$18,ResultsF!$AH$74:$AI$81,2,FALSE))=TRUE,0,VLOOKUP('Match Day'!$B$18,ResultsF!$AH$74:$AI$81,2,FALSE))","v":0},{"$f":"IF(Home!AC16=\"\",0,ResultsF!$AT$12-AG33)","v":0},{"$f":"IF(Home!AC16=\"\",0,ResultsF!$AU$12-AH33)","v":0},0,0,null,0,null,null,null,null,null,null,{"$f":"IF(A33=\"\",\"\",VLOOKUP(A33,ResultsF!$A$4:$AJ$191,36,FALSE))","v":74},81,0,0]
[6,{"$f":"VLOOKUP(A34,Handbook!$A$26:$AK$46,3,FALSE)","v":"Women's 100m Hurdles"},{"$f":"IF(ISERROR(VLOOKUP('Match Day'!$B$4,ResultsF!$AF$84:$AG$91,2,FALSE))=TRUE,0,VLOOKUP('Match Day'!$B$4,ResultsF!$AF$84:$AG$91,2,FALSE))","v":0},{"$f":"IF(ISERROR(VLOOKUP('Match Day'!$B$4,ResultsF!$AH$84:$AI$91,2,FALSE))=TRUE,0,VLOOKUP('Match Day'!$B$4,ResultsF!$AH$84:$AI$91,2,FALSE))","v":0},{"$f":"IF(ISERROR(VLOOKUP('Match Day'!$B$6,ResultsF!$AF$84:$AG$91,2,FALSE))=TRUE,0,VLOOKUP('Match Day'!$B$6,ResultsF!$AF$84:$AG$91,2,FALSE))","v":0},{"$f":"IF(ISERROR(VLOOKUP('Match Day'!$B$6,ResultsF!$AH$84:$AI$91,2,FALSE))=TRUE,0,VLOOKUP('Match Day'!$B$6,ResultsF!$AH$84:$AI$91,2,FALSE))","v":0},{"$f":"IF(ISERROR(VLOOKUP('Match Day'!$B$8,ResultsF!$AF$84:$AG$91,2,FALSE))=TRUE,0,VLOOKUP('Match Day'!$B$8,ResultsF!$AF$84:$AG$91,2,FALSE))","v":0},{"$f":"IF(ISERROR(VLOOKUP('Match Day'!$B$8,ResultsF!$AH$84:$AI$91,2,FALSE))=TRUE,0,VLOOKUP('Match Day'!$B$8,ResultsF!$AH$84:$AI$91,2,FALSE))","v":0},{"$f":"IF(ISERROR(VLOOKUP('Match Day'!$B$10,ResultsF!$AF$84:$AG$91,2,FALSE))=TRUE,0,VLOOKUP('Match Day'!$B$10,ResultsF!$AF$84:$AG$91,2,FALSE))","v":0},{"$f":"IF(ISERROR(VLOOKUP('Match Day'!$B$10,ResultsF!$AH$84:$AI$91,2,FALSE))=TRUE,0,VLOOKUP('Match Day'!$B$10,ResultsF!$AH$84:$AI$91,2,FALSE))","v":0},{"$f":"IF(ISERROR(VLOOKUP('Match Day'!$B$12,ResultsF!$AF$84:$AG$91,2,FALSE))=TRUE,0,VLOOKUP('Match Day'!$B$12,ResultsF!$AF$84:$AG$91,2,FALSE))","v":0},{"$f":"IF(ISERROR(VLOOKUP('Match Day'!$B$12,ResultsF!$AH$84:$AI$91,2,FALSE))=TRUE,0,VLOOKUP('Match Day'!$B$12,ResultsF!$AH$84:$AI$91,2,FALSE))","v":0},{"$f":"IF(ISERROR(VLOOKUP('Match Day'!$B$14,ResultsF!$AF$84:$AG$91,2,FALSE))=TRUE,0,VLOOKUP('Match Day'!$B$14,ResultsF!$AF$84:$AG$91,2,FALSE))","v":0},{"$f":"IF(ISERROR(VLOOKUP('Match Day'!$B$14,ResultsF!$AH$84:$AI$91,2,FALSE))=TRUE,0,VLOOKUP('Match Day'!$B$14,ResultsF!$AH$84:$AI$91,2,FALSE))","v":0},{"$f":"IF(ISERROR(VLOOKUP('Match Day'!$B$16,ResultsF!$AF$84:$AG$91,2,FALSE))=TRUE,0,VLOOKUP('Match Day'!$B$16,ResultsF!$AF$84:$AG$91,2,FALSE))","v":0},{"$f":"IF(ISERROR(VLOOKUP('Match Day'!$B$16,ResultsF!$AH$84:$AI$91,2,FALSE))=TRUE,0,VLOOKUP('Match Day'!$B$16,ResultsF!$AH$84:$AI$91,2,FALSE))","v":0},{"$f":"IF(ISERROR(VLOOKUP('Match Day'!$B$18,ResultsF!$AF$84:$AG$91,2,FALSE))=TRUE,0,VLOOKUP('Match Day'!$B$18,ResultsF!$AF$84:$AG$91,2,FALSE))","v":0},{"$f":"IF(ISERROR(VLOOKUP('Match Day'!$B$18,ResultsF!$AH$84:$AI$91,2,FALSE))=TRUE,0,VLOOKUP('Match Day'!$B$18,ResultsF!$AH$84:$AI$91,2,FALSE))","v":0},{"$f":"IF(Home!AC17=\"\",0,ResultsF!$AT$12-AG34)","v":0},{"$f":"IF(Home!AC17=\"\",0,ResultsF!$AU$12-AH34)","v":0},0,0,null,0,null,null,null,null,null,null,{"$f":"IF(A34=\"\",\"\",VLOOKUP(A34,ResultsF!$A$4:$AJ$191,36,FALSE))","v":84},91,0,0]
[{"$f":"ResultsF!A$94","v":11},{"$f":"VLOOKUP(A35,Handbook!$A$26:$AK$46,3,FALSE)","v":"Women's Hammer"},{"$f":"IF(ISERROR(VLOOKUP('Match Day'!$B$4,ResultsF!$AF$94:$AG$101,2,FALSE))=TRUE,0,VLOOKUP('Match Day'!$B$4,ResultsF!$AF$94:$AG$101,2,FALSE))","v":0},{"$f":"IF(ISERROR(VLOOKUP('Match Day'!$B$4,ResultsF!$AH$94:$AI$101,2,FALSE))=TRUE,0,VLOOKUP('Match Day'!$B$4,ResultsF!$AH$94:$AI$101,2,FALSE))","v":0},{"$f":"IF(ISERROR(VLOOKUP('Match Day'!$B$6,ResultsF!$AF$94:$AG$101,2,FALSE))=TRUE,0,VLOOKUP('Match Day'!$B$6,ResultsF!$AF$94:$AG$101,2,FALSE))","v":0},{"$f":"IF(ISERROR(VLOOKUP('Match Day'!$B$6,ResultsF!$AH$94:$AI$101,2,FALSE))=TRUE,0,VLOOKUP('Match Day'!$B$6,ResultsF!$AH$94:$AI$101,2,FALSE))","v":0},{"$f":"IF(ISERROR(VLOOKUP('Match Day'!$B$8,ResultsF!$AF$94:$AG$101,2,FALSE))=TRUE,0,VLOOKUP('Match Day'!$B$8,ResultsF!$AF$94:$AG$101,2,FALSE))","v":0},{"$f":"IF(ISERROR(VLOOKUP('Match Day'!$B$8,ResultsF!$AH$94:$AI$101,2,FALSE))=TRUE,0,VLOOKUP('Match Day'!$B$8,ResultsF!$AH$94:$AI$101,2,FALSE))","v":0},{"$f":"IF(ISERROR(VLOOKUP('Match Day'!$B$10,ResultsF!$AF$94:$AG$101,2,FALSE))=TRUE,0,VLOOKUP('Match Day'!$B$10,ResultsF!$AF$94:$AG$101,2,FALSE))","v":0},{"$f":"IF(ISERROR(VLOOKUP('Match Day'!$B$10,ResultsF!$AH$94:$AI$101,2,FALSE))=TRUE,0,VLOOKUP('Match Day'!$B$10,ResultsF!$AH$94:$AI$101,2,FALSE))","v":0},{"$f":"IF(ISERROR(VLOOKUP('Match Day'!$B$12,ResultsF!$AF$94:$AG$101,2,FALSE))=TRUE,0,VLOOKUP('Match Day'!$B$12,ResultsF!$AF$94:$AG$101,2,FALSE))","v":0},{"$f":"IF(ISERROR(VLOOKUP('Match Day'!$B$12,ResultsF!$AH$94:$AI$101,2,FALSE))=TRUE,0,VLOOKUP('Match Day'!$B$12,ResultsF!$AH$94:$AI$101,2,FALSE))","v":0},{"$f":"IF(ISERROR(VLOOKUP('Match Day'!$B$14,ResultsF!$AF$94:$AG$101,2,FALSE))=TRUE,0,VLOOKUP('Match Day'!$B$14,ResultsF!$AF$94:$AG$101,2,FALSE))","v":0},{"$f":"IF(ISERROR(VLOOKUP('Match Day'!$B$14,ResultsF!$AH$94:$AI$101,2,FALSE))=TRUE,0,VLOOKUP('Match Day'!$B$14,ResultsF!$AH$94:$AI$101,2,FALSE))","v":0},{"$f":"IF(ISERROR(VLOOKUP('Match Day'!$B$16,ResultsF!$AF$94:$AG$101,2,FALSE))=TRUE,0,VLOOKUP('Match Day'!$B$16,ResultsF!$AF$94:$AG$101,2,FALSE))","v":0},{"$f":"IF(ISERROR(VLOOKUP('Match Day'!$B$16,ResultsF!$AH$94:$AI$101,2,FALSE))=TRUE,0,VLOOKUP('Match Day'!$B$16,ResultsF!$AH$94:$AI$101,2,FALSE))","v":0},{"$f":"IF(ISERROR(VLOOKUP('Match Day'!$B$18,ResultsF!$AF$94:$AG$101,2,FALSE))=TRUE,0,VLOOKUP('Match Day'!$B$18,ResultsF!$AF$94:$AG$101,2,FALSE))","v":0},{"$f":"IF(ISERROR(VLOOKUP('Match Day'!$B$18,ResultsF!$AH$94:$AI$101,2,FALSE))=TRUE,0,VLOOKUP('Match Day'!$B$18,ResultsF!$AH$94:$AI$101,2,FALSE))","v":0},{"$f":"IF(Home!AC18=\"\",0,ResultsF!$AT$12-AG35)","v":0},{"$f":"IF(Home!AC18=\"\",0,ResultsF!$AU$12-AH35)","v":0},0,0,null,0,null,null,null,null,null,null,{"$f":"IF(A35=\"\",\"\",VLOOKUP(A35,ResultsF!$A$4:$AJ$191,36,FALSE))","v":94},101,0,0]
[{"$f":"ResultsF!A$104","v":15},{"$f":"VLOOKUP(A36,Handbook!$A$26:$AK$46,3,FALSE)","v":"Women's Discus"},{"$f":"IF(ISERROR(VLOOKUP('Match Day'!$B$4,ResultsF!$AF$104:$AG$111,2,FALSE))=TRUE,0,VLOOKUP('Match Day'!$B$4,ResultsF!$AF$104:$AG$111,2,FALSE))","v":0},{"$f":"IF(ISERROR(VLOOKUP('Match Day'!$B$4,ResultsF!$AH$104:$AI$111,2,FALSE))=TRUE,0,VLOOKUP('Match Day'!$B$4,ResultsF!$AH$104:$AI$111,2,FALSE))","v":0},{"$f":"IF(ISERROR(VLOOKUP('Match Day'!$B$6,ResultsF!$AF$104:$AG$111,2,FALSE))=TRUE,0,VLOOKUP('Match Day'!$B$6,ResultsF!$AF$104:$AG$111,2,FALSE))","v":0},{"$f":"IF(ISERROR(VLOOKUP('Match Day'!$B$6,ResultsF!$AH$104:$AI$111,2,FALSE))=TRUE,0,VLOOKUP('Match Day'!$B$6,ResultsF!$AH$104:$AI$111,2,FALSE))","v":0},{"$f":"IF(ISERROR(VLOOKUP('Match Day'!$B$8,ResultsF!$AF$104:$AG$111,2,FALSE))=TRUE,0,VLOOKUP('Match Day'!$B$8,ResultsF!$AF$104:$AG$111,2,FALSE))","v":0},{"$f":"IF(ISERROR(VLOOKUP('Match Day'!$B$8,ResultsF!$AH$104:$AI$111,2,FALSE))=TRUE,0,VLOOKUP('Match Day'!$B$8,ResultsF!$AH$104:$AI$111,2,FALSE))","v":0},{"$f":"IF(ISERROR(VLOOKUP('Match Day'!$B$10,ResultsF!$AF$104:$AG$111,2,FALSE))=TRUE,0,VLOOKUP('Match Day'!$B$10,ResultsF!$AF$104:$AG$111,2,FALSE))","v":0},{"$f":"IF(ISERROR(VLOOKUP('Match Day'!$B$10,ResultsF!$AH$104:$AI$111,2,FALSE))=TRUE,0,VLOOKUP('Match Day'!$B$10,ResultsF!$AH$104:$AI$111,2,FALSE))","v":0},{"$f":"IF(ISERROR(VLOOKUP('Match Day'!$B$12,ResultsF!$AF$104:$AG$111,2,FALSE))=TRUE,0,VLOOKUP('Match Day'!$B$12,ResultsF!$AF$104:$AG$111,2,FALSE))","v":0},{"$f":"IF(ISERROR(VLOOKUP('Match Day'!$B$12,ResultsF!$AH$104:$AI$111,2,FALSE))=TRUE,0,VLOOKUP('Match Day'!$B$12,ResultsF!$AH$104:$AI$111,2,FALSE))","v":0},{"$f":"IF(ISERROR(VLOOKUP('Match Day'!$B$14,ResultsF!$AF$104:$AG$111,2,FALSE))=TRUE,0,VLOOKUP('Match Day'!$B$14,ResultsF!$AF$104:$AG$111,2,FALSE))","v":0},{"$f":"IF(ISERROR(VLOOKUP('Match Day'!$B$14,ResultsF!$AH$104:$AI$111,2,FALSE))=TRUE,0,VLOOKUP('Match Day'!$B$14,ResultsF!$AH$104:$AI$111,2,FALSE))","v":0},{"$f":"IF(ISERROR(VLOOKUP('Match Day'!$B$16,ResultsF!$AF$104:$AG$111,2,FALSE))=TRUE,0,VLOOKUP('Match Day'!$B$16,ResultsF!$AF$104:$AG$111,2,FALSE))","v":0},{"$f":"IF(ISERROR(VLOOKUP('Match Day'!$B$16,ResultsF!$AH$104:$AI$111,2,FALSE))=TRUE,0,VLOOKUP('Match Day'!$B$16,ResultsF!$AH$104:$AI$111,2,FALSE))","v":0},{"$f":"IF(ISERROR(VLOOKUP('Match Day'!$B$18,ResultsF!$AF$104:$AG$111,2,FALSE))=TRUE,0,VLOOKUP('Match Day'!$B$18,ResultsF!$AF$104:$AG$111,2,FALSE))","v":0},{"$f":"IF(ISERROR(VLOOKUP('Match Day'!$B$18,ResultsF!$AH$104:$AI$111,2,FALSE))=TRUE,0,VLOOKUP('Match Day'!$B$18,ResultsF!$AH$104:$AI$111,2,FALSE))","v":0},{"$f":"IF(Home!AC19=\"\",0,ResultsF!$AT$12-AG36)","v":0},{"$f":"IF(Home!AC19=\"\",0,ResultsF!$AU$12-AH36)","v":0},0,0,null,0,null,null,null,null,null,null,{"$f":"IF(A36=\"\",\"\",VLOOKUP(A36,ResultsF!$A$4:$AJ$191,36,FALSE))","v":104},111,0,0]
[{"$f":"ResultsF!A$114","v":18},{"$f":"VLOOKUP(A37,Handbook!$A$26:$AK$46,3,FALSE)","v":"Women's Javelin"},{"$f":"IF(ISERROR(VLOOKUP('Match Day'!$B$4,ResultsF!$AF$114:$AG$121,2,FALSE))=TRUE,0,VLOOKUP('Match Day'!$B$4,ResultsF!$AF$114:$AG$121,2,FALSE))","v":0},{"$f":"IF(ISERROR(VLOOKUP('Match Day'!$B$4,ResultsF!$AH$114:$AI$121,2,FALSE))=TRUE,0,VLOOKUP('Match Day'!$B$4,ResultsF!$AH$114:$AI$121,2,FALSE))","v":0},{"$f":"IF(ISERROR(VLOOKUP('Match Day'!$B$6,ResultsF!$AF$114:$AG$121,2,FALSE))=TRUE,0,VLOOKUP('Match Day'!$B$6,ResultsF!$AF$114:$AG$121,2,FALSE))","v":0},{"$f":"IF(ISERROR(VLOOKUP('Match Day'!$B$6,ResultsF!$AH$114:$AI$121,2,FALSE))=TRUE,0,VLOOKUP('Match Day'!$B$6,ResultsF!$AH$114:$AI$121,2,FALSE))","v":0},{"$f":"IF(ISERROR(VLOOKUP('Match Day'!$B$8,ResultsF!$AF$114:$AG$121,2,FALSE))=TRUE,0,VLOOKUP('Match Day'!$B$8,ResultsF!$AF$114:$AG$121,2,FALSE))","v":0},{"$f":"IF(ISERROR(VLOOKUP('Match Day'!$B$8,ResultsF!$AH$114:$AI$121,2,FALSE))=TRUE,0,VLOOKUP('Match Day'!$B$8,ResultsF!$AH$114:$AI$121,2,FALSE))","v":0},{"$f":"IF(ISERROR(VLOOKUP('Match Day'!$B$10,ResultsF!$AF$114:$AG$121,2,FALSE))=TRUE,0,VLOOKUP('Match Day'!$B$10,ResultsF!$AF$114:$AG$121,2,FALSE))","v":0},{"$f":"IF(ISERROR(VLOOKUP('Match Day'!$B$10,ResultsF!$AH$114:$AI$121,2,FALSE))=TRUE,0,VLOOKUP('Match Day'!$B$10,ResultsF!$AH$114:$AI$121,2,FALSE))","v":0},{"$f":"IF(ISERROR(VLOOKUP('Match Day'!$B$12,ResultsF!$AF$114:$AG$121,2,FALSE))=TRUE,0,VLOOKUP('Match Day'!$B$12,ResultsF!$AF$114:$AG$121,2,FALSE))","v":0},{"$f":"IF(ISERROR(VLOOKUP('Match Day'!$B$12,ResultsF!$AH$114:$AI$121,2,FALSE))=TRUE,0,VLOOKUP('Match Day'!$B$12,ResultsF!$AH$114:$AI$121,2,FALSE))","v":0},{"$f":"IF(ISERROR(VLOOKUP('Match Day'!$B$14,ResultsF!$AF$114:$AG$121,2,FALSE))=TRUE,0,VLOOKUP('Match Day'!$B$14,ResultsF!$AF$114:$AG$121,2,FALSE))","v":0},{"$f":"IF(ISERROR(VLOOKUP('Match Day'!$B$14,ResultsF!$AH$114:$AI$121,2,FALSE))=TRUE,0,VLOOKUP('Match Day'!$B$14,ResultsF!$AH$114:$AI$121,2,FALSE))","v":0},{"$f":"IF(ISERROR(VLOOKUP('Match Day'!$B$16,ResultsF!$AF$114:$AG$121,2,FALSE))=TRUE,0,VLOOKUP('Match Day'!$B$16,ResultsF!$AF$114:$AG$121,2,FALSE))","v":0},{"$f":"IF(ISERROR(VLOOKUP('Match Day'!$B$16,ResultsF!$AH$114:$AI$121,2,FALSE))=TRUE,0,VLOOKUP('Match Day'!$B$16,ResultsF!$AH$114:$AI$121,2,FALSE))","v":0},{"$f":"IF(ISERROR(VLOOKUP('Match Day'!$B$18,ResultsF!$AF$114:$AG$121,2,FALSE))=TRUE,0,VLOOKUP('Match Day'!$B$18,ResultsF!$AF$114:$AG$121,2,FALSE))","v":0},{"$f":"IF(ISERROR(VLOOKUP('Match Day'!$B$18,ResultsF!$AH$114:$AI$121,2,FALSE))=TRUE,0,VLOOKUP('Match Day'!$B$18,ResultsF!$AH$114:$AI$121,2,FALSE))","v":0},{"$f":"IF(Home!AC20=\"\",0,ResultsF!$AT$12-AG37)","v":0},{"$f":"IF(Home!AC20=\"\",0,ResultsF!$AU$12-AH37)","v":0},0,0,null,0,null,null,null,null,null,null,{"$f":"IF(A37=\"\",\"\",VLOOKUP(A37,ResultsF!$A$4:$AJ$191,36,FALSE))","v":114},121,0,0]
[{"$f":"ResultsF!A$124","v":17},{"$f":"VLOOKUP(A38,Handbook!$A$26:$AK$46,3,FALSE)","v":"Women's Shot Putt"},{"$f":"IF(ISERROR(VLOOKUP('Match Day'!$B$4,ResultsF!$AF$124:$AG$131,2,FALSE))=TRUE,0,VLOOKUP('Match Day'!$B$4,ResultsF!$AF$124:$AG$131,2,FALSE))","v":0},{"$f":"IF(ISERROR(VLOOKUP('Match Day'!$B$4,ResultsF!$AH$124:$AI$131,2,FALSE))=TRUE,0,VLOOKUP('Match Day'!$B$4,ResultsF!$AH$124:$AI$131,2,FALSE))","v":0},{"$f":"IF(ISERROR(VLOOKUP('Match Day'!$B$6,ResultsF!$AF$124:$AG$131,2,FALSE))=TRUE,0,VLOOKUP('Match Day'!$B$6,ResultsF!$AF$124:$AG$131,2,FALSE))","v":0},{"$f":"IF(ISERROR(VLOOKUP('Match Day'!$B$6,ResultsF!$AH$124:$AI$131,2,FALSE))=TRUE,0,VLOOKUP('Match Day'!$B$6,ResultsF!$AH$124:$AI$131,2,FALSE))","v":0},{"$f":"IF(ISERROR(VLOOKUP('Match Day'!$B$8,ResultsF!$AF$124:$AG$131,2,FALSE))=TRUE,0,VLOOKUP('Match Day'!$B$8,ResultsF!$AF$124:$AG$131,2,FALSE))","v":0},{"$f":"IF(ISERROR(VLOOKUP('Match Day'!$B$8,ResultsF!$AH$124:$AI$131,2,FALSE))=TRUE,0,VLOOKUP('Match Day'!$B$8,ResultsF!$AH$124:$AI$131,2,FALSE))","v":0},{"$f":"IF(ISERROR(VLOOKUP('Match Day'!$B$10,ResultsF!$AF$124:$AG$131,2,FALSE))=TRUE,0,VLOOKUP('Match Day'!$B$10,ResultsF!$AF$124:$AG$131,2,FALSE))","v":0},{"$f":"IF(ISERROR(VLOOKUP('Match Day'!$B$10,ResultsF!$AH$124:$AI$131,2,FALSE))=TRUE,0,VLOOKUP('Match Day'!$B$10,ResultsF!$AH$124:$AI$131,2,FALSE))","v":0},{"$f":"IF(ISERROR(VLOOKUP('Match Day'!$B$12,ResultsF!$AF$124:$AG$131,2,FALSE))=TRUE,0,VLOOKUP('Match Day'!$B$12,ResultsF!$AF$124:$AG$131,2,FALSE))","v":0},{"$f":"IF(ISERROR(VLOOKUP('Match Day'!$B$12,ResultsF!$AH$124:$AI$131,2,FALSE))=TRUE,0,VLOOKUP('Match Day'!$B$12,ResultsF!$AH$124:$AI$131,2,FALSE))","v":0},{"$f":"IF(ISERROR(VLOOKUP('Match Day'!$B$14,ResultsF!$AF$124:$AG$131,2,FALSE))=TRUE,0,VLOOKUP('Match Day'!$B$14,ResultsF!$AF$124:$AG$131,2,FALSE))","v":0},{"$f":"IF(ISERROR(VLOOKUP('Match Day'!$B$14,ResultsF!$AH$124:$AI$131,2,FALSE))=TRUE,0,VLOOKUP('Match Day'!$B$14,ResultsF!$AH$124:$AI$131,2,FALSE))","v":0},{"$f":"IF(ISERROR(VLOOKUP('Match Day'!$B$16,ResultsF!$AF$124:$AG$131,2,FALSE))=TRUE,0,VLOOKUP('Match Day'!$B$16,ResultsF!$AF$124:$AG$131,2,FALSE))","v":0},{"$f":"IF(ISERROR(VLOOKUP('Match Day'!$B$16,ResultsF!$AH$124:$AI$131,2,FALSE))=TRUE,0,VLOOKUP('Match Day'!$B$16,ResultsF!$AH$124:$AI$131,2,FALSE))","v":0},{"$f":"IF(ISERROR(VLOOKUP('Match Day'!$B$18,ResultsF!$AF$124:$AG$131,2,FALSE))=TRUE,0,VLOOKUP('Match Day'!$B$18,ResultsF!$AF$124:$AG$131,2,FALSE))","v":0},{"$f":"IF(ISERROR(VLOOKUP('Match Day'!$B$18,ResultsF!$AH$124:$AI$131,2,FALSE))=TRUE,0,VLOOKUP('Match Day'!$B$18,ResultsF!$AH$124:$AI$131,2,FALSE))","v":0},{"$f":"IF(Home!AC21=\"\",0,ResultsF!$AT$12-AG38)","v":0},{"$f":"IF(Home!AC21=\"\",0,ResultsF!$AU$12-AH38)","v":0},0,0,null,0,null,null,null,null,null,null,{"$f":"IF(A38=\"\",\"\",VLOOKUP(A38,ResultsF!$A$4:$AJ$191,36,FALSE))","v":124},131,0,0]
[{"$f":"ResultsF!A$134","v":13},{"$f":"VLOOKUP(A39,Handbook!$A$26:$AK$46,3,FALSE)","v":"Women's Long Jump"},{"$f":"IF(ISERROR(VLOOKUP('Match Day'!$B$4,ResultsF!$AF$134:$AG$141,2,FALSE))=TRUE,0,VLOOKUP('Match Day'!$B$4,ResultsF!$AF$134:$AG$141,2,FALSE))","v":0},{"$f":"IF(ISERROR(VLOOKUP('Match Day'!$B$4,ResultsF!$AH$134:$AI$141,2,FALSE))=TRUE,0,VLOOKUP('Match Day'!$B$4,ResultsF!$AH$134:$AI$141,2,FALSE))","v":0},{"$f":"IF(ISERROR(VLOOKUP('Match Day'!$B$6,ResultsF!$AF$134:$AG$141,2,FALSE))=TRUE,0,VLOOKUP('Match Day'!$B$6,ResultsF!$AF$134:$AG$141,2,FALSE))","v":0},{"$f":"IF(ISERROR(VLOOKUP('Match Day'!$B$6,ResultsF!$AH$134:$AI$141,2,FALSE))=TRUE,0,VLOOKUP('Match Day'!$B$6,ResultsF!$AH$134:$AI$141,2,FALSE))","v":0},{"$f":"IF(ISERROR(VLOOKUP('Match Day'!$B$8,ResultsF!$AF$134:$AG$141,2,FALSE))=TRUE,0,VLOOKUP('Match Day'!$B$8,ResultsF!$AF$134:$AG$141,2,FALSE))","v":0},{"$f":"IF(ISERROR(VLOOKUP('Match Day'!$B$8,ResultsF!$AH$134:$AI$141,2,FALSE))=TRUE,0,VLOOKUP('Match Day'!$B$8,ResultsF!$AH$134:$AI$141,2,FALSE))","v":0},{"$f":"IF(ISERROR(VLOOKUP('Match Day'!$B$10,ResultsF!$AF$134:$AG$141,2,FALSE))=TRUE,0,VLOOKUP('Match Day'!$B$10,ResultsF!$AF$134:$AG$141,2,FALSE))","v":0},{"$f":"IF(ISERROR(VLOOKUP('Match Day'!$B$10,ResultsF!$AH$134:$AI$141,2,FALSE))=TRUE,0,VLOOKUP('Match Day'!$B$10,ResultsF!$AH$134:$AI$141,2,FALSE))","v":0},{"$f":"IF(ISERROR(VLOOKUP('Match Day'!$B$12,ResultsF!$AF$134:$AG$141,2,FALSE))=TRUE,0,VLOOKUP('Match Day'!$B$12,ResultsF!$AF$134:$AG$141,2,FALSE))","v":0},{"$f":"IF(ISERROR(VLOOKUP('Match Day'!$B$12,ResultsF!$AH$134:$AI$141,2,FALSE))=TRUE,0,VLOOKUP('Match Day'!$B$12,ResultsF!$AH$134:$AI$141,2,FALSE))","v":0},{"$f":"IF(ISERROR(VLOOKUP('Match Day'!$B$14,ResultsF!$AF$134:$AG$141,2,FALSE))=TRUE,0,VLOOKUP('Match Day'!$B$14,ResultsF!$AF$134:$AG$141,2,FALSE))","v":0},{"$f":"IF(ISERROR(VLOOKUP('Match Day'!$B$14,ResultsF!$AH$134:$AI$141,2,FALSE))=TRUE,0,VLOOKUP('Match Day'!$B$14,ResultsF!$AH$134:$AI$141,2,FALSE))","v":0},{"$f":"IF(ISERROR(VLOOKUP('Match Day'!$B$16,ResultsF!$AF$134:$AG$141,2,FALSE))=TRUE,0,VLOOKUP('Match Day'!$B$16,ResultsF!$AF$134:$AG$141,2,FALSE))","v":0},{"$f":"IF(ISERROR(VLOOKUP('Match Day'!$B$16,ResultsF!$AH$134:$AI$141,2,FALSE))=TRUE,0,VLOOKUP('Match Day'!$B$16,ResultsF!$AH$134:$AI$141,2,FALSE))","v":0},{"$f":"IF(ISERROR(VLOOKUP('Match Day'!$B$18,ResultsF!$AF$134:$AG$141,2,FALSE))=TRUE,0,VLOOKUP('Match Day'!$B$18,ResultsF!$AF$134:$AG$141,2,FALSE))","v":0},{"$f":"IF(ISERROR(VLOOKUP('Match Day'!$B$18,ResultsF!$AH$134:$AI$141,2,FALSE))=TRUE,0,VLOOKUP('Match Day'!$B$18,ResultsF!$AH$134:$AI$141,2,FALSE))","v":0},{"$f":"IF(Home!AC22=\"\",0,ResultsF!$AT$12-AG39)","v":0},{"$f":"IF(Home!AC22=\"\",0,ResultsF!$AU$12-AH39)","v":0},0,0,null,0,null,null,null,null,null,null,{"$f":"IF(A39=\"\",\"\",VLOOKUP(A39,ResultsF!$A$4:$AJ$191,36,FALSE))","v":134},141,0,0]
[{"$f":"ResultsF!A$144","v":16},{"$f":"VLOOKUP(A40,Handbook!$A$26:$AK$46,3,FALSE)","v":"Women's Triple Jump"},{"$f":"IF(ISERROR(VLOOKUP('Match Day'!$B$4,ResultsF!$AF$144:$AG$151,2,FALSE))=TRUE,0,VLOOKUP('Match Day'!$B$4,ResultsF!$AF$144:$AG$151,2,FALSE))","v":0},{"$f":"IF(ISERROR(VLOOKUP('Match Day'!$B$4,ResultsF!$AH$144:$AI$151,2,FALSE))=TRUE,0,VLOOKUP('Match Day'!$B$4,ResultsF!$AH$144:$AI$151,2,FALSE))","v":0},{"$f":"IF(ISERROR(VLOOKUP('Match Day'!$B$6,ResultsF!$AF$144:$AG$151,2,FALSE))=TRUE,0,VLOOKUP('Match Day'!$B$6,ResultsF!$AF$144:$AG$151,2,FALSE))","v":0},{"$f":"IF(ISERROR(VLOOKUP('Match Day'!$B$6,ResultsF!$AH$144:$AI$151,2,FALSE))=TRUE,0,VLOOKUP('Match Day'!$B$6,ResultsF!$AH$144:$AI$151,2,FALSE))","v":0},{"$f":"IF(ISERROR(VLOOKUP('Match Day'!$B$8,ResultsF!$AF$144:$AG$151,2,FALSE))=TRUE,0,VLOOKUP('Match Day'!$B$8,ResultsF!$AF$144:$AG$151,2,FALSE))","v":0},{"$f":"IF(ISERROR(VLOOKUP('Match Day'!$B$8,ResultsF!$AH$144:$AI$151,2,FALSE))=TRUE,0,VLOOKUP('Match Day'!$B$8,ResultsF!$AH$144:$AI$151,2,FALSE))","v":0},{"$f":"IF(ISERROR(VLOOKUP('Match Day'!$B$10,ResultsF!$AF$144:$AG$151,2,FALSE))=TRUE,0,VLOOKUP('Match Day'!$B$10,ResultsF!$AF$144:$AG$151,2,FALSE))","v":0},{"$f":"IF(ISERROR(VLOOKUP('Match Day'!$B$10,ResultsF!$AH$144:$AI$151,2,FALSE))=TRUE,0,VLOOKUP('Match Day'!$B$10,ResultsF!$AH$144:$AI$151,2,FALSE))","v":0},{"$f":"IF(ISERROR(VLOOKUP('Match Day'!$B$12,ResultsF!$AF$144:$AG$151,2,FALSE))=TRUE,0,VLOOKUP('Match Day'!$B$12,ResultsF!$AF$144:$AG$151,2,FALSE))","v":0},{"$f":"IF(ISERROR(VLOOKUP('Match Day'!$B$12,ResultsF!$AH$144:$AI$151,2,FALSE))=TRUE,0,VLOOKUP('Match Day'!$B$12,ResultsF!$AH$144:$AI$151,2,FALSE))","v":0},{"$f":"IF(ISERROR(VLOOKUP('Match Day'!$B$14,ResultsF!$AF$144:$AG$151,2,FALSE))=TRUE,0,VLOOKUP('Match Day'!$B$14,ResultsF!$AF$144:$AG$151,2,FALSE))","v":0},{"$f":"IF(ISERROR(VLOOKUP('Match Day'!$B$14,ResultsF!$AH$144:$AI$151,2,FALSE))=TRUE,0,VLOOKUP('Match Day'!$B$14,ResultsF!$AH$144:$AI$151,2,FALSE))","v":0},{"$f":"IF(ISERROR(VLOOKUP('Match Day'!$B$16,ResultsF!$AF$144:$AG$151,2,FALSE))=TRUE,0,VLOOKUP('Match Day'!$B$16,ResultsF!$AF$144:$AG$151,2,FALSE))","v":0},{"$f":"IF(ISERROR(VLOOKUP('Match Day'!$B$16,ResultsF!$AH$144:$AI$151,2,FALSE))=TRUE,0,VLOOKUP('Match Day'!$B$16,ResultsF!$AH$144:$AI$151,2,FALSE))","v":0},{"$f":"IF(ISERROR(VLOOKUP('Match Day'!$B$18,ResultsF!$AF$144:$AG$151,2,FALSE))=TRUE,0,VLOOKUP('Match Day'!$B$18,ResultsF!$AF$144:$AG$151,2,FALSE))","v":0},{"$f":"IF(ISERROR(VLOOKUP('Match Day'!$B$18,ResultsF!$AH$144:$AI$151,2,FALSE))=TRUE,0,VLOOKUP('Match Day'!$B$18,ResultsF!$AH$144:$AI$151,2,FALSE))","v":0},{"$f":"IF(Home!AC23=\"\",0,ResultsF!$AT$12-AG40)","v":0},{"$f":"IF(Home!AC23=\"\",0,ResultsF!$AU$12-AH40)","v":0},0,0,null,0,null,null,null,null,null,null,{"$f":"IF(A40=\"\",\"\",VLOOKUP(A40,ResultsF!$A$4:$AJ$191,36,FALSE))","v":144},151,0,0]
[{"$f":"ResultsF!A$154","v":14},{"$f":"VLOOKUP(A41,Handbook!$A$26:$AK$46,3,FALSE)","v":"Women's High Jump"},{"$f":"IF(ISERROR(VLOOKUP('Match Day'!$B$4,ResultsF!$AF$154:$AG$161,2,FALSE))=TRUE,0,VLOOKUP('Match Day'!$B$4,ResultsF!$AF$154:$AG$161,2,FALSE))","v":0},{"$f":"IF(ISERROR(VLOOKUP('Match Day'!$B$4,ResultsF!$AH$154:$AI$161,2,FALSE))=TRUE,0,VLOOKUP('Match Day'!$B$4,ResultsF!$AH$154:$AI$161,2,FALSE))","v":0},{"$f":"IF(ISERROR(VLOOKUP('Match Day'!$B$6,ResultsF!$AF$154:$AG$161,2,FALSE))=TRUE,0,VLOOKUP('Match Day'!$B$6,ResultsF!$AF$154:$AG$161,2,FALSE))","v":0},{"$f":"IF(ISERROR(VLOOKUP('Match Day'!$B$6,ResultsF!$AH$154:$AI$161,2,FALSE))=TRUE,0,VLOOKUP('Match Day'!$B$6,ResultsF!$AH$154:$AI$161,2,FALSE))","v":0},{"$f":"IF(ISERROR(VLOOKUP('Match Day'!$B$8,ResultsF!$AF$154:$AG$161,2,FALSE))=TRUE,0,VLOOKUP('Match Day'!$B$8,ResultsF!$AF$154:$AG$161,2,FALSE))","v":0},{"$f":"IF(ISERROR(VLOOKUP('Match Day'!$B$8,ResultsF!$AH$154:$AI$161,2,FALSE))=TRUE,0,VLOOKUP('Match Day'!$B$8,ResultsF!$AH$154:$AI$161,2,FALSE))","v":0},{"$f":"IF(ISERROR(VLOOKUP('Match Day'!$B$10,ResultsF!$AF$154:$AG$161,2,FALSE))=TRUE,0,VLOOKUP('Match Day'!$B$10,ResultsF!$AF$154:$AG$161,2,FALSE))","v":0},{"$f":"IF(ISERROR(VLOOKUP('Match Day'!$B$10,ResultsF!$AH$154:$AI$161,2,FALSE))=TRUE,0,VLOOKUP('Match Day'!$B$10,ResultsF!$AH$154:$AI$161,2,FALSE))","v":0},{"$f":"IF(ISERROR(VLOOKUP('Match Day'!$B$12,ResultsF!$AF$154:$AG$161,2,FALSE))=TRUE,0,VLOOKUP('Match Day'!$B$12,ResultsF!$AF$154:$AG$161,2,FALSE))","v":0},{"$f":"IF(ISERROR(VLOOKUP('Match Day'!$B$12,ResultsF!$AH$154:$AI$161,2,FALSE))=TRUE,0,VLOOKUP('Match Day'!$B$12,ResultsF!$AH$154:$AI$161,2,FALSE))","v":0},{"$f":"IF(ISERROR(VLOOKUP('Match Day'!$B$14,ResultsF!$AF$154:$AG$161,2,FALSE))=TRUE,0,VLOOKUP('Match Day'!$B$14,ResultsF!$AF$154:$AG$161,2,FALSE))","v":0},{"$f":"IF(ISERROR(VLOOKUP('Match Day'!$B$14,ResultsF!$AH$154:$AI$161,2,FALSE))=TRUE,0,VLOOKUP('Match Day'!$B$14,ResultsF!$AH$154:$AI$161,2,FALSE))","v":0},{"$f":"IF(ISERROR(VLOOKUP('Match Day'!$B$16,ResultsF!$AF$154:$AG$161,2,FALSE))=TRUE,0,VLOOKUP('Match Day'!$B$16,ResultsF!$AF$154:$AG$161,2,FALSE))","v":0},{"$f":"IF(ISERROR(VLOOKUP('Match Day'!$B$16,ResultsF!$AH$154:$AI$161,2,FALSE))=TRUE,0,VLOOKUP('Match Day'!$B$16,ResultsF!$AH$154:$AI$161,2,FALSE))","v":0},{"$f":"IF(ISERROR(VLOOKUP('Match Day'!$B$18,ResultsF!$AF$154:$AG$161,2,FALSE))=TRUE,0,VLOOKUP('Match Day'!$B$18,ResultsF!$AF$154:$AG$161,2,FALSE))","v":0},{"$f":"IF(ISERROR(VLOOKUP('Match Day'!$B$18,ResultsF!$AH$154:$AI$161,2,FALSE))=TRUE,0,VLOOKUP('Match Day'!$B$18,ResultsF!$AH$154:$AI$161,2,FALSE))","v":0},{"$f":"IF(Home!AC24=\"\",0,ResultsF!$AT$12-AG41)","v":0},{"$f":"IF(Home!AC24=\"\",0,ResultsF!$AU$12-AH41)","v":0},0,0,null,0,null,null,null,null,null,null,{"$f":"IF(A41=\"\",\"\",VLOOKUP(A41,ResultsF!$A$4:$AJ$191,36,FALSE))","v":154},161,0,0]
[{"$f":"ResultsF!A$164","v":12},{"$f":"VLOOKUP(A42,Handbook!$A$26:$AK$46,3,FALSE)","v":"Women's Pole Vault"},{"$f":"IF(ISERROR(VLOOKUP('Match Day'!$B$4,ResultsF!$AF$164:$AG$171,2,FALSE))=TRUE,0,VLOOKUP('Match Day'!$B$4,ResultsF!$AF$164:$AG$171,2,FALSE))","v":0},{"$f":"IF(ISERROR(VLOOKUP('Match Day'!$B$4,ResultsF!$AH$164:$AI$171,2,FALSE))=TRUE,0,VLOOKUP('Match Day'!$B$4,ResultsF!$AH$164:$AI$171,2,FALSE))","v":0},{"$f":"IF(ISERROR(VLOOKUP('Match Day'!$B$6,ResultsF!$AF$164:$AG$171,2,FALSE))=TRUE,0,VLOOKUP('Match Day'!$B$6,ResultsF!$AF$164:$AG$171,2,FALSE))","v":0},{"$f":"IF(ISERROR(VLOOKUP('Match Day'!$B$6,ResultsF!$AH$164:$AI$171,2,FALSE))=TRUE,0,VLOOKUP('Match Day'!$B$6,ResultsF!$AH$164:$AI$171,2,FALSE))","v":0},{"$f":"IF(ISERROR(VLOOKUP('Match Day'!$B$8,ResultsF!$AF$164:$AG$171,2,FALSE))=TRUE,0,VLOOKUP('Match Day'!$B$8,ResultsF!$AF$164:$AG$171,2,FALSE))","v":0},{"$f":"IF(ISERROR(VLOOKUP('Match Day'!$B$8,ResultsF!$AH$164:$AI$171,2,FALSE))=TRUE,0,VLOOKUP('Match Day'!$B$8,ResultsF!$AH$164:$AI$171,2,FALSE))","v":0},{"$f":"IF(ISERROR(VLOOKUP('Match Day'!$B$10,ResultsF!$AF$164:$AG$171,2,FALSE))=TRUE,0,VLOOKUP('Match Day'!$B$10,ResultsF!$AF$164:$AG$171,2,FALSE))","v":0},{"$f":"IF(ISERROR(VLOOKUP('Match Day'!$B$10,ResultsF!$AH$164:$AI$171,2,FALSE))=TRUE,0,VLOOKUP('Match Day'!$B$10,ResultsF!$AH$164:$AI$171,2,FALSE))","v":0},{"$f":"IF(ISERROR(VLOOKUP('Match Day'!$B$12,ResultsF!$AF$164:$AG$171,2,FALSE))=TRUE,0,VLOOKUP('Match Day'!$B$12,ResultsF!$AF$164:$AG$171,2,FALSE))","v":0},{"$f":"IF(ISERROR(VLOOKUP('Match Day'!$B$12,ResultsF!$AH$164:$AI$171,2,FALSE))=TRUE,0,VLOOKUP('Match Day'!$B$12,ResultsF!$AH$164:$AI$171,2,FALSE))","v":0},{"$f":"IF(ISERROR(VLOOKUP('Match Day'!$B$14,ResultsF!$AF$164:$AG$171,2,FALSE))=TRUE,0,VLOOKUP('Match Day'!$B$14,ResultsF!$AF$164:$AG$171,2,FALSE))","v":0},{"$f":"IF(ISERROR(VLOOKUP('Match Day'!$B$14,ResultsF!$AH$164:$AI$171,2,FALSE))=TRUE,0,VLOOKUP('Match Day'!$B$14,ResultsF!$AH$164:$AI$171,2,FALSE))","v":0},{"$f":"IF(ISERROR(VLOOKUP('Match Day'!$B$16,ResultsF!$AF$164:$AG$171,2,FALSE))=TRUE,0,VLOOKUP('Match Day'!$B$16,ResultsF!$AF$164:$AG$171,2,FALSE))","v":0},{"$f":"IF(ISERROR(VLOOKUP('Match Day'!$B$16,ResultsF!$AH$164:$AI$171,2,FALSE))=TRUE,0,VLOOKUP('Match Day'!$B$16,ResultsF!$AH$164:$AI$171,2,FALSE))","v":0},{"$f":"IF(ISERROR(VLOOKUP('Match Day'!$B$18,ResultsF!$AF$164:$AG$171,2,FALSE))=TRUE,0,VLOOKUP('Match Day'!$B$18,ResultsF!$AF$164:$AG$171,2,FALSE))","v":0},{"$f":"IF(ISERROR(VLOOKUP('Match Day'!$B$18,ResultsF!$AH$164:$AI$171,2,FALSE))=TRUE,0,VLOOKUP('Match Day'!$B$18,ResultsF!$AH$164:$AI$171,2,FALSE))","v":0},{"$f":"IF(Home!AC25=\"\",0,ResultsF!$AT$12-AG42)","v":0},{"$f":"IF(Home!AC25=\"\",0,ResultsF!$AU$12-AH42)","v":0},0,0,null,0,null,null,null,null,null,null,{"$f":"IF(A42=\"\",\"\",VLOOKUP(A42,ResultsF!$A$4:$AJ$191,36,FALSE))","v":164},171,0,0]
[{"$f":"ResultsF!A$174","v":9},{"$f":"VLOOKUP(A43,Handbook!$A$26:$AK$46,3,FALSE)","v":"Women's 4x100m Relay"},{"$f":"IF(ISERROR(VLOOKUP('Match Day'!$B$4,ResultsF!$AF$174:$AG$181,2,FALSE))=TRUE,0,VLOOKUP('Match Day'!$B$4,ResultsF!$AF$174:$AG$181,2,FALSE))","v":0},{"$f":"IF(ISERROR(VLOOKUP('Match Day'!$B$4,ResultsF!$AH$174:$AI$181,2,FALSE))=TRUE,0,VLOOKUP('Match Day'!$B$4,ResultsF!$AH$174:$AI$181,2,FALSE))","v":0},{"$f":"IF(ISERROR(VLOOKUP('Match Day'!$B$6,ResultsF!$AF$174:$AG$181,2,FALSE))=TRUE,0,VLOOKUP('Match Day'!$B$6,ResultsF!$AF$174:$AG$181,2,FALSE))","v":0},{"$f":"IF(ISERROR(VLOOKUP('Match Day'!$B$6,ResultsF!$AH$174:$AI$181,2,FALSE))=TRUE,0,VLOOKUP('Match Day'!$B$6,ResultsF!$AH$174:$AI$181,2,FALSE))","v":0},{"$f":"IF(ISERROR(VLOOKUP('Match Day'!$B$8,ResultsF!$AF$174:$AG$181,2,FALSE))=TRUE,0,VLOOKUP('Match Day'!$B$8,ResultsF!$AF$174:$AG$181,2,FALSE))","v":0},{"$f":"IF(ISERROR(VLOOKUP('Match Day'!$B$8,ResultsF!$AH$174:$AI$181,2,FALSE))=TRUE,0,VLOOKUP('Match Day'!$B$8,ResultsF!$AH$174:$AI$181,2,FALSE))","v":0},{"$f":"IF(ISERROR(VLOOKUP('Match Day'!$B$10,ResultsF!$AF$174:$AG$181,2,FALSE))=TRUE,0,VLOOKUP('Match Day'!$B$10,ResultsF!$AF$174:$AG$181,2,FALSE))","v":0},{"$f":"IF(ISERROR(VLOOKUP('Match Day'!$B$10,ResultsF!$AH$174:$AI$181,2,FALSE))=TRUE,0,VLOOKUP('Match Day'!$B$10,ResultsF!$AH$174:$AI$181,2,FALSE))","v":0},{"$f":"IF(ISERROR(VLOOKUP('Match Day'!$B$12,ResultsF!$AF$174:$AG$181,2,FALSE))=TRUE,0,VLOOKUP('Match Day'!$B$12,ResultsF!$AF$174:$AG$181,2,FALSE))","v":0},{"$f":"IF(ISERROR(VLOOKUP('Match Day'!$B$12,ResultsF!$AH$174:$AI$181,2,FALSE))=TRUE,0,VLOOKUP('Match Day'!$B$12,ResultsF!$AH$174:$AI$181,2,FALSE))","v":0},{"$f":"IF(ISERROR(VLOOKUP('Match Day'!$B$14,ResultsF!$AF$174:$AG$181,2,FALSE))=TRUE,0,VLOOKUP('Match Day'!$B$14,ResultsF!$AF$174:$AG$181,2,FALSE))","v":0},{"$f":"IF(ISERROR(VLOOKUP('Match Day'!$B$14,ResultsF!$AH$174:$AI$181,2,FALSE))=TRUE,0,VLOOKUP('Match Day'!$B$14,ResultsF!$AH$174:$AI$181,2,FALSE))","v":0},{"$f":"IF(ISERROR(VLOOKUP('Match Day'!$B$16,ResultsF!$AF$174:$AG$181,2,FALSE))=TRUE,0,VLOOKUP('Match Day'!$B$16,ResultsF!$AF$174:$AG$181,2,FALSE))","v":0},{"$f":"IF(ISERROR(VLOOKUP('Match Day'!$B$16,ResultsF!$AH$174:$AI$181,2,FALSE))=TRUE,0,VLOOKUP('Match Day'!$B$16,ResultsF!$AH$174:$AI$181,2,FALSE))","v":0},{"$f":"IF(ISERROR(VLOOKUP('Match Day'!$B$18,ResultsF!$AF$174:$AG$181,2,FALSE))=TRUE,0,VLOOKUP('Match Day'!$B$18,ResultsF!$AF$174:$AG$181,2,FALSE))","v":0},{"$f":"IF(ISERROR(VLOOKUP('Match Day'!$B$18,ResultsF!$AH$174:$AI$181,2,FALSE))=TRUE,0,VLOOKUP('Match Day'!$B$18,ResultsF!$AH$174:$AI$181,2,FALSE))","v":0},{"$f":"IF(Home!AC26=\"\",0,ResultsF!$AT$12-AG43)","v":0},{"$f":"IF(Home!AC26=\"\",0,ResultsF!$AU$12-AH43)","v":0},0,0,null,0,null,null,null,null,null,null,{"$f":"IF(A43=\"\",\"\",VLOOKUP(A43,ResultsF!$A$4:$AJ$191,36,FALSE))","v":174},181,0,0]
[{"$f":"ResultsF!A$184","v":10},{"$f":"VLOOKUP(A44,Handbook!$A$26:$AK$46,3,FALSE)","v":"Women's 4x400m Relay"},{"$f":"IF(ISERROR(VLOOKUP('Match Day'!$B$4,ResultsF!$AF$184:$AG$191,2,FALSE))=TRUE,0,VLOOKUP('Match Day'!$B$4,ResultsF!$AF$184:$AG$191,2,FALSE))","v":0},{"$f":"IF(ISERROR(VLOOKUP('Match Day'!$B$4,ResultsF!$AH$184:$AI$191,2,FALSE))=TRUE,0,VLOOKUP('Match Day'!$B$4,ResultsF!$AH$184:$AI$191,2,FALSE))","v":0},{"$f":"IF(ISERROR(VLOOKUP('Match Day'!$B$6,ResultsF!$AF$184:$AG$191,2,FALSE))=TRUE,0,VLOOKUP('Match Day'!$B$6,ResultsF!$AF$184:$AG$191,2,FALSE))","v":0},{"$f":"IF(ISERROR(VLOOKUP('Match Day'!$B$6,ResultsF!$AH$184:$AI$191,2,FALSE))=TRUE,0,VLOOKUP('Match Day'!$B$6,ResultsF!$AH$184:$AI$191,2,FALSE))","v":0},{"$f":"IF(ISERROR(VLOOKUP('Match Day'!$B$8,ResultsF!$AF$184:$AG$191,2,FALSE))=TRUE,0,VLOOKUP('Match Day'!$B$8,ResultsF!$AF$184:$AG$191,2,FALSE))","v":0},{"$f":"IF(ISERROR(VLOOKUP('Match Day'!$B$8,ResultsF!$AH$184:$AI$191,2,FALSE))=TRUE,0,VLOOKUP('Match Day'!$B$8,ResultsF!$AH$184:$AI$191,2,FALSE))","v":0},{"$f":"IF(ISERROR(VLOOKUP('Match Day'!$B$10,ResultsF!$AF$184:$AG$191,2,FALSE))=TRUE,0,VLOOKUP('Match Day'!$B$10,ResultsF!$AF$184:$AG$191,2,FALSE))","v":0},{"$f":"IF(ISERROR(VLOOKUP('Match Day'!$B$10,ResultsF!$AH$184:$AI$191,2,FALSE))=TRUE,0,VLOOKUP('Match Day'!$B$10,ResultsF!$AH$184:$AI$191,2,FALSE))","v":0},{"$f":"IF(ISERROR(VLOOKUP('Match Day'!$B$12,ResultsF!$AF$184:$AG$191,2,FALSE))=TRUE,0,VLOOKUP('Match Day'!$B$12,ResultsF!$AF$184:$AG$191,2,FALSE))","v":0},{"$f":"IF(ISERROR(VLOOKUP('Match Day'!$B$12,ResultsF!$AH$184:$AI$191,2,FALSE))=TRUE,0,VLOOKUP('Match Day'!$B$12,ResultsF!$AH$184:$AI$191,2,FALSE))","v":0},{"$f":"IF(ISERROR(VLOOKUP('Match Day'!$B$14,ResultsF!$AF$184:$AG$191,2,FALSE))=TRUE,0,VLOOKUP('Match Day'!$B$14,ResultsF!$AF$184:$AG$191,2,FALSE))","v":0},{"$f":"IF(ISERROR(VLOOKUP('Match Day'!$B$14,ResultsF!$AH$184:$AI$191,2,FALSE))=TRUE,0,VLOOKUP('Match Day'!$B$14,ResultsF!$AH$184:$AI$191,2,FALSE))","v":0},{"$f":"IF(ISERROR(VLOOKUP('Match Day'!$B$16,ResultsF!$AF$184:$AG$191,2,FALSE))=TRUE,0,VLOOKUP('Match Day'!$B$16,ResultsF!$AF$184:$AG$191,2,FALSE))","v":0},{"$f":"IF(ISERROR(VLOOKUP('Match Day'!$B$16,ResultsF!$AH$184:$AI$191,2,FALSE))=TRUE,0,VLOOKUP('Match Day'!$B$16,ResultsF!$AH$184:$AI$191,2,FALSE))","v":0},{"$f":"IF(ISERROR(VLOOKUP('Match Day'!$B$18,ResultsF!$AF$184:$AG$191,2,FALSE))=TRUE,0,VLOOKUP('Match Day'!$B$18,ResultsF!$AF$184:$AG$191,2,FALSE))","v":0},{"$f":"IF(ISERROR(VLOOKUP('Match Day'!$B$18,ResultsF!$AH$184:$AI$191,2,FALSE))=TRUE,0,VLOOKUP('Match Day'!$B$18,ResultsF!$AH$184:$AI$191,2,FALSE))","v":0},{"$f":"IF(Home!AC27=\"\",0,ResultsF!$AT$12-AG44)","v":0},{"$f":"IF(Home!AC27=\"\",0,ResultsF!$AU$12-AH44)","v":0},0,0,null,0,null,null,null,null,null,null,{"$f":"IF(A44=\"\",\"\",VLOOKUP(A44,ResultsF!$A$4:$AJ$191,36,FALSE))","v":184},191,0,0]
[null,{"$f":"IF($A45=\"\",\"\",CONCATENATE(VLOOKUP($A45,#REF!,4,FALSE),\" \",VLOOKUP($A45,#REF!,5,FALSE)))","v":""},{"$f":"SUM(C26:C44)","v":0},0,0,0,0,0,0,0,0,0,0,0,0,0,0,0,0,0,0,0,null,{"$f":"SUM(X26:X44)","v":0},null,null,null,null,null,null,{"$f":"IF(A45=\"\",\"\",VLOOKUP(A45,ResultsF!$A$93:$AJ$182,32,FALSE))","v":""}]
[null,null,{"$f":"IF(OR(C50=0,C50=\"\"),\"\",C51)","v":""},null,{"$f":"IF(OR(E50=0,E50=\"\"),\"\",E51)","v":""},null,{"$f":"IF(OR(G50=0,G50=\"\"),\"\",G51)","v":""},null,{"$f":"IF(OR(I50=0,I50=\"\"),\"\",I51)","v":""},null,{"$f":"IF(OR(K50=0,K50=\"\"),\"\",K51)","v":""},null,{"$f":"IF(OR(M50=0,M50=\"\"),\"\",M51)","v":""},null,{"$f":"IF(OR(O50=0,O50=\"\"),\"\",O51)","v":""},null,{"$f":"IF(OR(Q50=0,Q50=\"\"),\"\",Q51)","v":""},null,{"$f":"S51","v":0},null,{"$f":"U51","v":0}]
[null,"Match Summary",{"$f":"'Match Day'!$F$4","v":"Altrincham"},null,{"$f":"'Match Day'!$F$6","v":"Crewe"},null,{"$f":"'Match Day'!$F$8","v":"IoM"},null,{"$f":"'Match Day'!$F$10","v":"Salford"},null,{"$f":"'Match Day'!$F$12","v":"Southport"},null,{"$f":"'Match Day'!$F$14","v":"Warrington"},null,{"$f":"'Match Day'!$F$16","v":"Wrexham"},null,{"$f":"'Match Day'!$F$18","v":" "},null,"UNUSED",null,"TOTAL"]
[null,"Teams",{"$f":"C24+D24+C45+D45","v":0},null,{"$f":"E24+F24+E45+F45","v":0},null,{"$f":"G24+H24+G45+H45","v":0},null,{"$f":"I24+J24+I45+J45","v":0},null,{"$f":"K24+L24+K45+L45","v":0},null,{"$f":"M24+N24+M45+N45","v":0},null,{"$f":"O24+P24+O45+P45","v":0},null,{"$f":"Q24+R24+Q45+R45","v":0},null,{"$f":"S24+T24+S45+T45","v":0},null,{"$f":"SUM(C48:T48)","v":0}]
[null,"Officials Points",0,null,0,null,0,null,0,null,0,null,0,null,0,null,0,null,{"$f":"SUM(C49:R49)","v":0},null,{"$f":"SUM(C49:T49)","v":0}]
[null,"Total",{"$f":"SUM(C48:C49)+C80","v":0},null,{"$f":"SUM(E48:E49)+E80","v":0},null,{"$f":"SUM(G48:G49)+G80","v":0},null,{"$f":"SUM(I48:I49)+I80","v":0},null,{"$f":"SUM(K48:K49)+K80","v":0},null,{"$f":"SUM(M48:M49)+M80","v":0},null,{"$f":"SUM(O48:O49)+O80","v":0},null,{"$f":"SUM(Q48:Q49)+Q80","v":0},null,{"$f":"SUM(S48:S49)","v":0},null,{"$f":"SUM(U48:U49)","v":0}]
[null,"Match Position",{"$f":"RANK(C50,$C$50:$R$50,0)","v":1},null,{"$f":"RANK(E50,$C$50:$R$50,0)","v":1},null,{"$f":"RANK(G50,$C$50:$R$50,0)","v":1},null,{"$f":"RANK(I50,$C$50:$R$50,0)","v":1},null,{"$f":"RANK(K50,$C$50:$R$50,0)","v":1},null,{"$f":"RANK(M50,$C$50:$R$50,0)","v":1},null,{"$f":"RANK(O50,$C$50:$R$50,0)","v":1},null,{"$f":"RANK(Q50,$C$50:$R$50,0)","v":1}]
[null,"League Points",{"$f":"('Match Day'!$F$23)+1-C51","v":7},null,{"$f":"('Match Day'!$F$23)+1-E51","v":7},null,{"$f":"('Match Day'!$F$23)+1-G51","v":7},null,{"$f":"('Match Day'!$F$23)+1-I51","v":7},null,{"$f":"('Match Day'!$F$23)+1-K51","v":7},null,{"$f":"('Match Day'!$F$23)+1-M51","v":7},null,{"$f":"('Match Day'!$F$23)+1-O51","v":7},null,{"$f":"('Match Day'!$F$23)+1-Q51","v":7}]
[]
[null,null,{"$f":"C58","v":1},null,{"$f":"E58","v":1},null,{"$f":"G58","v":1},null,{"$f":"I58","v":1},null,{"$f":"K58","v":1},null,{"$f":"M58","v":1},null,{"$f":"O58","v":1},null,{"$f":"Q58","v":1}]
[null,"Standings",{"$f":"'Match Day'!$F$4","v":"Altrincham"},null,{"$f":"'Match Day'!$F$6","v":"Crewe"},null,{"$f":"'Match Day'!$F$8","v":"IoM"},null,{"$f":"'Match Day'!$F$10","v":"Salford"},null,{"$f":"'Match Day'!$F$12","v":"Southport"},null,{"$f":"'Match Day'!$F$14","v":"Warrington"},null,{"$f":"'Match Day'!$F$16","v":"Wrexham"},null,{"$f":"'Match Day'!$F$18","v":" "}]
[null,"League Points",{"$f":"C52+Rounds!$K$6","v":7},null,{"$f":"E52+Rounds!$K$7","v":7},null,{"$f":"G52+Rounds!$K$8","v":7},null,{"$f":"I52+Rounds!$K$9","v":7},null,{"$f":"K52+Rounds!$K$10","v":7},null,{"$f":"M52+Rounds!$K$11","v":7},null,{"$f":"O52+Rounds!$K$12","v":7},null,{"$f":"Q52+Rounds!$K$13","v":7}]
[null,"Match Points",{"$f":"C50+Rounds!$L$6","v":0},null,{"$f":"E50+Rounds!$L$7","v":0},null,{"$f":"G50+Rounds!$L$8","v":0},null,{"$f":"I50+Rounds!$L$9","v":0},null,{"$f":"K50+Rounds!$L$10","v":0},null,{"$f":"M50+Rounds!$L$11","v":0},null,{"$f":"O50+Rounds!$L$12","v":0},null,{"$f":"Q50+Rounds!$L$13","v":0}]
[null,"League Positions",{"$f":"RANK(C62,$C$62:$R$62,1)","v":1},null,{"$f":"RANK(E62,$C$62:$R$62,1)","v":1},null,{"$f":"RANK(G62,$C$62:$R$62,1)","v":1},null,{"$f":"RANK(I62,$C$62:$R$62,1)","v":1},null,{"$f":"RANK(K62,$C$62:$R$62,1)","v":1},null,{"$f":"RANK(M62,$C$62:$R$62,1)","v":1},null,{"$f":"RANK(O62,$C$62:$R$62,1)","v":1},null,{"$f":"RANK(Q62,$C$62:$R$62,1)","v":1}]
[]
[null,null,{"$f":"RANK(C56,$C$56:$R$56,0)","v":1},null,{"$f":"RANK(E56,$C$56:$R$56,0)","v":1},null,{"$f":"RANK(G56,$C$56:$R$56,0)","v":1},null,{"$f":"RANK(I56,$C$56:$R$56,0)","v":1},null,{"$f":"RANK(K56,$C$56:$R$56,0)","v":1},null,{"$f":"RANK(M56,$C$56:$R$56,0)","v":1},null,{"$f":"RANK(O56,$C$56:$R$56,0)","v":1},null,{"$f":"RANK(Q56,$C$56:$R$56,0)","v":1}]
[null,null,{"$f":"RANK(C57,$C$57:$R$57,0)","v":1},null,{"$f":"RANK(E57,$C$57:$R$57,0)","v":1},null,{"$f":"RANK(G57,$C$57:$R$57,0)","v":1},null,{"$f":"RANK(I57,$C$57:$R$57,0)","v":1},null,{"$f":"RANK(K57,$C$57:$R$57,0)","v":1},null,{"$f":"RANK(M57,$C$57:$R$57,0)","v":1},null,{"$f":"RANK(O57,$C$57:$R$57,0)","v":1},null,{"$f":"RANK(Q57,$C$57:$R$57,0)","v":1}]
[null,null,{"$f":"(C60*10)+C61","v":11},null,{"$f":"(E60*10)+E61","v":11},null,{"$f":"(G60*10)+G61","v":11},null,{"$f":"(I60*10)+I61","v":11},null,{"$f":"(K60*10)+K61","v":11},null,{"$f":"(M60*10)+M61","v":11},null,{"$f":"(O60*10)+O61","v":11},null,{"$f":"(Q60*10)+Q61","v":11}]
[null,"Number of Wins",{"$f":"COUNTIF(C5:C23,16)","v":0},null,0,null,0,null,0,null,0,null,0,null,0,null,0]
[null,"Number of 2nds",{"$f":"COUNTIF(C5:C23,14)","v":0},null,{"$f":"COUNTIF(E5:E23,14)","v":0},null,0,null,0,null,0,null,0,null,0,null,0]
[null,"Number of 3rds",{"$f":"COUNTIF(C5:C23,12)","v":0},null,{"$f":"COUNTIF(E5:E23,12)","v":0},null,0,null,0,null,0,null,0,null,0,null,0]
[null,"Number of 4ths",{"$f":"COUNTIF(C5:C23,10)","v":0},null,{"$f":"COUNTIF(E5:E23,10)","v":0},null,0,null,0,null,0,null,0,null,0,null,0]
[null,"Number of 5ths",{"$f":"COUNTIF(C5:C23,8)","v":0},null,{"$f":"COUNTIF(E5:E23,8)","v":0},null,0,null,0,null,0,null,0,null,0,null,0]
[null,"Number of 6ths",{"$f":"COUNTIF(C5:C23,6)","v":0},null,{"$f":"COUNTIF(E5:E23,6)","v":0},null,0,null,0,null,0,null,0,null,0,null,0]
[null,"Number of 7ths",{"$f":"COUNTIF(C5:C23,5)","v":0},null,{"$f":"COUNTIF(E5:E23,5)","v":0},null,0,null,0,null,0,null,0,null,0,null,0]
[null,"Number of 8ths",{"$f":"COUNTIF(C5:C23,4)","v":0},null,{"$f":"COUNTIF(E5:E23,4)","v":0},null,0,null,0,null,0,null,0,null,0,null,0]
[]
[null,19,{"$f":"(C63*$B72/10000)","v":0},0,0,0,0,0,0,0,0,0,0,0,0,0,0,0]
[null,{"$f":"B72/19","v":1},{"$f":"(C64*$B73/10000)","v":0},null,{"$f":"(E64*$B73/10000)","v":0},null,{"$f":"(G64*$B73/10000)","v":0},null,{"$f":"(I64*$B73/10000)","v":0},null,{"$f":"(K64*$B73/10000)","v":0},null,{"$f":"(M64*$B73/10000)","v":0},null,{"$f":"(O64*$B73/10000)","v":0},null,{"$f":"(Q64*$B73/10000)","v":0}]
[null,{"$f":"B73/19","v":5.2631578947368418E-2},0,null,0,null,0,null,0,null,0,null,0,null,0,null,0]
[null,2.7700831024930748E-3,0,null,0,null,0,null,0,null,0,null,0,null,0,null,0]
[null,1.4579384749963551E-4,0,null,0,null,0,null,0,null,0,null,0,null,0,null,0]
[null,7.673360394717659E-6,0,null,0,null,0,null,0,null,0,null,0,null,0,null,0]
[null,4.0386107340619258E-7,0,null,0,null,0,null,0,null,0,null,0,null,0,null,0]
[null,2.1255845968746978E-8,0,null,0,null,0,null,0,null,0,null,0,null,0,null,0]
[null,null,{"$f":"SUM(C72:C79)","v":0},{"$f":"SUM(D72:D79)","v":0},0,0,0,0,0,0,0,0,0,0,0,0,0]

{"sheet":"Mens Hammer","index":4,"n_rows":33,"n_cols":32,"rows_kept":33,"cut":false,"hidden":false,"merged":[[0,4,0,5],[2,4,2,5],[2,19,2,28],[3,4,3,5],[2,11,2,15],[3,11,3,12],[2,16,2,18],[2,6,2,7],[2,8,2,10],[3,6,3,7],[3,8,3,10],[3,13,3,15],[3,16,3,18],[3,19,3,28],[1,4,1,18],[1,19,1,23],[1,25,1,28],[0,6,0,17],[0,19,0,28],[4,8,4,9],[4,10,4,11],[4,12,4,13],[4,14,4,15],[5,10,5,11],[5,12,5,13],[5,14,5,15],[5,8,5,9],[30,22,30,28],[23,4,23,9],[23,10,23,21],[23,22,23,28],[24,8,24,9],[24,12,24,15],[24,16,24,19],[24,20,24,21],[27,8,27,9],[28,8,28,9],[27,20,27,21],[28,20,28,21],[27,12,27,15],[28,12,28,15],[27,16,27,19],[28,16,28,19],[9,17,9,18],[4,25,5,25],[5,23,5,24],[4,16,5,16],[4,17,4,18],[4,19,4,20],[5,19,5,20],[5,21,5,22],[4,21,4,22],[4,23,4,24],[5,17,5,18],[6,19,6,20],[8,19,8,20],[7,19,7,20],[9,19,9,20],[6,21,6,22],[7,21,7,22],[8,21,8,22],[9,21,9,22],[9,14,9,15],[10,14,10,15],[7,17,7,18],[13,10,13,11],[11,12,11,13],[10,12,10,13],[8,8,8,9],[9,8,9,9],[6,8,6,9],[6,10,6,11],[12,12,12,13],[13,12,13,13],[12,8,12,9],[6,12,6,13],[7,8,7,9],[7,10,7,11],[7,12,7,13],[8,12,8,13],[6,14,6,15],[7,14,7,15],[8,14,8,15],[8,17,8,18],[9,12,9,13],[6,17,6,18],[10,8,10,9],[8,10,8,11],[9,10,9,11],[10,10,10,11],[13,8,13,9],[11,10,11,11],[12,10,12,11],[14,8,14,9],[11,8,11,9],[19,8,19,9],[14,12,14,13],[15,12,15,13],[16,12,16,13],[17,12,17,13],[21,12,21,13],[17,8,17,9],[18,8,18,9],[21,8,21,9],[14,10,14,11],[15,10,15,11],[16,10,16,11],[17,10,17,11],[18,10,18,11],[19,10,19,11],[18,12,18,13],[20,12,20,13],[19,12,19,13],[20,10,20,11],[20,8,20,9],[15,8,15,9],[16,8,16,9],[12,14,12,15],[13,14,13,15],[12,17,12,18],[13,17,13,18],[11,14,11,15],[21,10,21,11],[14,17,14,18],[15,17,15,18],[21,17,21,18],[20,17,20,18],[20,14,20,15],[16,17,16,18],[17,17,17,18],[18,17,18,18],[19,17,19,18],[21,14,21,15],[18,14,18,15],[19,14,19,15],[14,14,14,15],[15,14,15,15],[16,14,16,15],[17,14,17,15],[10,21,10,22],[11,21,11,22],[12,21,12,22],[13,21,13,22],[19,21,19,22],[10,19,10,20],[11,19,11,20],[10,17,10,18],[11,17,11,18],[15,23,15,24],[16,23,16,24],[21,23,21,24],[12,19,12,20],[13,19,13,20],[20,19,20,20],[21,19,21,20],[14,19,14,20],[15,19,15,20],[16,19,16,20],[17,19,17,20],[17,21,17,22],[18,19,18,20],[19,19,19,20],[14,21,14,22],[15,21,15,22],[16,21,16,22],[18,21,18,22],[4,26,4,28],[25,8,25,9],[26,8,26,9],[25,12,25,15],[26,12,26,15],[25,20,25,21],[26,20,26,21],[17,23,17,24],[18,23,18,24],[25,16,25,19],[26,16,26,19],[20,21,20,22],[21,21,21,22],[6,23,6,24],[7,23,7,24],[8,23,8,24],[9,23,9,24],[10,23,10,24],[11,23,11,24],[12,23,12,24],[19,23,19,24],[20,23,20,24],[13,23,13,24],[14,23,14,24],[31,8,31,9],[32,8,32,9],[31,12,31,15],[32,12,32,15],[29,12,29,15],[30,12,30,15],[29,8,29,9],[30,8,30,9],[31,20,31,21],[32,20,32,21],[31,16,31,19],[32,16,32,19],[29,16,29,19],[30,16,30,19],[29,20,29,21],[30,20,30,21]]}
[null,null,null,null,"Home",null,{"$f":"'Match Day'!I4","v":"Northern T&F League"},null,null,null,null,null,null,null,null,null,null,null,null,{"$f":"'Match Day'!C4","v":"Altrincham & District AC"}]
[11,null,26,null,"UK ATHLETICS: DISTANCE CARD",null,null,null,null,null,null,null,null,null,null,null,null,null,null,"Progression Standard:",null,null,null,null,{"$f":"VLOOKUP(A2,mens_handbook,20,FALSE)","v":25},"metres"]
[null,null,{"$f":"VLOOKUP(A2,mens_handbook,37,FALSE)","v":12},null,"MEETING ",null,{"$f":"CONCATENATE('Match Day'!$I$8,\" \",'Match Day'!$I$10)","v":"Division 4W Match 1"},null,"VENUE ",null,null,{"$f":"'Match Day'!$I$12","v":"Litherland"},null,null,null,null,"DATE ",null,null,{"$f":"'Match Day'!$I$6","v":"2014-05-04"}]
[null,null,{"$f":"VLOOKUP(A2,mens_declare,20,FALSE)","v":12},null,"EVENT",null,{"$f":"VLOOKUP(A2,mens_handbook,3,FALSE)","v":"Men's Hammer"},null,"TIME",null,null,{"$f":"VLOOKUP(A2,mens_handbook,2,FALSE)","v":"11:30:00"},null,"RECORD",null,null,{"$f":"VLOOKUP(A2,mens_handbook,29,FALSE)","v":1988},null,null,{"$f":"IF($A2=\"\",\"\",CONCATENATE(VLOOKUP($A2,mens_handbook,26,FALSE),\", \",VLOOKUP($A2,mens_handbook,27,FALSE),\", \",VLOOKUP($A2,mens_handbook,28,FALSE)))","v":"David Smith, Hull Spartan AC, 72.94m"}]
[null,null,null,null,"Order","No","NAME","CLUB","1st Trial",null,"2nd Trial",null,"3rd Trial",null,"Best of 3",null,"Position after\n3 Trials","4th Trial",null,"5th Trial",null,"6th Trial",null,"Best of All",null,"Final\nPositionn","A or B"]
[null,null,"A","B",null,null,null,null,"Metres",null,"Metres",null,"Metres",null,"Metres",null,null,"Metres",null,"Metres",null,"Metres",null,"Metres",null,null,null,"A","B"]
[{"$f":"IF(F7=\"\",\"\",IF(F7>10,F7/11,F7))","v":2},null,{"$f":"AB7","v":""},"",1,{"$f":"HLOOKUP(E7,mens_handbook,C3,FALSE)","v":2},{"$f":"IF(ISERROR(HLOOKUP(F7,mens_declare,C4,FALSE))=TRUE,\"\",HLOOKUP(F7,mens_declare,C4,FALSE))","v":"-"},{"$f":"IF(ISERROR(VLOOKUP(A7,matchday,2,FALSE))=TRUE,\"\",VLOOKUP(A7,matchday,2,FALSE))","v":"Crewe & Nantwich AC"},0,null,0,null,null,null,{"$f":"LARGE(I7:N7,1)","v":0},null,{"$f":"IF(OR(O7=0,O7=\"\"),0,RANK(O7,$O$7:$P$22,0))","v":0},0,null,0,null,0,null,{"$f":"IF(O7>LARGE(R7:W7,1),O7,LARGE(R7:W7,1))","v":0},null,{"$f":"IF(OR(Q7=0,Q7=\"\",X7=\"\",X7=0),0,RANK(X7,$X$7:$Y$22,0))","v":0},{"$f":"IF(OR(Z7=0,Z7=\"\"),\"\",IF(Z8=0,\"A\",IF(Z7>Z8,\"B\",\"A\")))","v":""},{"$f":"IF(OR(Z7=0,Z7=\"\",AA7=\"B\"),\"\",RANK(AE7,$AE$7:$AE$22,1))","v":""},{"$f":"IF(OR(Z7=0,Z7=\"\",AA7=\"A\"),\"\",RANK(AF7,$AF$7:$AF$22,1))","v":""},null,{"$f":"IF(OR(Z7=\"\",Z7=0,AA7=\"\",AA7=0,AA7=\"B\"),\"\",Z7)","v":""},{"$f":"IF(OR(Z7=\"\",Z7=0,AA7=\"\",AA7=0,AA7=\"A\"),\"\",Z7)","v":""}]
[{"$f":"IF(F8=\"\",\"\",IF(F8>10,F8/11,F8))","v":2},null,"","",2,{"$f":"HLOOKUP(E8,mens_handbook,C3,FALSE)","v":22},{"$f":"IF(ISERROR(HLOOKUP(F8,mens_declare,C4,FALSE))=TRUE,\"\",HLOOKUP(F8,mens_declare,C4,FALSE))","v":"-"},"Crewe & Nantwich AC",0,null,0,null,0,null,{"$f":"LARGE(I8:N8,1)","v":0},null,{"$f":"IF(OR(O8=0,O8=\"\"),0,RANK(O8,$O$7:$P$22,0))","v":0},0,null,0,null,0,null,{"$f":"IF(O8>LARGE(R8:W8,1),O8,LARGE(R8:W8,1))","v":0},null,{"$f":"IF(OR(Q8=0,Q8=\"\",X8=\"\",X8=0),0,RANK(X8,$X$7:$Y$22,0))","v":0},{"$f":"IF(OR(Z8=0,Z8=\"\"),\"\",IF(Z7=0,\"A\",IF(Z8>=Z7,\"B\",\"A\")))","v":""},{"$f":"IF(OR(Z8=0,Z8=\"\",AA8=\"B\"),\"\",RANK(AE8,$AE$7:$AE$22,1))","v":""},{"$f":"IF(OR(Z8=0,Z8=\"\",AA8=\"A\"),\"\",RANK(AF8,$AF$7:$AF$22,1))","v":""},null,{"$f":"IF(OR(Z8=\"\",Z8=0,AA8=\"\",AA8=0,AA8=\"B\"),\"\",Z8)","v":""},{"$f":"IF(OR(Z8=\"\",Z8=0,AA8=\"\",AA8=0,AA8=\"A\"),\"\",Z8)","v":""}]
[5,null,"","",3,{"$f":"HLOOKUP(E9,mens_handbook,C3,FALSE)","v":5},{"$f":"IF(ISERROR(HLOOKUP(F9,mens_declare,C4,FALSE))=TRUE,\"\",HLOOKUP(F9,mens_declare,C4,FALSE))","v":"-"},"Southport Waterloo AC",0,null,0,null,0,null,0,null,0,0,null,0,null,0,null,0,null,0,{"$f":"IF(OR(Z9=0,Z9=\"\"),\"\",IF(Z10=0,\"A\",IF(Z9>Z10,\"B\",\"A\")))","v":""},"","",null,"",""]
[5,null,"","",4,{"$f":"HLOOKUP(E10,mens_handbook,C3,FALSE)","v":55},{"$f":"IF(ISERROR(HLOOKUP(F10,mens_declare,C4,FALSE))=TRUE,\"\",HLOOKUP(F10,mens_declare,C4,FALSE))","v":"-"},"Southport Waterloo AC",0,null,0,null,0,null,0,null,0,0,null,0,null,0,null,0,null,0,{"$f":"IF(OR(Z10=0,Z10=\"\"),\"\",IF(Z9=0,\"A\",IF(Z10>=Z9,\"B\",\"A\")))","v":""},"","",null,"",""]
[7,null,"","",5,{"$f":"HLOOKUP(E11,mens_handbook,C3,FALSE)","v":7},{"$f":"IF(ISERROR(HLOOKUP(F11,mens_declare,C4,FALSE))=TRUE,\"\",HLOOKUP(F11,mens_declare,C4,FALSE))","v":"-"},"Wrexham AAC",0,null,0,null,0,null,0,null,0,0,null,0,null,0,null,0,null,0,{"$f":"IF(OR(Z11=0,Z11=\"\"),\"\",IF(Z12=0,\"A\",IF(Z11>Z12,\"B\",\"A\")))","v":""},"","",null,"",""]
[7,null,"","",6,{"$f":"HLOOKUP(E12,mens_handbook,C3,FALSE)","v":77},{"$f":"IF(ISERROR(HLOOKUP(F12,mens_declare,C4,FALSE))=TRUE,\"\",HLOOKUP(F12,mens_declare,C4,FALSE))","v":"-"},"Wrexham AAC",0,null,0,null,0,null,0,null,0,0,null,0,null,0,null,0,null,0,{"$f":"IF(OR(Z12=0,Z12=\"\"),\"\",IF(Z11=0,\"A\",IF(Z12>=Z11,\"B\",\"A\")))","v":""},"","",null,"",""]
[4,null,"","",7,{"$f":"HLOOKUP(E13,mens_handbook,C3,FALSE)","v":4},{"$f":"IF(ISERROR(HLOOKUP(F13,mens_declare,C4,FALSE))=TRUE,\"\",HLOOKUP(F13,mens_declare,C4,FALSE))","v":"-"},"Salford Metropolitan AC",0,null,0,null,0,null,0,null,0,0,null,0,null,0,null,0,null,0,{"$f":"IF(OR(Z13=0,Z13=\"\"),\"\",IF(Z14=0,\"A\",IF(Z13>Z14,\"B\",\"A\")))","v":""},"","",null,"",""]
[4,null,"","",8,{"$f":"HLOOKUP(E14,mens_handbook,C3,FALSE)","v":44},{"$f":"IF(ISERROR(HLOOKUP(F14,mens_declare,C4,FALSE))=TRUE,\"\",HLOOKUP(F14,mens_declare,C4,FALSE))","v":"-"},"Salford Metropolitan AC",0,null,0,null,0,null,0,null,0,0,null,0,null,0,null,0,null,0,{"$f":"IF(OR(Z14=0,Z14=\"\"),\"\",IF(Z13=0,\"A\",IF(Z14>=Z13,\"B\",\"A\")))","v":""},"","",null,"",""]
[6,null,"","",9,{"$f":"HLOOKUP(E15,mens_handbook,C3,FALSE)","v":6},{"$f":"IF(ISERROR(HLOOKUP(F15,mens_declare,C4,FALSE))=TRUE,\"\",HLOOKUP(F15,mens_declare,C4,FALSE))","v":"-"},"Warrington AC",0,null,0,null,0,null,0,null,0,0,null,0,null,0,null,0,null,0,{"$f":"IF(OR(Z15=0,Z15=\"\"),\"\",IF(Z16=0,\"A\",IF(Z15>Z16,\"B\",\"A\")))","v":""},"","",null,"",""]
[6,null,"","",10,{"$f":"HLOOKUP(E16,mens_handbook,C3,FALSE)","v":66},{"$f":"IF(ISERROR(HLOOKUP(F16,mens_declare,C4,FALSE))=TRUE,\"\",HLOOKUP(F16,mens_declare,C4,FALSE))","v":"-"},"Warrington AC",0,null,0,null,0,null,0,null,0,0,null,0,null,0,null,0,null,0,{"$f":"IF(OR(Z16=0,Z16=\"\"),\"\",IF(Z15=0,\"A\",IF(Z16>=Z15,\"B\",\"A\")))","v":""},"","",null,"",""]
[3,null,"","",11,{"$f":"HLOOKUP(E17,mens_handbook,C3,FALSE)","v":3},{"$f":"IF(ISERROR(HLOOKUP(F17,mens_declare,C4,FALSE))=TRUE,\"\",HLOOKUP(F17,mens_declare,C4,FALSE))","v":"-"},"Isle of Man \"B\"",0,null,0,null,0,null,0,null,0,0,null,0,null,0,null,0,null,0,{"$f":"IF(OR(Z17=0,Z17=\"\"),\"\",IF(Z18=0,\"A\",IF(Z17>Z18,\"B\",\"A\")))","v":""},"","",null,"",""]
[3,null,"","",12,{"$f":"HLOOKUP(E18,mens_handbook,C3,FALSE)","v":33},{"$f":"IF(ISERROR(HLOOKUP(F18,mens_declare,C4,FALSE))=TRUE,\"\",HLOOKUP(F18,mens_declare,C4,FALSE))","v":"-"},"Isle of Man \"B\"",0,null,0,null,0,null,0,null,0,0,null,0,null,0,null,0,null,0,{"$f":"IF(OR(Z18=0,Z18=\"\"),\"\",IF(Z17=0,\"A\",IF(Z18>=Z17,\"B\",\"A\")))","v":""},"","",null,"",""]
[1,null,"","",13,{"$f":"HLOOKUP(E19,mens_handbook,C3,FALSE)","v":1},{"$f":"IF(ISERROR(HLOOKUP(F19,mens_declare,C4,FALSE))=TRUE,\"\",HLOOKUP(F19,mens_declare,C4,FALSE))","v":"-"},"Altrincham & District AC",0,null,0,null,0,null,0,null,0,0,null,0,null,0,null,0,null,0,{"$f":"IF(OR(Z19=0,Z19=\"\"),\"\",IF(Z20=0,\"A\",IF(Z19>Z20,\"B\",\"A\")))","v":""},"","",null,"",""]
[1,null,"","",14,{"$f":"HLOOKUP(E20,mens_handbook,C3,FALSE)","v":11},{"$f":"IF(ISERROR(HLOOKUP(F20,mens_declare,C4,FALSE))=TRUE,\"\",HLOOKUP(F20,mens_declare,C4,FALSE))","v":"-"},"Altrincham & District AC",0,null,0,null,0,null,0,null,0,0,null,0,null,0,null,0,null,0,{"$f":"IF(OR(Z20=0,Z20=\"\"),\"\",IF(Z19=0,\"A\",IF(Z20>=Z19,\"B\",\"A\")))","v":""},"","",null,"",""]
[0,null,"","",15,{"$f":"HLOOKUP(E21,mens_handbook,C3,FALSE)","v":0},{"$f":"IF(ISERROR(HLOOKUP(F21,mens_declare,C4,FALSE))=TRUE,\"\",HLOOKUP(F21,mens_declare,C4,FALSE))","v":""},"",0,null,0,null,0,null,0,null,0,0,null,0,null,0,null,0,null,0,{"$f":"IF(OR(Z21=0,Z21=\"\"),\"\",IF(Z22=0,\"A\",IF(Z21>Z22,\"B\",\"A\")))","v":""},"","",null,"",""]
[0,null,"","",16,{"$f":"HLOOKUP(E22,mens_handbook,C3,FALSE)","v":0},{"$f":"IF(ISERROR(HLOOKUP(F22,mens_declare,C4,FALSE))=TRUE,\"\",HLOOKUP(F22,mens_declare,C4,FALSE))","v":""},"",0,null,0,null,0,null,0,null,0,0,null,0,null,0,null,0,null,0,{"$f":"IF(OR(Z22=0,Z22=\"\"),\"\",IF(Z21=0,\"A\",IF(Z22>=Z21,\"B\",\"A\")))","v":""},"","",null,"",""]
[]
[null,null,null,null,"\"A\" STRING RESULT",null,null,null,null,null,"\"B\" STRING RESULT",null,null,null,null,null,null,null,null,null,null,null,"JUDGES' SIGNATURES"]
[null,null,null,null,"Posn","No.","NAME","CLUB","DISTANCE",null,"Posn","No.","NAME",null,null,null,"CLUB",null,null,null,"DISTANCE"]
[null,null,1,null,1,{"$f":"IF(ISERROR(VLOOKUP(C26,$C$7:$Y$22,4,FALSE))=TRUE,0,IF(VLOOKUP(C26,$C$7:$Y$22,22,FALSE)=0,\"\",IF(VLOOKUP(C26,$C$7:$Y$22,22,FALSE)=99,99,IF(VLOOKUP(C26,$C$7:$Y$22,22,FALSE)=98,98,IF(VLOOKUP(C26,$C$7:$Y$22,22,FALSE)=96,96,VLOOKUP(C26,$C$7:$Y$22,4,FALSE))))))","v":0},{"$f":"IF(ISERROR(VLOOKUP(C26,$C$7:$Y$22,4,FALSE))=TRUE,0,VLOOKUP(C26,$C$7:$Y$22,5,FALSE))","v":0},{"$f":"IF(ISERROR(VLOOKUP(C26,$C$7:$Y$22,4,FALSE))=TRUE,0,VLOOKUP(C26,$C$7:$Y$22,6,FALSE))","v":0},{"$f":"IF(ISERROR(VLOOKUP(C26,$C$7:$Y$22,4,FALSE))=TRUE,0,IF(VLOOKUP(C26,$C$7:$Y$22,22,FALSE)=0,\"\",IF(VLOOKUP(C26,$C$7:$Y$22,22,FALSE)>95.99,\"\",VLOOKUP(C26,$C$7:$Y$22,22,FALSE))))","v":0},null,1,{"$f":"IF(ISERROR(VLOOKUP(C26,$D$7:$Y$22,4,FALSE))=TRUE,0,IF(VLOOKUP(C26,D$7:Y$22,21,FALSE)=0,\"\",VLOOKUP(C26,D$7:Y$22,3,FALSE)))","v":0},{"$f":"IF(ISERROR(VLOOKUP(C26,$D$7:$Y$22,4,FALSE))=TRUE,0,VLOOKUP(C26,D$7:Y$22,4,FALSE))","v":0},null,null,null,{"$f":"IF(ISERROR(VLOOKUP(C26,$D$7:$Y$22,4,FALSE))=TRUE,0,VLOOKUP(C26,$D$7:$Y$22,5,FALSE))","v":0},null,null,null,{"$f":"IF(ISERROR(VLOOKUP(C26,$D$7:$Y$22,3,FALSE))=TRUE,0,IF(VLOOKUP(C26,$D$7:$Y$22,21,FALSE)=0,\"\",VLOOKUP(C26,$D$7:$Y$22,21,FALSE)))","v":0}]
[null,null,2,null,2,0,0,0,{"$f":"IF(ISERROR(VLOOKUP(C27,$C$7:$Y$22,4,FALSE))=TRUE,0,IF(VLOOKUP(C27,$C$7:$Y$22,22,FALSE)=0,\"\",IF(VLOOKUP(C27,$C$7:$Y$22,22,FALSE)>95.99,\"\",VLOOKUP(C27,$C$7:$Y$22,22,FALSE))))","v":0},null,2,0,0,null,null,null,0,null,null,null,{"$f":"IF(ISERROR(VLOOKUP(C27,$D$7:$Y$22,3,FALSE))=TRUE,0,IF(VLOOKUP(C27,$D$7:$Y$22,21,FALSE)=0,\"\",VLOOKUP(C27,$D$7:$Y$22,21,FALSE)))","v":0}]
[null,null,3,null,3,0,0,0,0,null,3,0,0,null,null,null,0,null,null,null,0]
[null,null,4,null,4,0,0,0,0,null,4,0,0,null,null,null,0,null,null,null,0]
[null,null,5,null,5,0,0,0,0,null,5,0,0,null,null,null,0,null,null,null,0]
[null,null,6,null,6,0,0,0,0,null,6,0,0,null,null,null,0,null,null,null,0,null,"REFEREE'S SIGNATURE"]
[null,null,7,null,7,0,0,0,0,null,7,0,0,null,null,null,0,null,null,null,0]
[null,null,8,null,8,0,0,0,0,null,8,0,0,null,null,null,0,null,null,null,0]

{"sheet":"Mens Discus","index":5,"n_rows":33,"n_cols":32,"rows_kept":33,"cut":false,"hidden":false,"merged":[[6,23,6,24],[10,23,10,24],[7,21,7,22],[8,21,8,22],[20,23,20,24],[19,21,19,22],[20,21,20,22],[26,12,26,15],[25,20,25,21],[21,23,21,24],[20,14,20,15],[21,14,21,15],[7,23,7,24],[8,23,8,24],[9,23,9,24],[17,21,17,22],[13,23,13,24],[14,23,14,24],[15,23,15,24],[16,23,16,24],[14,12,14,13],[15,12,15,13],[20,12,20,13],[19,12,19,13],[27,20,27,21],[28,20,28,21],[29,12,29,15],[29,20,29,21],[21,21,21,22],[30,20,30,21],[25,16,25,19],[26,16,26,19],[27,16,27,19],[28,16,28,19],[25,12,25,15],[27,12,27,15],[28,12,28,15],[26,20,26,21],[30,8,30,9],[31,8,31,9],[32,8,32,9],[31,12,31,15],[32,12,32,15],[31,16,31,19],[30,12,30,15],[30,16,30,19],[16,21,16,22],[18,21,18,22],[32,20,32,21],[29,16,29,19],[31,20,31,21],[32,16,32,19],[25,8,25,9],[26,8,26,9],[29,8,29,9],[21,8,21,9],[20,10,20,11],[21,10,21,11],[19,14,19,15],[16,12,16,13],[17,12,17,13],[18,12,18,13],[15,8,15,9],[16,10,16,11],[15,10,15,11],[18,19,18,20],[19,19,19,20],[17,19,17,20],[14,8,14,9],[15,21,15,22],[21,19,21,20],[17,23,17,24],[18,23,18,24],[19,23,19,24],[18,17,18,18],[19,17,19,18],[21,17,21,18],[20,17,20,18],[17,17,17,18],[21,12,21,13],[17,14,17,15],[18,14,18,15],[7,10,7,11],[14,19,14,20],[15,19,15,20],[16,19,16,20],[12,12,12,13],[13,12,13,13],[6,17,6,18],[7,17,7,18],[8,17,8,18],[9,17,9,18],[10,17,10,18],[11,17,11,18],[7,12,7,13],[11,12,11,13],[8,10,8,11],[9,10,9,11],[11,14,11,15],[6,10,6,11],[14,14,14,15],[15,14,15,15],[16,14,16,15],[12,19,12,20],[13,19,13,20],[6,21,6,22],[6,12,6,13],[9,21,9,22],[10,21,10,22],[12,14,12,15],[13,14,13,15],[6,14,6,15],[7,14,7,15],[8,14,8,15],[9,14,9,15],[10,14,10,15],[12,17,12,18],[8,12,8,13],[6,19,6,20],[8,19,8,20],[7,19,7,20],[9,19,9,20],[10,19,10,20],[11,19,11,20],[13,17,13,18],[11,21,11,22],[12,21,12,22],[13,21,13,22],[11,8,11,9],[12,8,12,9],[13,8,13,9],[11,10,11,11],[12,10,12,11],[13,10,13,11],[14,10,14,11],[10,10,10,11],[30,22,30,28],[23,4,23,9],[23,10,23,21],[23,22,23,28],[24,8,24,9],[24,12,24,15],[24,16,24,19],[24,20,24,21],[28,8,28,9],[14,17,14,18],[15,17,15,18],[16,17,16,18],[14,21,14,22],[11,23,11,24],[12,23,12,24],[20,19,20,20],[4,8,4,9],[4,10,4,11],[4,12,4,13],[4,14,4,15],[5,8,5,9],[27,8,27,9],[5,14,5,15],[9,12,9,13],[10,12,10,13],[6,8,6,9],[5,10,5,11],[5,12,5,13],[8,8,8,9],[9,8,9,9],[10,8,10,9],[17,10,17,11],[18,10,18,11],[19,10,19,11],[16,8,16,9],[17,8,17,9],[18,8,18,9],[19,8,19,9],[20,8,20,9],[7,8,7,9],[0,4,0,5],[2,4,2,5],[3,4,3,5],[2,11,2,15],[3,11,3,12],[2,16,2,18],[2,19,2,28],[2,6,2,7],[2,8,2,10],[3,6,3,7],[3,8,3,10],[1,4,1,18],[1,19,1,23],[1,25,1,28],[0,6,0,17],[0,19,0,28],[4,21,4,22],[4,23,4,24],[3,13,3,15],[3,16,3,18],[3,19,3,28],[4,25,5,25],[5,23,5,24],[4,16,5,16],[4,17,4,18],[4,19,4,20],[5,17,5,18],[5,19,5,20],[5,21,5,22],[4,26,4,28]]}
[null,null,null,null,"Home",null,{"$f":"'Match Day'!I4","v":"Northern T&F League"},null,null,null,null,null,null,null,null,null,null,null,null,{"$f":"'Match Day'!C14","v":"Warrington AC"}]
[15,null,26,null,"UK ATHLETICS: DISTANCE CARD",null,null,null,null,null,null,null,null,null,null,null,null,null,null,"Progression Standard:",null,null,null,null,{"$f":"VLOOKUP(A2,mens_handbook,20,FALSE)","v":25},"metres"]
[null,null,{"$f":"VLOOKUP(A2,mens_handbook,37,FALSE)","v":16},null,"MEETING ",null,{"$f":"CONCATENATE('Match Day'!$I$8,\" \",'Match Day'!$I$10)","v":"Division 4W Match 1"},null,"VENUE ",null,null,{"$f":"'Match Day'!$I$12","v":"Litherland"},null,null,null,null,"DATE ",null,null,{"$f":"'Match Day'!$I$6","v":"2014-05-04"}]
[null,null,{"$f":"VLOOKUP(A2,mens_declare,20,FALSE)","v":16},null,"EVENT",null,{"$f":"VLOOKUP(A2,mens_handbook,3,FALSE)","v":"Men's Discus"},null,"TIME",null,null,{"$f":"VLOOKUP(A2,mens_handbook,2,FALSE)","v":"13:30:00"},null,"RECORD",null,null,{"$f":"VLOOKUP(A2,mens_handbook,29,FALSE)","v":1998},null,null,{"$f":"IF($A2=\"\",\"\",CONCATENATE(VLOOKUP($A2,mens_handbook,26,FALSE),\", \",VLOOKUP($A2,mens_handbook,27,FALSE),\", \",VLOOKUP($A2,mens_handbook,28,FALSE)))","v":"Carl Myerscough, Blackpool & Fylde AC, 60.19m"}]
[null,null,null,null,"Order","No","NAME","CLUB","1st Trial",null,"2nd Trial",null,"3rd Trial",null,"Best of 3",null,"Position after\n3 Trials","4th Trial",null,"5th Trial",null,"6th Trial",null,"Best of All",null,"Final\nPositionn","A or B"]
[null,null,"A","B",null,null,null,null,"Metres",null,"Metres",null,"Metres",null,"Metres",null,null,"Metres",null,"Metres",null,"Metres",null,"Metres",null,null,null,"A","B"]
[{"$f":"IF(F7=\"\",\"\",IF(F7>10,F7/11,F7))","v":1},null,{"$f":"AB7","v":""},{"$f":"AC7","v":""},1,{"$f":"HLOOKUP(E7,mens_handbook,C3,FALSE)","v":1},{"$f":"IF(ISERROR(HLOOKUP(F7,mens_declare,C4,FALSE))=TRUE,\"\",HLOOKUP(F7,mens_declare,C4,FALSE))","v":"-"},{"$f":"IF(ISERROR(VLOOKUP(A7,matchday,2,FALSE))=TRUE,\"\",VLOOKUP(A7,matchday,2,FALSE))","v":"Altrincham & District AC"},0,null,0,null,0,null,{"$f":"LARGE(I7:N7,1)","v":0},null,{"$f":"IF(OR(O7=0,O7=\"\"),0,RANK(O7,$O$7:$P$22,0))","v":0},0,null,0,null,0,null,{"$f":"IF(O7>LARGE(R7:W7,1),O7,LARGE(R7:W7,1))","v":0},null,{"$f":"IF(OR(Q7=0,Q7=\"\",X7=\"\",X7=0),0,RANK(X7,$X$7:$Y$22,0))","v":0},{"$f":"IF(OR(Z7=0,Z7=\"\"),\"\",IF(Z8=0,\"A\",IF(Z7>Z8,\"B\",\"A\")))","v":""},{"$f":"IF(OR(Z7=0,Z7=\"\",AA7=\"B\"),\"\",RANK(AE7,$AE$7:$AE$22,1))","v":""},{"$f":"IF(OR(Z7=0,Z7=\"\",AA7=\"A\"),\"\",RANK(AF7,$AF$7:$AF$22,1))","v":""},null,{"$f":"IF(OR(Z7=\"\",Z7=0,AA7=\"\",AA7=0,AA7=\"B\"),\"\",Z7)","v":""},{"$f":"IF(OR(Z7=\"\",Z7=0,AA7=\"\",AA7=0,AA7=\"A\"),\"\",Z7)","v":""}]
[1,null,"","",2,{"$f":"HLOOKUP(E8,mens_handbook,C3,FALSE)","v":11},{"$f":"IF(ISERROR(HLOOKUP(F8,mens_declare,C4,FALSE))=TRUE,\"\",HLOOKUP(F8,mens_declare,C4,FALSE))","v":"-"},"Altrincham & District AC",0,null,0,null,0,null,0,null,0,0,null,0,null,0,null,0,null,0,{"$f":"IF(OR(Z8=0,Z8=\"\"),\"\",IF(Z7=0,\"A\",IF(Z8>=Z7,\"B\",\"A\")))","v":""},"","",null,"",""]
[6,null,"","",3,{"$f":"HLOOKUP(E9,mens_handbook,C3,FALSE)","v":6},{"$f":"IF(ISERROR(HLOOKUP(F9,mens_declare,C4,FALSE))=TRUE,\"\",HLOOKUP(F9,mens_declare,C4,FALSE))","v":"-"},"Warrington AC",0,null,0,null,0,null,0,null,0,0,null,0,null,0,null,0,null,0,{"$f":"IF(OR(Z9=0,Z9=\"\"),\"\",IF(Z10=0,\"A\",IF(Z9>Z10,\"B\",\"A\")))","v":""},"","",null,"",""]
[6,null,"","",4,{"$f":"HLOOKUP(E10,mens_handbook,C3,FALSE)","v":66},{"$f":"IF(ISERROR(HLOOKUP(F10,mens_declare,C4,FALSE))=TRUE,\"\",HLOOKUP(F10,mens_declare,C4,FALSE))","v":"-"},"Warrington AC",0,null,0,null,0,null,0,null,0,0,null,0,null,0,null,0,null,0,{"$f":"IF(OR(Z10=0,Z10=\"\"),\"\",IF(Z9=0,\"A\",IF(Z10>=Z9,\"B\",\"A\")))","v":""},"","",null,"",""]
[3,null,"","",5,{"$f":"HLOOKUP(E11,mens_handbook,C3,FALSE)","v":3},{"$f":"IF(ISERROR(HLOOKUP(F11,mens_declare,C4,FALSE))=TRUE,\"\",HLOOKUP(F11,mens_declare,C4,FALSE))","v":"-"},"Isle of Man \"B\"",0,null,0,null,0,null,0,null,0,0,null,0,null,0,null,0,null,0,{"$f":"IF(OR(Z11=0,Z11=\"\"),\"\",IF(Z12=0,\"A\",IF(Z11>Z12,\"B\",\"A\")))","v":""},"","",null,"",""]
[3,null,"","",6,{"$f":"HLOOKUP(E12,mens_handbook,C3,FALSE)","v":33},{"$f":"IF(ISERROR(HLOOKUP(F12,mens_declare,C4,FALSE))=TRUE,\"\",HLOOKUP(F12,mens_declare,C4,FALSE))","v":"-"},"Isle of Man \"B\"",0,null,0,null,0,null,0,null,0,0,null,0,null,0,null,0,null,0,{"$f":"IF(OR(Z12=0,Z12=\"\"),\"\",IF(Z11=0,\"A\",IF(Z12>=Z11,\"B\",\"A\")))","v":""},"","",null,"",""]
[7,null,"","",7,{"$f":"HLOOKUP(E13,mens_handbook,C3,FALSE)","v":7},{"$f":"IF(ISERROR(HLOOKUP(F13,mens_declare,C4,FALSE))=TRUE,\"\",HLOOKUP(F13,mens_declare,C4,FALSE))","v":"-"},"Wrexham AAC",0,null,0,null,0,null,0,null,0,0,null,0,null,0,null,0,null,0,{"$f":"IF(OR(Z13=0,Z13=\"\"),\"\",IF(Z14=0,\"A\",IF(Z13>Z14,\"B\",\"A\")))","v":""},"","",null,"",""]
[7,null,"","",8,{"$f":"HLOOKUP(E14,mens_handbook,C3,FALSE)","v":77},{"$f":"IF(ISERROR(HLOOKUP(F14,mens_declare,C4,FALSE))=TRUE,\"\",HLOOKUP(F14,mens_declare,C4,FALSE))","v":"-"},"Wrexham AAC",0,null,0,null,0,null,0,null,0,0,null,0,null,0,null,0,null,0,{"$f":"IF(OR(Z14=0,Z14=\"\"),\"\",IF(Z13=0,\"A\",IF(Z14>=Z13,\"B\",\"A\")))","v":""},"","",null,"",""]
[4,null,"","",9,{"$f":"HLOOKUP(E15,mens_handbook,C3,FALSE)","v":4},{"$f":"IF(ISERROR(HLOOKUP(F15,mens_declare,C4,FALSE))=TRUE,\"\",HLOOKUP(F15,mens_declare,C4,FALSE))","v":"-"},"Salford Metropolitan AC",0,null,0,null,0,null,0,null,0,0,null,0,null,0,null,0,null,0,{"$f":"IF(OR(Z15=0,Z15=\"\"),\"\",IF(Z16=0,\"A\",IF(Z15>Z16,\"B\",\"A\")))","v":""},"","",null,"",""]
[4,null,"","",10,{"$f":"HLOOKUP(E16,mens_handbook,C3,FALSE)","v":44},{"$f":"IF(ISERROR(HLOOKUP(F16,mens_declare,C4,FALSE))=TRUE,\"\",HLOOKUP(F16,mens_declare,C4,FALSE))","v":"-"},"Salford Metropolitan AC",0,null,0,null,0,null,0,null,0,0,null,0,null,0,null,0,null,0,{"$f":"IF(OR(Z16=0,Z16=\"\"),\"\",IF(Z15=0,\"A\",IF(Z16>=Z15,\"B\",\"A\")))","v":""},"","",null,"",""]
[2,null,"","",11,{"$f":"HLOOKUP(E17,mens_handbook,C3,FALSE)","v":2},{"$f":"IF(ISERROR(HLOOKUP(F17,mens_declare,C4,FALSE))=TRUE,\"\",HLOOKUP(F17,mens_declare,C4,FALSE))","v":"-"},"Crewe & Nantwich AC",0,null,0,null,0,null,0,null,0,0,null,0,null,0,null,0,null,0,{"$f":"IF(OR(Z17=0,Z17=\"\"),\"\",IF(Z18=0,\"A\",IF(Z17>Z18,\"B\",\"A\")))","v":""},"","",null,"",""]
[2,null,"","",12,{"$f":"HLOOKUP(E18,mens_handbook,C3,FALSE)","v":22},{"$f":"IF(ISERROR(HLOOKUP(F18,mens_declare,C4,FALSE))=TRUE,\"\",HLOOKUP(F18,mens_declare,C4,FALSE))","v":"-"},"Crewe & Nantwich AC",0,null,0,null,0,null,0,null,0,0,null,0,null,0,null,0,null,0,{"$f":"IF(OR(Z18=0,Z18=\"\"),\"\",IF(Z17=0,\"A\",IF(Z18>=Z17,\"B\",\"A\")))","v":""},"","",null,"",""]
[5,null,"","",13,{"$f":"HLOOKUP(E19,mens_handbook,C3,FALSE)","v":5},{"$f":"IF(ISERROR(HLOOKUP(F19,mens_declare,C4,FALSE))=TRUE,\"\",HLOOKUP(F19,mens_declare,C4,FALSE))","v":"-"},"Southport Waterloo AC",0,null,0,null,0,null,0,null,0,0,null,0,null,0,null,0,null,0,{"$f":"IF(OR(Z19=0,Z19=\"\"),\"\",IF(Z20=0,\"A\",IF(Z19>Z20,\"B\",\"A\")))","v":""},"","",null,"",""]
[5,null,"","",14,{"$f":"HLOOKUP(E20,mens_handbook,C3,FALSE)","v":55},{"$f":"IF(ISERROR(HLOOKUP(F20,mens_declare,C4,FALSE))=TRUE,\"\",HLOOKUP(F20,mens_declare,C4,FALSE))","v":"-"},"Southport Waterloo AC",0,null,0,null,0,null,0,null,0,0,null,0,null,0,null,0,null,0,{"$f":"IF(OR(Z20=0,Z20=\"\"),\"\",IF(Z19=0,\"A\",IF(Z20>=Z19,\"B\",\"A\")))","v":""},"","",null,"",""]
[0,null,"","",15,{"$f":"HLOOKUP(E21,mens_handbook,C3,FALSE)","v":0},{"$f":"IF(ISERROR(HLOOKUP(F21,mens_declare,C4,FALSE))=TRUE,\"\",HLOOKUP(F21,mens_declare,C4,FALSE))","v":""},"",0,null,0,null,0,null,0,null,0,0,null,0,null,0,null,0,null,0,{"$f":"IF(OR(Z21=0,Z21=\"\"),\"\",IF(Z22=0,\"A\",IF(Z21>Z22,\"B\",\"A\")))","v":""},"","",null,"",""]
[0,null,"","",16,{"$f":"HLOOKUP(E22,mens_handbook,C3,FALSE)","v":0},{"$f":"IF(ISERROR(HLOOKUP(F22,mens_declare,C4,FALSE))=TRUE,\"\",HLOOKUP(F22,mens_declare,C4,FALSE))","v":""},"",0,null,0,null,0,null,0,null,0,0,null,0,null,0,null,0,null,0,{"$f":"IF(OR(Z22=0,Z22=\"\"),\"\",IF(Z21=0,\"A\",IF(Z22>=Z21,\"B\",\"A\")))","v":""},"","",null,"",""]
[]
[null,null,null,null,"\"A\" STRING RESULT",null,null,null,null,null,"\"B\" STRING RESULT",null,null,null,null,null,null,null,null,null,null,null,"JUDGES' SIGNATURES"]
[null,null,null,null,"Posn","No.","NAME","CLUB","DISTANCE",null,"Posn","No.","NAME",null,null,null,"CLUB",null,null,null,"DISTANCE"]
[null,null,1,null,1,{"$f":"IF(ISERROR(VLOOKUP(C26,$C$7:$Y$22,4,FALSE))=TRUE,0,IF(VLOOKUP(C26,$C$7:$Y$22,22,FALSE)=0,\"\",IF(VLOOKUP(C26,$C$7:$Y$22,22,FALSE)=99,99,IF(VLOOKUP(C26,$C$7:$Y$22,22,FALSE)=98,98,IF(VLOOKUP(C26,$C$7:$Y$22,22,FALSE)=96,96,VLOOKUP(C26,$C$7:$Y$22,4,FALSE))))))","v":0},{"$f":"IF(ISERROR(VLOOKUP(C26,$C$7:$Y$22,4,FALSE))=TRUE,0,VLOOKUP(C26,$C$7:$Y$22,5,FALSE))","v":0},{"$f":"IF(ISERROR(VLOOKUP(C26,$C$7:$Y$22,4,FALSE))=TRUE,0,VLOOKUP(C26,$C$7:$Y$22,6,FALSE))","v":0},{"$f":"IF(ISERROR(VLOOKUP(C26,$C$7:$Y$22,4,FALSE))=TRUE,0,IF(VLOOKUP(C26,$C$7:$Y$22,22,FALSE)=0,\"\",IF(VLOOKUP(C26,$C$7:$Y$22,22,FALSE)>95.99,\"\",VLOOKUP(C26,$C$7:$Y$22,22,FALSE))))","v":0},null,1,{"$f":"IF(ISERROR(VLOOKUP(C26,$D$7:$Y$22,4,FALSE))=TRUE,0,IF(VLOOKUP(C26,D$7:Y$22,21,FALSE)=0,\"\",VLOOKUP(C26,D$7:Y$22,3,FALSE)))","v":0},{"$f":"IF(ISERROR(VLOOKUP(C26,$D$7:$Y$22,4,FALSE))=TRUE,0,VLOOKUP(C26,D$7:Y$22,4,FALSE))","v":0},null,null,null,{"$f":"IF(ISERROR(VLOOKUP(C26,$D$7:$Y$22,4,FALSE))=TRUE,0,VLOOKUP(C26,$D$7:$Y$22,5,FALSE))","v":0},null,null,null,{"$f":"IF(ISERROR(VLOOKUP(C26,$D$7:$Y$22,3,FALSE))=TRUE,0,IF(VLOOKUP(C26,$D$7:$Y$22,21,FALSE)=0,\"\",VLOOKUP(C26,$D$7:$Y$22,21,FALSE)))","v":0}]
[null,null,2,null,2,0,0,0,0,null,2,0,0,null,null,null,0,null,null,null,0]
[null,null,3,null,3,0,0,0,0,null,3,0,0,null,null,null,0,null,null,null,0]
[null,null,4,null,4,0,0,0,0,null,4,0,0,null,null,null,0,null,null,null,0]
[null,null,5,null,5,0,0,0,0,null,5,0,0,null,null,null,0,null,null,null,0]
[null,null,6,null,6,0,0,0,0,null,6,0,0,null,null,null,0,null,null,null,0,null,"REFEREE'S SIGNATURE"]
[null,null,7,null,7,0,0,0,0,null,7,0,0,null,null,null,0,null,null,null,0]
[null,null,8,null,8,0,0,0,0,null,8,0,0,null,null,null,0,null,null,null,0]

{"sheet":"Mens Javelin","index":6,"n_rows":33,"n_cols":32,"rows_kept":33,"cut":false,"hidden":false,"merged":[[6,23,6,24],[10,23,10,24],[7,21,7,22],[8,21,8,22],[20,23,20,24],[19,21,19,22],[20,21,20,22],[26,12,26,15],[25,20,25,21],[21,23,21,24],[20,14,20,15],[21,14,21,15],[7,23,7,24],[8,23,8,24],[9,23,9,24],[17,21,17,22],[13,23,13,24],[14,23,14,24],[15,23,15,24],[16,23,16,24],[14,12,14,13],[15,12,15,13],[20,12,20,13],[19,12,19,13],[27,20,27,21],[28,20,28,21],[29,12,29,15],[29,20,29,21],[21,21,21,22],[30,20,30,21],[25,16,25,19],[26,16,26,19],[27,16,27,19],[28,16,28,19],[25,12,25,15],[27,12,27,15],[28,12,28,15],[26,20,26,21],[30,8,30,9],[31,8,31,9],[32,8,32,9],[31,12,31,15],[32,12,32,15],[31,16,31,19],[30,12,30,15],[30,16,30,19],[16,21,16,22],[18,21,18,22],[32,20,32,21],[29,16,29,19],[31,20,31,21],[32,16,32,19],[25,8,25,9],[26,8,26,9],[29,8,29,9],[21,8,21,9],[20,10,20,11],[21,10,21,11],[19,14,19,15],[16,12,16,13],[17,12,17,13],[18,12,18,13],[15,8,15,9],[16,10,16,11],[15,10,15,11],[18,19,18,20],[19,19,19,20],[17,19,17,20],[14,8,14,9],[15,21,15,22],[21,19,21,20],[17,23,17,24],[18,23,18,24],[19,23,19,24],[18,17,18,18],[19,17,19,18],[21,17,21,18],[20,17,20,18],[17,17,17,18],[21,12,21,13],[17,14,17,15],[18,14,18,15],[7,10,7,11],[14,19,14,20],[15,19,15,20],[16,19,16,20],[12,12,12,13],[13,12,13,13],[6,17,6,18],[7,17,7,18],[8,17,8,18],[9,17,9,18],[10,17,10,18],[11,17,11,18],[7,12,7,13],[11,12,11,13],[8,10,8,11],[9,10,9,11],[11,14,11,15],[6,10,6,11],[14,14,14,15],[15,14,15,15],[16,14,16,15],[12,19,12,20],[13,19,13,20],[6,21,6,22],[6,12,6,13],[9,21,9,22],[10,21,10,22],[12,14,12,15],[13,14,13,15],[6,14,6,15],[7,14,7,15],[8,14,8,15],[9,14,9,15],[10,14,10,15],[12,17,12,18],[8,12,8,13],[6,19,6,20],[8,19,8,20],[7,19,7,20],[9,19,9,20],[10,19,10,20],[11,19,11,20],[13,17,13,18],[11,21,11,22],[12,21,12,22],[13,21,13,22],[11,8,11,9],[12,8,12,9],[13,8,13,9],[11,10,11,11],[12,10,12,11],[13,10,13,11],[14,10,14,11],[10,10,10,11],[30,22,30,28],[23,4,23,9],[23,10,23,21],[23,22,23,28],[24,8,24,9],[24,12,24,15],[24,16,24,19],[24,20,24,21],[28,8,28,9],[14,17,14,18],[15,17,15,18],[16,17,16,18],[14,21,14,22],[11,23,11,24],[12,23,12,24],[20,19,20,20],[4,8,4,9],[4,10,4,11],[4,12,4,13],[4,14,4,15],[5,8,5,9],[27,8,27,9],[5,14,5,15],[9,12,9,13],[10,12,10,13],[6,8,6,9],[5,10,5,11],[5,12,5,13],[8,8,8,9],[9,8,9,9],[10,8,10,9],[17,10,17,11],[18,10,18,11],[19,10,19,11],[16,8,16,9],[17,8,17,9],[18,8,18,9],[19,8,19,9],[20,8,20,9],[7,8,7,9],[0,4,0,5],[2,4,2,5],[3,4,3,5],[2,11,2,15],[3,11,3,12],[2,16,2,18],[2,19,2,28],[2,6,2,7],[2,8,2,10],[3,6,3,7],[3,8,3,10],[1,4,1,18],[1,19,1,23],[1,25,1,28],[0,6,0,17],[0,19,0,28],[4,21,4,22],[4,23,4,24],[3,13,3,15],[3,16,3,18],[3,19,3,28],[4,25,5,25],[5,23,5,24],[4,16,5,16],[4,17,4,18],[4,19,4,20],[5,17,5,18],[5,19,5,20],[5,21,5,22],[4,26,4,28]]}
[null,null,null,null,"Home",null,{"$f":"'Match Day'!I4","v":"Northern T&F League"},null,null,null,null,null,null,null,null,null,null,null,null,{"$f":"'Match Day'!C10","v":"Salford Metropolitan AC"}]
[18,null,26,null,"UK ATHLETICS: DISTANCE CARD",null,null,null,null,null,null,null,null,null,null,null,null,null,null,"Progression Standard:",null,null,null,null,{"$f":"VLOOKUP(A2,mens_handbook,20,FALSE)","v":35},"metres"]
[null,null,{"$f":"VLOOKUP(A2,mens_handbook,37,FALSE)","v":19},null,"MEETING ",null,{"$f":"CONCATENATE('Match Day'!$I$8,\" \",'Match Day'!$I$10)","v":"Division 4W Match 1"},null,"VENUE ",null,null,{"$f":"'Match Day'!$I$12","v":"Litherland"},null,null,null,null,"DATE ",null,null,{"$f":"'Match Day'!$I$6","v":"2014-05-04"}]
[null,null,{"$f":"VLOOKUP(A2,mens_declare,20,FALSE)","v":19},null,"EVENT",null,{"$f":"VLOOKUP(A2,mens_handbook,3,FALSE)","v":"Men's Javelin"},null,"TIME",null,null,{"$f":"VLOOKUP(A2,mens_handbook,2,FALSE)","v":"15:20:00"},null,"RECORD",null,null,{"$f":"VLOOKUP(A2,mens_handbook,29,FALSE)","v":2004},null,null,{"$f":"IF($A2=\"\",\"\",CONCATENATE(VLOOKUP($A2,mens_handbook,26,FALSE),\", \",VLOOKUP($A2,mens_handbook,27,FALSE),\", \",VLOOKUP($A2,mens_handbook,28,FALSE)))","v":"Mick Hill, Leeds City AC, 74.72m"}]
[null,null,null,null,"Order","No","NAME","CLUB","1st Trial",null,"2nd Trial",null,"3rd Trial",null,"Best of 3",null,"Position after\n3 Trials","4th Trial",null,"5th Trial",null,"6th Trial",null,"Best of All",null,"Final\nPositionn","A or B"]
[null,null,"A","B",null,null,null,null,"Metres",null,"Metres",null,"Metres",null,"Metres",null,null,"Metres",null,"Metres",null,"Metres",null,"Metres",null,null,null,"A","B"]
[{"$f":"IF(F7=\"\",\"\",IF(F7>10,F7/11,F7))","v":2},null,{"$f":"AB7","v":""},{"$f":"AC7","v":""},1,{"$f":"HLOOKUP(E7,mens_handbook,C3,FALSE)","v":2},{"$f":"IF(ISERROR(HLOOKUP(F7,mens_declare,C4,FALSE))=TRUE,\"\",HLOOKUP(F7,mens_declare,C4,FALSE))","v":"-"},{"$f":"IF(ISERROR(VLOOKUP(A7,matchday,2,FALSE))=TRUE,\"\",VLOOKUP(A7,matchday,2,FALSE))","v":"Crewe & Nantwich AC"},0,null,0,null,0,null,{"$f":"LARGE(I7:N7,1)","v":0},null,{"$f":"IF(OR(O7=0,O7=\"\"),0,RANK(O7,$O$7:$P$22,0))","v":0},0,null,0,null,0,null,{"$f":"IF(O7>LARGE(R7:W7,1),O7,LARGE(R7:W7,1))","v":0},null,{"$f":"IF(OR(Q7=0,Q7=\"\",X7=\"\",X7=0),0,RANK(X7,$X$7:$Y$22,0))","v":0},{"$f":"IF(OR(Z7=0,Z7=\"\"),\"\",IF(Z8=0,\"A\",IF(Z7>Z8,\"B\",\"A\")))","v":""},{"$f":"IF(OR(Z7=0,Z7=\"\",AA7=\"B\"),\"\",RANK(AE7,$AE$7:$AE$22,1))","v":""},{"$f":"IF(OR(Z7=0,Z7=\"\",AA7=\"A\"),\"\",RANK(AF7,$AF$7:$AF$22,1))","v":""},null,{"$f":"IF(OR(Z7=\"\",Z7=0,AA7=\"\",AA7=0,AA7=\"B\"),\"\",Z7)","v":""},{"$f":"IF(OR(Z7=\"\",Z7=0,AA7=\"\",AA7=0,AA7=\"A\"),\"\",Z7)","v":""}]
[2,null,"","",2,{"$f":"HLOOKUP(E8,mens_handbook,C3,FALSE)","v":22},{"$f":"IF(ISERROR(HLOOKUP(F8,mens_declare,C4,FALSE))=TRUE,\"\",HLOOKUP(F8,mens_declare,C4,FALSE))","v":"-"},"Crewe & Nantwich AC",0,null,0,null,0,null,0,null,0,0,null,0,null,0,null,0,null,0,{"$f":"IF(OR(Z8=0,Z8=\"\"),\"\",IF(Z7=0,\"A\",IF(Z8>=Z7,\"B\",\"A\")))","v":""},"","",null,"",""]
[7,null,"","",3,{"$f":"HLOOKUP(E9,mens_handbook,C3,FALSE)","v":7},{"$f":"IF(ISERROR(HLOOKUP(F9,mens_declare,C4,FALSE))=TRUE,\"\",HLOOKUP(F9,mens_declare,C4,FALSE))","v":"-"},"Wrexham AAC",0,null,0,null,0,null,0,null,0,0,null,0,null,0,null,0,null,0,{"$f":"IF(OR(Z9=0,Z9=\"\"),\"\",IF(Z10=0,\"A\",IF(Z9>Z10,\"B\",\"A\")))","v":""},"","",null,"",""]
[7,null,"","",4,{"$f":"HLOOKUP(E10,mens_handbook,C3,FALSE)","v":77},{"$f":"IF(ISERROR(HLOOKUP(F10,mens_declare,C4,FALSE))=TRUE,\"\",HLOOKUP(F10,mens_declare,C4,FALSE))","v":"-"},"Wrexham AAC",0,null,0,null,0,null,0,null,0,0,null,0,null,0,null,0,null,0,{"$f":"IF(OR(Z10=0,Z10=\"\"),\"\",IF(Z9=0,\"A\",IF(Z10>=Z9,\"B\",\"A\")))","v":""},"","",null,"",""]
[5,null,"","",5,{"$f":"HLOOKUP(E11,mens_handbook,C3,FALSE)","v":5},{"$f":"IF(ISERROR(HLOOKUP(F11,mens_declare,C4,FALSE))=TRUE,\"\",HLOOKUP(F11,mens_declare,C4,FALSE))","v":"-"},"Southport Waterloo AC",0,null,0,null,0,null,0,null,0,0,null,0,null,0,null,0,null,0,{"$f":"IF(OR(Z11=0,Z11=\"\"),\"\",IF(Z12=0,\"A\",IF(Z11>Z12,\"B\",\"A\")))","v":""},"","",null,"",""]
[5,null,"","",6,{"$f":"HLOOKUP(E12,mens_handbook,C3,FALSE)","v":55},{"$f":"IF(ISERROR(HLOOKUP(F12,mens_declare,C4,FALSE))=TRUE,\"\",HLOOKUP(F12,mens_declare,C4,FALSE))","v":"-"},"Southport Waterloo AC",0,null,0,null,0,null,0,null,0,0,null,0,null,0,null,0,null,0,{"$f":"IF(OR(Z12=0,Z12=\"\"),\"\",IF(Z11=0,\"A\",IF(Z12>=Z11,\"B\",\"A\")))","v":""},"","",null,"",""]
[6,null,"","",7,{"$f":"HLOOKUP(E13,mens_handbook,C3,FALSE)","v":6},{"$f":"IF(ISERROR(HLOOKUP(F13,mens_declare,C4,FALSE))=TRUE,\"\",HLOOKUP(F13,mens_declare,C4,FALSE))","v":"-"},"Warrington AC",0,null,0,null,0,null,0,null,0,0,null,0,null,0,null,0,null,0,{"$f":"IF(OR(Z13=0,Z13=\"\"),\"\",IF(Z14=0,\"A\",IF(Z13>Z14,\"B\",\"A\")))","v":""},"","",null,"",""]
[6,null,"","",8,{"$f":"HLOOKUP(E14,mens_handbook,C3,FALSE)","v":66},{"$f":"IF(ISERROR(HLOOKUP(F14,mens_declare,C4,FALSE))=TRUE,\"\",HLOOKUP(F14,mens_declare,C4,FALSE))","v":"-"},"Warrington AC",0,null,0,null,0,null,0,null,0,0,null,0,null,0,null,0,null,0,{"$f":"IF(OR(Z14=0,Z14=\"\"),\"\",IF(Z13=0,\"A\",IF(Z14>=Z13,\"B\",\"A\")))","v":""},"","",null,"",""]
[4,null,"","",9,{"$f":"HLOOKUP(E15,mens_handbook,C3,FALSE)","v":4},{"$f":"IF(ISERROR(HLOOKUP(F15,mens_declare,C4,FALSE))=TRUE,\"\",HLOOKUP(F15,mens_declare,C4,FALSE))","v":"-"},"Salford Metropolitan AC",0,null,0,null,0,null,0,null,0,0,null,0,null,0,null,0,null,0,{"$f":"IF(OR(Z15=0,Z15=\"\"),\"\",IF(Z16=0,\"A\",IF(Z15>Z16,\"B\",\"A\")))","v":""},"","",null,"",""]
[4,null,"","",10,{"$f":"HLOOKUP(E16,mens_handbook,C3,FALSE)","v":44},{"$f":"IF(ISERROR(HLOOKUP(F16,mens_declare,C4,FALSE))=TRUE,\"\",HLOOKUP(F16,mens_declare,C4,FALSE))","v":"-"},"Salford Metropolitan AC",0,null,0,null,0,null,0,null,0,0,null,0,null,0,null,0,null,0,{"$f":"IF(OR(Z16=0,Z16=\"\"),\"\",IF(Z15=0,\"A\",IF(Z16>=Z15,\"B\",\"A\")))","v":""},"","",null,"",""]
[1,null,"","",11,{"$f":"HLOOKUP(E17,mens_handbook,C3,FALSE)","v":1},{"$f":"IF(ISERROR(HLOOKUP(F17,mens_declare,C4,FALSE))=TRUE,\"\",HLOOKUP(F17,mens_declare,C4,FALSE))","v":"-"},"Altrincham & District AC",0,null,0,null,0,null,0,null,0,0,null,0,null,0,null,0,null,0,{"$f":"IF(OR(Z17=0,Z17=\"\"),\"\",IF(Z18=0,\"A\",IF(Z17>Z18,\"B\",\"A\")))","v":""},"","",null,"",""]
[1,null,"","",12,{"$f":"HLOOKUP(E18,mens_handbook,C3,FALSE)","v":11},{"$f":"IF(ISERROR(HLOOKUP(F18,mens_declare,C4,FALSE))=TRUE,\"\",HLOOKUP(F18,mens_declare,C4,FALSE))","v":"-"},"Altrincham & District AC",0,null,0,null,0,null,0,null,0,0,null,0,null,0,null,0,null,0,{"$f":"IF(OR(Z18=0,Z18=\"\"),\"\",IF(Z17=0,\"A\",IF(Z18>=Z17,\"B\",\"A\")))","v":""},"","",null,"",""]
[3,null,"","",13,{"$f":"HLOOKUP(E19,mens_handbook,C3,FALSE)","v":3},{"$f":"IF(ISERROR(HLOOKUP(F19,mens_declare,C4,FALSE))=TRUE,\"\",HLOOKUP(F19,mens_declare,C4,FALSE))","v":"-"},"Isle of Man \"B\"",0,null,0,null,0,null,0,null,0,0,null,0,null,0,null,0,null,0,{"$f":"IF(OR(Z19=0,Z19=\"\"),\"\",IF(Z20=0,\"A\",IF(Z19>Z20,\"B\",\"A\")))","v":""},"","",null,"",""]
[3,null,"","",14,{"$f":"HLOOKUP(E20,mens_handbook,C3,FALSE)","v":33},{"$f":"IF(ISERROR(HLOOKUP(F20,mens_declare,C4,FALSE))=TRUE,\"\",HLOOKUP(F20,mens_declare,C4,FALSE))","v":"-"},"Isle of Man \"B\"",0,null,0,null,0,null,0,null,0,0,null,0,null,0,null,0,null,0,{"$f":"IF(OR(Z20=0,Z20=\"\"),\"\",IF(Z19=0,\"A\",IF(Z20>=Z19,\"B\",\"A\")))","v":""},"","",null,"",""]
[0,null,"","",15,{"$f":"HLOOKUP(E21,mens_handbook,C3,FALSE)","v":0},{"$f":"IF(ISERROR(HLOOKUP(F21,mens_declare,C4,FALSE))=TRUE,\"\",HLOOKUP(F21,mens_declare,C4,FALSE))","v":""},"",0,null,0,null,0,null,0,null,0,0,null,0,null,0,null,0,null,0,{"$f":"IF(OR(Z21=0,Z21=\"\"),\"\",IF(Z22=0,\"A\",IF(Z21>Z22,\"B\",\"A\")))","v":""},"","",null,"",""]
[0,null,"","",16,{"$f":"HLOOKUP(E22,mens_handbook,C3,FALSE)","v":0},{"$f":"IF(ISERROR(HLOOKUP(F22,mens_declare,C4,FALSE))=TRUE,\"\",HLOOKUP(F22,mens_declare,C4,FALSE))","v":""},"",0,null,0,null,0,null,0,null,0,0,null,0,null,0,null,0,null,0,{"$f":"IF(OR(Z22=0,Z22=\"\"),\"\",IF(Z21=0,\"A\",IF(Z22>=Z21,\"B\",\"A\")))","v":""},"","",null,"",""]
[]
[null,null,null,null,"\"A\" STRING RESULT",null,null,null,null,null,"\"B\" STRING RESULT",null,null,null,null,null,null,null,null,null,null,null,"JUDGES' SIGNATURES"]
[null,null,null,null,"Posn","No.","NAME","CLUB","DISTANCE",null,"Posn","No.","NAME",null,null,null,"CLUB",null,null,null,"DISTANCE"]
[null,null,1,null,1,{"$f":"IF(ISERROR(VLOOKUP(C26,$C$7:$Y$22,4,FALSE))=TRUE,0,IF(VLOOKUP(C26,$C$7:$Y$22,22,FALSE)=0,\"\",IF(VLOOKUP(C26,$C$7:$Y$22,22,FALSE)=99,99,IF(VLOOKUP(C26,$C$7:$Y$22,22,FALSE)=98,98,IF(VLOOKUP(C26,$C$7:$Y$22,22,FALSE)=96,96,VLOOKUP(C26,$C$7:$Y$22,4,FALSE))))))","v":0},{"$f":"IF(ISERROR(VLOOKUP(C26,$C$7:$Y$22,4,FALSE))=TRUE,0,VLOOKUP(C26,$C$7:$Y$22,5,FALSE))","v":0},{"$f":"IF(ISERROR(VLOOKUP(C26,$C$7:$Y$22,4,FALSE))=TRUE,0,VLOOKUP(C26,$C$7:$Y$22,6,FALSE))","v":0},{"$f":"IF(ISERROR(VLOOKUP(C26,$C$7:$Y$22,4,FALSE))=TRUE,0,IF(VLOOKUP(C26,$C$7:$Y$22,22,FALSE)=0,\"\",IF(VLOOKUP(C26,$C$7:$Y$22,22,FALSE)>95.99,\"\",VLOOKUP(C26,$C$7:$Y$22,22,FALSE))))","v":0},null,1,{"$f":"IF(ISERROR(VLOOKUP(C26,$D$7:$Y$22,4,FALSE))=TRUE,0,IF(VLOOKUP(C26,D$7:Y$22,21,FALSE)=0,\"\",VLOOKUP(C26,D$7:Y$22,3,FALSE)))","v":0},{"$f":"IF(ISERROR(VLOOKUP(C26,$D$7:$Y$22,4,FALSE))=TRUE,0,VLOOKUP(C26,D$7:Y$22,4,FALSE))","v":0},null,null,null,{"$f":"IF(ISERROR(VLOOKUP(C26,$D$7:$Y$22,4,FALSE))=TRUE,0,VLOOKUP(C26,$D$7:$Y$22,5,FALSE))","v":0},null,null,null,{"$f":"IF(ISERROR(VLOOKUP(C26,$D$7:$Y$22,3,FALSE))=TRUE,0,IF(VLOOKUP(C26,$D$7:$Y$22,21,FALSE)=0,\"\",VLOOKUP(C26,$D$7:$Y$22,21,FALSE)))","v":0}]
[null,null,2,null,2,0,0,0,0,null,2,0,0,null,null,null,0,null,null,null,0]
[null,null,3,null,3,0,0,0,0,null,3,0,0,null,null,null,0,null,null,null,0]
[null,null,4,null,4,0,0,0,0,null,4,0,0,null,null,null,0,null,null,null,0]
[null,null,5,null,5,0,0,0,0,null,5,0,0,null,null,null,0,null,null,null,0]
[null,null,6,null,6,0,0,0,0,null,6,0,0,null,null,null,0,null,null,null,0,null,"REFEREE'S SIGNATURE"]
[null,null,7,null,7,0,0,0,0,null,7,0,0,null,null,null,0,null,null,null,0]
[null,null,8,null,8,0,0,0,0,null,8,0,0,null,null,null,0,null,null,null,0]

{"sheet":"Mens Shot","index":7,"n_rows":33,"n_cols":32,"rows_kept":33,"cut":false,"hidden":false,"merged":[[25,8,25,9],[26,8,26,9],[25,12,25,15],[14,23,14,24],[15,23,15,24],[6,23,6,24],[10,23,10,24],[7,21,7,22],[8,21,8,22],[20,23,20,24],[19,21,19,22],[20,21,20,22],[26,12,26,15],[25,20,25,21],[21,23,21,24],[20,14,20,15],[21,14,21,15],[7,23,7,24],[8,23,8,24],[9,23,9,24],[17,21,17,22],[12,19,12,20],[20,17,20,18],[17,17,17,18],[30,8,30,9],[31,8,31,9],[32,8,32,9],[31,12,31,15],[32,12,32,15],[31,16,31,19],[30,12,30,15],[30,16,30,19],[32,16,32,19],[32,20,32,21],[29,16,29,19],[15,21,15,22],[13,23,13,24],[27,20,27,21],[28,20,28,21],[29,12,29,15],[29,20,29,21],[21,21,21,22],[30,20,30,21],[25,16,25,19],[26,16,26,19],[27,16,27,19],[28,16,28,19],[31,20,31,21],[27,12,27,15],[16,21,16,22],[18,21,18,22],[13,19,13,20],[18,23,18,24],[19,23,19,24],[18,17,18,18],[19,17,19,18],[21,17,21,18],[29,8,29,9],[16,23,16,24],[21,8,21,9],[20,10,20,11],[21,10,21,11],[19,14,19,15],[14,12,14,13],[15,12,15,13],[16,12,16,13],[17,12,17,13],[18,12,18,13],[20,12,20,13],[19,12,19,13],[15,8,15,9],[16,10,16,11],[15,10,15,11],[18,19,18,20],[19,19,19,20],[17,19,17,20],[14,8,14,9],[21,19,21,20],[28,12,28,15],[26,20,26,21],[17,23,17,24],[6,10,6,11],[21,12,21,13],[17,14,17,15],[18,14,18,15],[7,10,7,11],[14,19,14,20],[15,19,15,20],[16,19,16,20],[12,12,12,13],[13,12,13,13],[14,14,14,15],[15,14,15,15],[16,14,16,15],[7,17,7,18],[8,17,8,18],[9,17,9,18],[10,17,10,18],[11,17,11,18],[7,12,7,13],[11,12,11,13],[8,10,8,11],[9,10,9,11],[11,14,11,15],[6,21,6,22],[6,12,6,13],[9,21,9,22],[10,21,10,22],[12,14,12,15],[13,14,13,15],[6,14,6,15],[7,14,7,15],[8,14,8,15],[9,14,9,15],[10,14,10,15],[12,17,12,18],[8,12,8,13],[6,19,6,20],[8,19,8,20],[7,19,7,20],[9,19,9,20],[10,19,10,20],[11,19,11,20],[13,17,13,18],[11,21,11,22],[12,21,12,22],[13,21,13,22],[6,17,6,18],[11,8,11,9],[12,8,12,9],[13,8,13,9],[11,10,11,11],[12,10,12,11],[13,10,13,11],[14,10,14,11],[10,10,10,11],[30,22,30,28],[23,4,23,9],[23,10,23,21],[23,22,23,28],[24,8,24,9],[24,12,24,15],[24,16,24,19],[24,20,24,21],[28,8,28,9],[14,17,14,18],[15,17,15,18],[16,17,16,18],[14,21,14,22],[11,23,11,24],[12,23,12,24],[20,19,20,20],[4,8,4,9],[4,10,4,11],[4,12,4,13],[4,14,4,15],[5,8,5,9],[27,8,27,9],[5,14,5,15],[9,12,9,13],[10,12,10,13],[6,8,6,9],[5,10,5,11],[5,12,5,13],[8,8,8,9],[9,8,9,9],[10,8,10,9],[17,10,17,11],[18,10,18,11],[19,10,19,11],[16,8,16,9],[17,8,17,9],[18,8,18,9],[19,8,19,9],[20,8,20,9],[7,8,7,9],[0,4,0,5],[2,4,2,5],[3,4,3,5],[2,11,2,15],[3,11,3,12],[2,16,2,18],[2,19,2,28],[2,6,2,7],[2,8,2,10],[3,6,3,7],[3,8,3,10],[1,4,1,18],[1,19,1,23],[1,25,1,28],[0,6,0,17],[0,19,0,28],[4,21,4,22],[4,23,4,24],[3,13,3,15],[3,16,3,18],[3,19,3,28],[4,25,5,25],[5,23,5,24],[4,16,5,16],[4,17,4,18],[4,19,4,20],[5,17,5,18],[5,19,5,20],[5,21,5,22],[4,26,4,28]]}
[null,null,null,null,"Home",null,{"$f":"'Match Day'!I4","v":"Northern T&F League"},null,null,null,null,null,null,null,null,null,null,null,null,{"$f":"'Match Day'!C6","v":"Crewe & Nantwich AC"}]
[17,null,26,null,"UK ATHLETICS: DISTANCE CARD",null,null,null,null,null,null,null,null,null,null,null,null,null,null,"Progression Standard:",null,null,null,null,{"$f":"VLOOKUP(A2,mens_handbook,20,FALSE)","v":9},"metres"]
[null,null,{"$f":"VLOOKUP(A2,mens_handbook,37,FALSE)","v":18},null,"MEETING ",null,{"$f":"CONCATENATE('Match Day'!$I$8,\" \",'Match Day'!$I$10)","v":"Division 4W Match 1"},null,"VENUE ",null,null,{"$f":"'Match Day'!$I$12","v":"Litherland"},null,null,null,null,"DATE ",null,null,{"$f":"'Match Day'!$I$6","v":"2014-05-04"}]
[null,null,{"$f":"VLOOKUP(A2,mens_declare,20,FALSE)","v":18},null,"EVENT",null,{"$f":"VLOOKUP(A2,mens_handbook,3,FALSE)","v":"Men's Shot Putt"},null,"TIME",null,null,{"$f":"VLOOKUP(A2,mens_handbook,2,FALSE)","v":"15:05:00"},null,"RECORD",null,null,{"$f":"VLOOKUP(A2,mens_handbook,29,FALSE)","v":2007},null,null,{"$f":"IF($A2=\"\",\"\",CONCATENATE(VLOOKUP($A2,mens_handbook,26,FALSE),\", \",VLOOKUP($A2,mens_handbook,27,FALSE),\", \",VLOOKUP($A2,mens_handbook,28,FALSE)))","v":"Carl Myerscough, Blackpool & Fylde AC, 18.86m"}]
[null,null,null,null,"Order","No","NAME","CLUB","1st Trial",null,"2nd Trial",null,"3rd Trial",null,"Best of 3",null,"Position after\n3 Trials","4th Trial",null,"5th Trial",null,"6th Trial",null,"Best of All",null,"Final\nPositionn","A or B"]
[null,null,"A","B",null,null,null,null,"Metres",null,"Metres",null,"Metres",null,"Metres",null,null,"Metres",null,"Metres",null,"Metres",null,"Metres",null,null,null,"A","B"]
[{"$f":"IF(F7=\"\",\"\",IF(F7>10,F7/11,F7))","v":7},null,{"$f":"AB7","v":""},{"$f":"AC7","v":""},1,{"$f":"HLOOKUP(E7,mens_handbook,C3,FALSE)","v":7},{"$f":"IF(ISERROR(HLOOKUP(F7,mens_declare,C4,FALSE))=TRUE,\"\",HLOOKUP(F7,mens_declare,C4,FALSE))","v":"-"},{"$f":"IF(ISERROR(VLOOKUP(A7,matchday,2,FALSE))=TRUE,\"\",VLOOKUP(A7,matchday,2,FALSE))","v":"Wrexham AAC"},0,null,0,null,0,null,{"$f":"LARGE(I7:N7,1)","v":0},null,{"$f":"IF(OR(O7=0,O7=\"\"),0,RANK(O7,$O$7:$P$22,0))","v":0},0,null,0,null,0,null,{"$f":"IF(O7>LARGE(R7:W7,1),O7,LARGE(R7:W7,1))","v":0},null,{"$f":"IF(OR(Q7=0,Q7=\"\",X7=\"\",X7=0),0,RANK(X7,$X$7:$Y$22,0))","v":0},{"$f":"IF(OR(Z7=0,Z7=\"\"),\"\",IF(Z8=0,\"A\",IF(Z7>Z8,\"B\",\"A\")))","v":""},{"$f":"IF(OR(Z7=0,Z7=\"\",AA7=\"B\"),\"\",RANK(AE7,$AE$7:$AE$22,1))","v":""},{"$f":"IF(OR(Z7=0,Z7=\"\",AA7=\"A\"),\"\",RANK(AF7,$AF$7:$AF$22,1))","v":""},null,{"$f":"IF(OR(Z7=\"\",Z7=0,AA7=\"\",AA7=0,AA7=\"B\"),\"\",Z7)","v":""},{"$f":"IF(OR(Z7=\"\",Z7=0,AA7=\"\",AA7=0,AA7=\"A\"),\"\",Z7)","v":""}]
[7,null,"","",2,{"$f":"HLOOKUP(E8,mens_handbook,C3,FALSE)","v":77},{"$f":"IF(ISERROR(HLOOKUP(F8,mens_declare,C4,FALSE))=TRUE,\"\",HLOOKUP(F8,mens_declare,C4,FALSE))","v":"-"},"Wrexham AAC",0,null,0,null,0,null,0,null,0,0,null,0,null,0,null,0,null,0,{"$f":"IF(OR(Z8=0,Z8=\"\"),\"\",IF(Z7=0,\"A\",IF(Z8>=Z7,\"B\",\"A\")))","v":""},"","",null,"",""]
[2,null,"","",3,{"$f":"HLOOKUP(E9,mens_handbook,C3,FALSE)","v":2},{"$f":"IF(ISERROR(HLOOKUP(F9,mens_declare,C4,FALSE))=TRUE,\"\",HLOOKUP(F9,mens_declare,C4,FALSE))","v":"-"},"Crewe & Nantwich AC",0,null,0,null,0,null,0,null,0,0,null,0,null,0,null,0,null,0,{"$f":"IF(OR(Z9=0,Z9=\"\"),\"\",IF(Z10=0,\"A\",IF(Z9>Z10,\"B\",\"A\")))","v":""},"","",null,"",""]
[2,null,"","",4,{"$f":"HLOOKUP(E10,mens_handbook,C3,FALSE)","v":22},{"$f":"IF(ISERROR(HLOOKUP(F10,mens_declare,C4,FALSE))=TRUE,\"\",HLOOKUP(F10,mens_declare,C4,FALSE))","v":"-"},"Crewe & Nantwich AC",0,null,0,null,0,null,0,null,0,0,null,0,null,0,null,0,null,0,{"$f":"IF(OR(Z10=0,Z10=\"\"),\"\",IF(Z9=0,\"A\",IF(Z10>=Z9,\"B\",\"A\")))","v":""},"","",null,"",""]
[6,null,"","",5,{"$f":"HLOOKUP(E11,mens_handbook,C3,FALSE)","v":6},{"$f":"IF(ISERROR(HLOOKUP(F11,mens_declare,C4,FALSE))=TRUE,\"\",HLOOKUP(F11,mens_declare,C4,FALSE))","v":"-"},"Warrington AC",0,null,0,null,0,null,0,null,0,0,null,0,null,0,null,0,null,0,{"$f":"IF(OR(Z11=0,Z11=\"\"),\"\",IF(Z12=0,\"A\",IF(Z11>Z12,\"B\",\"A\")))","v":""},"","",null,"",""]
[6,null,"","",6,{"$f":"HLOOKUP(E12,mens_handbook,C3,FALSE)","v":66},{"$f":"IF(ISERROR(HLOOKUP(F12,mens_declare,C4,FALSE))=TRUE,\"\",HLOOKUP(F12,mens_declare,C4,FALSE))","v":"-"},"Warrington AC",0,null,0,null,0,null,0,null,0,0,null,0,null,0,null,0,null,0,{"$f":"IF(OR(Z12=0,Z12=\"\"),\"\",IF(Z11=0,\"A\",IF(Z12>=Z11,\"B\",\"A\")))","v":""},"","",null,"",""]
[5,null,"","",7,{"$f":"HLOOKUP(E13,mens_handbook,C3,FALSE)","v":5},{"$f":"IF(ISERROR(HLOOKUP(F13,mens_declare,C4,FALSE))=TRUE,\"\",HLOOKUP(F13,mens_declare,C4,FALSE))","v":"-"},"Southport Waterloo AC",0,null,0,null,0,null,0,null,0,0,null,0,null,0,null,0,null,0,{"$f":"IF(OR(Z13=0,Z13=\"\"),\"\",IF(Z14=0,\"A\",IF(Z13>Z14,\"B\",\"A\")))","v":""},"","",null,"",""]
[5,null,"","",8,{"$f":"HLOOKUP(E14,mens_handbook,C3,FALSE)","v":55},{"$f":"IF(ISERROR(HLOOKUP(F14,mens_declare,C4,FALSE))=TRUE,\"\",HLOOKUP(F14,mens_declare,C4,FALSE))","v":"-"},"Southport Waterloo AC",0,null,0,null,0,null,0,null,0,0,null,0,null,0,null,0,null,0,{"$f":"IF(OR(Z14=0,Z14=\"\"),\"\",IF(Z13=0,\"A\",IF(Z14>=Z13,\"B\",\"A\")))","v":""},"","",null,"",""]
[1,null,"","",9,{"$f":"HLOOKUP(E15,mens_handbook,C3,FALSE)","v":1},{"$f":"IF(ISERROR(HLOOKUP(F15,mens_declare,C4,FALSE))=TRUE,\"\",HLOOKUP(F15,mens_declare,C4,FALSE))","v":"-"},"Altrincham & District AC",0,null,0,null,0,null,0,null,0,0,null,0,null,0,null,0,null,0,{"$f":"IF(OR(Z15=0,Z15=\"\"),\"\",IF(Z16=0,\"A\",IF(Z15>Z16,\"B\",\"A\")))","v":""},"","",null,"",""]
[1,null,"","",10,{"$f":"HLOOKUP(E16,mens_handbook,C3,FALSE)","v":11},{"$f":"IF(ISERROR(HLOOKUP(F16,mens_declare,C4,FALSE))=TRUE,\"\",HLOOKUP(F16,mens_declare,C4,FALSE))","v":"-"},"Altrincham & District AC",0,null,0,null,0,null,0,null,0,0,null,0,null,0,null,0,null,0,{"$f":"IF(OR(Z16=0,Z16=\"\"),\"\",IF(Z15=0,\"A\",IF(Z16>=Z15,\"B\",\"A\")))","v":""},"","",null,"",""]
[4,null,"","",11,{"$f":"HLOOKUP(E17,mens_handbook,C3,FALSE)","v":4},{"$f":"IF(ISERROR(HLOOKUP(F17,mens_declare,C4,FALSE))=TRUE,\"\",HLOOKUP(F17,mens_declare,C4,FALSE))","v":"-"},"Salford Metropolitan AC",0,null,0,null,0,null,0,null,0,0,null,0,null,0,null,0,null,0,{"$f":"IF(OR(Z17=0,Z17=\"\"),\"\",IF(Z18=0,\"A\",IF(Z17>Z18,\"B\",\"A\")))","v":""},"","",null,"",""]
[4,null,"","",12,{"$f":"HLOOKUP(E18,mens_handbook,C3,FALSE)","v":44},{"$f":"IF(ISERROR(HLOOKUP(F18,mens_declare,C4,FALSE))=TRUE,\"\",HLOOKUP(F18,mens_declare,C4,FALSE))","v":"-"},"Salford Metropolitan AC",0,null,0,null,0,null,0,null,0,0,null,0,null,0,null,0,null,0,{"$f":"IF(OR(Z18=0,Z18=\"\"),\"\",IF(Z17=0,\"A\",IF(Z18>=Z17,\"B\",\"A\")))","v":""},"","",null,"",""]
[3,null,"","",13,{"$f":"HLOOKUP(E19,mens_handbook,C3,FALSE)","v":3},{"$f":"IF(ISERROR(HLOOKUP(F19,mens_declare,C4,FALSE))=TRUE,\"\",HLOOKUP(F19,mens_declare,C4,FALSE))","v":"-"},"Isle of Man \"B\"",0,null,0,null,0,null,0,null,0,0,null,0,null,0,null,0,null,0,{"$f":"IF(OR(Z19=0,Z19=\"\"),\"\",IF(Z20=0,\"A\",IF(Z19>Z20,\"B\",\"A\")))","v":""},"","",null,"",""]
[3,null,"","",14,{"$f":"HLOOKUP(E20,mens_handbook,C3,FALSE)","v":33},{"$f":"IF(ISERROR(HLOOKUP(F20,mens_declare,C4,FALSE))=TRUE,\"\",HLOOKUP(F20,mens_declare,C4,FALSE))","v":"-"},"Isle of Man \"B\"",0,null,0,null,0,null,0,null,0,0,null,0,null,0,null,0,null,0,{"$f":"IF(OR(Z20=0,Z20=\"\"),\"\",IF(Z19=0,\"A\",IF(Z20>=Z19,\"B\",\"A\")))","v":""},"","",null,"",""]
[0,null,"","",15,{"$f":"HLOOKUP(E21,mens_handbook,C3,FALSE)","v":0},{"$f":"IF(ISERROR(HLOOKUP(F21,mens_declare,C4,FALSE))=TRUE,\"\",HLOOKUP(F21,mens_declare,C4,FALSE))","v":""},"",0,null,0,null,0,null,0,null,0,0,null,0,null,0,null,0,null,0,{"$f":"IF(OR(Z21=0,Z21=\"\"),\"\",IF(Z22=0,\"A\",IF(Z21>Z22,\"B\",\"A\")))","v":""},"","",null,"",""]
[0,null,"","",16,{"$f":"HLOOKUP(E22,mens_handbook,C3,FALSE)","v":0},{"$f":"IF(ISERROR(HLOOKUP(F22,mens_declare,C4,FALSE))=TRUE,\"\",HLOOKUP(F22,mens_declare,C4,FALSE))","v":""},"",0,null,0,null,0,null,0,null,0,0,null,0,null,0,null,0,null,0,{"$f":"IF(OR(Z22=0,Z22=\"\"),\"\",IF(Z21=0,\"A\",IF(Z22>=Z21,\"B\",\"A\")))","v":""},"","",null,"",""]
[]
[null,null,null,null,"\"A\" STRING RESULT",null,null,null,null,null,"\"B\" STRING RESULT",null,null,null,null,null,null,null,null,null,null,null,"JUDGES' SIGNATURES"]
[null,null,null,null,"Posn","No.","NAME","CLUB","DISTANCE",null,"Posn","No.","NAME",null,null,null,"CLUB",null,null,null,"DISTANCE"]
[null,null,1,null,1,{"$f":"IF(ISERROR(VLOOKUP(C26,$C$7:$Y$22,4,FALSE))=TRUE,0,IF(VLOOKUP(C26,$C$7:$Y$22,22,FALSE)=0,\"\",IF(VLOOKUP(C26,$C$7:$Y$22,22,FALSE)=99,99,IF(VLOOKUP(C26,$C$7:$Y$22,22,FALSE)=98,98,IF(VLOOKUP(C26,$C$7:$Y$22,22,FALSE)=96,96,VLOOKUP(C26,$C$7:$Y$22,4,FALSE))))))","v":0},{"$f":"IF(ISERROR(VLOOKUP(C26,$C$7:$Y$22,4,FALSE))=TRUE,0,VLOOKUP(C26,$C$7:$Y$22,5,FALSE))","v":0},{"$f":"IF(ISERROR(VLOOKUP(C26,$C$7:$Y$22,4,FALSE))=TRUE,0,VLOOKUP(C26,$C$7:$Y$22,6,FALSE))","v":0},{"$f":"IF(ISERROR(VLOOKUP(C26,$C$7:$Y$22,4,FALSE))=TRUE,0,IF(VLOOKUP(C26,$C$7:$Y$22,22,FALSE)=0,\"\",IF(VLOOKUP(C26,$C$7:$Y$22,22,FALSE)>95.99,\"\",VLOOKUP(C26,$C$7:$Y$22,22,FALSE))))","v":0},null,1,{"$f":"IF(ISERROR(VLOOKUP(C26,$D$7:$Y$22,4,FALSE))=TRUE,0,IF(VLOOKUP(C26,D$7:Y$22,21,FALSE)=0,\"\",VLOOKUP(C26,D$7:Y$22,3,FALSE)))","v":0},{"$f":"IF(ISERROR(VLOOKUP(C26,$D$7:$Y$22,4,FALSE))=TRUE,0,VLOOKUP(C26,D$7:Y$22,4,FALSE))","v":0},null,null,null,{"$f":"IF(ISERROR(VLOOKUP(C26,$D$7:$Y$22,4,FALSE))=TRUE,0,VLOOKUP(C26,$D$7:$Y$22,5,FALSE))","v":0},null,null,null,{"$f":"IF(ISERROR(VLOOKUP(C26,$D$7:$Y$22,3,FALSE))=TRUE,0,IF(VLOOKUP(C26,$D$7:$Y$22,21,FALSE)=0,\"\",VLOOKUP(C26,$D$7:$Y$22,21,FALSE)))","v":0}]
[null,null,2,null,2,0,0,0,0,null,2,0,0,null,null,null,0,null,null,null,0]
[null,null,3,null,3,0,0,0,0,null,3,0,0,null,null,null,0,null,null,null,0]
[null,null,4,null,4,0,0,0,0,null,4,0,0,null,null,null,0,null,null,null,0]
[null,null,5,null,5,0,0,0,0,null,5,0,0,null,null,null,0,null,null,null,0]
[null,null,6,null,6,0,0,0,0,null,6,0,0,null,null,null,0,null,null,null,0,null,"REFEREE'S SIGNATURE"]
[null,null,7,null,7,0,0,0,0,null,7,0,0,null,null,null,0,null,null,null,0]
[null,null,8,null,8,0,0,0,0,null,8,0,0,null,null,null,0,null,null,null,0]

{"sheet":"Mens LJ","index":8,"n_rows":33,"n_cols":32,"rows_kept":33,"cut":false,"hidden":false,"merged":[[25,8,25,9],[26,8,26,9],[25,12,25,15],[14,23,14,24],[15,23,15,24],[6,23,6,24],[10,23,10,24],[7,21,7,22],[8,21,8,22],[20,23,20,24],[19,21,19,22],[20,21,20,22],[26,12,26,15],[25,20,25,21],[21,23,21,24],[20,14,20,15],[21,14,21,15],[7,23,7,24],[8,23,8,24],[9,23,9,24],[17,21,17,22],[12,19,12,20],[20,17,20,18],[17,17,17,18],[30,8,30,9],[31,8,31,9],[32,8,32,9],[31,12,31,15],[32,12,32,15],[31,16,31,19],[30,12,30,15],[30,16,30,19],[32,16,32,19],[32,20,32,21],[29,16,29,19],[15,21,15,22],[13,23,13,24],[27,20,27,21],[28,20,28,21],[29,12,29,15],[29,20,29,21],[21,21,21,22],[30,20,30,21],[25,16,25,19],[26,16,26,19],[27,16,27,19],[28,16,28,19],[31,20,31,21],[27,12,27,15],[16,21,16,22],[18,21,18,22],[13,19,13,20],[18,23,18,24],[19,23,19,24],[18,17,18,18],[19,17,19,18],[21,17,21,18],[29,8,29,9],[16,23,16,24],[21,8,21,9],[20,10,20,11],[21,10,21,11],[19,14,19,15],[14,12,14,13],[15,12,15,13],[16,12,16,13],[17,12,17,13],[18,12,18,13],[20,12,20,13],[19,12,19,13],[15,8,15,9],[16,10,16,11],[15,10,15,11],[18,19,18,20],[19,19,19,20],[17,19,17,20],[14,8,14,9],[21,19,21,20],[28,12,28,15],[26,20,26,21],[17,23,17,24],[6,10,6,11],[21,12,21,13],[17,14,17,15],[18,14,18,15],[7,10,7,11],[14,19,14,20],[15,19,15,20],[16,19,16,20],[12,12,12,13],[13,12,13,13],[14,14,14,15],[15,14,15,15],[16,14,16,15],[7,17,7,18],[8,17,8,18],[9,17,9,18],[10,17,10,18],[11,17,11,18],[7,12,7,13],[11,12,11,13],[8,10,8,11],[9,10,9,11],[11,14,11,15],[6,21,6,22],[6,12,6,13],[9,21,9,22],[10,21,10,22],[12,14,12,15],[13,14,13,15],[6,14,6,15],[7,14,7,15],[8,14,8,15],[9,14,9,15],[10,14,10,15],[12,17,12,18],[8,12,8,13],[6,19,6,20],[8,19,8,20],[7,19,7,20],[9,19,9,20],[10,19,10,20],[11,19,11,20],[13,17,13,18],[11,21,11,22],[12,21,12,22],[13,21,13,22],[6,17,6,18],[11,8,11,9],[12,8,12,9],[13,8,13,9],[11,10,11,11],[12,10,12,11],[13,10,13,11],[14,10,14,11],[10,10,10,11],[30,22,30,28],[23,4,23,9],[23,10,23,21],[23,22,23,28],[24,8,24,9],[24,12,24,15],[24,16,24,19],[24,20,24,21],[28,8,28,9],[14,17,14,18],[15,17,15,18],[16,17,16,18],[14,21,14,22],[11,23,11,24],[12,23,12,24],[20,19,20,20],[4,8,4,9],[4,10,4,11],[4,12,4,13],[4,14,4,15],[5,8,5,9],[27,8,27,9],[5,14,5,15],[9,12,9,13],[10,12,10,13],[6,8,6,9],[5,10,5,11],[5,12,5,13],[8,8,8,9],[9,8,9,9],[10,8,10,9],[17,10,17,11],[18,10,18,11],[19,10,19,11],[16,8,16,9],[17,8,17,9],[18,8,18,9],[19,8,19,9],[20,8,20,9],[7,8,7,9],[0,4,0,5],[2,4,2,5],[3,4,3,5],[2,11,2,15],[3,11,3,12],[2,16,2,18],[2,19,2,28],[2,6,2,7],[2,8,2,10],[3,6,3,7],[3,8,3,10],[1,4,1,18],[1,19,1,23],[1,25,1,28],[0,6,0,17],[0,19,0,28],[4,21,4,22],[4,23,4,24],[3,13,3,15],[3,16,3,18],[3,19,3,28],[4,25,5,25],[5,23,5,24],[4,16,5,16],[4,17,4,18],[4,19,4,20],[5,17,5,18],[5,19,5,20],[5,21,5,22],[4,26,4,28]]}
[null,null,null,null,"Home",null,{"$f":"'Match Day'!I4","v":"Northern T&F League"},null,null,null,null,null,null,null,null,null,null,null,null,{"$f":"'Match Day'!C16","v":"Wrexham AAC"}]
[13,null,26,null,"UK ATHLETICS: DISTANCE CARD",null,null,null,null,null,null,null,null,null,null,null,null,null,null,"Progression Standard:",null,null,null,null,{"$f":"VLOOKUP(A2,mens_handbook,20,FALSE)","v":5.5},"metres"]
[null,null,{"$f":"VLOOKUP(A2,mens_handbook,37,FALSE)","v":14},null,"MEETING ",null,{"$f":"CONCATENATE('Match Day'!$I$8,\" \",'Match Day'!$I$10)","v":"Division 4W Match 1"},null,"VENUE ",null,null,{"$f":"'Match Day'!$I$12","v":"Litherland"},null,null,null,null,"DATE ",null,null,{"$f":"'Match Day'!$I$6","v":"2014-05-04"}]
[null,null,{"$f":"VLOOKUP(A2,mens_declare,20,FALSE)","v":14},null,"EVENT",null,{"$f":"VLOOKUP(A2,mens_handbook,3,FALSE)","v":"Men's Long Jump"},null,"TIME",null,null,{"$f":"VLOOKUP(A2,mens_handbook,2,FALSE)","v":"13:00:00"},null,"RECORD",null,null,{"$f":"VLOOKUP(A2,mens_handbook,29,FALSE)","v":2003},null,null,{"$f":"IF($A2=\"\",\"\",CONCATENATE(VLOOKUP($A2,mens_handbook,26,FALSE),\", \",VLOOKUP($A2,mens_handbook,27,FALSE),\", \",VLOOKUP($A2,mens_handbook,28,FALSE)))","v":"Chris Kirk, Wakefield & District, 7.60m"}]
[null,null,null,null,"Order","No","NAME","CLUB","1st Trial",null,"2nd Trial",null,"3rd Trial",null,"Best of 3",null,"Position after\n3 Trials","4th Trial",null,"5th Trial",null,"6th Trial",null,"Best of All",null,"Final\nPositionn","A or B"]
[null,null,"A","B",null,null,null,null,"Metres",null,"Metres",null,"Metres",null,"Metres",null,null,"Metres",null,"Metres",null,"Metres",null,"Metres",null,null,null,"A","B"]
[{"$f":"IF(F7=\"\",\"\",IF(F7>10,F7/11,F7))","v":4},null,{"$f":"AB7","v":""},{"$f":"AC7","v":""},1,{"$f":"HLOOKUP(E7,mens_handbook,C3,FALSE)","v":4},{"$f":"IF(ISERROR(HLOOKUP(F7,mens_declare,C4,FALSE))=TRUE,\"\",HLOOKUP(F7,mens_declare,C4,FALSE))","v":"-"},{"$f":"IF(ISERROR(VLOOKUP(A7,matchday,2,FALSE))=TRUE,\"\",VLOOKUP(A7,matchday,2,FALSE))","v":"Salford Metropolitan AC"},0,null,0,null,0,null,{"$f":"LARGE(I7:N7,1)","v":0},null,{"$f":"IF(OR(O7=0,O7=\"\"),0,RANK(O7,$O$7:$P$22,0))","v":0},0,null,0,null,0,null,{"$f":"IF(O7>LARGE(R7:W7,1),O7,LARGE(R7:W7,1))","v":0},null,{"$f":"IF(OR(Q7=0,Q7=\"\",X7=\"\",X7=0),0,RANK(X7,$X$7:$Y$22,0))","v":0},{"$f":"IF(OR(Z7=0,Z7=\"\"),\"\",IF(Z8=0,\"A\",IF(Z7>Z8,\"B\",\"A\")))","v":""},{"$f":"IF(OR(Z7=0,Z7=\"\",AA7=\"B\"),\"\",RANK(AE7,$AE$7:$AE$22,1))","v":""},{"$f":"IF(OR(Z7=0,Z7=\"\",AA7=\"A\"),\"\",RANK(AF7,$AF$7:$AF$22,1))","v":""},null,{"$f":"IF(OR(Z7=\"\",Z7=0,AA7=\"\",AA7=0,AA7=\"B\"),\"\",Z7)","v":""},{"$f":"IF(OR(Z7=\"\",Z7=0,AA7=\"\",AA7=0,AA7=\"A\"),\"\",Z7)","v":""}]
[4,null,"","",2,{"$f":"HLOOKUP(E8,mens_handbook,C3,FALSE)","v":44},{"$f":"IF(ISERROR(HLOOKUP(F8,mens_declare,C4,FALSE))=TRUE,\"\",HLOOKUP(F8,mens_declare,C4,FALSE))","v":"-"},"Salford Metropolitan AC",0,null,0,null,0,null,0,null,0,0,null,0,null,0,null,0,null,0,{"$f":"IF(OR(Z8=0,Z8=\"\"),\"\",IF(Z7=0,\"A\",IF(Z8>=Z7,\"B\",\"A\")))","v":""},"","",null,"",""]
[3,null,"","",3,{"$f":"HLOOKUP(E9,mens_handbook,C3,FALSE)","v":3},{"$f":"IF(ISERROR(HLOOKUP(F9,mens_declare,C4,FALSE))=TRUE,\"\",HLOOKUP(F9,mens_declare,C4,FALSE))","v":"-"},"Isle of Man \"B\"",0,null,0,null,0,null,0,null,0,0,null,0,null,0,null,0,null,0,{"$f":"IF(OR(Z9=0,Z9=\"\"),\"\",IF(Z10=0,\"A\",IF(Z9>Z10,\"B\",\"A\")))","v":""},"","",null,"",""]
[3,null,"","",4,{"$f":"HLOOKUP(E10,mens_handbook,C3,FALSE)","v":33},{"$f":"IF(ISERROR(HLOOKUP(F10,mens_declare,C4,FALSE))=TRUE,\"\",HLOOKUP(F10,mens_declare,C4,FALSE))","v":"-"},"Isle of Man \"B\"",0,null,0,null,0,null,0,null,0,0,null,0,null,0,null,0,null,0,{"$f":"IF(OR(Z10=0,Z10=\"\"),\"\",IF(Z9=0,\"A\",IF(Z10>=Z9,\"B\",\"A\")))","v":""},"","",null,"",""]
[5,null,"","",5,{"$f":"HLOOKUP(E11,mens_handbook,C3,FALSE)","v":5},{"$f":"IF(ISERROR(HLOOKUP(F11,mens_declare,C4,FALSE))=TRUE,\"\",HLOOKUP(F11,mens_declare,C4,FALSE))","v":"-"},"Southport Waterloo AC",0,null,0,null,0,null,0,null,0,0,null,0,null,0,null,0,null,0,{"$f":"IF(OR(Z11=0,Z11=\"\"),\"\",IF(Z12=0,\"A\",IF(Z11>Z12,\"B\",\"A\")))","v":""},"","",null,"",""]
[5,null,"","",6,{"$f":"HLOOKUP(E12,mens_handbook,C3,FALSE)","v":55},{"$f":"IF(ISERROR(HLOOKUP(F12,mens_declare,C4,FALSE))=TRUE,\"\",HLOOKUP(F12,mens_declare,C4,FALSE))","v":"-"},"Southport Waterloo AC",0,null,0,null,0,null,0,null,0,0,null,0,null,0,null,0,null,0,{"$f":"IF(OR(Z12=0,Z12=\"\"),\"\",IF(Z11=0,\"A\",IF(Z12>=Z11,\"B\",\"A\")))","v":""},"","",null,"",""]
[1,null,"","",7,{"$f":"HLOOKUP(E13,mens_handbook,C3,FALSE)","v":1},{"$f":"IF(ISERROR(HLOOKUP(F13,mens_declare,C4,FALSE))=TRUE,\"\",HLOOKUP(F13,mens_declare,C4,FALSE))","v":"-"},"Altrincham & District AC",0,null,0,null,0,null,0,null,0,0,null,0,null,0,null,0,null,0,{"$f":"IF(OR(Z13=0,Z13=\"\"),\"\",IF(Z14=0,\"A\",IF(Z13>Z14,\"B\",\"A\")))","v":""},"","",null,"",""]
[1,null,"","",8,{"$f":"HLOOKUP(E14,mens_handbook,C3,FALSE)","v":11},{"$f":"IF(ISERROR(HLOOKUP(F14,mens_declare,C4,FALSE))=TRUE,\"\",HLOOKUP(F14,mens_declare,C4,FALSE))","v":"-"},"Altrincham & District AC",0,null,0,null,0,null,0,null,0,0,null,0,null,0,null,0,null,0,{"$f":"IF(OR(Z14=0,Z14=\"\"),\"\",IF(Z13=0,\"A\",IF(Z14>=Z13,\"B\",\"A\")))","v":""},"","",null,"",""]
[2,null,"","",9,{"$f":"HLOOKUP(E15,mens_handbook,C3,FALSE)","v":2},{"$f":"IF(ISERROR(HLOOKUP(F15,mens_declare,C4,FALSE))=TRUE,\"\",HLOOKUP(F15,mens_declare,C4,FALSE))","v":"-"},"Crewe & Nantwich AC",0,null,0,null,0,null,0,null,0,0,null,0,null,0,null,0,null,0,{"$f":"IF(OR(Z15=0,Z15=\"\"),\"\",IF(Z16=0,\"A\",IF(Z15>Z16,\"B\",\"A\")))","v":""},"","",null,"",""]
[2,null,"","",10,{"$f":"HLOOKUP(E16,mens_handbook,C3,FALSE)","v":22},{"$f":"IF(ISERROR(HLOOKUP(F16,mens_declare,C4,FALSE))=TRUE,\"\",HLOOKUP(F16,mens_declare,C4,FALSE))","v":"-"},"Crewe & Nantwich AC",0,null,0,null,0,null,0,null,0,0,null,0,null,0,null,0,null,0,{"$f":"IF(OR(Z16=0,Z16=\"\"),\"\",IF(Z15=0,\"A\",IF(Z16>=Z15,\"B\",\"A\")))","v":""},"","",null,"",""]
[6,null,"","",11,{"$f":"HLOOKUP(E17,mens_handbook,C3,FALSE)","v":6},{"$f":"IF(ISERROR(HLOOKUP(F17,mens_declare,C4,FALSE))=TRUE,\"\",HLOOKUP(F17,mens_declare,C4,FALSE))","v":"-"},"Warrington AC",0,null,0,null,0,null,0,null,0,0,null,0,null,0,null,0,null,0,{"$f":"IF(OR(Z17=0,Z17=\"\"),\"\",IF(Z18=0,\"A\",IF(Z17>Z18,\"B\",\"A\")))","v":""},"","",null,"",""]
[6,null,"","",12,{"$f":"HLOOKUP(E18,mens_handbook,C3,FALSE)","v":66},{"$f":"IF(ISERROR(HLOOKUP(F18,mens_declare,C4,FALSE))=TRUE,\"\",HLOOKUP(F18,mens_declare,C4,FALSE))","v":"-"},"Warrington AC",0,null,0,null,0,null,0,null,0,0,null,0,null,0,null,0,null,0,{"$f":"IF(OR(Z18=0,Z18=\"\"),\"\",IF(Z17=0,\"A\",IF(Z18>=Z17,\"B\",\"A\")))","v":""},"","",null,"",""]
[7,null,"","",13,{"$f":"HLOOKUP(E19,mens_handbook,C3,FALSE)","v":7},{"$f":"IF(ISERROR(HLOOKUP(F19,mens_declare,C4,FALSE))=TRUE,\"\",HLOOKUP(F19,mens_declare,C4,FALSE))","v":"-"},"Wrexham AAC",0,null,0,null,0,null,0,null,0,0,null,0,null,0,null,0,null,0,{"$f":"IF(OR(Z19=0,Z19=\"\"),\"\",IF(Z20=0,\"A\",IF(Z19>Z20,\"B\",\"A\")))","v":""},"","",null,"",""]
[7,null,"","",14,{"$f":"HLOOKUP(E20,mens_handbook,C3,FALSE)","v":77},{"$f":"IF(ISERROR(HLOOKUP(F20,mens_declare,C4,FALSE))=TRUE,\"\",HLOOKUP(F20,mens_declare,C4,FALSE))","v":"-"},"Wrexham AAC",0,null,0,null,0,null,0,null,0,0,null,0,null,0,null,0,null,0,{"$f":"IF(OR(Z20=0,Z20=\"\"),\"\",IF(Z19=0,\"A\",IF(Z20>=Z19,\"B\",\"A\")))","v":""},"","",null,"",""]
[0,null,"","",15,{"$f":"HLOOKUP(E21,mens_handbook,C3,FALSE)","v":0},{"$f":"IF(ISERROR(HLOOKUP(F21,mens_declare,C4,FALSE))=TRUE,\"\",HLOOKUP(F21,mens_declare,C4,FALSE))","v":""},"",0,null,0,null,0,null,0,null,0,0,null,0,null,0,null,0,null,0,{"$f":"IF(OR(Z21=0,Z21=\"\"),\"\",IF(Z22=0,\"A\",IF(Z21>Z22,\"B\",\"A\")))","v":""},"","",null,"",""]
[0,null,"","",16,{"$f":"HLOOKUP(E22,mens_handbook,C3,FALSE)","v":0},{"$f":"IF(ISERROR(HLOOKUP(F22,mens_declare,C4,FALSE))=TRUE,\"\",HLOOKUP(F22,mens_declare,C4,FALSE))","v":""},"",0,null,0,null,0,null,0,null,0,0,null,0,null,0,null,0,null,0,{"$f":"IF(OR(Z22=0,Z22=\"\"),\"\",IF(Z21=0,\"A\",IF(Z22>=Z21,\"B\",\"A\")))","v":""},"","",null,"",""]
[]
[null,null,null,null,"\"A\" STRING RESULT",null,null,null,null,null,"\"B\" STRING RESULT",null,null,null,null,null,null,null,null,null,null,null,"JUDGES' SIGNATURES"]
[null,null,null,null,"Posn","No.","NAME","CLUB","DISTANCE",null,"Posn","No.","NAME",null,null,null,"CLUB",null,null,null,"DISTANCE"]
[null,null,1,null,1,{"$f":"IF(ISERROR(VLOOKUP(C26,$C$7:$Y$22,4,FALSE))=TRUE,0,IF(VLOOKUP(C26,$C$7:$Y$22,22,FALSE)=0,\"\",IF(VLOOKUP(C26,$C$7:$Y$22,22,FALSE)=99,99,IF(VLOOKUP(C26,$C$7:$Y$22,22,FALSE)=98,98,IF(VLOOKUP(C26,$C$7:$Y$22,22,FALSE)=96,96,VLOOKUP(C26,$C$7:$Y$22,4,FALSE))))))","v":0},{"$f":"IF(ISERROR(VLOOKUP(C26,$C$7:$Y$22,4,FALSE))=TRUE,0,VLOOKUP(C26,$C$7:$Y$22,5,FALSE))","v":0},{"$f":"IF(ISERROR(VLOOKUP(C26,$C$7:$Y$22,4,FALSE))=TRUE,0,VLOOKUP(C26,$C$7:$Y$22,6,FALSE))","v":0},{"$f":"IF(ISERROR(VLOOKUP(C26,$C$7:$Y$22,4,FALSE))=TRUE,0,IF(VLOOKUP(C26,$C$7:$Y$22,22,FALSE)=0,\"\",IF(VLOOKUP(C26,$C$7:$Y$22,22,FALSE)>95.99,\"\",VLOOKUP(C26,$C$7:$Y$22,22,FALSE))))","v":0},null,1,{"$f":"IF(ISERROR(VLOOKUP(C26,$D$7:$Y$22,4,FALSE))=TRUE,0,IF(VLOOKUP(C26,D$7:Y$22,21,FALSE)=0,\"\",VLOOKUP(C26,D$7:Y$22,3,FALSE)))","v":0},{"$f":"IF(ISERROR(VLOOKUP(C26,$D$7:$Y$22,4,FALSE))=TRUE,0,VLOOKUP(C26,D$7:Y$22,4,FALSE))","v":0},null,null,null,{"$f":"IF(ISERROR(VLOOKUP(C26,$D$7:$Y$22,4,FALSE))=TRUE,0,VLOOKUP(C26,$D$7:$Y$22,5,FALSE))","v":0},null,null,null,{"$f":"IF(ISERROR(VLOOKUP(C26,$D$7:$Y$22,3,FALSE))=TRUE,0,IF(VLOOKUP(C26,$D$7:$Y$22,21,FALSE)=0,\"\",VLOOKUP(C26,$D$7:$Y$22,21,FALSE)))","v":0}]
[null,null,2,null,2,0,0,0,0,null,2,0,0,null,null,null,0,null,null,null,0]
[null,null,3,null,3,0,0,0,0,null,3,0,0,null,null,null,0,null,null,null,0]
[null,null,4,null,4,0,0,0,0,null,4,0,0,null,null,null,0,null,null,null,0]
[null,null,5,null,5,0,0,0,0,null,5,0,0,null,null,null,0,null,null,null,0]
[null,null,6,null,6,0,0,0,0,null,6,0,0,null,null,null,0,null,null,null,0,null,"REFEREE'S SIGNATURE"]
[null,null,7,null,7,0,0,0,0,null,7,0,0,null,null,null,0,null,null,null,0]
[null,null,8,null,8,0,0,0,0,null,8,0,0,null,null,null,0,null,null,null,0]

{"sheet":"Mens TJ","index":9,"n_rows":33,"n_cols":32,"rows_kept":33,"cut":false,"hidden":false,"merged":[[25,8,25,9],[26,8,26,9],[25,12,25,15],[14,23,14,24],[15,23,15,24],[6,23,6,24],[10,23,10,24],[7,21,7,22],[8,21,8,22],[20,23,20,24],[19,21,19,22],[20,21,20,22],[26,12,26,15],[25,20,25,21],[21,23,21,24],[20,14,20,15],[21,14,21,15],[7,23,7,24],[8,23,8,24],[9,23,9,24],[17,21,17,22],[12,19,12,20],[20,17,20,18],[17,17,17,18],[30,8,30,9],[31,8,31,9],[32,8,32,9],[31,12,31,15],[32,12,32,15],[31,16,31,19],[30,12,30,15],[30,16,30,19],[32,16,32,19],[32,20,32,21],[29,16,29,19],[15,21,15,22],[13,23,13,24],[27,20,27,21],[28,20,28,21],[29,12,29,15],[29,20,29,21],[21,21,21,22],[30,20,30,21],[25,16,25,19],[26,16,26,19],[27,16,27,19],[28,16,28,19],[31,20,31,21],[27,12,27,15],[16,21,16,22],[18,21,18,22],[13,19,13,20],[18,23,18,24],[19,23,19,24],[18,17,18,18],[19,17,19,18],[21,17,21,18],[29,8,29,9],[16,23,16,24],[21,8,21,9],[20,10,20,11],[21,10,21,11],[19,14,19,15],[14,12,14,13],[15,12,15,13],[16,12,16,13],[17,12,17,13],[18,12,18,13],[20,12,20,13],[19,12,19,13],[15,8,15,9],[16,10,16,11],[15,10,15,11],[18,19,18,20],[19,19,19,20],[17,19,17,20],[14,8,14,9],[21,19,21,20],[28,12,28,15],[26,20,26,21],[17,23,17,24],[6,10,6,11],[21,12,21,13],[17,14,17,15],[18,14,18,15],[7,10,7,11],[14,19,14,20],[15,19,15,20],[16,19,16,20],[12,12,12,13],[13,12,13,13],[14,14,14,15],[15,14,15,15],[16,14,16,15],[7,17,7,18],[8,17,8,18],[9,17,9,18],[10,17,10,18],[11,17,11,18],[7,12,7,13],[11,12,11,13],[8,10,8,11],[9,10,9,11],[11,14,11,15],[6,21,6,22],[6,12,6,13],[9,21,9,22],[10,21,10,22],[12,14,12,15],[13,14,13,15],[6,14,6,15],[7,14,7,15],[8,14,8,15],[9,14,9,15],[10,14,10,15],[12,17,12,18],[8,12,8,13],[6,19,6,20],[8,19,8,20],[7,19,7,20],[9,19,9,20],[10,19,10,20],[11,19,11,20],[13,17,13,18],[11,21,11,22],[12,21,12,22],[13,21,13,22],[6,17,6,18],[11,8,11,9],[12,8,12,9],[13,8,13,9],[11,10,11,11],[12,10,12,11],[13,10,13,11],[14,10,14,11],[10,10,10,11],[30,22,30,28],[23,4,23,9],[23,10,23,21],[23,22,23,28],[24,8,24,9],[24,12,24,15],[24,16,24,19],[24,20,24,21],[28,8,28,9],[14,17,14,18],[15,17,15,18],[16,17,16,18],[14,21,14,22],[11,23,11,24],[12,23,12,24],[20,19,20,20],[4,8,4,9],[4,10,4,11],[4,12,4,13],[4,14,4,15],[5,8,5,9],[27,8,27,9],[5,14,5,15],[9,12,9,13],[10,12,10,13],[6,8,6,9],[5,10,5,11],[5,12,5,13],[8,8,8,9],[9,8,9,9],[10,8,10,9],[17,10,17,11],[18,10,18,11],[19,10,19,11],[16,8,16,9],[17,8,17,9],[18,8,18,9],[19,8,19,9],[20,8,20,9],[7,8,7,9],[0,4,0,5],[2,4,2,5],[3,4,3,5],[2,11,2,15],[3,11,3,12],[2,16,2,18],[2,19,2,28],[2,6,2,7],[2,8,2,10],[3,6,3,7],[3,8,3,10],[1,4,1,18],[1,19,1,23],[1,25,1,28],[0,6,0,17],[0,19,0,28],[4,21,4,22],[4,23,4,24],[3,13,3,15],[3,16,3,18],[3,19,3,28],[4,25,5,25],[5,23,5,24],[4,16,5,16],[4,17,4,18],[4,19,4,20],[5,17,5,18],[5,19,5,20],[5,21,5,22],[4,26,4,28]]}
[null,null,null,null,"Home",null,{"$f":"'Match Day'!I4","v":"Northern T&F League"},null,null,null,null,null,null,null,null,null,null,null,null,{"$f":"'Match Day'!C8","v":"Isle of Man \"B\""}]
[16,null,26,null,"UK ATHLETICS: DISTANCE CARD",null,null,null,null,null,null,null,null,null,null,null,null,null,null,"Progression Standard:",null,null,null,null,{"$f":"VLOOKUP(A2,mens_handbook,20,FALSE)","v":10},"metres"]
[null,null,{"$f":"VLOOKUP(A2,mens_handbook,37,FALSE)","v":17},null,"MEETING ",null,{"$f":"CONCATENATE('Match Day'!$I$8,\" \",'Match Day'!$I$10)","v":"Division 4W Match 1"},null,"VENUE ",null,null,{"$f":"'Match Day'!$I$12","v":"Litherland"},null,null,null,null,"DATE ",null,null,{"$f":"'Match Day'!$I$6","v":"2014-05-04"}]
[null,null,{"$f":"VLOOKUP(A2,mens_declare,20,FALSE)","v":17},null,"EVENT",null,{"$f":"VLOOKUP(A2,mens_handbook,3,FALSE)","v":"Men's Triple Jump"},null,"TIME",null,null,{"$f":"VLOOKUP(A2,mens_handbook,2,FALSE)","v":"15:35:00"},null,"RECORD",null,null,{"$f":"VLOOKUP(A2,mens_handbook,29,FALSE)","v":1991},null,null,{"$f":"IF($A2=\"\",\"\",CONCATENATE(VLOOKUP($A2,mens_handbook,26,FALSE),\", \",VLOOKUP($A2,mens_handbook,27,FALSE),\", \",VLOOKUP($A2,mens_handbook,28,FALSE)))","v":"Jonathan Edwards, Gateshead H & AC, 17.43m"}]
[null,null,null,null,"Order","No","NAME","CLUB","1st Trial",null,"2nd Trial",null,"3rd Trial",null,"Best of 3",null,"Position after\n3 Trials","4th Trial",null,"5th Trial",null,"6th Trial",null,"Best of All",null,"Final\nPositionn","A or B"]
[null,null,"A","B",null,null,null,null,"Metres",null,"Metres",null,"Metres",null,"Metres",null,null,"Metres",null,"Metres",null,"Metres",null,"Metres",null,null,null,"A","B"]
[{"$f":"IF(F7=\"\",\"\",IF(F7>10,F7/11,F7))","v":6},null,{"$f":"AB7","v":""},{"$f":"AC7","v":""},1,{"$f":"HLOOKUP(E7,mens_handbook,C3,FALSE)","v":6},{"$f":"IF(ISERROR(HLOOKUP(F7,mens_declare,C4,FALSE))=TRUE,\"\",HLOOKUP(F7,mens_declare,C4,FALSE))","v":"-"},{"$f":"IF(ISERROR(VLOOKUP(A7,matchday,2,FALSE))=TRUE,\"\",VLOOKUP(A7,matchday,2,FALSE))","v":"Warrington AC"},0,null,0,null,0,null,{"$f":"LARGE(I7:N7,1)","v":0},null,{"$f":"IF(OR(O7=0,O7=\"\"),0,RANK(O7,$O$7:$P$22,0))","v":0},0,null,0,null,0,null,{"$f":"IF(O7>LARGE(R7:W7,1),O7,LARGE(R7:W7,1))","v":0},null,{"$f":"IF(OR(Q7=0,Q7=\"\",X7=\"\",X7=0),0,RANK(X7,$X$7:$Y$22,0))","v":0},{"$f":"IF(OR(Z7=0,Z7=\"\"),\"\",IF(Z8=0,\"A\",IF(Z7>Z8,\"B\",\"A\")))","v":""},{"$f":"IF(OR(Z7=0,Z7=\"\",AA7=\"B\"),\"\",RANK(AE7,$AE$7:$AE$22,1))","v":""},{"$f":"IF(OR(Z7=0,Z7=\"\",AA7=\"A\"),\"\",RANK(AF7,$AF$7:$AF$22,1))","v":""},null,{"$f":"IF(OR(Z7=\"\",Z7=0,AA7=\"\",AA7=0,AA7=\"B\"),\"\",Z7)","v":""},{"$f":"IF(OR(Z7=\"\",Z7=0,AA7=\"\",AA7=0,AA7=\"A\"),\"\",Z7)","v":""}]
[6,null,"","",2,{"$f":"HLOOKUP(E8,mens_handbook,C3,FALSE)","v":66},{"$f":"IF(ISERROR(HLOOKUP(F8,mens_declare,C4,FALSE))=TRUE,\"\",HLOOKUP(F8,mens_declare,C4,FALSE))","v":"-"},"Warrington AC",0,null,0,null,0,null,0,null,0,0,null,0,null,0,null,0,null,0,{"$f":"IF(OR(Z8=0,Z8=\"\"),\"\",IF(Z7=0,\"A\",IF(Z8>=Z7,\"B\",\"A\")))","v":""},"","",null,"",""]
[7,null,"","",3,{"$f":"HLOOKUP(E9,mens_handbook,C3,FALSE)","v":7},{"$f":"IF(ISERROR(HLOOKUP(F9,mens_declare,C4,FALSE))=TRUE,\"\",HLOOKUP(F9,mens_declare,C4,FALSE))","v":"-"},"Wrexham AAC",0,null,0,null,0,null,0,null,0,0,null,0,null,0,null,0,null,0,{"$f":"IF(OR(Z9=0,Z9=\"\"),\"\",IF(Z10=0,\"A\",IF(Z9>Z10,\"B\",\"A\")))","v":""},"","",null,"",""]
[7,null,"","",4,{"$f":"HLOOKUP(E10,mens_handbook,C3,FALSE)","v":77},{"$f":"IF(ISERROR(HLOOKUP(F10,mens_declare,C4,FALSE))=TRUE,\"\",HLOOKUP(F10,mens_declare,C4,FALSE))","v":"-"},"Wrexham AAC",0,null,0,null,0,null,0,null,0,0,null,0,null,0,null,0,null,0,{"$f":"IF(OR(Z10=0,Z10=\"\"),\"\",IF(Z9=0,\"A\",IF(Z10>=Z9,\"B\",\"A\")))","v":""},"","",null,"",""]
[1,null,"","",5,{"$f":"HLOOKUP(E11,mens_handbook,C3,FALSE)","v":1},{"$f":"IF(ISERROR(HLOOKUP(F11,mens_declare,C4,FALSE))=TRUE,\"\",HLOOKUP(F11,mens_declare,C4,FALSE))","v":"-"},"Altrincham & District AC",0,null,0,null,0,null,0,null,0,0,null,0,null,0,null,0,null,0,{"$f":"IF(OR(Z11=0,Z11=\"\"),\"\",IF(Z12=0,\"A\",IF(Z11>Z12,\"B\",\"A\")))","v":""},"","",null,"",""]
[1,null,"","",6,{"$f":"HLOOKUP(E12,mens_handbook,C3,FALSE)","v":11},{"$f":"IF(ISERROR(HLOOKUP(F12,mens_declare,C4,FALSE))=TRUE,\"\",HLOOKUP(F12,mens_declare,C4,FALSE))","v":"-"},"Altrincham & District AC",0,null,0,null,0,null,0,null,0,0,null,0,null,0,null,0,null,0,{"$f":"IF(OR(Z12=0,Z12=\"\"),\"\",IF(Z11=0,\"A\",IF(Z12>=Z11,\"B\",\"A\")))","v":""},"","",null,"",""]
[2,null,"","",7,{"$f":"HLOOKUP(E13,mens_handbook,C3,FALSE)","v":2},{"$f":"IF(ISERROR(HLOOKUP(F13,mens_declare,C4,FALSE))=TRUE,\"\",HLOOKUP(F13,mens_declare,C4,FALSE))","v":"-"},"Crewe & Nantwich AC",0,null,0,null,0,null,0,null,0,0,null,0,null,0,null,0,null,0,{"$f":"IF(OR(Z13=0,Z13=\"\"),\"\",IF(Z14=0,\"A\",IF(Z13>Z14,\"B\",\"A\")))","v":""},"","",null,"",""]
[2,null,"","",8,{"$f":"HLOOKUP(E14,mens_handbook,C3,FALSE)","v":22},{"$f":"IF(ISERROR(HLOOKUP(F14,mens_declare,C4,FALSE))=TRUE,\"\",HLOOKUP(F14,mens_declare,C4,FALSE))","v":"-"},"Crewe & Nantwich AC",0,null,0,null,0,null,0,null,0,0,null,0,null,0,null,0,null,0,{"$f":"IF(OR(Z14=0,Z14=\"\"),\"\",IF(Z13=0,\"A\",IF(Z14>=Z13,\"B\",\"A\")))","v":""},"","",null,"",""]
[3,null,"","",9,{"$f":"HLOOKUP(E15,mens_handbook,C3,FALSE)","v":3},{"$f":"IF(ISERROR(HLOOKUP(F15,mens_declare,C4,FALSE))=TRUE,\"\",HLOOKUP(F15,mens_declare,C4,FALSE))","v":"-"},"Isle of Man \"B\"",0,null,0,null,0,null,0,null,0,0,null,0,null,0,null,0,null,0,{"$f":"IF(OR(Z15=0,Z15=\"\"),\"\",IF(Z16=0,\"A\",IF(Z15>Z16,\"B\",\"A\")))","v":""},"","",null,"",""]
[3,null,"","",10,{"$f":"HLOOKUP(E16,mens_handbook,C3,FALSE)","v":33},{"$f":"IF(ISERROR(HLOOKUP(F16,mens_declare,C4,FALSE))=TRUE,\"\",HLOOKUP(F16,mens_declare,C4,FALSE))","v":"-"},"Isle of Man \"B\"",0,null,0,null,0,null,0,null,0,0,null,0,null,0,null,0,null,0,{"$f":"IF(OR(Z16=0,Z16=\"\"),\"\",IF(Z15=0,\"A\",IF(Z16>=Z15,\"B\",\"A\")))","v":""},"","",null,"",""]
[5,null,"","",11,{"$f":"HLOOKUP(E17,mens_handbook,C3,FALSE)","v":5},{"$f":"IF(ISERROR(HLOOKUP(F17,mens_declare,C4,FALSE))=TRUE,\"\",HLOOKUP(F17,mens_declare,C4,FALSE))","v":"-"},"Southport Waterloo AC",0,null,0,null,0,null,0,null,0,0,null,0,null,0,null,0,null,0,{"$f":"IF(OR(Z17=0,Z17=\"\"),\"\",IF(Z18=0,\"A\",IF(Z17>Z18,\"B\",\"A\")))","v":""},"","",null,"",""]
[5,null,"","",12,{"$f":"HLOOKUP(E18,mens_handbook,C3,FALSE)","v":55},{"$f":"IF(ISERROR(HLOOKUP(F18,mens_declare,C4,FALSE))=TRUE,\"\",HLOOKUP(F18,mens_declare,C4,FALSE))","v":"-"},"Southport Waterloo AC",0,null,0,null,0,null,0,null,0,0,null,0,null,0,null,0,null,0,{"$f":"IF(OR(Z18=0,Z18=\"\"),\"\",IF(Z17=0,\"A\",IF(Z18>=Z17,\"B\",\"A\")))","v":""},"","",null,"",""]
[4,null,"","",13,{"$f":"HLOOKUP(E19,mens_handbook,C3,FALSE)","v":4},{"$f":"IF(ISERROR(HLOOKUP(F19,mens_declare,C4,FALSE))=TRUE,\"\",HLOOKUP(F19,mens_declare,C4,FALSE))","v":"-"},"Salford Metropolitan AC",0,null,0,null,0,null,0,null,0,0,null,0,null,0,null,0,null,0,{"$f":"IF(OR(Z19=0,Z19=\"\"),\"\",IF(Z20=0,\"A\",IF(Z19>Z20,\"B\",\"A\")))","v":""},"","",null,"",""]
[4,null,"","",14,{"$f":"HLOOKUP(E20,mens_handbook,C3,FALSE)","v":44},{"$f":"IF(ISERROR(HLOOKUP(F20,mens_declare,C4,FALSE))=TRUE,\"\",HLOOKUP(F20,mens_declare,C4,FALSE))","v":"-"},"Salford Metropolitan AC",0,null,0,null,0,null,0,null,0,0,null,0,null,0,null,0,null,0,{"$f":"IF(OR(Z20=0,Z20=\"\"),\"\",IF(Z19=0,\"A\",IF(Z20>=Z19,\"B\",\"A\")))","v":""},"","",null,"",""]
[0,null,"","",15,{"$f":"HLOOKUP(E21,mens_handbook,C3,FALSE)","v":0},{"$f":"IF(ISERROR(HLOOKUP(F21,mens_declare,C4,FALSE))=TRUE,\"\",HLOOKUP(F21,mens_declare,C4,FALSE))","v":""},"",0,null,0,null,0,null,0,null,0,0,null,0,null,0,null,0,null,0,{"$f":"IF(OR(Z21=0,Z21=\"\"),\"\",IF(Z22=0,\"A\",IF(Z21>Z22,\"B\",\"A\")))","v":""},"","",null,"",""]
[0,null,"","",16,{"$f":"HLOOKUP(E22,mens_handbook,C3,FALSE)","v":0},{"$f":"IF(ISERROR(HLOOKUP(F22,mens_declare,C4,FALSE))=TRUE,\"\",HLOOKUP(F22,mens_declare,C4,FALSE))","v":""},"",0,null,0,null,0,null,0,null,0,0,null,0,null,0,null,0,null,0,{"$f":"IF(OR(Z22=0,Z22=\"\"),\"\",IF(Z21=0,\"A\",IF(Z22>=Z21,\"B\",\"A\")))","v":""},"","",null,"",""]
[]
[null,null,null,null,"\"A\" STRING RESULT",null,null,null,null,null,"\"B\" STRING RESULT",null,null,null,null,null,null,null,null,null,null,null,"JUDGES' SIGNATURES"]
[null,null,null,null,"Posn","No.","NAME","CLUB","DISTANCE",null,"Posn","No.","NAME",null,null,null,"CLUB",null,null,null,"DISTANCE"]
[null,null,1,null,1,{"$f":"IF(ISERROR(VLOOKUP(C26,$C$7:$Y$22,4,FALSE))=TRUE,0,IF(VLOOKUP(C26,$C$7:$Y$22,22,FALSE)=0,\"\",IF(VLOOKUP(C26,$C$7:$Y$22,22,FALSE)=99,99,IF(VLOOKUP(C26,$C$7:$Y$22,22,FALSE)=98,98,IF(VLOOKUP(C26,$C$7:$Y$22,22,FALSE)=96,96,VLOOKUP(C26,$C$7:$Y$22,4,FALSE))))))","v":0},{"$f":"IF(ISERROR(VLOOKUP(C26,$C$7:$Y$22,4,FALSE))=TRUE,0,VLOOKUP(C26,$C$7:$Y$22,5,FALSE))","v":0},{"$f":"IF(ISERROR(VLOOKUP(C26,$C$7:$Y$22,4,FALSE))=TRUE,0,VLOOKUP(C26,$C$7:$Y$22,6,FALSE))","v":0},{"$f":"IF(ISERROR(VLOOKUP(C26,$C$7:$Y$22,4,FALSE))=TRUE,0,IF(VLOOKUP(C26,$C$7:$Y$22,22,FALSE)=0,\"\",IF(VLOOKUP(C26,$C$7:$Y$22,22,FALSE)>95.99,\"\",VLOOKUP(C26,$C$7:$Y$22,22,FALSE))))","v":0},null,1,{"$f":"IF(ISERROR(VLOOKUP(C26,$D$7:$Y$22,4,FALSE))=TRUE,0,IF(VLOOKUP(C26,D$7:Y$22,21,FALSE)=0,\"\",VLOOKUP(C26,D$7:Y$22,3,FALSE)))","v":0},{"$f":"IF(ISERROR(VLOOKUP(C26,$D$7:$Y$22,4,FALSE))=TRUE,0,VLOOKUP(C26,D$7:Y$22,4,FALSE))","v":0},null,null,null,{"$f":"IF(ISERROR(VLOOKUP(C26,$D$7:$Y$22,4,FALSE))=TRUE,0,VLOOKUP(C26,$D$7:$Y$22,5,FALSE))","v":0},null,null,null,{"$f":"IF(ISERROR(VLOOKUP(C26,$D$7:$Y$22,3,FALSE))=TRUE,0,IF(VLOOKUP(C26,$D$7:$Y$22,21,FALSE)=0,\"\",VLOOKUP(C26,$D$7:$Y$22,21,FALSE)))","v":0}]
[null,null,2,null,2,0,0,0,0,null,2,0,0,null,null,null,0,null,null,null,0]
[null,null,3,null,3,0,0,0,0,null,3,0,0,null,null,null,0,null,null,null,0]
[null,null,4,null,4,0,0,0,0,null,4,0,0,null,null,null,0,null,null,null,0]
[null,null,5,null,5,0,0,0,0,null,5,0,0,null,null,null,0,null,null,null,0]
[null,null,6,null,6,0,0,0,0,null,6,0,0,null,null,null,0,null,null,null,0,null,"REFEREE'S SIGNATURE"]
[null,null,7,null,7,0,0,0,0,null,7,0,0,null,null,null,0,null,null,null,0]
[null,null,8,null,8,0,0,0,0,null,8,0,0,null,null,null,0,null,null,null,0]

{"sheet":"Mens HJ","index":10,"n_rows":33,"n_cols":72,"rows_kept":33,"cut":false,"hidden":false,"merged":[[31,14,31,19],[30,20,30,25],[18,30,18,31],[19,28,19,29],[21,18,21,19],[23,10,23,27],[21,10,21,11],[32,14,32,19],[29,12,29,13],[30,12,30,13],[31,12,31,13],[32,12,32,13],[29,14,29,19],[30,14,30,19],[32,20,32,25],[30,10,30,11],[26,14,26,19],[28,14,28,19],[31,10,31,11],[27,20,27,25],[29,20,29,25],[26,20,26,25],[28,10,28,11],[31,20,31,25],[16,30,16,31],[14,28,14,29],[17,30,17,31],[15,28,15,29],[16,28,16,29],[17,28,17,29],[17,26,17,27],[20,28,20,29],[20,26,20,27],[20,20,20,21],[15,24,15,25],[16,24,16,25],[17,24,17,25],[20,22,20,23],[19,24,19,25],[20,24,20,25],[18,24,18,25],[17,22,17,23],[13,24,13,25],[14,24,14,25],[6,24,6,25],[7,24,7,25],[8,24,8,25],[10,24,10,25],[9,24,9,25],[11,24,11,25],[12,24,12,25],[6,22,6,23],[7,22,7,23],[8,22,8,23],[9,22,9,23],[10,22,10,23],[11,22,11,23],[19,22,19,23],[12,22,12,23],[13,22,13,23],[14,22,14,23],[15,22,15,23],[16,22,16,23],[18,22,18,23],[6,16,6,17],[7,16,7,17],[8,16,8,17],[9,16,9,17],[10,16,10,17],[11,16,11,17],[6,20,6,21],[7,20,7,21],[8,20,8,21],[9,20,9,21],[10,20,10,21],[11,20,11,21],[15,16,15,17],[16,16,16,17],[17,16,17,17],[18,16,18,17],[19,16,19,17],[12,16,12,17],[13,16,13,17],[15,20,15,21],[16,20,16,21],[13,18,13,19],[14,18,14,19],[15,18,15,19],[16,18,16,19],[17,18,17,19],[18,18,18,19],[19,18,19,19],[14,20,14,21],[17,20,17,21],[18,20,18,21],[19,20,19,21],[13,20,13,21],[6,10,6,11],[7,10,7,11],[8,10,8,11],[9,10,9,11],[10,10,10,11],[19,10,19,11],[20,10,20,11],[14,8,14,9],[17,8,17,9],[18,8,18,9],[19,8,19,9],[13,10,13,11],[14,10,14,11],[15,10,15,11],[16,10,16,11],[17,10,17,11],[18,10,18,11],[12,8,12,9],[7,8,7,9],[8,8,8,9],[15,8,15,9],[16,8,16,9],[6,8,6,9],[9,8,9,9],[6,12,6,13],[9,32,9,33],[5,16,5,17],[5,26,5,27],[12,14,12,15],[6,14,6,15],[7,14,7,15],[7,12,7,13],[8,12,8,13],[9,12,9,13],[10,12,10,13],[11,12,11,13],[12,12,12,13],[12,18,12,19],[6,18,6,19],[7,18,7,19],[8,18,8,19],[9,18,9,19],[10,18,10,19],[11,18,11,19],[12,20,12,21],[6,26,6,27],[7,26,7,27],[8,26,8,27],[3,14,3,19],[2,26,2,28],[4,34,5,34],[4,35,5,35],[5,30,5,31],[4,32,4,33],[5,32,5,33],[5,14,5,15],[2,8,2,10],[4,8,4,9],[4,10,4,11],[5,18,5,19],[5,20,5,21],[4,20,4,21],[3,8,3,10],[5,8,5,9],[5,10,5,11],[5,12,5,13],[4,22,4,23],[4,28,4,29],[4,16,4,17],[5,28,5,29],[5,22,5,23],[5,24,5,25],[17,32,17,33],[20,30,20,31],[19,30,19,31],[21,30,21,31],[18,28,18,29],[12,32,12,33],[13,32,13,33],[13,26,13,27],[12,26,12,27],[14,26,14,27],[21,26,21,27],[16,26,16,27],[12,30,12,31],[13,30,13,31],[12,28,12,29],[13,28,13,29],[15,32,15,33],[14,32,14,33],[16,32,16,33],[18,26,18,27],[14,30,14,31],[15,26,15,27],[21,28,21,29],[15,30,15,31],[27,26,27,27],[26,26,26,27],[4,39,5,40],[4,37,5,37],[6,32,6,33],[9,26,9,27],[10,26,10,27],[11,26,11,27],[6,30,6,31],[7,30,7,31],[8,30,8,31],[9,30,9,31],[11,30,11,31],[11,32,11,33],[10,32,10,33],[10,30,10,31],[6,28,6,29],[7,28,7,29],[8,28,8,29],[9,28,9,29],[10,28,10,29],[11,28,11,29],[18,32,18,33],[21,32,21,33],[15,12,15,13],[11,8,11,9],[32,8,32,9],[29,26,29,27],[30,26,30,27],[31,26,31,27],[32,26,32,27],[25,14,25,19],[25,20,25,25],[28,20,28,25],[27,12,27,13],[27,14,27,19],[28,12,28,13],[26,12,26,13],[32,10,32,11],[31,8,31,9],[29,8,29,9],[30,8,30,9],[28,8,28,9],[25,8,25,9],[26,8,26,9],[25,12,25,13],[25,10,25,11],[27,8,27,9],[28,26,28,27],[24,14,24,19],[24,8,24,9],[21,14,21,15],[21,16,21,17],[21,20,21,21],[10,14,10,15],[11,14,11,15],[11,10,11,11],[13,12,13,13],[13,14,13,15],[14,14,14,15],[15,14,15,15],[17,14,17,15],[18,14,18,15],[16,14,16,15],[14,16,14,17],[17,12,17,13],[18,12,18,13],[21,8,21,9],[23,4,23,9],[20,8,20,9],[16,12,16,13],[14,12,14,13],[4,26,4,27],[4,30,4,31],[30,28,30,40],[19,32,19,33],[20,32,20,33],[27,10,27,11],[24,20,24,25],[19,26,19,27],[25,26,25,27],[23,28,23,40],[24,26,24,27],[21,24,21,25],[29,10,29,11],[19,14,19,15],[20,14,20,15],[24,12,24,13],[20,12,20,13],[21,12,21,13],[19,12,19,13],[26,10,26,11],[24,10,24,11],[20,18,20,19],[20,16,20,17],[21,22,21,23],[0,6,0,24],[0,26,0,40],[10,8,10,9],[13,8,13,9],[12,10,12,11],[8,14,8,15],[9,14,9,15],[0,4,0,5],[2,4,2,5],[3,4,3,5],[2,6,2,7],[3,6,3,7],[2,11,2,25],[4,12,4,13],[4,14,4,15],[3,20,3,22],[3,23,3,40],[4,18,4,19],[4,24,4,25],[2,29,2,40],[3,11,3,13],[4,36,5,36],[8,32,8,33],[7,32,7,33]]}
[null,null,null,null,"Home",null,{"$f":"'Match Day'!I4","v":"Northern T&F League"},null,null,null,null,null,null,null,null,null,null,null,null,null,null,null,null,null,null,null,{"$f":"'Match Day'!C8","v":"Isle of Man \"B\""}]
[14,26,null,null,"UK ATHLETICS: HEIGHT CARD"]
[null,{"$f":"VLOOKUP(A2,Handbook!$A$4:$AK$24,37,FALSE)","v":15},null,null,"MEETING ",null,{"$f":"CONCATENATE('Match Day'!$I$8,\" \",'Match Day'!$I$10)","v":"Division 4W Match 1"},null,"VENUE ",null,null,{"$f":"'Match Day'!$I$12","v":"Litherland"},null,null,null,null,null,null,null,null,null,null,null,null,null,null,"DATE ",null,null,{"$f":"'Match Day'!$I$6","v":"2014-05-04"}]
[null,{"$f":"VLOOKUP(A2,mens_declare,20,FALSE)","v":15},null,null,"EVENT",null,{"$f":"VLOOKUP(A2,mens_handbook,3,FALSE)","v":"Men's High Jump"},null,"TIME",null,null,{"$f":"VLOOKUP(A2,mens_handbook,2,FALSE)","v":"13:45:00"},null,null,"League Record",null,null,null,null,null,{"$f":"VLOOKUP(A2,mens_handbook,29,FALSE)","v":2007},null,null,{"$f":"CONCATENATE(VLOOKUP($A2,mens_handbook,26,FALSE),\", \",VLOOKUP($A2,mens_handbook,27,FALSE),\", \",VLOOKUP($A2,mens_handbook,28,FALSE))","v":"Brian Hall, Bolton Utd Harriers, 2.20m"}]
[null,null,null,null,"Order","No","NAME","CLUB",{"$f":"VLOOKUP(A2,mens_handbook,20,FALSE)","v":1.4},null,1.45,null,1.5,null,1.55,null,1.6,null,1.65,null,1.7,null,null,null,null,null,null,null,null,null,null,null,"Best of All",null,"Trials at\nHt Cleared","Total \nFailures","Total\nTrials","Final\nPositionn",null,"A or B",null,"Tie"]
[null,null,null,null,null,null,null,null,"Metres",null,"Metres",null,"Metres",null,"Metres",null,"Metres",null,"Metres",null,"Metres",null,"Metres",null,"Metres",null,"Metres",null,"Metres",null,"Metres",null,"Metres",null,null,null,null,null,null,null,null,null,null,null,null,null,null,null,null,null,null,null,null,null,null,null,1,2,3,4,5,6,7,8,1,2,3,4,5,6,7,8]
[null,{"$f":"IF(F7=\"\",\"\",IF(F7>10,F7/11,F7))","v":3},{"$f":"IF(AL7=0,0,IF(AM7=\"B\",\"\",RANK(BB7,$BB$7:$BB$22,1)))","v":0},{"$f":"IF(AL7=0,0,IF(AM7=\"A\",\"\",RANK(BC7,$BC$7:$BC$22,1)))","v":0},1,{"$f":"HLOOKUP(E7,mens_handbook,B3,FALSE)","v":3},{"$f":"IF(ISERROR(HLOOKUP(F7,'Declarations (M)'!$D$3:$S$31,B4,FALSE))=TRUE,\"\",HLOOKUP(F7,'Declarations (M)'!$D$3:$S$31,B4,FALSE))","v":"-"},{"$f":"IF(ISERROR(VLOOKUP(B7,matchday,2,FALSE))=TRUE,\"\",VLOOKUP(B7,matchday,2,FALSE))","v":"Isle of Man \"B\""},null,null,null,null,null,null,null,null,null,null,null,null,null,null,null,null,null,null,null,null,null,null,null,null,0,null,null,null,null,0,{"$f":"IF(OR(AL7=0,AL7=\"\"),\"\",IF(AL8=0,\"A\",IF(AL7>AL8,\"B\",\"A\")))","v":""},{"$f":"IF(AL7=0,0,IF(AM7=\"B\",\"\",RANK(AY7,$AY7:$AY22,1)))","v":0},{"$f":"IF(AL7=0,0,IF(AM7=\"A\",\"\",RANK(AZ7,$AZ7:$AZ22,1)))","v":0},0,null,{"$f":"IF(AS7=\"\",\"\",REPT(AT7,AS7-1))","v":""},{"$f":"IF(AT7=\"\",\"\",HLOOKUP(AN7,$BE$6:$BL$23,18,FALSE))","v":""},{"$f":"IF(OR(AN7=0,AN7=\"\"),\"\",IF(OR(AN7=AN8,AN7=AN9,AN7=AN10,AN7=AN11,AN7=AN12,AN7=AN13,AN7=AN14,AN7=AN15,AN7=AN16,AN7=AN17,AN7=AN18,AN7=AN19,AN7=AN20,AN7=AN21,AN7=AN22),\"=\",\"\"))","v":""},null,{"$f":"IF(AW7=\"\",\"\",REPT(AX7,AW7-1))","v":""},{"$f":"IF(AX7=\"\",\"\",HLOOKUP(AO7,$BM$6:$BT$23,18,FALSE))","v":""},{"$f":"IF(OR(AO7=0,AO7=\"\"),\"\",IF(OR(AO7=AO8,AO7=AO9,AO7=AO10,AO7=AO11,AO7=AO12,AO7=AO13,AO7=AO14,AO7=AO15,AO7=AO16,AO7=AO17,AO7=AO18,AO7=AO19,AO7=AO20,AO7=AO21,AO7=AO22),\"=\",\"\"))","v":""},{"$f":"IF(OR(AL7=0,AG7=0,AM7=\"B\"),\"\",AL7)","v":""},{"$f":"IF(OR(AL7=0,AG7=0,AM7=\"A\"),\"\",AL7)","v":""},null,{"$f":"IF(AY7=\"\",\"\",AY7+($AP7/10))","v":""},"",null,{"$f":"IF($AN7=\"\",\"\",IF($AN7=BE$6,$AN7,\"\"))","v":""},"","","","","","","",{"$f":"IF($AO7=\"\",\"\",IF($AO7=BM$6,$AO7,\"\"))","v":""},"","","","","","",""]
[null,3,{"$f":"IF(AL8=0,0,IF(AM8=\"B\",\"\",RANK(BB8,$BB$7:$BB$22,1)))","v":0},{"$f":"IF(AL8=0,0,IF(AM8=\"A\",\"\",RANK(BC8,$BC$7:$BC$22,1)))","v":0},2,{"$f":"HLOOKUP(E8,mens_handbook,B3,FALSE)","v":33},{"$f":"IF(ISERROR(HLOOKUP(F8,'Declarations (M)'!$D$3:$S$31,B4,FALSE))=TRUE,\"\",HLOOKUP(F8,'Declarations (M)'!$D$3:$S$31,B4,FALSE))","v":"-"},"Isle of Man \"B\"",null,null,null,null,null,null,null,null,null,null,null,null,null,null,null,null,null,null,null,null,null,null,null,null,0,null,null,null,null,0,{"$f":"IF(OR(AL8=0,AL8=\"\"),\"\",IF(AL7=0,\"A\",IF(AL8>=AL7,\"B\",\"A\")))","v":""},{"$f":"IF(AL8=0,0,IF(AM8=\"B\",\"\",RANK(AY8,$AY7:$AY22,1)))","v":0},{"$f":"IF(AL8=0,0,IF(AM8=\"A\",\"\",RANK(AZ8,$AZ7:$AZ22,1)))","v":0},0,null,"","",{"$f":"IF(OR(AN8=0,AN8=\"\"),\"\",IF(OR(AN8=AN9,AN8=AN10,AN8=AN11,AN8=AN12,AN8=AN13,AN8=AN14,AN8=AN15,AN8=AN16,AN8=AN17,AN8=AN18,AN8=AN19,AN8=AN20,AN8=AN21,AN8=AN22,AN8=AN7),\"=\",\"\"))","v":""},null,"","",{"$f":"IF(OR(AO8=0,AO8=\"\"),\"\",IF(OR(AO8=AO9,AO8=AO10,AO8=AO11,AO8=AO12,AO8=AO13,AO8=AO14,AO8=AO15,AO8=AO16,AO8=AO17,AO8=AO18,AO8=AO19,AO8=AO20,AO8=AO21,AO8=AO22,AO8=AO7),\"=\",\"\"))","v":""},{"$f":"IF(OR(AL8=0,AG8=0,AM8=\"B\"),\"\",AL8)","v":""},{"$f":"IF(OR(AL8=0,AG8=0,AM8=\"A\"),\"\",AL8)","v":""},null,"","",null,"","","","","","","","","","","","","","","",""]
[null,1,0,0,3,{"$f":"HLOOKUP(E9,mens_handbook,B3,FALSE)","v":1},{"$f":"IF(ISERROR(HLOOKUP(F9,'Declarations (M)'!$D$3:$S$31,B4,FALSE))=TRUE,\"\",HLOOKUP(F9,'Declarations (M)'!$D$3:$S$31,B4,FALSE))","v":"-"},"Altrincham & District AC",null,null,null,null,null,null,null,null,null,null,null,null,null,null,null,null,null,null,null,null,null,null,null,null,0,null,null,null,null,0,{"$f":"IF(OR(AL9=0,AL9=\"\"),\"\",IF(AL10=0,\"A\",IF(AL9>AL10,\"B\",\"A\")))","v":""},{"$f":"IF(AL9=0,0,IF(AM9=\"B\",\"\",RANK(AY9,$AY7:$AY22,1)))","v":0},{"$f":"IF(AL9=0,0,IF(AM9=\"A\",\"\",RANK(AZ9,$AZ7:$AZ22,1)))","v":0},0,null,"",{"$f":"IF(AT9=\"\",\"\",HLOOKUP(AN9,$BE$6:$BL$23,18,FALSE))","v":""},{"$f":"IF(OR(AN9=0,AN9=\"\"),\"\",IF(OR(AN9=AN10,AN9=AN11,AN9=AN12,AN9=AN13,AN9=AN14,AN9=AN15,AN9=AN16,AN9=AN17,AN9=AN18,AN9=AN19,AN9=AN20,AN9=AN21,AN9=AN22,AN9=AN7,AN9=AN8),\"=\",\"\"))","v":""},null,"","",{"$f":"IF(OR(AO9=0,AO9=\"\"),\"\",IF(OR(AO9=AO10,AO9=AO11,AO9=AO12,AO9=AO13,AO9=AO14,AO9=AO15,AO9=AO16,AO9=AO17,AO9=AO18,AO9=AO19,AO9=AO20,AO9=AO21,AO9=AO22,AO9=AO7,AO9=AO8),\"=\",\"\"))","v":""},"","",null,"","",null,"","","","","","","","","","","","","","","",""]
[null,1,0,0,4,{"$f":"HLOOKUP(E10,mens_handbook,B3,FALSE)","v":11},{"$f":"IF(ISERROR(HLOOKUP(F10,'Declarations (M)'!$D$3:$S$31,B4,FALSE))=TRUE,\"\",HLOOKUP(F10,'Declarations (M)'!$D$3:$S$31,B4,FALSE))","v":"-"},"Altrincham & District AC",null,null,null,null,null,null,null,null,null,null,null,null,null,null,null,null,null,null,null,null,null,null,null,null,0,null,null,null,null,0,{"$f":"IF(OR(AL10=0,AL10=\"\"),\"\",IF(AL9=0,\"A\",IF(AL10>=AL9,\"B\",\"A\")))","v":""},{"$f":"IF(AL10=0,0,IF(AM10=\"B\",\"\",RANK(AY10,$AY7:$AY22,1)))","v":0},{"$f":"IF(AL10=0,0,IF(AM10=\"A\",\"\",RANK(AZ10,$AZ7:$AZ22,1)))","v":0},0,null,"","",{"$f":"IF(OR(AN10=0,AN10=\"\"),\"\",IF(OR(AN10=AN11,AN10=AN12,AN10=AN13,AN10=AN14,AN10=AN15,AN10=AN16,AN10=AN17,AN10=AN18,AN10=AN19,AN10=AN20,AN10=AN21,AN10=AN22,AN10=AN7,AN10=AN8,AN10=AN9),\"=\",\"\"))","v":""},null,"","",{"$f":"IF(OR(AO10=0,AO10=\"\"),\"\",IF(OR(AO10=AO11,AO10=AO12,AO10=AO13,AO10=AO14,AO10=AO15,AO10=AO16,AO10=AO17,AO10=AO18,AO10=AO19,AO10=AO20,AO10=AO21,AO10=AO22,AO10=AO7,AO10=AO8,AO10=AO9),\"=\",\"\"))","v":""},"","",null,"","",null,"","","","","","","","","","","","","","","",""]
[null,4,0,0,5,{"$f":"HLOOKUP(E11,mens_handbook,B3,FALSE)","v":4},{"$f":"IF(ISERROR(HLOOKUP(F11,'Declarations (M)'!$D$3:$S$31,B4,FALSE))=TRUE,\"\",HLOOKUP(F11,'Declarations (M)'!$D$3:$S$31,B4,FALSE))","v":"-"},"Salford Metropolitan AC",null,null,null,null,null,null,null,null,null,null,null,null,null,null,null,null,null,null,null,null,null,null,null,null,0,null,null,null,null,0,{"$f":"IF(OR(AL11=0,AL11=\"\"),\"\",IF(AL12=0,\"A\",IF(AL11>AL12,\"B\",\"A\")))","v":""},{"$f":"IF(AL11=0,0,IF(AM11=\"B\",\"\",RANK(AY11,$AY7:$AY22,1)))","v":0},{"$f":"IF(AL11=0,0,IF(AM11=\"A\",\"\",RANK(AZ11,$AZ7:$AZ22,1)))","v":0},0,null,"","",{"$f":"IF(OR(AN11=0,AN11=\"\"),\"\",IF(OR(AN11=AN12,AN11=AN13,AN11=AN14,AN11=AN15,AN11=AN16,AN11=AN17,AN11=AN18,AN11=AN19,AN11=AN20,AN11=AN21,AN11=AN22,AN11=AN7,AN11=AN8,AN11=AN9,AN11=AN10),\"=\",\"\"))","v":""},null,"","",{"$f":"IF(OR(AO11=0,AO11=\"\"),\"\",IF(OR(AO11=AO12,AO11=AO13,AO11=AO14,AO11=AO15,AO11=AO16,AO11=AO17,AO11=AO18,AO11=AO19,AO11=AO20,AO11=AO21,AO11=AO22,AO11=AO7,AO11=AO8,AO11=AO9,AO11=AO10),\"=\",\"\"))","v":""},"","",null,"","",null,"","","","","","","","","","","","","","","",""]
[null,4,0,0,6,{"$f":"HLOOKUP(E12,mens_handbook,B3,FALSE)","v":44},{"$f":"IF(ISERROR(HLOOKUP(F12,'Declarations (M)'!$D$3:$S$31,B4,FALSE))=TRUE,\"\",HLOOKUP(F12,'Declarations (M)'!$D$3:$S$31,B4,FALSE))","v":"-"},"Salford Metropolitan AC",null,null,null,null,null,null,null,null,null,null,null,null,null,null,null,null,null,null,null,null,null,null,null,null,0,null,null,null,null,0,{"$f":"IF(OR(AL12=0,AL12=\"\"),\"\",IF(AL11=0,\"A\",IF(AL12>=AL11,\"B\",\"A\")))","v":""},{"$f":"IF(AL12=0,0,IF(AM12=\"B\",\"\",RANK(AY12,$AY7:$AY22,1)))","v":0},{"$f":"IF(AL12=0,0,IF(AM12=\"A\",\"\",RANK(AZ12,$AZ7:$AZ22,1)))","v":0},0,null,"","",{"$f":"IF(OR(AN12=0,AN12=\"\"),\"\",IF(OR(AN12=AN13,AN12=AN14,AN12=AN15,AN12=AN16,AN12=AN17,AN12=AN18,AN12=AN19,AN12=AN20,AN12=AN21,AN12=AN22,AN12=AN7,AN12=AN8,AN12=AN9,AN12=AN10,AN12=AN11),\"=\",\"\"))","v":""},null,"","",{"$f":"IF(OR(AO12=0,AO12=\"\"),\"\",IF(OR(AO12=AO13,AO12=AO14,AO12=AO15,AO12=AO16,AO12=AO17,AO12=AO18,AO12=AO19,AO12=AO20,AO12=AO21,AO12=AO22,AO12=AO7,AO12=AO8,AO12=AO9,AO12=AO10,AO12=AO11),\"=\",\"\"))","v":""},"","",null,"","",null,"","","","","","","","","","","","","","","",""]
[null,6,0,0,7,{"$f":"HLOOKUP(E13,mens_handbook,B3,FALSE)","v":6},{"$f":"IF(ISERROR(HLOOKUP(F13,'Declarations (M)'!$D$3:$S$31,B4,FALSE))=TRUE,\"\",HLOOKUP(F13,'Declarations (M)'!$D$3:$S$31,B4,FALSE))","v":"-"},"Warrington AC",null,null,null,null,null,null,null,null,null,null,null,null,null,null,null,null,null,null,null,null,null,null,null,null,0,null,null,null,null,0,{"$f":"IF(OR(AL13=0,AL13=\"\"),\"\",IF(AL14=0,\"A\",IF(AL13>AL14,\"B\",\"A\")))","v":""},{"$f":"IF(AL13=0,0,IF(AM13=\"B\",\"\",RANK(AY13,$AY7:$AY22,1)))","v":0},{"$f":"IF(AL13=0,0,IF(AM13=\"A\",\"\",RANK(AZ13,$AZ7:$AZ22,1)))","v":0},0,null,"","",{"$f":"IF(OR(AN13=0,AN13=\"\"),\"\",IF(OR(AN13=AN14,AN13=AN15,AN13=AN16,AN13=AN17,AN13=AN18,AN13=AN19,AN13=AN20,AN13=AN21,AN13=AN22,AN13=AN7,AN13=AN8,AN13=AN9,AN13=AN10,AN13=AN11,AN13=AN12),\"=\",\"\"))","v":""},null,"","",{"$f":"IF(OR(AO13=0,AO13=\"\"),\"\",IF(OR(AO13=AO14,AO13=AO15,AO13=AO16,AO13=AO17,AO13=AO18,AO13=AO19,AO13=AO20,AO13=AO21,AO13=AO22,AO13=AO7,AO13=AO8,AO13=AO9,AO13=AO10,AO13=AO11,AO13=AO12),\"=\",\"\"))","v":""},"","",null,"","",null,"","","","","","","","","","","","","","","",""]
[null,6,0,0,8,{"$f":"HLOOKUP(E14,mens_handbook,B3,FALSE)","v":66},{"$f":"IF(ISERROR(HLOOKUP(F14,'Declarations (M)'!$D$3:$S$31,B4,FALSE))=TRUE,\"\",HLOOKUP(F14,'Declarations (M)'!$D$3:$S$31,B4,FALSE))","v":"-"},"Warrington AC",null,null,null,null,null,null,null,null,null,null,null,null,null,null,null,null,null,null,null,null,null,null,null,null,0,null,null,null,null,0,{"$f":"IF(OR(AL14=0,AL14=\"\"),\"\",IF(AL13=0,\"A\",IF(AL14>=AL13,\"B\",\"A\")))","v":""},{"$f":"IF(AL14=0,0,IF(AM14=\"B\",\"\",RANK(AY14,$AY7:$AY22,1)))","v":0},{"$f":"IF(AL14=0,0,IF(AM14=\"A\",\"\",RANK(AZ14,$AZ7:$AZ22,1)))","v":0},0,null,"","",{"$f":"IF(OR(AN14=0,AN14=\"\"),\"\",IF(OR(AN14=AN15,AN14=AN16,AN14=AN17,AN14=AN18,AN14=AN19,AN14=AN20,AN14=AN21,AN14=AN22,AN14=AN7,AN14=AN8,AN14=AN9,AN14=AN10,AN14=AN11,AN14=AN12,AN14=AN13),\"=\",\"\"))","v":""},null,"","",{"$f":"IF(OR(AO14=0,AO14=\"\"),\"\",IF(OR(AO14=AO15,AO14=AO16,AO14=AO17,AO14=AO18,AO14=AO19,AO14=AO20,AO14=AO21,AO14=AO22,AO14=AO7,AO14=AO8,AO14=AO9,AO14=AO10,AO14=AO11,AO14=AO12,AO14=AO13),\"=\",\"\"))","v":""},"","",null,"","",null,"","","","","","","","","","","","","","","",""]
[null,5,0,0,9,{"$f":"HLOOKUP(E15,mens_handbook,B3,FALSE)","v":5},{"$f":"IF(ISERROR(HLOOKUP(F15,'Declarations (M)'!$D$3:$S$31,B4,FALSE))=TRUE,\"\",HLOOKUP(F15,'Declarations (M)'!$D$3:$S$31,B4,FALSE))","v":"-"},"Southport Waterloo AC",null,null,null,null,null,null,null,null,null,null,null,null,null,null,null,null,null,null,null,null,null,null,null,null,0,null,null,null,null,0,{"$f":"IF(OR(AL15=0,AL15=\"\"),\"\",IF(AL16=0,\"A\",IF(AL15>AL16,\"B\",\"A\")))","v":""},{"$f":"IF(AL15=0,0,IF(AM15=\"B\",\"\",RANK(AY15,$AY7:$AY22,1)))","v":0},{"$f":"IF(AL15=0,0,IF(AM15=\"A\",\"\",RANK(AZ15,$AZ7:$AZ22,1)))","v":0},0,null,"","",{"$f":"IF(OR(AN15=0,AN15=\"\"),\"\",IF(OR(AN15=AN16,AN15=AN17,AN15=AN18,AN15=AN19,AN15=AN20,AN15=AN21,AN15=AN22,AN15=AN7,AN15=AN8,AN15=AN9,AN15=AN10,AN15=AN11,AN15=AN12,AN15=AN13,AN15=AN14),\"=\",\"\"))","v":""},null,"","",{"$f":"IF(OR(AO15=0,AO15=\"\"),\"\",IF(OR(AO15=AO16,AO15=AO17,AO15=AO18,AO15=AO19,AO15=AO20,AO15=AO21,AO15=AO22,AO15=AO7,AO15=AO8,AO15=AO9,AO15=AO10,AO15=AO11,AO15=AO12,AO15=AO13,AO15=AO14),\"=\",\"\"))","v":""},"","",null,"","",null,"","","","","","","","","","","","","","","",""]
[null,5,0,0,10,{"$f":"HLOOKUP(E16,mens_handbook,B3,FALSE)","v":55},{"$f":"IF(ISERROR(HLOOKUP(F16,'Declarations (M)'!$D$3:$S$31,B4,FALSE))=TRUE,\"\",HLOOKUP(F16,'Declarations (M)'!$D$3:$S$31,B4,FALSE))","v":"-"},"Southport Waterloo AC",null,null,null,null,null,null,null,null,null,null,null,null,null,null,null,null,null,null,null,null,null,null,null,null,0,null,null,null,null,0,{"$f":"IF(OR(AL16=0,AL16=\"\"),\"\",IF(AL15=0,\"A\",IF(AL16>=AL15,\"B\",\"A\")))","v":""},{"$f":"IF(AL16=0,0,IF(AM16=\"B\",\"\",RANK(AY16,$AY7:$AY22,1)))","v":0},{"$f":"IF(AL16=0,0,IF(AM16=\"A\",\"\",RANK(AZ16,$AZ7:$AZ22,1)))","v":0},0,null,"","",{"$f":"IF(OR(AN16=0,AN16=\"\"),\"\",IF(OR(AN16=AN17,AN16=AN18,AN16=AN19,AN16=AN20,AN16=AN21,AN16=AN22,AN16=AN7,AN16=AN8,AN16=AN9,AN16=AN10,AN16=AN11,AN16=AN12,AN16=AN13,AN16=AN14,AN16=AN15),\"=\",\"\"))","v":""},null,"","",{"$f":"IF(OR(AO16=0,AO16=\"\"),\"\",IF(OR(AO16=AO17,AO16=AO18,AO16=AO19,AO16=AO20,AO16=AO21,AO16=AO22,AO16=AO7,AO16=AO8,AO16=AO9,AO16=AO10,AO16=AO11,AO16=AO12,AO16=AO13,AO16=AO14,AO16=AO15),\"=\",\"\"))","v":""},"","",null,"","",null,"","","","","","","","","","","","","","","",""]
[null,7,0,0,11,{"$f":"HLOOKUP(E17,mens_handbook,B3,FALSE)","v":7},{"$f":"IF(ISERROR(HLOOKUP(F17,'Declarations (M)'!$D$3:$S$31,B4,FALSE))=TRUE,\"\",HLOOKUP(F17,'Declarations (M)'!$D$3:$S$31,B4,FALSE))","v":"-"},"Wrexham AAC",null,null,null,null,null,null,null,null,null,null,null,null,null,null,null,null,null,null,null,null,null,null,null,null,0,null,null,null,null,0,{"$f":"IF(OR(AL17=0,AL17=\"\"),\"\",IF(AL18=0,\"A\",IF(AL17>AL18,\"B\",\"A\")))","v":""},{"$f":"IF(AL17=0,0,IF(AM17=\"B\",\"\",RANK(AY17,$AY7:$AY22,1)))","v":0},{"$f":"IF(AL17=0,0,IF(AM17=\"A\",\"\",RANK(AZ17,$AZ7:$AZ22,1)))","v":0},0,null,"","",{"$f":"IF(OR(AN17=0,AN17=\"\"),\"\",IF(OR(AN17=AN18,AN17=AN19,AN17=AN20,AN17=AN21,AN17=AN22,AN17=AN7,AN17=AN8,AN17=AN9,AN17=AN10,AN17=AN11,AN17=AN12,AN17=AN13,AN17=AN14,AN17=AN15,AN17=AN16),\"=\",\"\"))","v":""},null,"","",{"$f":"IF(OR(AO17=0,AO17=\"\"),\"\",IF(OR(AO17=AO18,AO17=AO19,AO17=AO20,AO17=AO21,AO17=AO22,AO17=AO7,AO17=AO8,AO17=AO9,AO17=AO10,AO17=AO11,AO17=AO12,AO17=AO13,AO17=AO14,AO17=AO15,AO17=AO16),\"=\",\"\"))","v":""},"","",null,"","",null,"","","","","","","","","","","","","","","",""]
[null,7,0,0,12,{"$f":"HLOOKUP(E18,mens_handbook,B3,FALSE)","v":77},{"$f":"IF(ISERROR(HLOOKUP(F18,'Declarations (M)'!$D$3:$S$31,B4,FALSE))=TRUE,\"\",HLOOKUP(F18,'Declarations (M)'!$D$3:$S$31,B4,FALSE))","v":"-"},"Wrexham AAC",null,null,null,null,null,null,null,null,null,null,null,null,null,null,null,null,null,null,null,null,null,null,null,null,0,null,null,null,null,0,{"$f":"IF(OR(AL18=0,AL18=\"\"),\"\",IF(AL17=0,\"A\",IF(AL18>=AL17,\"B\",\"A\")))","v":""},{"$f":"IF(AL18=0,0,IF(AM18=\"B\",\"\",RANK(AY18,$AY7:$AY22,1)))","v":0},{"$f":"IF(AL18=0,0,IF(AM18=\"A\",\"\",RANK(AZ18,$AZ7:$AZ22,1)))","v":0},0,null,"","",{"$f":"IF(OR(AN18=0,AN18=\"\"),\"\",IF(OR(AN18=AN19,AN18=AN20,AN18=AN21,AN18=AN22,AN18=AN7,AN18=AN8,AN18=AN9,AN18=AN10,AN18=AN11,AN18=AN12,AN18=AN13,AN18=AN14,AN18=AN15,AN18=AN16,AN18=AN17),\"=\",\"\"))","v":""},null,"","",{"$f":"IF(OR(AO18=0,AO18=\"\"),\"\",IF(OR(AO18=AO19,AO18=AO20,AO18=AO21,AO18=AO22,AO18=AO7,AO18=AO8,AO18=AO9,AO18=AO10,AO18=AO11,AO18=AO12,AO18=AO13,AO18=AO14,AO18=AO15,AO18=AO16,AO18=AO17),\"=\",\"\"))","v":""},"","",null,"","",null,"","","","","","","","","","","","","","","",""]
[null,2,0,0,13,{"$f":"HLOOKUP(E19,mens_handbook,B3,FALSE)","v":2},{"$f":"IF(ISERROR(HLOOKUP(F19,'Declarations (M)'!$D$3:$S$31,B4,FALSE))=TRUE,\"\",HLOOKUP(F19,'Declarations (M)'!$D$3:$S$31,B4,FALSE))","v":"-"},"Crewe & Nantwich AC",null,null,null,null,null,null,null,null,null,null,null,null,null,null,null,null,null,null,null,null,null,null,null,null,0,null,null,null,null,0,{"$f":"IF(OR(AL19=0,AL19=\"\"),\"\",IF(AL20=0,\"A\",IF(AL19>AL20,\"B\",\"A\")))","v":""},{"$f":"IF(AL19=0,0,IF(AM19=\"B\",\"\",RANK(AY19,$AY7:$AY22,1)))","v":0},{"$f":"IF(AL19=0,0,IF(AM19=\"A\",\"\",RANK(AZ19,$AZ7:$AZ22,1)))","v":0},0,null,"","",{"$f":"IF(OR(AN19=0,AN19=\"\"),\"\",IF(OR(AN19=AN20,AN19=AN21,AN19=AN22,AN19=AN7,AN19=AN8,AN19=AN9,AN19=AN10,AN19=AN11,AN19=AN12,AN19=AN13,AN19=AN14,AN19=AN15,AN19=AN16,AN19=AN17,AN19=AN18),\"=\",\"\"))","v":""},null,"","",{"$f":"IF(OR(AO19=0,AO19=\"\"),\"\",IF(OR(AO19=AO20,AO19=AO21,AO19=AO22,AO19=AO7,AO19=AO8,AO19=AO9,AO19=AO10,AO19=AO11,AO19=AO12,AO19=AO13,AO19=AO14,AO19=AO15,AO19=AO16,AO19=AO17,AO19=AO18),\"=\",\"\"))","v":""},"","",null,"","",null,"","","","","","","","","","","","","","","",""]
[null,2,0,0,14,{"$f":"HLOOKUP(E20,mens_handbook,B3,FALSE)","v":22},{"$f":"IF(ISERROR(HLOOKUP(F20,'Declarations (M)'!$D$3:$S$31,B4,FALSE))=TRUE,\"\",HLOOKUP(F20,'Declarations (M)'!$D$3:$S$31,B4,FALSE))","v":"-"},"Crewe & Nantwich AC",null,null,null,null,null,null,null,null,null,null,null,null,null,null,null,null,null,null,null,null,null,null,null,null,0,null,null,null,null,0,{"$f":"IF(OR(AL20=0,AL20=\"\"),\"\",IF(AL19=0,\"A\",IF(AL20>=AL19,\"B\",\"A\")))","v":""},{"$f":"IF(AL20=0,0,IF(AM20=\"B\",\"\",RANK(AY20,$AY7:$AY22,1)))","v":0},{"$f":"IF(AL20=0,0,IF(AM20=\"A\",\"\",RANK(AZ20,$AZ7:$AZ22,1)))","v":0},0,null,"","",{"$f":"IF(OR(AN20=0,AN20=\"\"),\"\",IF(OR(AN20=AN21,AN20=AN22,AN20=AN7,AN20=AN8,AN20=AN9,AN20=AN10,AN20=AN11,AN20=AN12,AN20=AN13,AN20=AN14,AN20=AN15,AN20=AN16,AN20=AN17,AN20=AN18,AN20=AN19),\"=\",\"\"))","v":""},null,"","",{"$f":"IF(OR(AO20=0,AO20=\"\"),\"\",IF(OR(AO20=AO21,AO20=AO22,AO20=AO7,AO20=AO8,AO20=AO9,AO20=AO10,AO20=AO11,AO20=AO12,AO20=AO13,AO20=AO14,AO20=AO15,AO20=AO16,AO20=AO17,AO20=AO18,AO20=AO19),\"=\",\"\"))","v":""},"","",null,"","",null,"","","","","","","","","","","","","","","",""]
[null,0,0,0,15,{"$f":"HLOOKUP(E21,mens_handbook,B3,FALSE)","v":0},{"$f":"IF(ISERROR(HLOOKUP(F21,'Declarations (M)'!$D$3:$S$31,B4,FALSE))=TRUE,\"\",HLOOKUP(F21,'Declarations (M)'!$D$3:$S$31,B4,FALSE))","v":""},"",null,null,null,null,null,null,null,null,null,null,null,null,null,null,null,null,null,null,null,null,null,null,null,null,0,null,null,null,null,0,{"$f":"IF(OR(AL21=0,AL21=\"\"),\"\",IF(AL22=0,\"A\",IF(AL21>AL22,\"B\",\"A\")))","v":""},{"$f":"IF(AL21=0,0,IF(AM21=\"B\",\"\",RANK(AY21,$AY7:$AY22,1)))","v":0},{"$f":"IF(AL21=0,0,IF(AM21=\"A\",\"\",RANK(AZ21,$AZ7:$AZ22,1)))","v":0},0,null,"","",{"$f":"IF(OR(AN21=0,AN21=\"\"),\"\",IF(OR(AN21=AN22,AN21=AN7,AN21=AN8,AN21=AN9,AN21=AN10,AN21=AN11,AN21=AN12,AN21=AN13,AN21=AN14,AN21=AN15,AN21=AN16,AN21=AN17,AN21=AN18,AN21=AN19,AN21=AN20),\"=\",\"\"))","v":""},null,"","",{"$f":"IF(OR(AO21=0,AO21=\"\"),\"\",IF(OR(AO21=AO22,AO21=AO7,AO21=AO8,AO21=AO9,AO21=AO10,AO21=AO11,AO21=AO12,AO21=AO13,AO21=AO14,AO21=AO15,AO21=AO16,AO21=AO17,AO21=AO18,AO21=AO19,AO21=AO20),\"=\",\"\"))","v":""},"","",null,"","",null,"","","","","","","","","","","","","","","",""]
[null,0,0,0,16,{"$f":"HLOOKUP(E22,mens_handbook,B3,FALSE)","v":0},{"$f":"IF(ISERROR(HLOOKUP(F22,'Declarations (M)'!$D$3:$S$31,B4,FALSE))=TRUE,\"\",HLOOKUP(F22,'Declarations (M)'!$D$3:$S$31,B4,FALSE))","v":""},"",null,null,null,null,null,null,null,null,null,null,null,null,null,null,null,null,null,null,null,null,null,null,null,null,0,null,null,null,null,0,{"$f":"IF(OR(AL22=0,AL22=\"\"),\"\",IF(AL21=0,\"A\",IF(AL22>=AL21,\"B\",\"A\")))","v":""},{"$f":"IF(AL22=0,0,IF(AM22=\"B\",\"\",RANK(AY22,$AY7:$AY22,1)))","v":0},{"$f":"IF(AL22=0,0,IF(AM22=\"A\",\"\",RANK(AZ22,$AZ7:$AZ22,1)))","v":0},0,null,"","",{"$f":"IF(OR(AN22=0,AN22=\"\"),\"\",IF(OR(AN22=AN7,AN22=AN8,AN22=AN9,AN22=AN10,AN22=AN11,AN22=AN12,AN22=AN13,AN22=AN14,AN22=AN15,AN22=AN16,AN22=AN17,AN22=AN18,AN22=AN19,AN22=AN20,AN22=AN21),\"=\",\"\"))","v":""},null,"","",{"$f":"IF(OR(AO22=0,AO22=\"\"),\"\",IF(OR(AO22=AO7,AO22=AO8,AO22=AO9,AO22=AO10,AO22=AO11,AO22=AO12,AO22=AO13,AO22=AO14,AO22=AO15,AO22=AO16,AO22=AO17,AO22=AO18,AO22=AO19,AO22=AO20,AO22=AO21),\"=\",\"\"))","v":""},"","",null,"","",null,"","","","","","","","","","","","","","","",""]
[null,null,null,null,null,null,null,null,null,null,null,null,null,null,null,null,null,null,null,null,null,null,null,null,null,null,null,null,null,null,null,null,null,null,null,null,null,null,null,null,null,null,null,null,null,null,null,null,null,null,null,null,null,null,null,null,{"$f":"COUNTIF(BE7:BE22,BE6)","v":0},0,0,0,0,0,0,0,0,0,0,0,0,0,0,0]
[null,null,null,null,"\"A\" STRING RESULT",null,null,null,null,null,"\"B\" STRING RESULT",null,null,null,null,null,null,null,null,null,null,null,null,null,null,null,null,null,"JUDGES' SIGNATURES"]
[null,null,null,null,"Posn","No.","NAME","CLUB","HEIGHT",null,"Posn",null,"No.",null,"NAME",null,null,null,null,null,"CLUB",null,null,null,null,null,"HEIGHT"]
[null,null,null,1,{"$f":"IF(ISERROR(VLOOKUP(D26,$C$7:$AR$22,31,FALSE))=TRUE,\"\",IF(VLOOKUP(D26,$C$7:$AR$22,42,FALSE)=\"\",VLOOKUP(D26,$C$7:$AR$22,38,FALSE),CONCATENATE(VLOOKUP(D26,$C$7:$AR$22,38,FALSE),VLOOKUP(D26,$C$7:$AR$22,42,FALSE))))","v":""},{"$f":"IF(ISERROR(VLOOKUP(D26,$C$7:$AH$22,31,FALSE))=TRUE,\"\",IF(VLOOKUP(D26,$C$7:$AH$22,31,FALSE)=0,\"\",IF(VLOOKUP(D26,$C$7:$AH$22,31,FALSE)=99,99,IF(VLOOKUP(D26,$C$7:$AH$22,31,FALSE)=97,97,IF(VLOOKUP(D26,$C$7:$AH$22,31,FALSE)=96,96,VLOOKUP(D26,$C$7:$AH$22,4,FALSE))))))","v":""},{"$f":"IF(ISERROR(VLOOKUP(D26,$C$7:$AH$22,31,FALSE))=TRUE,\"\",VLOOKUP(D26,$C$7:$AH$22,5,FALSE))","v":""},{"$f":"IF(ISERROR(VLOOKUP(D26,$C$7:$AH$22,31,FALSE))=TRUE,\"\",VLOOKUP(D26,$C$7:$AH$22,6,FALSE))","v":""},{"$f":"IF(ISERROR(VLOOKUP(D26,$C$7:$AH$22,31,FALSE))=TRUE,\"\",IF(VLOOKUP(D26,C$7:AH$22,31,FALSE)=0,0,IF(VLOOKUP(D26,C$7:AH$22,31,FALSE)>95.99,\"\",VLOOKUP(D26,C$7:AH$22,31,FALSE))))","v":""},null,{"$f":"IF(ISERROR(VLOOKUP(D26,$D$7:$AV$22,30,FALSE))=TRUE,\"\",IF(VLOOKUP(D26,$D$7:$AV$22,45,FALSE)=\"\",VLOOKUP(D26,$D$7:$AV$22,38,FALSE),CONCATENATE(VLOOKUP(D26,$D$7:$AV$22,38,FALSE),VLOOKUP(D26,$D$7:$AV$22,45,FALSE))))","v":""},{"$f":"IF(ISERROR(VLOOKUP(K26,$C$7:$AR$22,31,FALSE))=TRUE,\"\",CONCATENATE(VLOOKUP(K26,$C$7:$AR$22,38,FALSE),VLOOKUP(K26,$C$7:$AR$22,42,FALSE)))","v":""},{"$f":"IF(ISERROR(VLOOKUP(D26,$D$7:$AH$22,30,FALSE))=TRUE,\"\",IF(VLOOKUP(D26,$D$7:$AH$22,30,FALSE)=0,\"\",VLOOKUP(D26,$D$7:$AH$22,3,FALSE)))","v":""},null,{"$f":"IF(ISERROR(VLOOKUP(D26,$D$7:$AH$22,30,FALSE))=TRUE,\"\",VLOOKUP(D26,$D$7:$AH$22,4,FALSE))","v":""},null,null,null,null,null,{"$f":"IF(ISERROR(VLOOKUP(D26,$D$7:$AH$22,30,FALSE))=TRUE,\"\",VLOOKUP(D26,$D$7:$AH$22,5,FALSE))","v":""},null,null,null,null,null,{"$f":"IF(ISERROR(VLOOKUP(D26,$D$7:$AH$22,30,FALSE))=TRUE,\"\",IF(VLOOKUP(D26,$D$7:$AH$22,30,FALSE)=0,\"\",VLOOKUP(D26,$D$7:$AH$22,30,FALSE)))","v":""}]
[null,null,null,2,{"$f":"IF(ISERROR(VLOOKUP(D27,$C$7:$AR$22,31,FALSE))=TRUE,\"\",IF(VLOOKUP(D27,$C$7:$AR$22,42,FALSE)=\"\",VLOOKUP(D27,$C$7:$AR$22,38,FALSE),CONCATENATE(VLOOKUP(D27,$C$7:$AR$22,38,FALSE),VLOOKUP(D27,$C$7:$AR$22,42,FALSE))))","v":""},"","","","",null,{"$f":"IF(ISERROR(VLOOKUP(D27,$D$7:$AV$22,30,FALSE))=TRUE,\"\",IF(VLOOKUP(D27,$D$7:$AV$22,45,FALSE)=\"\",VLOOKUP(D27,$D$7:$AV$22,38,FALSE),CONCATENATE(VLOOKUP(D27,$D$7:$AV$22,38,FALSE),VLOOKUP(D27,$D$7:$AV$22,45,FALSE))))","v":""},"","",null,"",null,null,null,null,null,"",null,null,null,null,null,""]
[null,null,null,3,"","","","","",null,"","","",null,"",null,null,null,null,null,"",null,null,null,null,null,""]
[null,null,null,4,"","","","","",null,"","","",null,"",null,null,null,null,null,"",null,null,null,null,null,""]
[null,null,null,5,"","","","","",null,"","","",null,"",null,null,null,null,null,"",null,null,null,null,null,""]
[null,null,null,6,"","","","","",null,"","","",null,"",null,null,null,null,null,"",null,null,null,null,null,"",null,"REFEREE'S SIGNATURE"]
[null,null,null,7,"","","","","",null,"","","",null,"",null,null,null,null,null,"",null,null,null,null,null,""]
[null,null,null,8,"","","","","",null,"","","",null,"",null,null,null,null,null,"",null,null,null,null,null,""]

{"sheet":"Mens PV","index":11,"n_rows":33,"n_cols":72,"rows_kept":33,"cut":false,"hidden":false,"merged":[[3,11,3,13],[3,14,3,19],[13,8,13,9],[10,10,10,11],[4,32,4,33],[5,32,5,33],[27,20,27,25],[5,14,5,15],[5,16,5,17],[5,18,5,19],[5,20,5,21],[21,16,21,17],[24,20,24,25],[18,32,18,33],[21,32,21,33],[21,18,21,19],[5,22,5,23],[5,24,5,25],[5,26,5,27],[5,28,5,29],[5,30,5,31],[19,32,19,33],[16,32,16,33],[11,32,11,33],[0,4,0,5],[28,12,28,13],[28,10,28,11],[7,8,7,9],[8,8,8,9],[5,8,5,9],[2,4,2,5],[3,4,3,5],[2,8,2,10],[4,8,4,9],[4,10,4,11],[2,6,2,7],[3,6,3,7],[2,11,2,25],[4,12,4,13],[4,14,4,15],[14,14,14,15],[3,20,3,22],[3,8,3,10],[6,8,6,9],[9,8,9,9],[11,8,11,9],[10,8,10,9],[12,8,12,9],[32,8,32,9],[29,26,29,27],[30,26,30,27],[31,26,31,27],[32,26,32,27],[29,10,29,11],[32,10,32,11],[31,8,31,9],[29,8,29,9],[30,8,30,9],[31,10,31,11],[29,20,29,25],[30,20,30,25],[32,14,32,19],[32,12,32,13],[30,10,30,11],[32,20,32,25],[28,8,28,9],[25,8,25,9],[26,8,26,9],[26,20,26,25],[25,12,25,13],[18,8,18,9],[25,20,25,25],[28,20,28,25],[27,12,27,13],[27,14,27,19],[26,14,26,19],[28,14,28,19],[27,8,27,9],[26,12,26,13],[24,8,24,9],[24,12,24,13],[23,4,23,9],[27,10,27,11],[24,10,24,11],[21,8,21,9],[19,18,19,19],[19,24,19,25],[20,24,20,25],[21,20,21,21],[10,32,10,33],[17,26,17,27],[18,30,18,31],[3,23,3,40],[9,32,9,33],[7,32,7,33],[17,32,17,33],[15,32,15,33],[4,28,4,29],[6,32,6,33],[13,32,13,33],[14,32,14,33],[12,32,12,33],[12,24,12,25],[13,24,13,25],[15,24,15,25],[16,24,16,25],[7,24,7,25],[8,24,8,25],[17,24,17,25],[18,24,18,25],[10,24,10,25],[9,24,9,25],[11,24,11,25],[6,10,6,11],[5,10,5,11],[5,12,5,13],[2,26,2,28],[4,34,5,34],[4,35,5,35],[4,36,5,36],[4,16,4,17],[4,18,4,19],[4,24,4,25],[6,14,6,15],[6,16,6,17],[6,18,6,19],[6,20,6,21],[6,22,6,23],[6,24,6,25],[6,26,6,27],[4,26,4,27],[4,30,4,31],[2,29,2,40],[4,20,4,21],[4,22,4,23],[4,39,5,40],[4,37,5,37],[30,28,30,40],[25,10,25,11],[26,10,26,11],[8,32,8,33],[14,10,14,11],[6,12,6,13],[8,12,8,13],[9,12,9,13],[10,12,10,13],[20,32,20,33],[23,28,23,40],[24,26,24,27],[21,28,21,29],[20,30,20,31],[23,10,23,27],[21,26,21,27],[18,26,18,27],[19,26,19,27],[20,26,20,27],[25,26,25,27],[27,26,27,27],[26,26,26,27],[28,26,28,27],[20,10,20,11],[21,10,21,11],[17,10,17,11],[18,10,18,11],[19,8,19,9],[20,8,20,9],[14,8,14,9],[15,8,15,9],[16,8,16,9],[17,8,17,9],[7,16,7,17],[18,16,18,17],[15,20,15,21],[16,20,16,21],[17,20,17,21],[18,20,18,21],[14,18,14,19],[15,18,15,19],[16,18,16,19],[17,18,17,19],[8,16,8,17],[9,16,9,17],[10,16,10,17],[11,16,11,17],[12,16,12,17],[17,16,17,17],[13,16,13,17],[14,16,14,17],[15,16,15,17],[16,16,16,17],[7,18,7,19],[8,18,8,19],[9,18,9,19],[10,18,10,19],[7,10,7,11],[8,10,8,11],[9,10,9,11],[19,10,19,11],[15,10,15,11],[16,10,16,11],[12,12,12,13],[13,12,13,13],[14,12,14,13],[15,12,15,13],[16,12,16,13],[17,12,17,13],[11,10,11,11],[12,10,12,11],[13,10,13,11],[18,12,18,13],[11,12,11,13],[7,12,7,13],[17,14,17,15],[18,14,18,15],[15,14,15,15],[16,14,16,15],[13,14,13,15],[19,14,19,15],[20,14,20,15],[7,14,7,15],[8,14,8,15],[9,14,9,15],[10,14,10,15],[11,14,11,15],[12,14,12,15],[11,18,11,19],[13,18,13,19],[18,18,18,19],[13,22,13,23],[14,22,14,23],[7,20,7,21],[8,20,8,21],[9,20,9,21],[10,20,10,21],[11,20,11,21],[13,20,13,21],[14,20,14,21],[7,22,7,23],[8,22,8,23],[9,22,9,23],[10,22,10,23],[12,18,12,19],[12,20,12,21],[15,22,15,23],[16,22,16,23],[17,22,17,23],[18,22,18,23],[11,22,11,23],[12,22,12,23],[14,24,14,25],[7,26,7,27],[8,26,8,27],[9,26,9,27],[10,26,10,27],[11,26,11,27],[15,26,15,27],[16,26,16,27],[6,28,6,29],[7,28,7,29],[8,28,8,29],[9,28,9,29],[10,28,10,29],[11,28,11,29],[12,28,12,29],[13,26,13,27],[12,26,12,27],[14,26,14,27],[11,30,11,31],[10,30,10,31],[12,30,12,31],[13,30,13,31],[13,28,13,29],[15,28,15,29],[6,30,6,31],[7,30,7,31],[8,30,8,31],[9,30,9,31],[14,28,14,29],[17,28,17,29],[14,30,14,31],[15,30,15,31],[16,30,16,31],[17,30,17,31],[19,30,19,31],[16,28,16,29],[21,30,21,31],[18,28,18,29],[19,28,19,29],[20,28,20,29],[0,6,0,24],[0,26,0,40],[19,16,19,17],[20,16,20,17],[19,12,19,13],[20,12,20,13],[31,20,31,25],[19,22,19,23],[29,14,29,19],[30,14,30,19],[31,14,31,19],[21,22,21,23],[20,18,20,19],[19,20,19,21],[20,20,20,21],[20,22,20,23],[24,14,24,19],[29,12,29,13],[30,12,30,13],[31,12,31,13],[25,14,25,19],[21,24,21,25],[21,12,21,13],[21,14,21,15]]}
[null,null,null,null,"Home",null,{"$f":"'Match Day'!I4","v":"Northern T&F League"},null,null,null,null,null,null,null,null,null,null,null,null,null,null,null,null,null,null,null,{"$f":"'Match Day'!C10","v":"Salford Metropolitan AC"}]
[12,26,null,null,"UK ATHLETICS: HEIGHT CARD"]
[null,{"$f":"VLOOKUP(A2,Handbook!$A$4:$AK$24,37,FALSE)","v":13},null,null,"MEETING ",null,{"$f":"CONCATENATE('Match Day'!$I$8,\" \",'Match Day'!$I$10)","v":"Division 4W Match 1"},null,"VENUE ",null,null,{"$f":"'Match Day'!$I$12","v":"Litherland"},null,null,null,null,null,null,null,null,null,null,null,null,null,null,"DATE ",null,null,{"$f":"'Match Day'!$I$6","v":"2014-05-04"}]
[null,{"$f":"VLOOKUP(A2,mens_declare,20,FALSE)","v":13},null,null,"EVENT",null,{"$f":"VLOOKUP(A2,mens_handbook,3,FALSE)","v":"Men's Pole Vault"},null,"TIME",null,null,{"$f":"VLOOKUP(A2,mens_handbook,2,FALSE)","v":"11:30:00"},null,null,"League Record",null,null,null,null,null,{"$f":"VLOOKUP(A2,mens_handbook,29,FALSE)","v":2008},null,null,{"$f":"CONCATENATE(VLOOKUP($A2,mens_handbook,26,FALSE),\", \",VLOOKUP($A2,mens_handbook,27,FALSE),\", \",VLOOKUP($A2,mens_handbook,28,FALSE))","v":"Luke Cutts, City of Sheffield AC, 5.3"}]
[null,null,null,null,"Order","No","NAME","CLUB",{"$f":"VLOOKUP(A2,mens_handbook,20,FALSE)","v":2.1},null,null,null,null,null,null,null,null,null,null,null,null,null,null,null,null,null,null,null,null,null,null,null,"Best of All",null,"Trials at\nHt Cleared","Total \nFailures","Total\nTrials","Final\nPositionn",null,"A or B",null,"Tie"]
[null,null,null,null,null,null,null,null,"Metres",null,"Metres",null,"Metres",null,"Metres",null,"Metres",null,"Metres",null,"Metres",null,"Metres",null,"Metres",null,"Metres",null,"Metres",null,"Metres",null,"Metres",null,null,null,null,null,null,null,null,null,null,null,null,null,null,null,null,null,null,null,null,null,null,null,1,2,3,4,5,6,7,8,1,2,3,4,5,6,7,8]
[null,{"$f":"IF(F7=\"\",\"\",IF(F7>10,F7/11,F7))","v":5},{"$f":"IF(AL7=0,0,IF(AM7=\"B\",\"\",RANK(BB7,$BB$7:$BB$22,1)))","v":0},{"$f":"IF(AL7=0,0,IF(AM7=\"A\",\"\",RANK(BC7,$BC$7:$BC$22,1)))","v":0},1,{"$f":"HLOOKUP(E7,mens_handbook,B3,FALSE)","v":5},{"$f":"IF(ISERROR(HLOOKUP(F7,'Declarations (M)'!$D$3:$S$31,B4,FALSE))=TRUE,\"\",HLOOKUP(F7,'Declarations (M)'!$D$3:$S$31,B4,FALSE))","v":"-"},{"$f":"IF(ISERROR(VLOOKUP(B7,matchday,2,FALSE))=TRUE,\"\",VLOOKUP(B7,matchday,2,FALSE))","v":"Southport Waterloo AC"},null,null,null,null,null,null,null,null,null,null,null,null,null,null,null,null,null,null,null,null,null,null,null,null,null,null,null,null,null,null,{"$f":"IF(OR(AL7=0,AL7=\"\"),\"\",IF(AL8=0,\"A\",IF(AL7>AL8,\"B\",\"A\")))","v":""},{"$f":"IF(AL7=0,0,IF(AM7=\"B\",\"\",RANK(AY7,$AY7:$AY22,1)))","v":0},{"$f":"IF(AL7=0,0,IF(AM7=\"A\",\"\",RANK(AZ7,$AZ7:$AZ22,1)))","v":0},0,null,{"$f":"IF(AS7=\"\",\"\",REPT(AT7,AS7-1))","v":""},{"$f":"IF(AT7=\"\",\"\",HLOOKUP(AN7,$BE$6:$BL$23,18,FALSE))","v":""},{"$f":"IF(OR(AN7=0,AN7=\"\"),\"\",IF(OR(AN7=AN8,AN7=AN9,AN7=AN10,AN7=AN11,AN7=AN12,AN7=AN13,AN7=AN14,AN7=AN15,AN7=AN16,AN7=AN17,AN7=AN18,AN7=AN19,AN7=AN20,AN7=AN21,AN7=AN22),\"=\",\"\"))","v":""},null,{"$f":"IF(AW7=\"\",\"\",REPT(AX7,AW7-1))","v":""},{"$f":"IF(AX7=\"\",\"\",HLOOKUP(AO7,$BM$6:$BT$23,18,FALSE))","v":""},{"$f":"IF(OR(AO7=0,AO7=\"\"),\"\",IF(OR(AO7=AO8,AO7=AO9,AO7=AO10,AO7=AO11,AO7=AO12,AO7=AO13,AO7=AO14,AO7=AO15,AO7=AO16,AO7=AO17,AO7=AO18,AO7=AO19,AO7=AO20,AO7=AO21,AO7=AO22),\"=\",\"\"))","v":""},{"$f":"IF(OR(AL7=0,AG7=0,AM7=\"B\"),\"\",AL7)","v":""},{"$f":"IF(OR(AL7=0,AG7=0,AM7=\"A\"),\"\",AL7)","v":""},null,{"$f":"IF(AY7=\"\",\"\",AY7+($AP7/10))","v":""},"",null,{"$f":"IF($AN7=\"\",\"\",IF($AN7=BE$6,$AN7,\"\"))","v":""},"","","","","","","",{"$f":"IF($AO7=\"\",\"\",IF($AO7=BM$6,$AO7,\"\"))","v":""},"","","","","","",""]
[null,5,{"$f":"IF(AL8=0,0,IF(AM8=\"B\",\"\",RANK(BB8,$BB$7:$BB$22,1)))","v":0},{"$f":"IF(AL8=0,0,IF(AM8=\"A\",\"\",RANK(BC8,$BC$7:$BC$22,1)))","v":0},2,{"$f":"HLOOKUP(E8,mens_handbook,B3,FALSE)","v":55},{"$f":"IF(ISERROR(HLOOKUP(F8,'Declarations (M)'!$D$3:$S$31,B4,FALSE))=TRUE,\"\",HLOOKUP(F8,'Declarations (M)'!$D$3:$S$31,B4,FALSE))","v":"-"},"Southport Waterloo AC",null,null,null,null,null,null,null,null,null,null,null,null,null,null,null,null,null,null,null,null,null,null,null,null,null,null,null,null,null,null,{"$f":"IF(OR(AL8=0,AL8=\"\"),\"\",IF(AL7=0,\"A\",IF(AL8>=AL7,\"B\",\"A\")))","v":""},{"$f":"IF(AL8=0,0,IF(AM8=\"B\",\"\",RANK(AY8,$AY7:$AY22,1)))","v":0},{"$f":"IF(AL8=0,0,IF(AM8=\"A\",\"\",RANK(AZ8,$AZ7:$AZ22,1)))","v":0},0,null,"","",{"$f":"IF(OR(AN8=0,AN8=\"\"),\"\",IF(OR(AN8=AN9,AN8=AN10,AN8=AN11,AN8=AN12,AN8=AN13,AN8=AN14,AN8=AN15,AN8=AN16,AN8=AN17,AN8=AN18,AN8=AN19,AN8=AN20,AN8=AN21,AN8=AN22,AN8=AN7),\"=\",\"\"))","v":""},null,"","",{"$f":"IF(OR(AO8=0,AO8=\"\"),\"\",IF(OR(AO8=AO9,AO8=AO10,AO8=AO11,AO8=AO12,AO8=AO13,AO8=AO14,AO8=AO15,AO8=AO16,AO8=AO17,AO8=AO18,AO8=AO19,AO8=AO20,AO8=AO21,AO8=AO22,AO8=AO7),\"=\",\"\"))","v":""},{"$f":"IF(OR(AL8=0,AG8=0,AM8=\"B\"),\"\",AL8)","v":""},{"$f":"IF(OR(AL8=0,AG8=0,AM8=\"A\"),\"\",AL8)","v":""},null,"","",null,"","","","","","","","","","","","","","","",""]
[null,4,0,0,3,{"$f":"HLOOKUP(E9,mens_handbook,B3,FALSE)","v":4},{"$f":"IF(ISERROR(HLOOKUP(F9,'Declarations (M)'!$D$3:$S$31,B4,FALSE))=TRUE,\"\",HLOOKUP(F9,'Declarations (M)'!$D$3:$S$31,B4,FALSE))","v":"-"},"Salford Metropolitan AC",null,null,null,null,null,null,null,null,null,null,null,null,null,null,null,null,null,null,null,null,null,null,null,null,null,null,null,null,null,null,{"$f":"IF(OR(AL9=0,AL9=\"\"),\"\",IF(AL10=0,\"A\",IF(AL9>AL10,\"B\",\"A\")))","v":""},{"$f":"IF(AL9=0,0,IF(AM9=\"B\",\"\",RANK(AY9,$AY7:$AY22,1)))","v":0},{"$f":"IF(AL9=0,0,IF(AM9=\"A\",\"\",RANK(AZ9,$AZ7:$AZ22,1)))","v":0},0,null,"",{"$f":"IF(AT9=\"\",\"\",HLOOKUP(AN9,$BE$6:$BL$23,18,FALSE))","v":""},{"$f":"IF(OR(AN9=0,AN9=\"\"),\"\",IF(OR(AN9=AN10,AN9=AN11,AN9=AN12,AN9=AN13,AN9=AN14,AN9=AN15,AN9=AN16,AN9=AN17,AN9=AN18,AN9=AN19,AN9=AN20,AN9=AN21,AN9=AN22,AN9=AN7,AN9=AN8),\"=\",\"\"))","v":""},null,"","",{"$f":"IF(OR(AO9=0,AO9=\"\"),\"\",IF(OR(AO9=AO10,AO9=AO11,AO9=AO12,AO9=AO13,AO9=AO14,AO9=AO15,AO9=AO16,AO9=AO17,AO9=AO18,AO9=AO19,AO9=AO20,AO9=AO21,AO9=AO22,AO9=AO7,AO9=AO8),\"=\",\"\"))","v":""},"","",null,"","",null,"","","","","","","","","","","","","","","",""]
[null,4,0,0,4,{"$f":"HLOOKUP(E10,mens_handbook,B3,FALSE)","v":44},{"$f":"IF(ISERROR(HLOOKUP(F10,'Declarations (M)'!$D$3:$S$31,B4,FALSE))=TRUE,\"\",HLOOKUP(F10,'Declarations (M)'!$D$3:$S$31,B4,FALSE))","v":"-"},"Salford Metropolitan AC",null,null,null,null,null,null,null,null,null,null,null,null,null,null,null,null,null,null,null,null,null,null,null,null,null,null,null,null,null,null,{"$f":"IF(OR(AL10=0,AL10=\"\"),\"\",IF(AL9=0,\"A\",IF(AL10>=AL9,\"B\",\"A\")))","v":""},{"$f":"IF(AL10=0,0,IF(AM10=\"B\",\"\",RANK(AY10,$AY7:$AY22,1)))","v":0},{"$f":"IF(AL10=0,0,IF(AM10=\"A\",\"\",RANK(AZ10,$AZ7:$AZ22,1)))","v":0},0,null,"","",{"$f":"IF(OR(AN10=0,AN10=\"\"),\"\",IF(OR(AN10=AN11,AN10=AN12,AN10=AN13,AN10=AN14,AN10=AN15,AN10=AN16,AN10=AN17,AN10=AN18,AN10=AN19,AN10=AN20,AN10=AN21,AN10=AN22,AN10=AN7,AN10=AN8,AN10=AN9),\"=\",\"\"))","v":""},null,"","",{"$f":"IF(OR(AO10=0,AO10=\"\"),\"\",IF(OR(AO10=AO11,AO10=AO12,AO10=AO13,AO10=AO14,AO10=AO15,AO10=AO16,AO10=AO17,AO10=AO18,AO10=AO19,AO10=AO20,AO10=AO21,AO10=AO22,AO10=AO7,AO10=AO8,AO10=AO9),\"=\",\"\"))","v":""},"","",null,"","",null,"","","","","","","","","","","","","","","",""]
[null,2,0,0,5,{"$f":"HLOOKUP(E11,mens_handbook,B3,FALSE)","v":2},{"$f":"IF(ISERROR(HLOOKUP(F11,'Declarations (M)'!$D$3:$S$31,B4,FALSE))=TRUE,\"\",HLOOKUP(F11,'Declarations (M)'!$D$3:$S$31,B4,FALSE))","v":"-"},"Crewe & Nantwich AC",null,null,null,null,null,null,null,null,null,null,null,null,null,null,null,null,null,null,null,null,null,null,null,null,null,null,null,null,null,null,{"$f":"IF(OR(AL11=0,AL11=\"\"),\"\",IF(AL12=0,\"A\",IF(AL11>AL12,\"B\",\"A\")))","v":""},{"$f":"IF(AL11=0,0,IF(AM11=\"B\",\"\",RANK(AY11,$AY7:$AY22,1)))","v":0},{"$f":"IF(AL11=0,0,IF(AM11=\"A\",\"\",RANK(AZ11,$AZ7:$AZ22,1)))","v":0},0,null,"","",{"$f":"IF(OR(AN11=0,AN11=\"\"),\"\",IF(OR(AN11=AN12,AN11=AN13,AN11=AN14,AN11=AN15,AN11=AN16,AN11=AN17,AN11=AN18,AN11=AN19,AN11=AN20,AN11=AN21,AN11=AN22,AN11=AN7,AN11=AN8,AN11=AN9,AN11=AN10),\"=\",\"\"))","v":""},null,"","",{"$f":"IF(OR(AO11=0,AO11=\"\"),\"\",IF(OR(AO11=AO12,AO11=AO13,AO11=AO14,AO11=AO15,AO11=AO16,AO11=AO17,AO11=AO18,AO11=AO19,AO11=AO20,AO11=AO21,AO11=AO22,AO11=AO7,AO11=AO8,AO11=AO9,AO11=AO10),\"=\",\"\"))","v":""},"","",null,"","",null,"","","","","","","","","","","","","","","",""]
[null,2,0,0,6,{"$f":"HLOOKUP(E12,mens_handbook,B3,FALSE)","v":22},{"$f":"IF(ISERROR(HLOOKUP(F12,'Declarations (M)'!$D$3:$S$31,B4,FALSE))=TRUE,\"\",HLOOKUP(F12,'Declarations (M)'!$D$3:$S$31,B4,FALSE))","v":"-"},"Crewe & Nantwich AC",null,null,null,null,null,null,null,null,null,null,null,null,null,null,null,null,null,null,null,null,null,null,null,null,null,null,null,null,null,null,{"$f":"IF(OR(AL12=0,AL12=\"\"),\"\",IF(AL11=0,\"A\",IF(AL12>=AL11,\"B\",\"A\")))","v":""},{"$f":"IF(AL12=0,0,IF(AM12=\"B\",\"\",RANK(AY12,$AY7:$AY22,1)))","v":0},{"$f":"IF(AL12=0,0,IF(AM12=\"A\",\"\",RANK(AZ12,$AZ7:$AZ22,1)))","v":0},0,null,"","",{"$f":"IF(OR(AN12=0,AN12=\"\"),\"\",IF(OR(AN12=AN13,AN12=AN14,AN12=AN15,AN12=AN16,AN12=AN17,AN12=AN18,AN12=AN19,AN12=AN20,AN12=AN21,AN12=AN22,AN12=AN7,AN12=AN8,AN12=AN9,AN12=AN10,AN12=AN11),\"=\",\"\"))","v":""},null,"","",{"$f":"IF(OR(AO12=0,AO12=\"\"),\"\",IF(OR(AO12=AO13,AO12=AO14,AO12=AO15,AO12=AO16,AO12=AO17,AO12=AO18,AO12=AO19,AO12=AO20,AO12=AO21,AO12=AO22,AO12=AO7,AO12=AO8,AO12=AO9,AO12=AO10,AO12=AO11),\"=\",\"\"))","v":""},"","",null,"","",null,"","","","","","","","","","","","","","","",""]
[null,3,0,0,7,{"$f":"HLOOKUP(E13,mens_handbook,B3,FALSE)","v":3},{"$f":"IF(ISERROR(HLOOKUP(F13,'Declarations (M)'!$D$3:$S$31,B4,FALSE))=TRUE,\"\",HLOOKUP(F13,'Declarations (M)'!$D$3:$S$31,B4,FALSE))","v":"-"},"Isle of Man \"B\"",null,null,null,null,null,null,null,null,null,null,null,null,null,null,null,null,null,null,null,null,null,null,null,null,null,null,null,null,null,null,{"$f":"IF(OR(AL13=0,AL13=\"\"),\"\",IF(AL14=0,\"A\",IF(AL13>AL14,\"B\",\"A\")))","v":""},{"$f":"IF(AL13=0,0,IF(AM13=\"B\",\"\",RANK(AY13,$AY7:$AY22,1)))","v":0},{"$f":"IF(AL13=0,0,IF(AM13=\"A\",\"\",RANK(AZ13,$AZ7:$AZ22,1)))","v":0},0,null,"","",{"$f":"IF(OR(AN13=0,AN13=\"\"),\"\",IF(OR(AN13=AN14,AN13=AN15,AN13=AN16,AN13=AN17,AN13=AN18,AN13=AN19,AN13=AN20,AN13=AN21,AN13=AN22,AN13=AN7,AN13=AN8,AN13=AN9,AN13=AN10,AN13=AN11,AN13=AN12),\"=\",\"\"))","v":""},null,"","",{"$f":"IF(OR(AO13=0,AO13=\"\"),\"\",IF(OR(AO13=AO14,AO13=AO15,AO13=AO16,AO13=AO17,AO13=AO18,AO13=AO19,AO13=AO20,AO13=AO21,AO13=AO22,AO13=AO7,AO13=AO8,AO13=AO9,AO13=AO10,AO13=AO11,AO13=AO12),\"=\",\"\"))","v":""},"","",null,"","",null,"","","","","","","","","","","","","","","",""]
[null,3,0,0,8,{"$f":"HLOOKUP(E14,mens_handbook,B3,FALSE)","v":33},{"$f":"IF(ISERROR(HLOOKUP(F14,'Declarations (M)'!$D$3:$S$31,B4,FALSE))=TRUE,\"\",HLOOKUP(F14,'Declarations (M)'!$D$3:$S$31,B4,FALSE))","v":"-"},"Isle of Man \"B\"",null,null,null,null,null,null,null,null,null,null,null,null,null,null,null,null,null,null,null,null,null,null,null,null,null,null,null,null,null,null,{"$f":"IF(OR(AL14=0,AL14=\"\"),\"\",IF(AL13=0,\"A\",IF(AL14>=AL13,\"B\",\"A\")))","v":""},{"$f":"IF(AL14=0,0,IF(AM14=\"B\",\"\",RANK(AY14,$AY7:$AY22,1)))","v":0},{"$f":"IF(AL14=0,0,IF(AM14=\"A\",\"\",RANK(AZ14,$AZ7:$AZ22,1)))","v":0},0,null,"","",{"$f":"IF(OR(AN14=0,AN14=\"\"),\"\",IF(OR(AN14=AN15,AN14=AN16,AN14=AN17,AN14=AN18,AN14=AN19,AN14=AN20,AN14=AN21,AN14=AN22,AN14=AN7,AN14=AN8,AN14=AN9,AN14=AN10,AN14=AN11,AN14=AN12,AN14=AN13),\"=\",\"\"))","v":""},null,"","",{"$f":"IF(OR(AO14=0,AO14=\"\"),\"\",IF(OR(AO14=AO15,AO14=AO16,AO14=AO17,AO14=AO18,AO14=AO19,AO14=AO20,AO14=AO21,AO14=AO22,AO14=AO7,AO14=AO8,AO14=AO9,AO14=AO10,AO14=AO11,AO14=AO12,AO14=AO13),\"=\",\"\"))","v":""},"","",null,"","",null,"","","","","","","","","","","","","","","",""]
[null,7,0,0,9,{"$f":"HLOOKUP(E15,mens_handbook,B3,FALSE)","v":7},{"$f":"IF(ISERROR(HLOOKUP(F15,'Declarations (M)'!$D$3:$S$31,B4,FALSE))=TRUE,\"\",HLOOKUP(F15,'Declarations (M)'!$D$3:$S$31,B4,FALSE))","v":"-"},"Wrexham AAC",null,null,null,null,null,null,null,null,null,null,null,null,null,null,null,null,null,null,null,null,null,null,null,null,null,null,null,null,null,null,{"$f":"IF(OR(AL15=0,AL15=\"\"),\"\",IF(AL16=0,\"A\",IF(AL15>AL16,\"B\",\"A\")))","v":""},{"$f":"IF(AL15=0,0,IF(AM15=\"B\",\"\",RANK(AY15,$AY7:$AY22,1)))","v":0},{"$f":"IF(AL15=0,0,IF(AM15=\"A\",\"\",RANK(AZ15,$AZ7:$AZ22,1)))","v":0},0,null,"","",{"$f":"IF(OR(AN15=0,AN15=\"\"),\"\",IF(OR(AN15=AN16,AN15=AN17,AN15=AN18,AN15=AN19,AN15=AN20,AN15=AN21,AN15=AN22,AN15=AN7,AN15=AN8,AN15=AN9,AN15=AN10,AN15=AN11,AN15=AN12,AN15=AN13,AN15=AN14),\"=\",\"\"))","v":""},null,"","",{"$f":"IF(OR(AO15=0,AO15=\"\"),\"\",IF(OR(AO15=AO16,AO15=AO17,AO15=AO18,AO15=AO19,AO15=AO20,AO15=AO21,AO15=AO22,AO15=AO7,AO15=AO8,AO15=AO9,AO15=AO10,AO15=AO11,AO15=AO12,AO15=AO13,AO15=AO14),\"=\",\"\"))","v":""},"","",null,"","",null,"","","","","","","","","","","","","","","",""]
[null,7,0,0,10,{"$f":"HLOOKUP(E16,mens_handbook,B3,FALSE)","v":77},{"$f":"IF(ISERROR(HLOOKUP(F16,'Declarations (M)'!$D$3:$S$31,B4,FALSE))=TRUE,\"\",HLOOKUP(F16,'Declarations (M)'!$D$3:$S$31,B4,FALSE))","v":"-"},"Wrexham AAC",null,null,null,null,null,null,null,null,null,null,null,null,null,null,null,null,null,null,null,null,null,null,null,null,null,null,null,null,null,null,{"$f":"IF(OR(AL16=0,AL16=\"\"),\"\",IF(AL15=0,\"A\",IF(AL16>=AL15,\"B\",\"A\")))","v":""},{"$f":"IF(AL16=0,0,IF(AM16=\"B\",\"\",RANK(AY16,$AY7:$AY22,1)))","v":0},{"$f":"IF(AL16=0,0,IF(AM16=\"A\",\"\",RANK(AZ16,$AZ7:$AZ22,1)))","v":0},0,null,"","",{"$f":"IF(OR(AN16=0,AN16=\"\"),\"\",IF(OR(AN16=AN17,AN16=AN18,AN16=AN19,AN16=AN20,AN16=AN21,AN16=AN22,AN16=AN7,AN16=AN8,AN16=AN9,AN16=AN10,AN16=AN11,AN16=AN12,AN16=AN13,AN16=AN14,AN16=AN15),\"=\",\"\"))","v":""},null,"","",{"$f":"IF(OR(AO16=0,AO16=\"\"),\"\",IF(OR(AO16=AO17,AO16=AO18,AO16=AO19,AO16=AO20,AO16=AO21,AO16=AO22,AO16=AO7,AO16=AO8,AO16=AO9,AO16=AO10,AO16=AO11,AO16=AO12,AO16=AO13,AO16=AO14,AO16=AO15),\"=\",\"\"))","v":""},"","",null,"","",null,"","","","","","","","","","","","","","","",""]
[null,1,0,0,11,{"$f":"HLOOKUP(E17,mens_handbook,B3,FALSE)","v":1},{"$f":"IF(ISERROR(HLOOKUP(F17,'Declarations (M)'!$D$3:$S$31,B4,FALSE))=TRUE,\"\",HLOOKUP(F17,'Declarations (M)'!$D$3:$S$31,B4,FALSE))","v":"-"},"Altrincham & District AC",null,null,null,null,null,null,null,null,null,null,null,null,null,null,null,null,null,null,null,null,null,null,null,null,null,null,null,null,null,null,{"$f":"IF(OR(AL17=0,AL17=\"\"),\"\",IF(AL18=0,\"A\",IF(AL17>AL18,\"B\",\"A\")))","v":""},{"$f":"IF(AL17=0,0,IF(AM17=\"B\",\"\",RANK(AY17,$AY7:$AY22,1)))","v":0},{"$f":"IF(AL17=0,0,IF(AM17=\"A\",\"\",RANK(AZ17,$AZ7:$AZ22,1)))","v":0},0,null,"","",{"$f":"IF(OR(AN17=0,AN17=\"\"),\"\",IF(OR(AN17=AN18,AN17=AN19,AN17=AN20,AN17=AN21,AN17=AN22,AN17=AN7,AN17=AN8,AN17=AN9,AN17=AN10,AN17=AN11,AN17=AN12,AN17=AN13,AN17=AN14,AN17=AN15,AN17=AN16),\"=\",\"\"))","v":""},null,"","",{"$f":"IF(OR(AO17=0,AO17=\"\"),\"\",IF(OR(AO17=AO18,AO17=AO19,AO17=AO20,AO17=AO21,AO17=AO22,AO17=AO7,AO17=AO8,AO17=AO9,AO17=AO10,AO17=AO11,AO17=AO12,AO17=AO13,AO17=AO14,AO17=AO15,AO17=AO16),\"=\",\"\"))","v":""},"","",null,"","",null,"","","","","","","","","","","","","","","",""]
[null,1,0,0,12,{"$f":"HLOOKUP(E18,mens_handbook,B3,FALSE)","v":11},{"$f":"IF(ISERROR(HLOOKUP(F18,'Declarations (M)'!$D$3:$S$31,B4,FALSE))=TRUE,\"\",HLOOKUP(F18,'Declarations (M)'!$D$3:$S$31,B4,FALSE))","v":"-"},"Altrincham & District AC",null,null,null,null,null,null,null,null,null,null,null,null,null,null,null,null,null,null,null,null,null,null,null,null,null,null,null,null,null,null,{"$f":"IF(OR(AL18=0,AL18=\"\"),\"\",IF(AL17=0,\"A\",IF(AL18>=AL17,\"B\",\"A\")))","v":""},{"$f":"IF(AL18=0,0,IF(AM18=\"B\",\"\",RANK(AY18,$AY7:$AY22,1)))","v":0},{"$f":"IF(AL18=0,0,IF(AM18=\"A\",\"\",RANK(AZ18,$AZ7:$AZ22,1)))","v":0},0,null,"","",{"$f":"IF(OR(AN18=0,AN18=\"\"),\"\",IF(OR(AN18=AN19,AN18=AN20,AN18=AN21,AN18=AN22,AN18=AN7,AN18=AN8,AN18=AN9,AN18=AN10,AN18=AN11,AN18=AN12,AN18=AN13,AN18=AN14,AN18=AN15,AN18=AN16,AN18=AN17),\"=\",\"\"))","v":""},null,"","",{"$f":"IF(OR(AO18=0,AO18=\"\"),\"\",IF(OR(AO18=AO19,AO18=AO20,AO18=AO21,AO18=AO22,AO18=AO7,AO18=AO8,AO18=AO9,AO18=AO10,AO18=AO11,AO18=AO12,AO18=AO13,AO18=AO14,AO18=AO15,AO18=AO16,AO18=AO17),\"=\",\"\"))","v":""},"","",null,"","",null,"","","","","","","","","","","","","","","",""]
[null,6,0,0,13,{"$f":"HLOOKUP(E19,mens_handbook,B3,FALSE)","v":6},{"$f":"IF(ISERROR(HLOOKUP(F19,'Declarations (M)'!$D$3:$S$31,B4,FALSE))=TRUE,\"\",HLOOKUP(F19,'Declarations (M)'!$D$3:$S$31,B4,FALSE))","v":"-"},"Warrington AC",null,null,null,null,null,null,null,null,null,null,null,null,null,null,null,null,null,null,null,null,null,null,null,null,null,null,null,null,null,null,{"$f":"IF(OR(AL19=0,AL19=\"\"),\"\",IF(AL20=0,\"A\",IF(AL19>AL20,\"B\",\"A\")))","v":""},{"$f":"IF(AL19=0,0,IF(AM19=\"B\",\"\",RANK(AY19,$AY7:$AY22,1)))","v":0},{"$f":"IF(AL19=0,0,IF(AM19=\"A\",\"\",RANK(AZ19,$AZ7:$AZ22,1)))","v":0},0,null,"","",{"$f":"IF(OR(AN19=0,AN19=\"\"),\"\",IF(OR(AN19=AN20,AN19=AN21,AN19=AN22,AN19=AN7,AN19=AN8,AN19=AN9,AN19=AN10,AN19=AN11,AN19=AN12,AN19=AN13,AN19=AN14,AN19=AN15,AN19=AN16,AN19=AN17,AN19=AN18),\"=\",\"\"))","v":""},null,"","",{"$f":"IF(OR(AO19=0,AO19=\"\"),\"\",IF(OR(AO19=AO20,AO19=AO21,AO19=AO22,AO19=AO7,AO19=AO8,AO19=AO9,AO19=AO10,AO19=AO11,AO19=AO12,AO19=AO13,AO19=AO14,AO19=AO15,AO19=AO16,AO19=AO17,AO19=AO18),\"=\",\"\"))","v":""},"","",null,"","",null,"","","","","","","","","","","","","","","",""]
[null,6,0,0,14,{"$f":"HLOOKUP(E20,mens_handbook,B3,FALSE)","v":66},{"$f":"IF(ISERROR(HLOOKUP(F20,'Declarations (M)'!$D$3:$S$31,B4,FALSE))=TRUE,\"\",HLOOKUP(F20,'Declarations (M)'!$D$3:$S$31,B4,FALSE))","v":"-"},"Warrington AC",null,null,null,null,null,null,null,null,null,null,null,null,null,null,null,null,null,null,null,null,null,null,null,null,null,null,null,null,null,null,{"$f":"IF(OR(AL20=0,AL20=\"\"),\"\",IF(AL19=0,\"A\",IF(AL20>=AL19,\"B\",\"A\")))","v":""},{"$f":"IF(AL20=0,0,IF(AM20=\"B\",\"\",RANK(AY20,$AY7:$AY22,1)))","v":0},{"$f":"IF(AL20=0,0,IF(AM20=\"A\",\"\",RANK(AZ20,$AZ7:$AZ22,1)))","v":0},0,null,"","",{"$f":"IF(OR(AN20=0,AN20=\"\"),\"\",IF(OR(AN20=AN21,AN20=AN22,AN20=AN7,AN20=AN8,AN20=AN9,AN20=AN10,AN20=AN11,AN20=AN12,AN20=AN13,AN20=AN14,AN20=AN15,AN20=AN16,AN20=AN17,AN20=AN18,AN20=AN19),\"=\",\"\"))","v":""},null,"","",{"$f":"IF(OR(AO20=0,AO20=\"\"),\"\",IF(OR(AO20=AO21,AO20=AO22,AO20=AO7,AO20=AO8,AO20=AO9,AO20=AO10,AO20=AO11,AO20=AO12,AO20=AO13,AO20=AO14,AO20=AO15,AO20=AO16,AO20=AO17,AO20=AO18,AO20=AO19),\"=\",\"\"))","v":""},"","",null,"","",null,"","","","","","","","","","","","","","","",""]
[null,0,0,0,15,{"$f":"HLOOKUP(E21,mens_handbook,B3,FALSE)","v":0},{"$f":"IF(ISERROR(HLOOKUP(F21,'Declarations (M)'!$D$3:$S$31,B4,FALSE))=TRUE,\"\",HLOOKUP(F21,'Declarations (M)'!$D$3:$S$31,B4,FALSE))","v":""},"",null,null,null,null,null,null,null,null,null,null,null,null,null,null,null,null,null,null,null,null,null,null,null,null,null,null,null,null,null,null,{"$f":"IF(OR(AL21=0,AL21=\"\"),\"\",IF(AL22=0,\"A\",IF(AL21>AL22,\"B\",\"A\")))","v":""},{"$f":"IF(AL21=0,0,IF(AM21=\"B\",\"\",RANK(AY21,$AY7:$AY22,1)))","v":0},{"$f":"IF(AL21=0,0,IF(AM21=\"A\",\"\",RANK(AZ21,$AZ7:$AZ22,1)))","v":0},0,null,"","",{"$f":"IF(OR(AN21=0,AN21=\"\"),\"\",IF(OR(AN21=AN22,AN21=AN7,AN21=AN8,AN21=AN9,AN21=AN10,AN21=AN11,AN21=AN12,AN21=AN13,AN21=AN14,AN21=AN15,AN21=AN16,AN21=AN17,AN21=AN18,AN21=AN19,AN21=AN20),\"=\",\"\"))","v":""},null,"","",{"$f":"IF(OR(AO21=0,AO21=\"\"),\"\",IF(OR(AO21=AO22,AO21=AO7,AO21=AO8,AO21=AO9,AO21=AO10,AO21=AO11,AO21=AO12,AO21=AO13,AO21=AO14,AO21=AO15,AO21=AO16,AO21=AO17,AO21=AO18,AO21=AO19,AO21=AO20),\"=\",\"\"))","v":""},"","",null,"","",null,"","","","","","","","","","","","","","","",""]
[null,0,0,0,16,{"$f":"HLOOKUP(E22,mens_handbook,B3,FALSE)","v":0},{"$f":"IF(ISERROR(HLOOKUP(F22,'Declarations (M)'!$D$3:$S$31,B4,FALSE))=TRUE,\"\",HLOOKUP(F22,'Declarations (M)'!$D$3:$S$31,B4,FALSE))","v":""},"",null,null,null,null,null,null,null,null,null,null,null,null,null,null,null,null,null,null,null,null,null,null,null,null,null,null,null,null,null,null,{"$f":"IF(OR(AL22=0,AL22=\"\"),\"\",IF(AL21=0,\"A\",IF(AL22>=AL21,\"B\",\"A\")))","v":""},{"$f":"IF(AL22=0,0,IF(AM22=\"B\",\"\",RANK(AY22,$AY7:$AY22,1)))","v":0},{"$f":"IF(AL22=0,0,IF(AM22=\"A\",\"\",RANK(AZ22,$AZ7:$AZ22,1)))","v":0},0,null,"","",{"$f":"IF(OR(AN22=0,AN22=\"\"),\"\",IF(OR(AN22=AN7,AN22=AN8,AN22=AN9,AN22=AN10,AN22=AN11,AN22=AN12,AN22=AN13,AN22=AN14,AN22=AN15,AN22=AN16,AN22=AN17,AN22=AN18,AN22=AN19,AN22=AN20,AN22=AN21),\"=\",\"\"))","v":""},null,"","",{"$f":"IF(OR(AO22=0,AO22=\"\"),\"\",IF(OR(AO22=AO7,AO22=AO8,AO22=AO9,AO22=AO10,AO22=AO11,AO22=AO12,AO22=AO13,AO22=AO14,AO22=AO15,AO22=AO16,AO22=AO17,AO22=AO18,AO22=AO19,AO22=AO20,AO22=AO21),\"=\",\"\"))","v":""},"","",null,"","",null,"","","","","","","","","","","","","","","",""]
[null,null,null,null,null,null,null,null,null,null,null,null,null,null,null,null,null,null,null,null,null,null,null,null,null,null,null,null,null,null,null,null,null,null,null,null,null,null,null,null,null,null,null,null,null,null,null,null,null,null,null,null,null,null,null,null,{"$f":"COUNTIF(BE7:BE22,BE6)","v":0},0,0,0,0,0,0,0,0,0,0,0,0,0,0,0]
[null,null,null,null,"\"A\" STRING RESULT",null,null,null,null,null,"\"B\" STRING RESULT",null,null,null,null,null,null,null,null,null,null,null,null,null,null,null,null,null,"JUDGES' SIGNATURES"]
[null,null,null,null,"Posn","No.","NAME","CLUB","HEIGHT",null,"Posn",null,"No.",null,"NAME",null,null,null,null,null,"CLUB",null,null,null,null,null,"HEIGHT"]
[null,null,null,1,{"$f":"IF(ISERROR(VLOOKUP(D26,$C$7:$AR$22,31,FALSE))=TRUE,\"\",IF(VLOOKUP(D26,$C$7:$AR$22,42,FALSE)=\"\",VLOOKUP(D26,$C$7:$AR$22,38,FALSE),CONCATENATE(VLOOKUP(D26,$C$7:$AR$22,38,FALSE),VLOOKUP(D26,$C$7:$AR$22,42,FALSE))))","v":""},{"$f":"IF(ISERROR(VLOOKUP(D26,$C$7:$AH$22,31,FALSE))=TRUE,\"\",IF(VLOOKUP(D26,$C$7:$AH$22,31,FALSE)=0,\"\",IF(VLOOKUP(D26,$C$7:$AH$22,31,FALSE)=99,99,IF(VLOOKUP(D26,$C$7:$AH$22,31,FALSE)=97,97,IF(VLOOKUP(D26,$C$7:$AH$22,31,FALSE)=96,96,VLOOKUP(D26,$C$7:$AH$22,4,FALSE))))))","v":""},{"$f":"IF(ISERROR(VLOOKUP(D26,$C$7:$AH$22,31,FALSE))=TRUE,\"\",VLOOKUP(D26,$C$7:$AH$22,5,FALSE))","v":""},{"$f":"IF(ISERROR(VLOOKUP(D26,$C$7:$AH$22,31,FALSE))=TRUE,\"\",VLOOKUP(D26,$C$7:$AH$22,6,FALSE))","v":""},{"$f":"IF(ISERROR(VLOOKUP(D26,$C$7:$AH$22,31,FALSE))=TRUE,\"\",IF(VLOOKUP(D26,C$7:AH$22,31,FALSE)=0,0,IF(VLOOKUP(D26,C$7:AH$22,31,FALSE)>95.99,\"\",VLOOKUP(D26,C$7:AH$22,31,FALSE))))","v":""},null,{"$f":"IF(ISERROR(VLOOKUP(D26,$D$7:$AV$22,30,FALSE))=TRUE,\"\",IF(VLOOKUP(D26,$D$7:$AV$22,45,FALSE)=\"\",VLOOKUP(D26,$D$7:$AV$22,38,FALSE),CONCATENATE(VLOOKUP(D26,$D$7:$AV$22,38,FALSE),VLOOKUP(D26,$D$7:$AV$22,45,FALSE))))","v":""},{"$f":"IF(ISERROR(VLOOKUP(K26,$C$7:$AR$22,31,FALSE))=TRUE,\"\",CONCATENATE(VLOOKUP(K26,$C$7:$AR$22,38,FALSE),VLOOKUP(K26,$C$7:$AR$22,42,FALSE)))","v":""},{"$f":"IF(ISERROR(VLOOKUP(D26,$D$7:$AH$22,30,FALSE))=TRUE,\"\",IF(VLOOKUP(D26,$D$7:$AH$22,30,FALSE)=0,\"\",VLOOKUP(D26,$D$7:$AH$22,3,FALSE)))","v":""},null,{"$f":"IF(ISERROR(VLOOKUP(D26,$D$7:$AH$22,30,FALSE))=TRUE,\"\",VLOOKUP(D26,$D$7:$AH$22,4,FALSE))","v":""},null,null,null,null,null,{"$f":"IF(ISERROR(VLOOKUP(D26,$D$7:$AH$22,30,FALSE))=TRUE,\"\",VLOOKUP(D26,$D$7:$AH$22,5,FALSE))","v":""},null,null,null,null,null,{"$f":"IF(ISERROR(VLOOKUP(D26,$D$7:$AH$22,30,FALSE))=TRUE,\"\",IF(VLOOKUP(D26,$D$7:$AH$22,30,FALSE)=0,\"\",VLOOKUP(D26,$D$7:$AH$22,30,FALSE)))","v":""}]
[null,null,null,2,"","","","","",null,"","","",null,"",null,null,null,null,null,"",null,null,null,null,null,""]
[null,null,null,3,"","","","","",null,"","","",null,"",null,null,null,null,null,"",null,null,null,null,null,""]
[null,null,null,4,"","","","","",null,"","","",null,"",null,null,null,null,null,"",null,null,null,null,null,""]
[null,null,null,5,"","","","","",null,"","","",null,"",null,null,null,null,null,"",null,null,null,null,null,""]
[null,null,null,6,"","","","","",null,"","","",null,"",null,null,null,null,null,"",null,null,null,null,null,"",null,"REFEREE'S SIGNATURE"]
[null,null,null,7,"","","","","",null,"","","",null,"",null,null,null,null,null,"",null,null,null,null,null,""]
[null,null,null,8,"","","","","",null,"","","",null,"",null,null,null,null,null,"",null,null,null,null,null,""]

{"sheet":"Womens Hammer","index":12,"n_rows":33,"n_cols":32,"rows_kept":33,"cut":false,"hidden":false,"merged":[[30,22,30,28],[32,12,32,15],[31,16,31,19],[30,12,30,15],[30,16,30,19],[32,16,32,19],[32,20,32,21],[29,16,29,19],[13,23,13,24],[31,20,31,21],[14,12,14,13],[15,12,15,13],[16,12,16,13],[17,12,17,13],[18,12,18,13],[20,12,20,13],[19,12,19,13],[21,23,21,24],[20,14,20,15],[21,14,21,15],[25,16,25,19],[28,12,28,15],[26,20,26,21],[23,22,23,28],[6,23,6,24],[10,23,10,24],[7,21,7,22],[8,21,8,22],[20,23,20,24],[19,21,19,22],[20,21,20,22],[21,21,21,22],[30,20,30,21],[25,20,25,21],[14,19,14,20],[15,19,15,20],[16,19,16,20],[17,19,17,20],[6,19,6,20],[8,19,8,20],[7,19,7,20],[9,19,9,20],[10,19,10,20],[11,19,11,20],[7,23,7,24],[15,21,15,22],[8,23,8,24],[9,23,9,24],[30,8,30,9],[7,12,7,13],[8,10,8,11],[9,10,9,11],[21,8,21,9],[20,10,20,11],[21,10,21,11],[14,14,14,15],[15,14,15,15],[16,14,16,15],[17,14,17,15],[18,14,18,15],[19,14,19,15],[25,8,25,9],[26,8,26,9],[25,12,25,15],[26,12,26,15],[15,8,15,9],[16,10,16,11],[15,10,15,11],[9,14,9,15],[10,14,10,15],[28,8,28,9],[29,8,29,9],[31,8,31,9],[32,8,32,9],[31,12,31,15],[16,23,16,24],[11,21,11,22],[12,21,12,22],[13,21,13,22],[14,21,14,22],[11,23,11,24],[12,23,12,24],[20,19,20,20],[21,19,21,20],[17,23,17,24],[18,23,18,24],[19,23,19,24],[11,17,11,18],[11,12,11,13],[11,14,11,15],[16,21,16,22],[18,21,18,22],[12,19,12,20],[13,19,13,20],[18,17,18,18],[21,12,21,13],[14,10,14,11],[10,10,10,11],[6,10,6,11],[6,12,6,13],[9,21,9,22],[10,21,10,22],[12,14,12,15],[13,14,13,15],[6,14,6,15],[7,14,7,15],[8,14,8,15],[13,12,13,13],[24,12,24,15],[24,16,24,19],[24,20,24,21],[18,19,18,20],[19,19,19,20],[19,17,19,18],[21,17,21,18],[20,17,20,18],[20,8,20,9],[28,20,28,21],[29,12,29,15],[29,20,29,21],[27,12,27,15],[27,16,27,19],[28,16,28,19],[26,16,26,19],[4,8,4,9],[4,10,4,11],[4,12,4,13],[4,14,4,15],[5,8,5,9],[27,8,27,9],[5,14,5,15],[9,12,9,13],[10,12,10,13],[6,8,6,9],[5,10,5,11],[5,12,5,13],[8,8,8,9],[9,8,9,9],[10,8,10,9],[17,10,17,11],[12,17,12,18],[0,4,0,5],[2,4,2,5],[3,4,3,5],[2,11,2,15],[3,11,3,12],[0,6,0,17],[27,20,27,21],[8,12,8,13],[7,10,7,11],[23,4,23,9],[23,10,23,21],[17,17,17,18],[17,21,17,22],[16,17,16,18],[14,17,14,18],[15,17,15,18],[13,17,13,18],[12,12,12,13],[6,17,6,18],[7,17,7,18],[8,17,8,18],[9,17,9,18],[2,6,2,7],[24,8,24,9],[2,8,2,10],[3,6,3,7],[3,8,3,10],[1,4,1,18],[1,19,1,23],[1,25,1,28],[18,10,18,11],[19,10,19,11],[16,8,16,9],[17,8,17,9],[18,8,18,9],[19,8,19,9],[14,23,14,24],[15,23,15,24],[10,17,10,18],[6,21,6,22],[14,8,14,9],[11,8,11,9],[12,8,12,9],[13,8,13,9],[11,10,11,11],[12,10,12,11],[13,10,13,11],[7,8,7,9],[0,19,0,28],[4,21,4,22],[4,23,4,24],[3,13,3,15],[3,16,3,18],[3,19,3,28],[4,25,5,25],[5,23,5,24],[4,16,5,16],[4,17,4,18],[4,19,4,20],[5,17,5,18],[5,21,5,22],[5,19,5,20],[4,26,4,28],[2,16,2,18],[2,19,2,28]]}
[null,null,null,null,"Home",null,{"$f":"'Match Day'!I4","v":"Northern T&F League"},null,null,null,null,null,null,null,null,null,null,null,null,{"$f":"'Match Day'!C6","v":"Crewe & Nantwich AC"}]
[11,null,26,null,"UK ATHLETICS: DISTANCE CARD",null,null,null,null,null,null,null,null,null,null,null,null,null,null,"Progression Standard:",null,null,null,null,{"$f":"VLOOKUP(A2,womens_handbook,20,FALSE)","v":20},"metres"]
[null,null,{"$f":"VLOOKUP(A2,womens_handbook,37,FALSE)","v":12},null,"MEETING ",null,{"$f":"CONCATENATE('Match Day'!$I$8,\" \",'Match Day'!$I$10)","v":"Division 4W Match 1"},null,"VENUE ",null,null,{"$f":"'Match Day'!$I$12","v":"Litherland"},null,null,null,null,"DATE ",null,null,{"$f":"'Match Day'!$I$6","v":"2014-05-04"}]
[null,null,{"$f":"VLOOKUP(A2,womens_declare,20,FALSE)","v":12},null,"EVENT",null,{"$f":"VLOOKUP(A2,womens_handbook,3,FALSE)","v":"Women's Hammer"},null,"TIME",null,null,{"$f":"VLOOKUP(A2,womens_handbook,2,FALSE)","v":"12:30:00"},null,"RECORD",null,null,{"$f":"VLOOKUP(A2,womens_handbook,29,FALSE)","v":2010},null,null,{"$f":"IF($A2=\"\",\"\",CONCATENATE(VLOOKUP($A2,womens_handbook,26,FALSE),\", \",VLOOKUP($A2,womens_handbook,27,FALSE),\", \",VLOOKUP($A2,womens_handbook,28,FALSE)))","v":"Sophie Hitchin, Blackburn Harriers, 64.93"}]
[null,null,null,null,"Order","No","NAME","CLUB","1st Trial",null,"2nd Trial",null,"3rd Trial",null,"Best of 3",null,"Position after\n3 Trials","4th Trial",null,"5th Trial",null,"6th Trial",null,"Best of All",null,"Final\nPositionn","A or B"]
[null,null,"A","B",null,null,null,null,"Metres",null,"Metres",null,"Metres",null,"Metres",null,null,"Metres",null,"Metres",null,"Metres",null,"Metres",null,null,null,"A","B"]
[{"$f":"IF(F7=\"\",\"\",IF(F7>10,F7/11,F7))","v":2},null,{"$f":"AB7","v":""},{"$f":"AC7","v":""},1,{"$f":"HLOOKUP(E7,womens_handbook,C3,FALSE)","v":2},{"$f":"IF(ISERROR(HLOOKUP(F7,womens_declare,C4,FALSE))=TRUE,\"\",HLOOKUP(F7,womens_declare,C4,FALSE))","v":"-"},{"$f":"IF(ISERROR(VLOOKUP(A7,matchday,2,FALSE))=TRUE,\"\",VLOOKUP(A7,matchday,2,FALSE))","v":"Crewe & Nantwich AC"},0,null,0,null,0,null,{"$f":"LARGE(I7:N7,1)","v":0},null,{"$f":"IF(OR(O7=0,O7=\"\"),0,RANK(O7,$O$7:$P$22,0))","v":0},0,null,0,null,0,null,{"$f":"IF(O7>LARGE(R7:W7,1),O7,LARGE(R7:W7,1))","v":0},null,{"$f":"IF(OR(Q7=0,Q7=\"\",X7=\"\",X7=0),0,RANK(X7,$X$7:$Y$22,0))","v":0},{"$f":"IF(OR(Z7=0,Z7=\"\"),\"\",IF(Z8=0,\"A\",IF(Z7>Z8,\"B\",\"A\")))","v":""},{"$f":"IF(OR(Z7=0,Z7=\"\",AA7=\"B\"),\"\",RANK(AE7,$AE$7:$AE$22,1))","v":""},{"$f":"IF(OR(Z7=0,Z7=\"\",AA7=\"A\"),\"\",RANK(AF7,$AF$7:$AF$22,1))","v":""},null,{"$f":"IF(OR(Z7=\"\",Z7=0,AA7=\"\",AA7=0,AA7=\"B\"),\"\",Z7)","v":""},{"$f":"IF(OR(Z7=\"\",Z7=0,AA7=\"\",AA7=0,AA7=\"A\"),\"\",Z7)","v":""}]
[2,null,"","",2,{"$f":"HLOOKUP(E8,womens_handbook,C3,FALSE)","v":22},{"$f":"IF(ISERROR(HLOOKUP(F8,womens_declare,C4,FALSE))=TRUE,\"\",HLOOKUP(F8,womens_declare,C4,FALSE))","v":"-"},"Crewe & Nantwich AC",0,null,0,null,0,null,0,null,0,0,null,0,null,0,null,0,null,0,{"$f":"IF(OR(Z8=0,Z8=\"\"),\"\",IF(Z7=0,\"A\",IF(Z8>=Z7,\"B\",\"A\")))","v":""},"","",null,"",""]
[5,null,"","",3,{"$f":"HLOOKUP(E9,womens_handbook,C3,FALSE)","v":5},{"$f":"IF(ISERROR(HLOOKUP(F9,womens_declare,C4,FALSE))=TRUE,\"\",HLOOKUP(F9,womens_declare,C4,FALSE))","v":"-"},"Southport Waterloo AC",0,null,0,null,0,null,0,null,0,0,null,0,null,0,null,0,null,0,{"$f":"IF(OR(Z9=0,Z9=\"\"),\"\",IF(Z10=0,\"A\",IF(Z9>Z10,\"B\",\"A\")))","v":""},"","",null,"",""]
[5,null,"","",4,{"$f":"HLOOKUP(E10,womens_handbook,C3,FALSE)","v":55},{"$f":"IF(ISERROR(HLOOKUP(F10,womens_declare,C4,FALSE))=TRUE,\"\",HLOOKUP(F10,womens_declare,C4,FALSE))","v":"-"},"Southport Waterloo AC",0,null,0,null,0,null,0,null,0,0,null,0,null,0,null,0,null,0,{"$f":"IF(OR(Z10=0,Z10=\"\"),\"\",IF(Z9=0,\"A\",IF(Z10>=Z9,\"B\",\"A\")))","v":""},"","",null,"",""]
[7,null,"","",5,{"$f":"HLOOKUP(E11,womens_handbook,C3,FALSE)","v":7},{"$f":"IF(ISERROR(HLOOKUP(F11,womens_declare,C4,FALSE))=TRUE,\"\",HLOOKUP(F11,womens_declare,C4,FALSE))","v":"-"},"Wrexham AAC",0,null,0,null,0,null,0,null,0,0,null,0,null,0,null,0,null,0,{"$f":"IF(OR(Z11=0,Z11=\"\"),\"\",IF(Z12=0,\"A\",IF(Z11>Z12,\"B\",\"A\")))","v":""},"","",null,"",""]
[7,null,"","",6,{"$f":"HLOOKUP(E12,womens_handbook,C3,FALSE)","v":77},{"$f":"IF(ISERROR(HLOOKUP(F12,womens_declare,C4,FALSE))=TRUE,\"\",HLOOKUP(F12,womens_declare,C4,FALSE))","v":"-"},"Wrexham AAC",0,null,0,null,0,null,0,null,0,0,null,0,null,0,null,0,null,0,{"$f":"IF(OR(Z12=0,Z12=\"\"),\"\",IF(Z11=0,\"A\",IF(Z12>=Z11,\"B\",\"A\")))","v":""},"","",null,"",""]
[4,null,"","",7,{"$f":"HLOOKUP(E13,womens_handbook,C3,FALSE)","v":4},{"$f":"IF(ISERROR(HLOOKUP(F13,womens_declare,C4,FALSE))=TRUE,\"\",HLOOKUP(F13,womens_declare,C4,FALSE))","v":"-"},"Salford Metropolitan AC",0,null,0,null,0,null,0,null,0,0,null,0,null,0,null,0,null,0,{"$f":"IF(OR(Z13=0,Z13=\"\"),\"\",IF(Z14=0,\"A\",IF(Z13>Z14,\"B\",\"A\")))","v":""},"","",null,"",""]
[4,null,"","",8,{"$f":"HLOOKUP(E14,womens_handbook,C3,FALSE)","v":44},{"$f":"IF(ISERROR(HLOOKUP(F14,womens_declare,C4,FALSE))=TRUE,\"\",HLOOKUP(F14,womens_declare,C4,FALSE))","v":"-"},"Salford Metropolitan AC",0,null,0,null,0,null,0,null,0,0,null,0,null,0,null,0,null,0,{"$f":"IF(OR(Z14=0,Z14=\"\"),\"\",IF(Z13=0,\"A\",IF(Z14>=Z13,\"B\",\"A\")))","v":""},"","",null,"",""]
[6,null,"","",9,{"$f":"HLOOKUP(E15,womens_handbook,C3,FALSE)","v":6},{"$f":"IF(ISERROR(HLOOKUP(F15,womens_declare,C4,FALSE))=TRUE,\"\",HLOOKUP(F15,womens_declare,C4,FALSE))","v":"-"},"Warrington AC",0,null,0,null,0,null,0,null,0,0,null,0,null,0,null,0,null,0,{"$f":"IF(OR(Z15=0,Z15=\"\"),\"\",IF(Z16=0,\"A\",IF(Z15>Z16,\"B\",\"A\")))","v":""},"","",null,"",""]
[6,null,"","",10,{"$f":"HLOOKUP(E16,womens_handbook,C3,FALSE)","v":66},{"$f":"IF(ISERROR(HLOOKUP(F16,womens_declare,C4,FALSE))=TRUE,\"\",HLOOKUP(F16,womens_declare,C4,FALSE))","v":"-"},"Warrington AC",0,null,0,null,0,null,0,null,0,0,null,0,null,0,null,0,null,0,{"$f":"IF(OR(Z16=0,Z16=\"\"),\"\",IF(Z15=0,\"A\",IF(Z16>=Z15,\"B\",\"A\")))","v":""},"","",null,"",""]
[3,null,"","",11,{"$f":"HLOOKUP(E17,womens_handbook,C3,FALSE)","v":3},{"$f":"IF(ISERROR(HLOOKUP(F17,womens_declare,C4,FALSE))=TRUE,\"\",HLOOKUP(F17,womens_declare,C4,FALSE))","v":"-"},"Isle of Man \"B\"",0,null,0,null,0,null,0,null,0,0,null,0,null,0,null,0,null,0,{"$f":"IF(OR(Z17=0,Z17=\"\"),\"\",IF(Z18=0,\"A\",IF(Z17>Z18,\"B\",\"A\")))","v":""},"","",null,"",""]
[3,null,"","",12,{"$f":"HLOOKUP(E18,womens_handbook,C3,FALSE)","v":33},{"$f":"IF(ISERROR(HLOOKUP(F18,womens_declare,C4,FALSE))=TRUE,\"\",HLOOKUP(F18,womens_declare,C4,FALSE))","v":"-"},"Isle of Man \"B\"",0,null,0,null,0,null,0,null,0,0,null,0,null,0,null,0,null,0,{"$f":"IF(OR(Z18=0,Z18=\"\"),\"\",IF(Z17=0,\"A\",IF(Z18>=Z17,\"B\",\"A\")))","v":""},"","",null,"",""]
[1,null,"","",13,{"$f":"HLOOKUP(E19,womens_handbook,C3,FALSE)","v":1},{"$f":"IF(ISERROR(HLOOKUP(F19,womens_declare,C4,FALSE))=TRUE,\"\",HLOOKUP(F19,womens_declare,C4,FALSE))","v":"-"},"Altrincham & District AC",0,null,0,null,0,null,0,null,0,0,null,0,null,0,null,0,null,0,{"$f":"IF(OR(Z19=0,Z19=\"\"),\"\",IF(Z20=0,\"A\",IF(Z19>Z20,\"B\",\"A\")))","v":""},"","",null,"",""]
[1,null,"","",14,{"$f":"HLOOKUP(E20,womens_handbook,C3,FALSE)","v":11},{"$f":"IF(ISERROR(HLOOKUP(F20,womens_declare,C4,FALSE))=TRUE,\"\",HLOOKUP(F20,womens_declare,C4,FALSE))","v":"-"},"Altrincham & District AC",0,null,0,null,0,null,0,null,0,0,null,0,null,0,null,0,null,0,{"$f":"IF(OR(Z20=0,Z20=\"\"),\"\",IF(Z19=0,\"A\",IF(Z20>=Z19,\"B\",\"A\")))","v":""},"","",null,"",""]
[0,null,"","",15,{"$f":"HLOOKUP(E21,womens_handbook,C3,FALSE)","v":0},{"$f":"IF(ISERROR(HLOOKUP(F21,womens_declare,C4,FALSE))=TRUE,\"\",HLOOKUP(F21,womens_declare,C4,FALSE))","v":""},"",0,null,0,null,0,null,0,null,0,0,null,0,null,0,null,0,null,0,{"$f":"IF(OR(Z21=0,Z21=\"\"),\"\",IF(Z22=0,\"A\",IF(Z21>Z22,\"B\",\"A\")))","v":""},"","",null,"",""]
[0,null,"","",16,{"$f":"HLOOKUP(E22,womens_handbook,C3,FALSE)","v":0},{"$f":"IF(ISERROR(HLOOKUP(F22,womens_declare,C4,FALSE))=TRUE,\"\",HLOOKUP(F22,womens_declare,C4,FALSE))","v":""},"",0,null,0,null,0,null,0,null,0,0,null,0,null,0,null,0,null,0,{"$f":"IF(OR(Z22=0,Z22=\"\"),\"\",IF(Z21=0,\"A\",IF(Z22>=Z21,\"B\",\"A\")))","v":""},"","",null,"",""]
[]
[null,null,null,null,"\"A\" STRING RESULT",null,null,null,null,null,"\"B\" STRING RESULT",null,null,null,null,null,null,null,null,null,null,null,"JUDGES' SIGNATURES"]
[null,null,null,null,"Posn","No.","NAME","CLUB","DISTANCE",null,"Posn","No.","NAME",null,null,null,"CLUB",null,null,null,"DISTANCE"]
[null,null,1,null,1,{"$f":"IF(ISERROR(VLOOKUP(C26,$C$7:$Y$22,4,FALSE))=TRUE,0,IF(VLOOKUP(C26,$C$7:$Y$22,22,FALSE)=0,\"\",IF(VLOOKUP(C26,$C$7:$Y$22,22,FALSE)=99,99,IF(VLOOKUP(C26,$C$7:$Y$22,22,FALSE)=98,98,IF(VLOOKUP(C26,$C$7:$Y$22,22,FALSE)=96,96,VLOOKUP(C26,$C$7:$Y$22,4,FALSE))))))","v":0},{"$f":"IF(ISERROR(VLOOKUP(C26,$C$7:$Y$22,4,FALSE))=TRUE,0,VLOOKUP(C26,$C$7:$Y$22,5,FALSE))","v":0},{"$f":"IF(ISERROR(VLOOKUP(C26,$C$7:$Y$22,4,FALSE))=TRUE,0,VLOOKUP(C26,$C$7:$Y$22,6,FALSE))","v":0},{"$f":"IF(ISERROR(VLOOKUP(C26,$C$7:$Y$22,4,FALSE))=TRUE,0,IF(VLOOKUP(C26,$C$7:$Y$22,22,FALSE)=0,\"\",IF(VLOOKUP(C26,$C$7:$Y$22,22,FALSE)>95.99,\"\",VLOOKUP(C26,$C$7:$Y$22,22,FALSE))))","v":0},null,1,{"$f":"IF(ISERROR(VLOOKUP(C26,$D$7:$Y$22,4,FALSE))=TRUE,0,IF(VLOOKUP(C26,D$7:Y$22,21,FALSE)=0,\"\",VLOOKUP(C26,D$7:Y$22,3,FALSE)))","v":0},{"$f":"IF(ISERROR(VLOOKUP(C26,$D$7:$Y$22,4,FALSE))=TRUE,0,VLOOKUP(C26,D$7:Y$22,4,FALSE))","v":0},null,null,null,{"$f":"IF(ISERROR(VLOOKUP(C26,$D$7:$Y$22,4,FALSE))=TRUE,0,VLOOKUP(C26,$D$7:$Y$22,5,FALSE))","v":0},null,null,null,{"$f":"IF(ISERROR(VLOOKUP(C26,$D$7:$Y$22,3,FALSE))=TRUE,0,IF(VLOOKUP(C26,$D$7:$Y$22,21,FALSE)=0,\"\",VLOOKUP(C26,$D$7:$Y$22,21,FALSE)))","v":0}]
[null,null,2,null,2,0,0,0,0,null,2,0,0,null,null,null,0,null,null,null,0]
[null,null,3,null,3,0,0,0,0,null,3,0,0,null,null,null,0,null,null,null,0]
[null,null,4,null,4,0,0,0,0,null,4,0,0,null,null,null,0,null,null,null,0]
[null,null,5,null,5,0,0,0,0,null,5,0,0,null,null,null,0,null,null,null,0]
[null,null,6,null,6,0,0,0,0,null,6,0,0,null,null,null,0,null,null,null,0,null,"REFEREE'S SIGNATURE"]
[null,null,7,null,7,0,0,0,0,null,7,0,0,null,null,null,0,null,null,null,0]
[null,null,8,null,8,0,0,0,0,null,8,0,0,null,null,null,0,null,null,null,0]

{"sheet":"Womens Discus","index":13,"n_rows":33,"n_cols":32,"rows_kept":33,"cut":false,"hidden":false,"merged":[[0,4,0,5],[2,4,2,5],[2,19,2,28],[3,4,3,5],[5,8,5,9],[5,10,5,11],[2,16,2,18],[2,6,2,7],[2,8,2,10],[3,6,3,7],[3,8,3,10],[5,12,5,13],[5,19,5,20],[2,11,2,15],[3,11,3,12],[4,23,4,24],[3,13,3,15],[3,16,3,18],[3,19,3,28],[4,25,5,25],[5,23,5,24],[4,16,5,16],[4,17,4,18],[4,19,4,20],[30,22,30,28],[23,4,23,9],[23,10,23,21],[23,22,23,28],[24,8,24,9],[25,16,25,19],[26,16,26,19],[27,16,27,19],[24,20,24,21],[30,8,30,9],[24,12,24,15],[24,16,24,19],[29,8,29,9],[26,8,26,9],[25,12,25,15],[26,12,26,15],[27,8,27,9],[25,8,25,9],[27,12,27,15],[28,12,28,15],[29,20,29,21],[30,20,30,21],[5,21,5,22],[4,26,4,28],[5,14,5,15],[5,17,5,18],[4,8,4,9],[4,10,4,11],[4,12,4,13],[4,14,4,15],[4,21,4,22],[9,17,9,18],[6,21,6,22],[6,19,6,20],[8,10,8,11],[9,10,9,11],[6,12,6,13],[9,8,9,9],[8,12,8,13],[9,12,9,13],[8,19,8,20],[8,21,8,22],[9,21,9,22],[6,17,6,18],[6,14,6,15],[10,21,10,22],[10,17,10,18],[7,19,7,20],[9,19,9,20],[10,19,10,20],[11,19,11,20],[11,21,11,22],[7,21,7,22],[13,8,13,9],[11,10,11,11],[12,10,12,11],[13,10,13,11],[8,8,8,9],[11,12,11,13],[10,10,10,11],[11,14,11,15],[7,17,7,18],[8,17,8,18],[11,17,11,18],[11,8,11,9],[10,12,10,13],[7,14,7,15],[8,14,8,15],[9,14,9,15],[10,14,10,15],[10,8,10,9],[12,8,12,9],[7,8,7,9],[7,10,7,11],[7,12,7,13],[6,8,6,9],[6,10,6,11],[19,8,19,9],[12,12,12,13],[13,12,13,13],[12,14,12,15],[13,14,13,15],[20,8,20,9],[21,8,21,9],[14,10,14,11],[15,10,15,11],[16,10,16,11],[17,10,17,11],[18,10,18,11],[19,10,19,11],[15,8,15,9],[14,8,14,9],[21,10,21,11],[17,8,17,9],[18,8,18,9],[16,8,16,9],[20,10,20,11],[21,12,21,13],[14,12,14,13],[15,12,15,13],[16,12,16,13],[17,12,17,13],[18,12,18,13],[20,12,20,13],[19,12,19,13],[20,17,20,18],[21,14,21,15],[14,14,14,15],[15,14,15,15],[16,14,16,15],[17,14,17,15],[16,17,16,18],[17,17,17,18],[18,17,18,18],[19,17,19,18],[21,17,21,18],[18,14,18,15],[19,14,19,15],[12,21,12,22],[13,21,13,22],[14,21,14,22],[19,21,19,22],[13,17,13,18],[14,17,14,18],[15,17,15,18],[12,19,12,20],[13,19,13,20],[14,19,14,20],[18,19,18,20],[19,19,19,20],[15,19,15,20],[16,19,16,20],[17,19,17,20],[12,17,12,18],[13,23,13,24],[21,19,21,20],[15,23,15,24],[16,23,16,24],[32,8,32,9],[31,12,31,15],[32,12,32,15],[29,12,29,15],[30,12,30,15],[31,20,31,21],[32,20,32,21],[31,16,31,19],[32,16,32,19],[29,16,29,19],[21,23,21,24],[17,23,17,24],[18,23,18,24],[15,21,15,22],[16,21,16,22],[18,21,18,22],[17,21,17,22],[20,21,20,22],[21,21,21,22],[20,14,20,15],[14,23,14,24],[20,19,20,20],[0,6,0,17],[0,19,0,28],[1,4,1,18],[1,19,1,23],[1,25,1,28],[31,8,31,9],[27,20,27,21],[28,20,28,21],[30,16,30,19],[28,16,28,19],[28,8,28,9],[25,20,25,21],[26,20,26,21],[6,23,6,24],[7,23,7,24],[8,23,8,24],[9,23,9,24],[10,23,10,24],[11,23,11,24],[12,23,12,24],[19,23,19,24],[20,23,20,24]]}
[null,null,null,null,"Home",null,{"$f":"'Match Day'!I4","v":"Northern T&F League"},null,null,null,null,null,null,null,null,null,null,null,null,{"$f":"'Match Day'!C16","v":"Wrexham AAC"}]
[15,null,26,null,"UK ATHLETICS: DISTANCE CARD",null,null,null,null,null,null,null,null,null,null,null,null,null,null,"Progression Standard:",null,null,null,null,{"$f":"VLOOKUP(A2,womens_handbook,20,FALSE)","v":25},"metres"]
[null,null,{"$f":"VLOOKUP(A2,womens_handbook,37,FALSE)","v":16},null,"MEETING ",null,{"$f":"CONCATENATE('Match Day'!$I$8,\" \",'Match Day'!$I$10)","v":"Division 4W Match 1"},null,"VENUE ",null,null,{"$f":"'Match Day'!$I$12","v":"Litherland"},null,null,null,null,"DATE ",null,null,{"$f":"'Match Day'!$I$6","v":"2014-05-04"}]
[null,null,{"$f":"VLOOKUP(A2,womens_declare,20,FALSE)","v":16},null,"EVENT",null,{"$f":"VLOOKUP(A2,womens_handbook,3,FALSE)","v":"Women's Discus"},null,"TIME",null,null,{"$f":"VLOOKUP(A2,womens_handbook,2,FALSE)","v":"14:30:00"},null,"RECORD",null,null,{"$f":"VLOOKUP(A2,womens_handbook,29,FALSE)","v":2007},null,null,{"$f":"IF($A2=\"\",\"\",CONCATENATE(VLOOKUP($A2,womens_handbook,26,FALSE),\", \",VLOOKUP($A2,womens_handbook,27,FALSE),\", \",VLOOKUP($A2,womens_handbook,28,FALSE)))","v":"Kara Nwidobie, Blackpool & Fylde AC, 54.96m"}]
[null,null,null,null,"Order","No","NAME","CLUB","1st Trial",null,"2nd Trial",null,"3rd Trial",null,"Best of 3",null,"Position after\n3 Trials","4th Trial",null,"5th Trial",null,"6th Trial",null,"Best of All",null,"Final\nPositionn","A or B"]
[null,null,"A","B",null,null,null,null,"Metres",null,"Metres",null,"Metres",null,"Metres",null,null,"Metres",null,"Metres",null,"Metres",null,"Metres",null,null,null,"A","B"]
[{"$f":"IF(F7=\"\",\"\",IF(F7>10,F7/11,F7))","v":1},null,{"$f":"AB7","v":""},{"$f":"AC7","v":""},1,{"$f":"HLOOKUP(E7,womens_handbook,C3,FALSE)","v":1},{"$f":"IF(ISERROR(HLOOKUP(F7,womens_declare,C4,FALSE))=TRUE,\"\",HLOOKUP(F7,womens_declare,C4,FALSE))","v":"-"},{"$f":"IF(ISERROR(VLOOKUP(A7,matchday,2,FALSE))=TRUE,\"\",VLOOKUP(A7,matchday,2,FALSE))","v":"Altrincham & District AC"},0,null,0,null,0,null,{"$f":"LARGE(I7:N7,1)","v":0},null,{"$f":"IF(OR(O7=0,O7=\"\"),0,RANK(O7,$O$7:$P$22,0))","v":0},0,null,0,null,0,null,{"$f":"IF(O7>LARGE(R7:W7,1),O7,LARGE(R7:W7,1))","v":0},null,{"$f":"IF(OR(Q7=0,Q7=\"\",X7=\"\",X7=0),0,RANK(X7,$X$7:$Y$22,0))","v":0},{"$f":"IF(OR(Z7=0,Z7=\"\"),\"\",IF(Z8=0,\"A\",IF(Z7>Z8,\"B\",\"A\")))","v":""},{"$f":"IF(OR(Z7=0,Z7=\"\",AA7=\"B\"),\"\",RANK(AE7,$AE$7:$AE$22,1))","v":""},{"$f":"IF(OR(Z7=0,Z7=\"\",AA7=\"A\"),\"\",RANK(AF7,$AF$7:$AF$22,1))","v":""},null,{"$f":"IF(OR(Z7=\"\",Z7=0,AA7=\"\",AA7=0,AA7=\"B\"),\"\",Z7)","v":""},{"$f":"IF(OR(Z7=\"\",Z7=0,AA7=\"\",AA7=0,AA7=\"A\"),\"\",Z7)","v":""}]
[1,null,"","",2,{"$f":"HLOOKUP(E8,womens_handbook,C3,FALSE)","v":11},{"$f":"IF(ISERROR(HLOOKUP(F8,womens_declare,C4,FALSE))=TRUE,\"\",HLOOKUP(F8,womens_declare,C4,FALSE))","v":"-"},"Altrincham & District AC",0,null,0,null,0,null,0,null,0,0,null,0,null,0,null,0,null,0,{"$f":"IF(OR(Z8=0,Z8=\"\"),\"\",IF(Z7=0,\"A\",IF(Z8>=Z7,\"B\",\"A\")))","v":""},"","",null,"",""]
[6,null,"","",3,{"$f":"HLOOKUP(E9,womens_handbook,C3,FALSE)","v":6},{"$f":"IF(ISERROR(HLOOKUP(F9,womens_declare,C4,FALSE))=TRUE,\"\",HLOOKUP(F9,womens_declare,C4,FALSE))","v":"-"},"Warrington AC",0,null,0,null,0,null,0,null,0,0,null,0,null,0,null,0,null,0,{"$f":"IF(OR(Z9=0,Z9=\"\"),\"\",IF(Z10=0,\"A\",IF(Z9>Z10,\"B\",\"A\")))","v":""},"","",null,"",""]
[6,null,"","",4,{"$f":"HLOOKUP(E10,womens_handbook,C3,FALSE)","v":66},{"$f":"IF(ISERROR(HLOOKUP(F10,womens_declare,C4,FALSE))=TRUE,\"\",HLOOKUP(F10,womens_declare,C4,FALSE))","v":"-"},"Warrington AC",0,null,0,null,0,null,0,null,0,0,null,0,null,0,null,0,null,0,{"$f":"IF(OR(Z10=0,Z10=\"\"),\"\",IF(Z9=0,\"A\",IF(Z10>=Z9,\"B\",\"A\")))","v":""},"","",null,"",""]
[3,null,"","",5,{"$f":"HLOOKUP(E11,womens_handbook,C3,FALSE)","v":3},{"$f":"IF(ISERROR(HLOOKUP(F11,womens_declare,C4,FALSE))=TRUE,\"\",HLOOKUP(F11,womens_declare,C4,FALSE))","v":"-"},"Isle of Man \"B\"",0,null,0,null,0,null,0,null,0,0,null,0,null,0,null,0,null,0,{"$f":"IF(OR(Z11=0,Z11=\"\"),\"\",IF(Z12=0,\"A\",IF(Z11>Z12,\"B\",\"A\")))","v":""},"","",null,"",""]
[3,null,"","",6,{"$f":"HLOOKUP(E12,womens_handbook,C3,FALSE)","v":33},{"$f":"IF(ISERROR(HLOOKUP(F12,womens_declare,C4,FALSE))=TRUE,\"\",HLOOKUP(F12,womens_declare,C4,FALSE))","v":"-"},"Isle of Man \"B\"",0,null,0,null,0,null,0,null,0,0,null,0,null,0,null,0,null,0,{"$f":"IF(OR(Z12=0,Z12=\"\"),\"\",IF(Z11=0,\"A\",IF(Z12>=Z11,\"B\",\"A\")))","v":""},"","",null,"",""]
[7,null,"","",7,{"$f":"HLOOKUP(E13,womens_handbook,C3,FALSE)","v":7},{"$f":"IF(ISERROR(HLOOKUP(F13,womens_declare,C4,FALSE))=TRUE,\"\",HLOOKUP(F13,womens_declare,C4,FALSE))","v":"-"},"Wrexham AAC",0,null,0,null,0,null,0,null,0,0,null,0,null,0,null,0,null,0,{"$f":"IF(OR(Z13=0,Z13=\"\"),\"\",IF(Z14=0,\"A\",IF(Z13>Z14,\"B\",\"A\")))","v":""},"","",null,"",""]
[7,null,"","",8,{"$f":"HLOOKUP(E14,womens_handbook,C3,FALSE)","v":77},{"$f":"IF(ISERROR(HLOOKUP(F14,womens_declare,C4,FALSE))=TRUE,\"\",HLOOKUP(F14,womens_declare,C4,FALSE))","v":"-"},"Wrexham AAC",0,null,0,null,0,null,0,null,0,0,null,0,null,0,null,0,null,0,{"$f":"IF(OR(Z14=0,Z14=\"\"),\"\",IF(Z13=0,\"A\",IF(Z14>=Z13,\"B\",\"A\")))","v":""},"","",null,"",""]
[4,null,"","",9,{"$f":"HLOOKUP(E15,womens_handbook,C3,FALSE)","v":4},{"$f":"IF(ISERROR(HLOOKUP(F15,womens_declare,C4,FALSE))=TRUE,\"\",HLOOKUP(F15,womens_declare,C4,FALSE))","v":"-"},"Salford Metropolitan AC",0,null,0,null,0,null,0,null,0,0,null,0,null,0,null,0,null,0,{"$f":"IF(OR(Z15=0,Z15=\"\"),\"\",IF(Z16=0,\"A\",IF(Z15>Z16,\"B\",\"A\")))","v":""},"","",null,"",""]
[4,null,"","",10,{"$f":"HLOOKUP(E16,womens_handbook,C3,FALSE)","v":44},{"$f":"IF(ISERROR(HLOOKUP(F16,womens_declare,C4,FALSE))=TRUE,\"\",HLOOKUP(F16,womens_declare,C4,FALSE))","v":"-"},"Salford Metropolitan AC",0,null,0,null,0,null,0,null,0,0,null,0,null,0,null,0,null,0,{"$f":"IF(OR(Z16=0,Z16=\"\"),\"\",IF(Z15=0,\"A\",IF(Z16>=Z15,\"B\",\"A\")))","v":""},"","",null,"",""]
[2,null,"","",11,{"$f":"HLOOKUP(E17,womens_handbook,C3,FALSE)","v":2},{"$f":"IF(ISERROR(HLOOKUP(F17,womens_declare,C4,FALSE))=TRUE,\"\",HLOOKUP(F17,womens_declare,C4,FALSE))","v":"-"},"Crewe & Nantwich AC",0,null,0,null,0,null,0,null,0,0,null,0,null,0,null,0,null,0,{"$f":"IF(OR(Z17=0,Z17=\"\"),\"\",IF(Z18=0,\"A\",IF(Z17>Z18,\"B\",\"A\")))","v":""},"","",null,"",""]
[2,null,"","",12,{"$f":"HLOOKUP(E18,womens_handbook,C3,FALSE)","v":22},{"$f":"IF(ISERROR(HLOOKUP(F18,womens_declare,C4,FALSE))=TRUE,\"\",HLOOKUP(F18,womens_declare,C4,FALSE))","v":"-"},"Crewe & Nantwich AC",0,null,0,null,0,null,0,null,0,0,null,0,null,0,null,0,null,0,{"$f":"IF(OR(Z18=0,Z18=\"\"),\"\",IF(Z17=0,\"A\",IF(Z18>=Z17,\"B\",\"A\")))","v":""},"","",null,"",""]
[5,null,"","",13,{"$f":"HLOOKUP(E19,womens_handbook,C3,FALSE)","v":5},{"$f":"IF(ISERROR(HLOOKUP(F19,womens_declare,C4,FALSE))=TRUE,\"\",HLOOKUP(F19,womens_declare,C4,FALSE))","v":"-"},"Southport Waterloo AC",0,null,0,null,0,null,0,null,0,0,null,0,null,0,null,0,null,0,{"$f":"IF(OR(Z19=0,Z19=\"\"),\"\",IF(Z20=0,\"A\",IF(Z19>Z20,\"B\",\"A\")))","v":""},"","",null,"",""]
[5,null,"","",14,{"$f":"HLOOKUP(E20,womens_handbook,C3,FALSE)","v":55},{"$f":"IF(ISERROR(HLOOKUP(F20,womens_declare,C4,FALSE))=TRUE,\"\",HLOOKUP(F20,womens_declare,C4,FALSE))","v":"-"},"Southport Waterloo AC",0,null,0,null,0,null,0,null,0,0,null,0,null,0,null,0,null,0,{"$f":"IF(OR(Z20=0,Z20=\"\"),\"\",IF(Z19=0,\"A\",IF(Z20>=Z19,\"B\",\"A\")))","v":""},"","",null,"",""]
[0,null,"","",15,{"$f":"HLOOKUP(E21,womens_handbook,C3,FALSE)","v":0},{"$f":"IF(ISERROR(HLOOKUP(F21,womens_declare,C4,FALSE))=TRUE,\"\",HLOOKUP(F21,womens_declare,C4,FALSE))","v":""},"",0,null,0,null,0,null,0,null,0,0,null,0,null,0,null,0,null,0,{"$f":"IF(OR(Z21=0,Z21=\"\"),\"\",IF(Z22=0,\"A\",IF(Z21>Z22,\"B\",\"A\")))","v":""},"","",null,"",""]
[0,null,"","",16,{"$f":"HLOOKUP(E22,womens_handbook,C3,FALSE)","v":0},{"$f":"IF(ISERROR(HLOOKUP(F22,womens_declare,C4,FALSE))=TRUE,\"\",HLOOKUP(F22,womens_declare,C4,FALSE))","v":""},"",0,null,0,null,0,null,0,null,0,0,null,0,null,0,null,0,null,0,{"$f":"IF(OR(Z22=0,Z22=\"\"),\"\",IF(Z21=0,\"A\",IF(Z22>=Z21,\"B\",\"A\")))","v":""},"","",null,"",""]
[]
[null,null,null,null,"\"A\" STRING RESULT",null,null,null,null,null,"\"B\" STRING RESULT",null,null,null,null,null,null,null,null,null,null,null,"JUDGES' SIGNATURES"]
[null,null,null,null,"Posn","No.","NAME","CLUB","DISTANCE",null,"Posn","No.","NAME",null,null,null,"CLUB",null,null,null,"DISTANCE"]
[null,null,1,null,1,{"$f":"IF(ISERROR(VLOOKUP(C26,$C$7:$Y$22,4,FALSE))=TRUE,0,IF(VLOOKUP(C26,$C$7:$Y$22,22,FALSE)=0,\"\",IF(VLOOKUP(C26,$C$7:$Y$22,22,FALSE)=99,99,IF(VLOOKUP(C26,$C$7:$Y$22,22,FALSE)=98,98,IF(VLOOKUP(C26,$C$7:$Y$22,22,FALSE)=96,96,VLOOKUP(C26,$C$7:$Y$22,4,FALSE))))))","v":0},{"$f":"IF(ISERROR(VLOOKUP(C26,$C$7:$Y$22,4,FALSE))=TRUE,0,VLOOKUP(C26,$C$7:$Y$22,5,FALSE))","v":0},{"$f":"IF(ISERROR(VLOOKUP(C26,$C$7:$Y$22,4,FALSE))=TRUE,0,VLOOKUP(C26,$C$7:$Y$22,6,FALSE))","v":0},{"$f":"IF(ISERROR(VLOOKUP(C26,$C$7:$Y$22,4,FALSE))=TRUE,0,IF(VLOOKUP(C26,$C$7:$Y$22,22,FALSE)=0,\"\",IF(VLOOKUP(C26,$C$7:$Y$22,22,FALSE)>95.99,\"\",VLOOKUP(C26,$C$7:$Y$22,22,FALSE))))","v":0},null,1,{"$f":"IF(ISERROR(VLOOKUP(C26,$D$7:$Y$22,4,FALSE))=TRUE,0,IF(VLOOKUP(C26,D$7:Y$22,21,FALSE)=0,\"\",VLOOKUP(C26,D$7:Y$22,3,FALSE)))","v":0},{"$f":"IF(ISERROR(VLOOKUP(C26,$D$7:$Y$22,4,FALSE))=TRUE,0,VLOOKUP(C26,D$7:Y$22,4,FALSE))","v":0},null,null,null,{"$f":"IF(ISERROR(VLOOKUP(C26,$D$7:$Y$22,4,FALSE))=TRUE,0,VLOOKUP(C26,$D$7:$Y$22,5,FALSE))","v":0},null,null,null,{"$f":"IF(ISERROR(VLOOKUP(C26,$D$7:$Y$22,3,FALSE))=TRUE,0,IF(VLOOKUP(C26,$D$7:$Y$22,21,FALSE)=0,\"\",VLOOKUP(C26,$D$7:$Y$22,21,FALSE)))","v":0}]
[null,null,2,null,2,0,0,0,0,null,2,0,0,null,null,null,0,null,null,null,0]
[null,null,3,null,3,0,0,0,0,null,3,0,0,null,null,null,0,null,null,null,0]
[null,null,4,null,4,0,0,0,0,null,4,0,0,null,null,null,0,null,null,null,0]
[null,null,5,null,5,0,0,0,0,null,5,0,0,null,null,null,0,null,null,null,0]
[null,null,6,null,6,0,0,0,0,null,6,0,0,null,null,null,0,null,null,null,0,null,"REFEREE'S SIGNATURE"]
[null,null,7,null,7,0,0,0,0,null,7,0,0,null,null,null,0,null,null,null,0]
[null,null,8,null,8,0,0,0,0,null,8,0,0,null,null,null,0,null,null,null,0]

{"sheet":"Womens Javelin","index":14,"n_rows":33,"n_cols":32,"rows_kept":33,"cut":false,"hidden":false,"merged":[[0,4,0,5],[2,4,2,5],[2,19,2,28],[3,4,3,5],[5,8,5,9],[5,10,5,11],[2,16,2,18],[2,6,2,7],[2,8,2,10],[3,6,3,7],[3,8,3,10],[5,12,5,13],[5,19,5,20],[2,11,2,15],[3,11,3,12],[4,23,4,24],[3,13,3,15],[3,16,3,18],[3,19,3,28],[4,25,5,25],[5,23,5,24],[4,16,5,16],[4,17,4,18],[4,19,4,20],[30,22,30,28],[23,4,23,9],[23,10,23,21],[23,22,23,28],[24,8,24,9],[25,16,25,19],[26,16,26,19],[27,16,27,19],[24,20,24,21],[30,8,30,9],[24,12,24,15],[24,16,24,19],[29,8,29,9],[26,8,26,9],[25,12,25,15],[26,12,26,15],[27,8,27,9],[25,8,25,9],[27,12,27,15],[28,12,28,15],[29,20,29,21],[30,20,30,21],[5,21,5,22],[4,26,4,28],[5,14,5,15],[5,17,5,18],[4,8,4,9],[4,10,4,11],[4,12,4,13],[4,14,4,15],[4,21,4,22],[9,17,9,18],[6,21,6,22],[6,19,6,20],[8,10,8,11],[9,10,9,11],[6,12,6,13],[9,8,9,9],[8,12,8,13],[9,12,9,13],[8,19,8,20],[8,21,8,22],[9,21,9,22],[6,17,6,18],[6,14,6,15],[10,21,10,22],[10,17,10,18],[7,19,7,20],[9,19,9,20],[10,19,10,20],[11,19,11,20],[11,21,11,22],[7,21,7,22],[13,8,13,9],[11,10,11,11],[12,10,12,11],[13,10,13,11],[8,8,8,9],[11,12,11,13],[10,10,10,11],[11,14,11,15],[7,17,7,18],[8,17,8,18],[11,17,11,18],[11,8,11,9],[10,12,10,13],[7,14,7,15],[8,14,8,15],[9,14,9,15],[10,14,10,15],[10,8,10,9],[12,8,12,9],[7,8,7,9],[7,10,7,11],[7,12,7,13],[6,8,6,9],[6,10,6,11],[19,8,19,9],[12,12,12,13],[13,12,13,13],[12,14,12,15],[13,14,13,15],[20,8,20,9],[21,8,21,9],[14,10,14,11],[15,10,15,11],[16,10,16,11],[17,10,17,11],[18,10,18,11],[19,10,19,11],[15,8,15,9],[14,8,14,9],[21,10,21,11],[17,8,17,9],[18,8,18,9],[16,8,16,9],[20,10,20,11],[21,12,21,13],[14,12,14,13],[15,12,15,13],[16,12,16,13],[17,12,17,13],[18,12,18,13],[20,12,20,13],[19,12,19,13],[20,17,20,18],[21,14,21,15],[14,14,14,15],[15,14,15,15],[16,14,16,15],[17,14,17,15],[16,17,16,18],[17,17,17,18],[18,17,18,18],[19,17,19,18],[21,17,21,18],[18,14,18,15],[19,14,19,15],[12,21,12,22],[13,21,13,22],[14,21,14,22],[19,21,19,22],[13,17,13,18],[14,17,14,18],[15,17,15,18],[12,19,12,20],[13,19,13,20],[14,19,14,20],[18,19,18,20],[19,19,19,20],[15,19,15,20],[16,19,16,20],[17,19,17,20],[12,17,12,18],[13,23,13,24],[21,19,21,20],[15,23,15,24],[16,23,16,24],[32,8,32,9],[31,12,31,15],[32,12,32,15],[29,12,29,15],[30,12,30,15],[31,20,31,21],[32,20,32,21],[31,16,31,19],[32,16,32,19],[29,16,29,19],[21,23,21,24],[17,23,17,24],[18,23,18,24],[15,21,15,22],[16,21,16,22],[18,21,18,22],[17,21,17,22],[20,21,20,22],[21,21,21,22],[20,14,20,15],[14,23,14,24],[20,19,20,20],[0,6,0,17],[0,19,0,28],[1,4,1,18],[1,19,1,23],[1,25,1,28],[31,8,31,9],[27,20,27,21],[28,20,28,21],[30,16,30,19],[28,16,28,19],[28,8,28,9],[25,20,25,21],[26,20,26,21],[6,23,6,24],[7,23,7,24],[8,23,8,24],[9,23,9,24],[10,23,10,24],[11,23,11,24],[12,23,12,24],[19,23,19,24],[20,23,20,24]]}
[null,null,null,null,"Home",null,{"$f":"'Match Day'!I4","v":"Northern T&F League"},null,null,null,null,null,null,null,null,null,null,null,null,{"$f":"'Match Day'!C12","v":"Southport Waterloo AC"}]
[18,null,26,null,"UK ATHLETICS: DISTANCE CARD",null,null,null,null,null,null,null,null,null,null,null,null,null,null,"Progression Standard:",null,null,null,null,{"$f":"VLOOKUP(A2,womens_handbook,20,FALSE)","v":25},"metres"]
[null,null,{"$f":"VLOOKUP(A2,womens_handbook,37,FALSE)","v":19},null,"MEETING ",null,{"$f":"CONCATENATE('Match Day'!$I$8,\" \",'Match Day'!$I$10)","v":"Division 4W Match 1"},null,"VENUE ",null,null,{"$f":"'Match Day'!$I$12","v":"Litherland"},null,null,null,null,"DATE ",null,null,{"$f":"'Match Day'!$I$6","v":"2014-05-04"}]
[null,null,{"$f":"VLOOKUP(A2,womens_declare,20,FALSE)","v":19},null,"EVENT",null,{"$f":"VLOOKUP(A2,womens_handbook,3,FALSE)","v":"Women's Javelin"},null,"TIME",null,null,{"$f":"VLOOKUP(A2,womens_handbook,2,FALSE)","v":"16:10:00"},null,"RECORD",null,null,{"$f":"VLOOKUP(A2,womens_handbook,29,FALSE)","v":1987},null,null,{"$f":"IF($A2=\"\",\"\",CONCATENATE(VLOOKUP($A2,womens_handbook,26,FALSE),\", \",VLOOKUP($A2,womens_handbook,27,FALSE),\", \",VLOOKUP($A2,womens_handbook,28,FALSE)))","v":"C White, Border Harriers, 49.50m"}]
[null,null,null,null,"Order","No","NAME","CLUB","1st Trial",null,"2nd Trial",null,"3rd Trial",null,"Best of 3",null,"Position after\n3 Trials","4th Trial",null,"5th Trial",null,"6th Trial",null,"Best of All",null,"Final\nPositionn","A or B"]
[null,null,"A","B",null,null,null,null,"Metres",null,"Metres",null,"Metres",null,"Metres",null,null,"Metres",null,"Metres",null,"Metres",null,"Metres",null,null,null,"A","B"]
[{"$f":"IF(F7=\"\",\"\",IF(F7>10,F7/11,F7))","v":2},null,{"$f":"AB7","v":""},{"$f":"AC7","v":""},1,{"$f":"HLOOKUP(E7,womens_handbook,C3,FALSE)","v":2},{"$f":"IF(ISERROR(HLOOKUP(F7,womens_declare,C4,FALSE))=TRUE,\"\",HLOOKUP(F7,womens_declare,C4,FALSE))","v":"-"},{"$f":"IF(ISERROR(VLOOKUP(A7,matchday,2,FALSE))=TRUE,\"\",VLOOKUP(A7,matchday,2,FALSE))","v":"Crewe & Nantwich AC"},0,null,0,null,0,null,{"$f":"LARGE(I7:N7,1)","v":0},null,{"$f":"IF(OR(O7=0,O7=\"\"),0,RANK(O7,$O$7:$P$22,0))","v":0},0,null,0,null,0,null,{"$f":"IF(O7>LARGE(R7:W7,1),O7,LARGE(R7:W7,1))","v":0},null,{"$f":"IF(OR(Q7=0,Q7=\"\",X7=\"\",X7=0),0,RANK(X7,$X$7:$Y$22,0))","v":0},{"$f":"IF(OR(Z7=0,Z7=\"\"),\"\",IF(Z8=0,\"A\",IF(Z7>Z8,\"B\",\"A\")))","v":""},{"$f":"IF(OR(Z7=0,Z7=\"\",AA7=\"B\"),\"\",RANK(AE7,$AE$7:$AE$22,1))","v":""},{"$f":"IF(OR(Z7=0,Z7=\"\",AA7=\"A\"),\"\",RANK(AF7,$AF$7:$AF$22,1))","v":""},null,{"$f":"IF(OR(Z7=\"\",Z7=0,AA7=\"\",AA7=0,AA7=\"B\"),\"\",Z7)","v":""},{"$f":"IF(OR(Z7=\"\",Z7=0,AA7=\"\",AA7=0,AA7=\"A\"),\"\",Z7)","v":""}]
[2,null,"","",2,{"$f":"HLOOKUP(E8,womens_handbook,C3,FALSE)","v":22},{"$f":"IF(ISERROR(HLOOKUP(F8,womens_declare,C4,FALSE))=TRUE,\"\",HLOOKUP(F8,womens_declare,C4,FALSE))","v":"-"},"Crewe & Nantwich AC",0,null,0,null,0,null,0,null,0,0,null,0,null,0,null,0,null,0,{"$f":"IF(OR(Z8=0,Z8=\"\"),\"\",IF(Z7=0,\"A\",IF(Z8>=Z7,\"B\",\"A\")))","v":""},"","",null,"",""]
[7,null,"","",3,{"$f":"HLOOKUP(E9,womens_handbook,C3,FALSE)","v":7},{"$f":"IF(ISERROR(HLOOKUP(F9,womens_declare,C4,FALSE))=TRUE,\"\",HLOOKUP(F9,womens_declare,C4,FALSE))","v":"-"},"Wrexham AAC",0,null,0,null,0,null,0,null,0,0,null,0,null,0,null,0,null,0,{"$f":"IF(OR(Z9=0,Z9=\"\"),\"\",IF(Z10=0,\"A\",IF(Z9>Z10,\"B\",\"A\")))","v":""},"","",null,"",""]
[7,null,"","",4,{"$f":"HLOOKUP(E10,womens_handbook,C3,FALSE)","v":77},{"$f":"IF(ISERROR(HLOOKUP(F10,womens_declare,C4,FALSE))=TRUE,\"\",HLOOKUP(F10,womens_declare,C4,FALSE))","v":"-"},"Wrexham AAC",0,null,0,null,0,null,0,null,0,0,null,0,null,0,null,0,null,0,{"$f":"IF(OR(Z10=0,Z10=\"\"),\"\",IF(Z9=0,\"A\",IF(Z10>=Z9,\"B\",\"A\")))","v":""},"","",null,"",""]
[5,null,"","",5,{"$f":"HLOOKUP(E11,womens_handbook,C3,FALSE)","v":5},{"$f":"IF(ISERROR(HLOOKUP(F11,womens_declare,C4,FALSE))=TRUE,\"\",HLOOKUP(F11,womens_declare,C4,FALSE))","v":"-"},"Southport Waterloo AC",0,null,0,null,0,null,0,null,0,0,null,0,null,0,null,0,null,0,{"$f":"IF(OR(Z11=0,Z11=\"\"),\"\",IF(Z12=0,\"A\",IF(Z11>Z12,\"B\",\"A\")))","v":""},"","",null,"",""]
[5,null,"","",6,{"$f":"HLOOKUP(E12,womens_handbook,C3,FALSE)","v":55},{"$f":"IF(ISERROR(HLOOKUP(F12,womens_declare,C4,FALSE))=TRUE,\"\",HLOOKUP(F12,womens_declare,C4,FALSE))","v":"-"},"Southport Waterloo AC",0,null,0,null,0,null,0,null,0,0,null,0,null,0,null,0,null,0,{"$f":"IF(OR(Z12=0,Z12=\"\"),\"\",IF(Z11=0,\"A\",IF(Z12>=Z11,\"B\",\"A\")))","v":""},"","",null,"",""]
[6,null,"","",7,{"$f":"HLOOKUP(E13,womens_handbook,C3,FALSE)","v":6},{"$f":"IF(ISERROR(HLOOKUP(F13,womens_declare,C4,FALSE))=TRUE,\"\",HLOOKUP(F13,womens_declare,C4,FALSE))","v":"-"},"Warrington AC",0,null,0,null,0,null,0,null,0,0,null,0,null,0,null,0,null,0,{"$f":"IF(OR(Z13=0,Z13=\"\"),\"\",IF(Z14=0,\"A\",IF(Z13>Z14,\"B\",\"A\")))","v":""},"","",null,"",""]
[6,null,"","",8,{"$f":"HLOOKUP(E14,womens_handbook,C3,FALSE)","v":66},{"$f":"IF(ISERROR(HLOOKUP(F14,womens_declare,C4,FALSE))=TRUE,\"\",HLOOKUP(F14,womens_declare,C4,FALSE))","v":"-"},"Warrington AC",0,null,0,null,0,null,0,null,0,0,null,0,null,0,null,0,null,0,{"$f":"IF(OR(Z14=0,Z14=\"\"),\"\",IF(Z13=0,\"A\",IF(Z14>=Z13,\"B\",\"A\")))","v":""},"","",null,"",""]
[4,null,"","",9,{"$f":"HLOOKUP(E15,womens_handbook,C3,FALSE)","v":4},{"$f":"IF(ISERROR(HLOOKUP(F15,womens_declare,C4,FALSE))=TRUE,\"\",HLOOKUP(F15,womens_declare,C4,FALSE))","v":"-"},"Salford Metropolitan AC",0,null,0,null,0,null,0,null,0,0,null,0,null,0,null,0,null,0,{"$f":"IF(OR(Z15=0,Z15=\"\"),\"\",IF(Z16=0,\"A\",IF(Z15>Z16,\"B\",\"A\")))","v":""},"","",null,"",""]
[4,null,"","",10,{"$f":"HLOOKUP(E16,womens_handbook,C3,FALSE)","v":44},{"$f":"IF(ISERROR(HLOOKUP(F16,womens_declare,C4,FALSE))=TRUE,\"\",HLOOKUP(F16,womens_declare,C4,FALSE))","v":"-"},"Salford Metropolitan AC",0,null,0,null,0,null,0,null,0,0,null,0,null,0,null,0,null,0,{"$f":"IF(OR(Z16=0,Z16=\"\"),\"\",IF(Z15=0,\"A\",IF(Z16>=Z15,\"B\",\"A\")))","v":""},"","",null,"",""]
[1,null,"","",11,{"$f":"HLOOKUP(E17,womens_handbook,C3,FALSE)","v":1},{"$f":"IF(ISERROR(HLOOKUP(F17,womens_declare,C4,FALSE))=TRUE,\"\",HLOOKUP(F17,womens_declare,C4,FALSE))","v":"-"},"Altrincham & District AC",0,null,0,null,0,null,0,null,0,0,null,0,null,0,null,0,null,0,{"$f":"IF(OR(Z17=0,Z17=\"\"),\"\",IF(Z18=0,\"A\",IF(Z17>Z18,\"B\",\"A\")))","v":""},"","",null,"",""]
[1,null,"","",12,{"$f":"HLOOKUP(E18,womens_handbook,C3,FALSE)","v":11},{"$f":"IF(ISERROR(HLOOKUP(F18,womens_declare,C4,FALSE))=TRUE,\"\",HLOOKUP(F18,womens_declare,C4,FALSE))","v":"-"},"Altrincham & District AC",0,null,0,null,0,null,0,null,0,0,null,0,null,0,null,0,null,0,{"$f":"IF(OR(Z18=0,Z18=\"\"),\"\",IF(Z17=0,\"A\",IF(Z18>=Z17,\"B\",\"A\")))","v":""},"","",null,"",""]
[3,null,"","",13,{"$f":"HLOOKUP(E19,womens_handbook,C3,FALSE)","v":3},{"$f":"IF(ISERROR(HLOOKUP(F19,womens_declare,C4,FALSE))=TRUE,\"\",HLOOKUP(F19,womens_declare,C4,FALSE))","v":"-"},"Isle of Man \"B\"",0,null,0,null,0,null,0,null,0,0,null,0,null,0,null,0,null,0,{"$f":"IF(OR(Z19=0,Z19=\"\"),\"\",IF(Z20=0,\"A\",IF(Z19>Z20,\"B\",\"A\")))","v":""},"","",null,"",""]
[3,null,"","",14,{"$f":"HLOOKUP(E20,womens_handbook,C3,FALSE)","v":33},{"$f":"IF(ISERROR(HLOOKUP(F20,womens_declare,C4,FALSE))=TRUE,\"\",HLOOKUP(F20,womens_declare,C4,FALSE))","v":"-"},"Isle of Man \"B\"",0,null,0,null,0,null,0,null,0,0,null,0,null,0,null,0,null,0,{"$f":"IF(OR(Z20=0,Z20=\"\"),\"\",IF(Z19=0,\"A\",IF(Z20>=Z19,\"B\",\"A\")))","v":""},"","",null,"",""]
[0,null,"","",15,{"$f":"HLOOKUP(E21,womens_handbook,C3,FALSE)","v":0},{"$f":"IF(ISERROR(HLOOKUP(F21,womens_declare,C4,FALSE))=TRUE,\"\",HLOOKUP(F21,womens_declare,C4,FALSE))","v":""},"",0,null,0,null,0,null,0,null,0,0,null,0,null,0,null,0,null,0,{"$f":"IF(OR(Z21=0,Z21=\"\"),\"\",IF(Z22=0,\"A\",IF(Z21>Z22,\"B\",\"A\")))","v":""},"","",null,"",""]
[0,null,"","",16,{"$f":"HLOOKUP(E22,womens_handbook,C3,FALSE)","v":0},{"$f":"IF(ISERROR(HLOOKUP(F22,womens_declare,C4,FALSE))=TRUE,\"\",HLOOKUP(F22,womens_declare,C4,FALSE))","v":""},"",0,null,0,null,0,null,0,null,0,0,null,0,null,0,null,0,null,0,{"$f":"IF(OR(Z22=0,Z22=\"\"),\"\",IF(Z21=0,\"A\",IF(Z22>=Z21,\"B\",\"A\")))","v":""},"","",null,"",""]
[]
[null,null,null,null,"\"A\" STRING RESULT",null,null,null,null,null,"\"B\" STRING RESULT",null,null,null,null,null,null,null,null,null,null,null,"JUDGES' SIGNATURES"]
[null,null,null,null,"Posn","No.","NAME","CLUB","DISTANCE",null,"Posn","No.","NAME",null,null,null,"CLUB",null,null,null,"DISTANCE"]
[null,null,1,null,1,{"$f":"IF(ISERROR(VLOOKUP(C26,$C$7:$Y$22,4,FALSE))=TRUE,0,IF(VLOOKUP(C26,$C$7:$Y$22,22,FALSE)=0,\"\",IF(VLOOKUP(C26,$C$7:$Y$22,22,FALSE)=99,99,IF(VLOOKUP(C26,$C$7:$Y$22,22,FALSE)=98,98,IF(VLOOKUP(C26,$C$7:$Y$22,22,FALSE)=96,96,VLOOKUP(C26,$C$7:$Y$22,4,FALSE))))))","v":0},{"$f":"IF(ISERROR(VLOOKUP(C26,$C$7:$Y$22,4,FALSE))=TRUE,0,VLOOKUP(C26,$C$7:$Y$22,5,FALSE))","v":0},{"$f":"IF(ISERROR(VLOOKUP(C26,$C$7:$Y$22,4,FALSE))=TRUE,0,VLOOKUP(C26,$C$7:$Y$22,6,FALSE))","v":0},{"$f":"IF(ISERROR(VLOOKUP(C26,$C$7:$Y$22,4,FALSE))=TRUE,0,IF(VLOOKUP(C26,$C$7:$Y$22,22,FALSE)=0,\"\",IF(VLOOKUP(C26,$C$7:$Y$22,22,FALSE)>95.99,\"\",VLOOKUP(C26,$C$7:$Y$22,22,FALSE))))","v":0},null,1,{"$f":"IF(ISERROR(VLOOKUP(C26,$D$7:$Y$22,4,FALSE))=TRUE,0,IF(VLOOKUP(C26,D$7:Y$22,21,FALSE)=0,\"\",VLOOKUP(C26,D$7:Y$22,3,FALSE)))","v":0},{"$f":"IF(ISERROR(VLOOKUP(C26,$D$7:$Y$22,4,FALSE))=TRUE,0,VLOOKUP(C26,D$7:Y$22,4,FALSE))","v":0},null,null,null,{"$f":"IF(ISERROR(VLOOKUP(C26,$D$7:$Y$22,4,FALSE))=TRUE,0,VLOOKUP(C26,$D$7:$Y$22,5,FALSE))","v":0},null,null,null,{"$f":"IF(ISERROR(VLOOKUP(C26,$D$7:$Y$22,3,FALSE))=TRUE,0,IF(VLOOKUP(C26,$D$7:$Y$22,21,FALSE)=0,\"\",VLOOKUP(C26,$D$7:$Y$22,21,FALSE)))","v":0}]
[null,null,2,null,2,0,0,0,0,null,2,0,0,null,null,null,0,null,null,null,0]
[null,null,3,null,3,0,0,0,0,null,3,0,0,null,null,null,0,null,null,null,0]
[null,null,4,null,4,0,0,0,0,null,4,0,0,null,null,null,0,null,null,null,0]
[null,null,5,null,5,0,0,0,0,null,5,0,0,null,null,null,0,null,null,null,0]
[null,null,6,null,6,0,0,0,0,null,6,0,0,null,null,null,0,null,null,null,0,null,"REFEREE'S SIGNATURE"]
[null,null,7,null,7,0,0,0,0,null,7,0,0,null,null,null,0,null,null,null,0]
[null,null,8,null,8,0,0,0,0,null,8,0,0,null,null,null,0,null,null,null,0]

{"sheet":"Womens Shot","index":15,"n_rows":33,"n_cols":32,"rows_kept":33,"cut":false,"hidden":false,"merged":[[0,4,0,5],[2,4,2,5],[2,19,2,28],[3,4,3,5],[5,8,5,9],[5,10,5,11],[2,16,2,18],[2,6,2,7],[2,8,2,10],[3,6,3,7],[3,8,3,10],[5,12,5,13],[5,19,5,20],[2,11,2,15],[3,11,3,12],[4,23,4,24],[3,13,3,15],[3,16,3,18],[3,19,3,28],[4,25,5,25],[5,23,5,24],[4,16,5,16],[4,17,4,18],[4,19,4,20],[30,22,30,28],[23,4,23,9],[23,10,23,21],[23,22,23,28],[24,8,24,9],[25,16,25,19],[26,16,26,19],[27,16,27,19],[24,20,24,21],[30,8,30,9],[24,12,24,15],[24,16,24,19],[29,8,29,9],[26,8,26,9],[25,12,25,15],[26,12,26,15],[27,8,27,9],[25,8,25,9],[27,12,27,15],[28,12,28,15],[29,20,29,21],[30,20,30,21],[5,21,5,22],[4,26,4,28],[5,14,5,15],[5,17,5,18],[4,8,4,9],[4,10,4,11],[4,12,4,13],[4,14,4,15],[4,21,4,22],[9,17,9,18],[6,21,6,22],[6,19,6,20],[8,10,8,11],[9,10,9,11],[6,12,6,13],[9,8,9,9],[8,12,8,13],[9,12,9,13],[8,19,8,20],[8,21,8,22],[9,21,9,22],[6,17,6,18],[6,14,6,15],[10,21,10,22],[10,17,10,18],[7,19,7,20],[9,19,9,20],[10,19,10,20],[11,19,11,20],[11,21,11,22],[7,21,7,22],[13,8,13,9],[11,10,11,11],[12,10,12,11],[13,10,13,11],[8,8,8,9],[11,12,11,13],[10,10,10,11],[11,14,11,15],[7,17,7,18],[8,17,8,18],[11,17,11,18],[11,8,11,9],[10,12,10,13],[7,14,7,15],[8,14,8,15],[9,14,9,15],[10,14,10,15],[10,8,10,9],[12,8,12,9],[7,8,7,9],[7,10,7,11],[7,12,7,13],[6,8,6,9],[6,10,6,11],[19,8,19,9],[12,12,12,13],[13,12,13,13],[12,14,12,15],[20,8,20,9],[21,8,21,9],[14,10,14,11],[15,10,15,11],[16,10,16,11],[17,10,17,11],[18,10,18,11],[19,10,19,11],[15,8,15,9],[14,8,14,9],[21,10,21,11],[17,8,17,9],[18,8,18,9],[16,8,16,9],[20,10,20,11],[12,17,12,18],[18,14,18,15],[19,14,19,15],[21,12,21,13],[14,12,14,13],[15,12,15,13],[16,12,16,13],[17,12,17,13],[18,12,18,13],[20,12,20,13],[19,12,19,13],[13,14,13,15],[21,14,21,15],[14,14,14,15],[15,14,15,15],[16,14,16,15],[17,14,17,15],[16,17,16,18],[17,17,17,18],[13,17,13,18],[14,17,14,18],[15,17,15,18],[18,17,18,18],[19,17,19,18],[12,19,12,20],[13,19,13,20],[14,19,14,20],[18,19,18,20],[19,19,19,20],[21,19,21,20],[18,23,18,24],[15,21,15,22],[16,21,16,22],[18,21,18,22],[17,21,17,22],[20,21,20,22],[17,23,17,24],[21,17,21,18],[16,23,16,24],[21,23,21,24],[21,21,21,22],[12,21,12,22],[13,21,13,22],[14,21,14,22],[19,21,19,22],[32,8,32,9],[31,12,31,15],[32,12,32,15],[29,12,29,15],[30,12,30,15],[31,20,31,21],[32,20,32,21],[31,16,31,19],[32,16,32,19],[29,16,29,19],[20,14,20,15],[20,17,20,18],[20,19,20,20],[15,19,15,20],[16,19,16,20],[17,19,17,20],[0,6,0,17],[0,19,0,28],[1,4,1,18],[1,19,1,23],[31,8,31,9],[27,20,27,21],[28,20,28,21],[30,16,30,19],[28,16,28,19],[28,8,28,9],[25,20,25,21],[26,20,26,21],[6,23,6,24],[7,23,7,24],[8,23,8,24],[9,23,9,24],[10,23,10,24],[11,23,11,24],[12,23,12,24],[19,23,19,24],[20,23,20,24],[13,23,13,24],[14,23,14,24],[15,23,15,24]]}
[null,null,null,null,"Home",null,{"$f":"'Match Day'!I4","v":"Northern T&F League"},null,null,null,null,null,null,null,null,null,null,null,null,{"$f":"'Match Day'!C4","v":"Altrincham & District AC"}]
[17,null,26,null,"UK ATHLETICS: DISTANCE CARD",null,null,null,null,null,null,null,null,null,null,null,null,null,null,"Progression Standard:",null,null,null,null,{"$f":"VLOOKUP(A2,womens_handbook,20,FALSE)","v":8},"metres"]
[null,null,{"$f":"VLOOKUP(A2,womens_handbook,37,FALSE)","v":18},null,"MEETING ",null,{"$f":"CONCATENATE('Match Day'!$I$8,\" \",'Match Day'!$I$10)","v":"Division 4W Match 1"},null,"VENUE ",null,null,{"$f":"'Match Day'!$I$12","v":"Litherland"},null,null,null,null,"DATE ",null,null,{"$f":"'Match Day'!$I$6","v":"2014-05-04"}]
[null,null,{"$f":"VLOOKUP(A2,womens_declare,20,FALSE)","v":18},null,"EVENT",null,{"$f":"VLOOKUP(A2,womens_handbook,3,FALSE)","v":"Women's Shot Putt"},null,"TIME",null,null,{"$f":"VLOOKUP(A2,womens_handbook,2,FALSE)","v":"13:45:00"},null,"RECORD",null,null,{"$f":"VLOOKUP(A2,womens_handbook,29,FALSE)","v":1987},null,null,{"$f":"IF($A2=\"\",\"\",CONCATENATE(VLOOKUP($A2,womens_handbook,26,FALSE),\", \",VLOOKUP($A2,womens_handbook,27,FALSE),\", \",VLOOKUP($A2,womens_handbook,28,FALSE)))","v":"Y Hanson-Nortey, Hallamshire, 16.16m"}]
[null,null,null,null,"Order","No","NAME","CLUB","1st Trial",null,"2nd Trial",null,"3rd Trial",null,"Best of 3",null,"Position after\n3 Trials","4th Trial",null,"5th Trial",null,"6th Trial",null,"Best of All",null,"Final\nPositionn","A or B"]
[null,null,"A","B",null,null,null,null,"Metres",null,"Metres",null,"Metres",null,"Metres",null,null,"Metres",null,"Metres",null,"Metres",null,"Metres",null,null,null,"A","B"]
[{"$f":"IF(F7=\"\",\"\",IF(F7>10,F7/11,F7))","v":7},null,{"$f":"AB7","v":""},{"$f":"AC7","v":""},1,{"$f":"HLOOKUP(E7,womens_handbook,C3,FALSE)","v":7},{"$f":"IF(ISERROR(HLOOKUP(F7,womens_declare,C4,FALSE))=TRUE,\"\",HLOOKUP(F7,womens_declare,C4,FALSE))","v":"-"},{"$f":"IF(ISERROR(VLOOKUP(A7,matchday,2,FALSE))=TRUE,\"\",VLOOKUP(A7,matchday,2,FALSE))","v":"Wrexham AAC"},0,null,0,null,0,null,{"$f":"LARGE(I7:N7,1)","v":0},null,{"$f":"IF(OR(O7=0,O7=\"\"),0,RANK(O7,$O$7:$P$22,0))","v":0},0,null,0,null,0,null,{"$f":"IF(O7>LARGE(R7:W7,1),O7,LARGE(R7:W7,1))","v":0},null,{"$f":"IF(OR(Q7=0,Q7=\"\",X7=\"\",X7=0),0,RANK(X7,$X$7:$Y$22,0))","v":0},{"$f":"IF(OR(Z7=0,Z7=\"\"),\"\",IF(Z8=0,\"A\",IF(Z7>Z8,\"B\",\"A\")))","v":""},{"$f":"IF(OR(Z7=0,Z7=\"\",AA7=\"B\"),\"\",RANK(AE7,$AE$7:$AE$22,1))","v":""},{"$f":"IF(OR(Z7=0,Z7=\"\",AA7=\"A\"),\"\",RANK(AF7,$AF$7:$AF$22,1))","v":""},null,{"$f":"IF(OR(Z7=\"\",Z7=0,AA7=\"\",AA7=0,AA7=\"B\"),\"\",Z7)","v":""},{"$f":"IF(OR(Z7=\"\",Z7=0,AA7=\"\",AA7=0,AA7=\"A\"),\"\",Z7)","v":""}]
[7,null,"","",2,{"$f":"HLOOKUP(E8,womens_handbook,C3,FALSE)","v":77},{"$f":"IF(ISERROR(HLOOKUP(F8,womens_declare,C4,FALSE))=TRUE,\"\",HLOOKUP(F8,womens_declare,C4,FALSE))","v":"-"},"Wrexham AAC",0,null,0,null,0,null,0,null,0,0,null,0,null,0,null,0,null,0,{"$f":"IF(OR(Z8=0,Z8=\"\"),\"\",IF(Z7=0,\"A\",IF(Z8>=Z7,\"B\",\"A\")))","v":""},"","",null,"",""]
[2,null,"","",3,{"$f":"HLOOKUP(E9,womens_handbook,C3,FALSE)","v":2},{"$f":"IF(ISERROR(HLOOKUP(F9,womens_declare,C4,FALSE))=TRUE,\"\",HLOOKUP(F9,womens_declare,C4,FALSE))","v":"-"},"Crewe & Nantwich AC",0,null,0,null,0,null,0,null,0,0,null,0,null,0,null,0,null,0,{"$f":"IF(OR(Z9=0,Z9=\"\"),\"\",IF(Z10=0,\"A\",IF(Z9>Z10,\"B\",\"A\")))","v":""},"","",null,"",""]
[2,null,"","",4,{"$f":"HLOOKUP(E10,womens_handbook,C3,FALSE)","v":22},{"$f":"IF(ISERROR(HLOOKUP(F10,womens_declare,C4,FALSE))=TRUE,\"\",HLOOKUP(F10,womens_declare,C4,FALSE))","v":"-"},"Crewe & Nantwich AC",0,null,0,null,0,null,0,null,0,0,null,0,null,0,null,0,null,0,{"$f":"IF(OR(Z10=0,Z10=\"\"),\"\",IF(Z9=0,\"A\",IF(Z10>=Z9,\"B\",\"A\")))","v":""},"","",null,"",""]
[6,null,"","",5,{"$f":"HLOOKUP(E11,womens_handbook,C3,FALSE)","v":6},{"$f":"IF(ISERROR(HLOOKUP(F11,womens_declare,C4,FALSE))=TRUE,\"\",HLOOKUP(F11,womens_declare,C4,FALSE))","v":"-"},"Warrington AC",0,null,0,null,0,null,0,null,0,0,null,0,null,0,null,0,null,0,{"$f":"IF(OR(Z11=0,Z11=\"\"),\"\",IF(Z12=0,\"A\",IF(Z11>Z12,\"B\",\"A\")))","v":""},"","",null,"",""]
[6,null,"","",6,{"$f":"HLOOKUP(E12,womens_handbook,C3,FALSE)","v":66},{"$f":"IF(ISERROR(HLOOKUP(F12,womens_declare,C4,FALSE))=TRUE,\"\",HLOOKUP(F12,womens_declare,C4,FALSE))","v":"-"},"Warrington AC",0,null,0,null,0,null,0,null,0,0,null,0,null,0,null,0,null,0,{"$f":"IF(OR(Z12=0,Z12=\"\"),\"\",IF(Z11=0,\"A\",IF(Z12>=Z11,\"B\",\"A\")))","v":""},"","",null,"",""]
[5,null,"","",7,{"$f":"HLOOKUP(E13,womens_handbook,C3,FALSE)","v":5},{"$f":"IF(ISERROR(HLOOKUP(F13,womens_declare,C4,FALSE))=TRUE,\"\",HLOOKUP(F13,womens_declare,C4,FALSE))","v":"-"},"Southport Waterloo AC",0,null,0,null,0,null,0,null,0,0,null,0,null,0,null,0,null,0,{"$f":"IF(OR(Z13=0,Z13=\"\"),\"\",IF(Z14=0,\"A\",IF(Z13>Z14,\"B\",\"A\")))","v":""},"","",null,"",""]
[5,null,"","",8,{"$f":"HLOOKUP(E14,womens_handbook,C3,FALSE)","v":55},{"$f":"IF(ISERROR(HLOOKUP(F14,womens_declare,C4,FALSE))=TRUE,\"\",HLOOKUP(F14,womens_declare,C4,FALSE))","v":"-"},"Southport Waterloo AC",0,null,0,null,0,null,0,null,0,0,null,0,null,0,null,0,null,0,{"$f":"IF(OR(Z14=0,Z14=\"\"),\"\",IF(Z13=0,\"A\",IF(Z14>=Z13,\"B\",\"A\")))","v":""},"","",null,"",""]
[1,null,"","",9,{"$f":"HLOOKUP(E15,womens_handbook,C3,FALSE)","v":1},{"$f":"IF(ISERROR(HLOOKUP(F15,womens_declare,C4,FALSE))=TRUE,\"\",HLOOKUP(F15,womens_declare,C4,FALSE))","v":"-"},"Altrincham & District AC",0,null,0,null,0,null,0,null,0,0,null,0,null,0,null,0,null,0,{"$f":"IF(OR(Z15=0,Z15=\"\"),\"\",IF(Z16=0,\"A\",IF(Z15>Z16,\"B\",\"A\")))","v":""},"","",null,"",""]
[1,null,"","",10,{"$f":"HLOOKUP(E16,womens_handbook,C3,FALSE)","v":11},{"$f":"IF(ISERROR(HLOOKUP(F16,womens_declare,C4,FALSE))=TRUE,\"\",HLOOKUP(F16,womens_declare,C4,FALSE))","v":"-"},"Altrincham & District AC",0,null,0,null,0,null,0,null,0,0,null,0,null,0,null,0,null,0,{"$f":"IF(OR(Z16=0,Z16=\"\"),\"\",IF(Z15=0,\"A\",IF(Z16>=Z15,\"B\",\"A\")))","v":""},"","",null,"",""]
[4,null,"","",11,{"$f":"HLOOKUP(E17,womens_handbook,C3,FALSE)","v":4},{"$f":"IF(ISERROR(HLOOKUP(F17,womens_declare,C4,FALSE))=TRUE,\"\",HLOOKUP(F17,womens_declare,C4,FALSE))","v":"-"},"Salford Metropolitan AC",0,null,0,null,0,null,0,null,0,0,null,0,null,0,null,0,null,0,{"$f":"IF(OR(Z17=0,Z17=\"\"),\"\",IF(Z18=0,\"A\",IF(Z17>Z18,\"B\",\"A\")))","v":""},"","",null,"",""]
[4,null,"","",12,{"$f":"HLOOKUP(E18,womens_handbook,C3,FALSE)","v":44},{"$f":"IF(ISERROR(HLOOKUP(F18,womens_declare,C4,FALSE))=TRUE,\"\",HLOOKUP(F18,womens_declare,C4,FALSE))","v":"-"},"Salford Metropolitan AC",0,null,0,null,0,null,0,null,0,0,null,0,null,0,null,0,null,0,{"$f":"IF(OR(Z18=0,Z18=\"\"),\"\",IF(Z17=0,\"A\",IF(Z18>=Z17,\"B\",\"A\")))","v":""},"","",null,"",""]
[3,null,"","",13,{"$f":"HLOOKUP(E19,womens_handbook,C3,FALSE)","v":3},{"$f":"IF(ISERROR(HLOOKUP(F19,womens_declare,C4,FALSE))=TRUE,\"\",HLOOKUP(F19,womens_declare,C4,FALSE))","v":"-"},"Isle of Man \"B\"",0,null,0,null,0,null,0,null,0,0,null,0,null,0,null,0,null,0,{"$f":"IF(OR(Z19=0,Z19=\"\"),\"\",IF(Z20=0,\"A\",IF(Z19>Z20,\"B\",\"A\")))","v":""},"","",null,"",""]
[3,null,"","",14,{"$f":"HLOOKUP(E20,womens_handbook,C3,FALSE)","v":33},{"$f":"IF(ISERROR(HLOOKUP(F20,womens_declare,C4,FALSE))=TRUE,\"\",HLOOKUP(F20,womens_declare,C4,FALSE))","v":"-"},"Isle of Man \"B\"",0,null,0,null,0,null,0,null,0,0,null,0,null,0,null,0,null,0,{"$f":"IF(OR(Z20=0,Z20=\"\"),\"\",IF(Z19=0,\"A\",IF(Z20>=Z19,\"B\",\"A\")))","v":""},"","",null,"",""]
[0,null,"","",15,{"$f":"HLOOKUP(E21,womens_handbook,C3,FALSE)","v":0},{"$f":"IF(ISERROR(HLOOKUP(F21,womens_declare,C4,FALSE))=TRUE,\"\",HLOOKUP(F21,womens_declare,C4,FALSE))","v":""},"",0,null,0,null,0,null,0,null,0,0,null,0,null,0,null,0,null,0,{"$f":"IF(OR(Z21=0,Z21=\"\"),\"\",IF(Z22=0,\"A\",IF(Z21>Z22,\"B\",\"A\")))","v":""},"","",null,"",""]
[0,null,"","",16,{"$f":"HLOOKUP(E22,womens_handbook,C3,FALSE)","v":0},{"$f":"IF(ISERROR(HLOOKUP(F22,womens_declare,C4,FALSE))=TRUE,\"\",HLOOKUP(F22,womens_declare,C4,FALSE))","v":""},"",0,null,0,null,0,null,0,null,0,0,null,0,null,0,null,0,null,0,{"$f":"IF(OR(Z22=0,Z22=\"\"),\"\",IF(Z21=0,\"A\",IF(Z22>=Z21,\"B\",\"A\")))","v":""},"","",null,"",""]
[]
[null,null,null,null,"\"A\" STRING RESULT",null,null,null,null,null,"\"B\" STRING RESULT",null,null,null,null,null,null,null,null,null,null,null,"JUDGES' SIGNATURES"]
[null,null,null,null,"Posn","No.","NAME","CLUB","DISTANCE",null,"Posn","No.","NAME",null,null,null,"CLUB",null,null,null,"DISTANCE"]
[null,null,1,null,1,{"$f":"IF(ISERROR(VLOOKUP(C26,$C$7:$Y$22,4,FALSE))=TRUE,0,IF(VLOOKUP(C26,$C$7:$Y$22,22,FALSE)=0,\"\",IF(VLOOKUP(C26,$C$7:$Y$22,22,FALSE)=99,99,IF(VLOOKUP(C26,$C$7:$Y$22,22,FALSE)=98,98,IF(VLOOKUP(C26,$C$7:$Y$22,22,FALSE)=96,96,VLOOKUP(C26,$C$7:$Y$22,4,FALSE))))))","v":0},{"$f":"IF(ISERROR(VLOOKUP(C26,$C$7:$Y$22,4,FALSE))=TRUE,0,VLOOKUP(C26,$C$7:$Y$22,5,FALSE))","v":0},{"$f":"IF(ISERROR(VLOOKUP(C26,$C$7:$Y$22,4,FALSE))=TRUE,0,VLOOKUP(C26,$C$7:$Y$22,6,FALSE))","v":0},{"$f":"IF(ISERROR(VLOOKUP(C26,$C$7:$Y$22,4,FALSE))=TRUE,0,IF(VLOOKUP(C26,$C$7:$Y$22,22,FALSE)=0,\"\",IF(VLOOKUP(C26,$C$7:$Y$22,22,FALSE)>95.99,\"\",VLOOKUP(C26,$C$7:$Y$22,22,FALSE))))","v":0},null,1,{"$f":"IF(ISERROR(VLOOKUP(C26,$D$7:$Y$22,4,FALSE))=TRUE,0,IF(VLOOKUP(C26,D$7:Y$22,21,FALSE)=0,\"\",VLOOKUP(C26,D$7:Y$22,3,FALSE)))","v":0},{"$f":"IF(ISERROR(VLOOKUP(C26,$D$7:$Y$22,4,FALSE))=TRUE,0,VLOOKUP(C26,D$7:Y$22,4,FALSE))","v":0},null,null,null,{"$f":"IF(ISERROR(VLOOKUP(C26,$D$7:$Y$22,4,FALSE))=TRUE,0,VLOOKUP(C26,$D$7:$Y$22,5,FALSE))","v":0},null,null,null,{"$f":"IF(ISERROR(VLOOKUP(C26,$D$7:$Y$22,3,FALSE))=TRUE,0,IF(VLOOKUP(C26,$D$7:$Y$22,21,FALSE)=0,\"\",VLOOKUP(C26,$D$7:$Y$22,21,FALSE)))","v":0}]
[null,null,2,null,2,0,0,0,0,null,2,0,0,null,null,null,0,null,null,null,0]
[null,null,3,null,3,0,0,0,0,null,3,0,0,null,null,null,0,null,null,null,0]
[null,null,4,null,4,0,0,0,0,null,4,0,0,null,null,null,0,null,null,null,0]
[null,null,5,null,5,0,0,0,0,null,5,0,0,null,null,null,0,null,null,null,0]
[null,null,6,null,6,0,0,0,0,null,6,0,0,null,null,null,0,null,null,null,0,null,"REFEREE'S SIGNATURE"]
[null,null,7,null,7,0,0,0,0,null,7,0,0,null,null,null,0,null,null,null,0]
[null,null,8,null,8,0,0,0,0,null,8,0,0,null,null,null,0,null,null,null,0]

{"sheet":"Womens LJ","index":16,"n_rows":33,"n_cols":32,"rows_kept":33,"cut":false,"hidden":false,"merged":[[0,4,0,5],[2,4,2,5],[2,19,2,28],[3,4,3,5],[5,8,5,9],[5,10,5,11],[2,16,2,18],[2,6,2,7],[2,8,2,10],[3,6,3,7],[3,8,3,10],[5,12,5,13],[5,19,5,20],[2,11,2,15],[3,11,3,12],[4,23,4,24],[3,13,3,15],[3,16,3,18],[3,19,3,28],[4,25,5,25],[5,23,5,24],[4,16,5,16],[4,17,4,18],[4,19,4,20],[30,22,30,28],[23,4,23,9],[23,10,23,21],[23,22,23,28],[24,8,24,9],[25,16,25,19],[26,16,26,19],[27,16,27,19],[24,20,24,21],[30,8,30,9],[24,12,24,15],[24,16,24,19],[29,8,29,9],[26,8,26,9],[25,12,25,15],[26,12,26,15],[27,8,27,9],[25,8,25,9],[27,12,27,15],[28,12,28,15],[29,20,29,21],[30,20,30,21],[5,21,5,22],[4,26,4,28],[5,14,5,15],[5,17,5,18],[4,8,4,9],[4,10,4,11],[4,12,4,13],[4,14,4,15],[4,21,4,22],[9,17,9,18],[6,21,6,22],[6,19,6,20],[8,10,8,11],[9,10,9,11],[6,12,6,13],[9,8,9,9],[8,12,8,13],[9,12,9,13],[8,19,8,20],[8,21,8,22],[9,21,9,22],[6,17,6,18],[6,14,6,15],[10,21,10,22],[10,17,10,18],[7,19,7,20],[9,19,9,20],[10,19,10,20],[11,19,11,20],[11,21,11,22],[7,21,7,22],[13,8,13,9],[11,10,11,11],[12,10,12,11],[13,10,13,11],[8,8,8,9],[11,12,11,13],[10,10,10,11],[11,14,11,15],[7,17,7,18],[8,17,8,18],[11,17,11,18],[11,8,11,9],[10,12,10,13],[7,14,7,15],[8,14,8,15],[9,14,9,15],[10,14,10,15],[10,8,10,9],[12,8,12,9],[7,8,7,9],[7,10,7,11],[7,12,7,13],[6,8,6,9],[6,10,6,11],[19,8,19,9],[12,12,12,13],[13,12,13,13],[12,14,12,15],[13,14,13,15],[20,8,20,9],[21,8,21,9],[14,10,14,11],[15,10,15,11],[16,10,16,11],[17,10,17,11],[18,10,18,11],[19,10,19,11],[15,8,15,9],[14,8,14,9],[21,10,21,11],[17,8,17,9],[18,8,18,9],[16,8,16,9],[20,10,20,11],[21,12,21,13],[14,12,14,13],[15,12,15,13],[16,12,16,13],[17,12,17,13],[18,12,18,13],[20,12,20,13],[19,12,19,13],[20,17,20,18],[21,14,21,15],[14,14,14,15],[15,14,15,15],[16,14,16,15],[17,14,17,15],[16,17,16,18],[17,17,17,18],[18,17,18,18],[19,17,19,18],[21,17,21,18],[18,14,18,15],[19,14,19,15],[12,21,12,22],[13,21,13,22],[14,21,14,22],[19,21,19,22],[13,17,13,18],[14,17,14,18],[15,17,15,18],[12,19,12,20],[13,19,13,20],[14,19,14,20],[18,19,18,20],[19,19,19,20],[15,19,15,20],[16,19,16,20],[17,19,17,20],[12,17,12,18],[13,23,13,24],[21,19,21,20],[15,23,15,24],[16,23,16,24],[32,8,32,9],[31,12,31,15],[32,12,32,15],[29,12,29,15],[30,12,30,15],[31,20,31,21],[32,20,32,21],[31,16,31,19],[32,16,32,19],[29,16,29,19],[21,23,21,24],[17,23,17,24],[18,23,18,24],[15,21,15,22],[16,21,16,22],[18,21,18,22],[17,21,17,22],[20,21,20,22],[21,21,21,22],[20,14,20,15],[14,23,14,24],[20,19,20,20],[0,6,0,17],[0,19,0,28],[1,4,1,18],[1,19,1,23],[1,25,1,28],[31,8,31,9],[27,20,27,21],[28,20,28,21],[30,16,30,19],[28,16,28,19],[28,8,28,9],[25,20,25,21],[26,20,26,21],[6,23,6,24],[7,23,7,24],[8,23,8,24],[9,23,9,24],[10,23,10,24],[11,23,11,24],[12,23,12,24],[19,23,19,24],[20,23,20,24]]}
[null,null,null,null,"Home",null,null,null,null,null,null,null,null,null,null,null,null,null,null,{"$f":"'Match Day'!C12","v":"Southport Waterloo AC"}]
[13,null,26,null,"UK ATHLETICS: DISTANCE CARD",null,null,null,null,null,null,null,null,null,null,null,null,null,null,"Progression Standard:",null,null,null,null,{"$f":"VLOOKUP(A2,womens_handbook,20,FALSE)","v":4},"metres"]
[null,null,{"$f":"VLOOKUP(A2,womens_handbook,37,FALSE)","v":14},null,"MEETING ",null,{"$f":"CONCATENATE('Match Day'!$I$8,\" \",'Match Day'!$I$10)","v":"Division 4W Match 1"},null,"VENUE ",null,null,{"$f":"'Match Day'!$I$12","v":"Litherland"},null,null,null,null,"DATE ",null,null,{"$f":"'Match Day'!$I$6","v":"2014-05-04"}]
[null,null,{"$f":"VLOOKUP(A2,womens_declare,20,FALSE)","v":14},null,"EVENT",null,{"$f":"VLOOKUP(A2,womens_handbook,3,FALSE)","v":"Women's Long Jump"},null,"TIME",null,null,{"$f":"VLOOKUP(A2,womens_handbook,2,FALSE)","v":"11:30:00"},null,"RECORD",null,null,{"$f":"VLOOKUP(A2,womens_handbook,29,FALSE)","v":1984},null,null,{"$f":"IF($A2=\"\",\"\",CONCATENATE(VLOOKUP($A2,womens_handbook,26,FALSE),\", \",VLOOKUP($A2,womens_handbook,27,FALSE),\", \",VLOOKUP($A2,womens_handbook,28,FALSE)))","v":"S Hearnshaw, Hull Spartan AC, 6.39m"}]
[null,null,null,null,"Order","No","NAME","CLUB","1st Trial",null,"2nd Trial",null,"3rd Trial",null,"Best of 3",null,"Position after\n3 Trials","4th Trial",null,"5th Trial",null,"6th Trial",null,"Best of All",null,"Final\nPositionn","A or B"]
[null,null,"A","B",null,null,null,null,"Metres",null,"Metres",null,"Metres",null,"Metres",null,null,"Metres",null,"Metres",null,"Metres",null,"Metres",null,null,null,"A","B"]
[{"$f":"IF(F7=\"\",\"\",IF(F7>10,F7/11,F7))","v":4},null,{"$f":"AB7","v":""},{"$f":"AC7","v":""},1,{"$f":"HLOOKUP(E7,womens_handbook,C3,FALSE)","v":4},{"$f":"IF(ISERROR(HLOOKUP(F7,womens_declare,C4,FALSE))=TRUE,\"\",HLOOKUP(F7,womens_declare,C4,FALSE))","v":"-"},{"$f":"IF(ISERROR(VLOOKUP(A7,matchday,2,FALSE))=TRUE,\"\",VLOOKUP(A7,matchday,2,FALSE))","v":"Salford Metropolitan AC"},0,null,0,null,0,null,{"$f":"LARGE(I7:N7,1)","v":0},null,{"$f":"IF(OR(O7=0,O7=\"\"),0,RANK(O7,$O$7:$P$22,0))","v":0},0,null,0,null,0,null,{"$f":"IF(O7>LARGE(R7:W7,1),O7,LARGE(R7:W7,1))","v":0},null,{"$f":"IF(OR(Q7=0,Q7=\"\",X7=\"\",X7=0),0,RANK(X7,$X$7:$Y$22,0))","v":0},{"$f":"IF(OR(Z7=0,Z7=\"\"),\"\",IF(Z8=0,\"A\",IF(Z7>Z8,\"B\",\"A\")))","v":""},{"$f":"IF(OR(Z7=0,Z7=\"\",AA7=\"B\"),\"\",RANK(AE7,$AE$7:$AE$22,1))","v":""},{"$f":"IF(OR(Z7=0,Z7=\"\",AA7=\"A\"),\"\",RANK(AF7,$AF$7:$AF$22,1))","v":""},null,{"$f":"IF(OR(Z7=\"\",Z7=0,AA7=\"\",AA7=0,AA7=\"B\"),\"\",Z7)","v":""},{"$f":"IF(OR(Z7=\"\",Z7=0,AA7=\"\",AA7=0,AA7=\"A\"),\"\",Z7)","v":""}]
[4,null,"","",2,{"$f":"HLOOKUP(E8,womens_handbook,C3,FALSE)","v":44},{"$f":"IF(ISERROR(HLOOKUP(F8,womens_declare,C4,FALSE))=TRUE,\"\",HLOOKUP(F8,womens_declare,C4,FALSE))","v":"-"},"Salford Metropolitan AC",0,null,0,null,0,null,0,null,0,0,null,0,null,0,null,0,null,0,{"$f":"IF(OR(Z8=0,Z8=\"\"),\"\",IF(Z7=0,\"A\",IF(Z8>=Z7,\"B\",\"A\")))","v":""},"","",null,"",""]
[3,null,"","",3,{"$f":"HLOOKUP(E9,womens_handbook,C3,FALSE)","v":3},{"$f":"IF(ISERROR(HLOOKUP(F9,womens_declare,C4,FALSE))=TRUE,\"\",HLOOKUP(F9,womens_declare,C4,FALSE))","v":"-"},"Isle of Man \"B\"",0,null,0,null,0,null,0,null,0,0,null,0,null,0,null,0,null,0,{"$f":"IF(OR(Z9=0,Z9=\"\"),\"\",IF(Z10=0,\"A\",IF(Z9>Z10,\"B\",\"A\")))","v":""},"","",null,"",""]
[3,null,"","",4,{"$f":"HLOOKUP(E10,womens_handbook,C3,FALSE)","v":33},{"$f":"IF(ISERROR(HLOOKUP(F10,womens_declare,C4,FALSE))=TRUE,\"\",HLOOKUP(F10,womens_declare,C4,FALSE))","v":"-"},"Isle of Man \"B\"",0,null,0,null,0,null,0,null,0,0,null,0,null,0,null,0,null,0,{"$f":"IF(OR(Z10=0,Z10=\"\"),\"\",IF(Z9=0,\"A\",IF(Z10>=Z9,\"B\",\"A\")))","v":""},"","",null,"",""]
[5,null,"","",5,{"$f":"HLOOKUP(E11,womens_handbook,C3,FALSE)","v":5},{"$f":"IF(ISERROR(HLOOKUP(F11,womens_declare,C4,FALSE))=TRUE,\"\",HLOOKUP(F11,womens_declare,C4,FALSE))","v":"-"},"Southport Waterloo AC",0,null,0,null,0,null,0,null,0,0,null,0,null,0,null,0,null,0,{"$f":"IF(OR(Z11=0,Z11=\"\"),\"\",IF(Z12=0,\"A\",IF(Z11>Z12,\"B\",\"A\")))","v":""},"","",null,"",""]
[5,null,"","",6,{"$f":"HLOOKUP(E12,womens_handbook,C3,FALSE)","v":55},{"$f":"IF(ISERROR(HLOOKUP(F12,womens_declare,C4,FALSE))=TRUE,\"\",HLOOKUP(F12,womens_declare,C4,FALSE))","v":"-"},"Southport Waterloo AC",0,null,0,null,0,null,0,null,0,0,null,0,null,0,null,0,null,0,{"$f":"IF(OR(Z12=0,Z12=\"\"),\"\",IF(Z11=0,\"A\",IF(Z12>=Z11,\"B\",\"A\")))","v":""},"","",null,"",""]
[1,null,"","",7,{"$f":"HLOOKUP(E13,womens_handbook,C3,FALSE)","v":1},{"$f":"IF(ISERROR(HLOOKUP(F13,womens_declare,C4,FALSE))=TRUE,\"\",HLOOKUP(F13,womens_declare,C4,FALSE))","v":"-"},"Altrincham & District AC",0,null,0,null,0,null,0,null,0,0,null,0,null,0,null,0,null,0,{"$f":"IF(OR(Z13=0,Z13=\"\"),\"\",IF(Z14=0,\"A\",IF(Z13>Z14,\"B\",\"A\")))","v":""},"","",null,"",""]
[1,null,"","",8,{"$f":"HLOOKUP(E14,womens_handbook,C3,FALSE)","v":11},{"$f":"IF(ISERROR(HLOOKUP(F14,womens_declare,C4,FALSE))=TRUE,\"\",HLOOKUP(F14,womens_declare,C4,FALSE))","v":"-"},"Altrincham & District AC",0,null,0,null,0,null,0,null,0,0,null,0,null,0,null,0,null,0,{"$f":"IF(OR(Z14=0,Z14=\"\"),\"\",IF(Z13=0,\"A\",IF(Z14>=Z13,\"B\",\"A\")))","v":""},"","",null,"",""]
[2,null,"","",9,{"$f":"HLOOKUP(E15,womens_handbook,C3,FALSE)","v":2},{"$f":"IF(ISERROR(HLOOKUP(F15,womens_declare,C4,FALSE))=TRUE,\"\",HLOOKUP(F15,womens_declare,C4,FALSE))","v":"-"},"Crewe & Nantwich AC",0,null,0,null,0,null,0,null,0,0,null,0,null,0,null,0,null,0,{"$f":"IF(OR(Z15=0,Z15=\"\"),\"\",IF(Z16=0,\"A\",IF(Z15>Z16,\"B\",\"A\")))","v":""},"","",null,"",""]
[2,null,"","",10,{"$f":"HLOOKUP(E16,womens_handbook,C3,FALSE)","v":22},{"$f":"IF(ISERROR(HLOOKUP(F16,womens_declare,C4,FALSE))=TRUE,\"\",HLOOKUP(F16,womens_declare,C4,FALSE))","v":"-"},"Crewe & Nantwich AC",0,null,0,null,0,null,0,null,0,0,null,0,null,0,null,0,null,0,{"$f":"IF(OR(Z16=0,Z16=\"\"),\"\",IF(Z15=0,\"A\",IF(Z16>=Z15,\"B\",\"A\")))","v":""},"","",null,"",""]
[6,null,"","",11,{"$f":"HLOOKUP(E17,womens_handbook,C3,FALSE)","v":6},{"$f":"IF(ISERROR(HLOOKUP(F17,womens_declare,C4,FALSE))=TRUE,\"\",HLOOKUP(F17,womens_declare,C4,FALSE))","v":"-"},"Warrington AC",0,null,0,null,0,null,0,null,0,0,null,0,null,0,null,0,null,0,{"$f":"IF(OR(Z17=0,Z17=\"\"),\"\",IF(Z18=0,\"A\",IF(Z17>Z18,\"B\",\"A\")))","v":""},"","",null,"",""]
[6,null,"","",12,{"$f":"HLOOKUP(E18,womens_handbook,C3,FALSE)","v":66},{"$f":"IF(ISERROR(HLOOKUP(F18,womens_declare,C4,FALSE))=TRUE,\"\",HLOOKUP(F18,womens_declare,C4,FALSE))","v":"-"},"Warrington AC",0,null,0,null,0,null,0,null,0,0,null,0,null,0,null,0,null,0,{"$f":"IF(OR(Z18=0,Z18=\"\"),\"\",IF(Z17=0,\"A\",IF(Z18>=Z17,\"B\",\"A\")))","v":""},"","",null,"",""]
[7,null,"","",13,{"$f":"HLOOKUP(E19,womens_handbook,C3,FALSE)","v":7},{"$f":"IF(ISERROR(HLOOKUP(F19,womens_declare,C4,FALSE))=TRUE,\"\",HLOOKUP(F19,womens_declare,C4,FALSE))","v":"-"},"Wrexham AAC",0,null,0,null,0,null,0,null,0,0,null,0,null,0,null,0,null,0,{"$f":"IF(OR(Z19=0,Z19=\"\"),\"\",IF(Z20=0,\"A\",IF(Z19>Z20,\"B\",\"A\")))","v":""},"","",null,"",""]
[7,null,"","",14,{"$f":"HLOOKUP(E20,womens_handbook,C3,FALSE)","v":77},{"$f":"IF(ISERROR(HLOOKUP(F20,womens_declare,C4,FALSE))=TRUE,\"\",HLOOKUP(F20,womens_declare,C4,FALSE))","v":"-"},"Wrexham AAC",0,null,0,null,0,null,0,null,0,0,null,0,null,0,null,0,null,0,{"$f":"IF(OR(Z20=0,Z20=\"\"),\"\",IF(Z19=0,\"A\",IF(Z20>=Z19,\"B\",\"A\")))","v":""},"","",null,"",""]
[0,null,"","",15,{"$f":"HLOOKUP(E21,womens_handbook,C3,FALSE)","v":0},{"$f":"IF(ISERROR(HLOOKUP(F21,womens_declare,C4,FALSE))=TRUE,\"\",HLOOKUP(F21,womens_declare,C4,FALSE))","v":""},"",0,null,0,null,0,null,0,null,0,0,null,0,null,0,null,0,null,0,{"$f":"IF(OR(Z21=0,Z21=\"\"),\"\",IF(Z22=0,\"A\",IF(Z21>Z22,\"B\",\"A\")))","v":""},"","",null,"",""]
[0,null,"","",16,{"$f":"HLOOKUP(E22,womens_handbook,C3,FALSE)","v":0},{"$f":"IF(ISERROR(HLOOKUP(F22,womens_declare,C4,FALSE))=TRUE,\"\",HLOOKUP(F22,womens_declare,C4,FALSE))","v":""},"",0,null,0,null,0,null,0,null,0,0,null,0,null,0,null,0,null,0,{"$f":"IF(OR(Z22=0,Z22=\"\"),\"\",IF(Z21=0,\"A\",IF(Z22>=Z21,\"B\",\"A\")))","v":""},"","",null,"",""]
[]
[null,null,null,null,"\"A\" STRING RESULT",null,null,null,null,null,"\"B\" STRING RESULT",null,null,null,null,null,null,null,null,null,null,null,"JUDGES' SIGNATURES"]
[null,null,null,null,"Posn","No.","NAME","CLUB","DISTANCE",null,"Posn","No.","NAME",null,null,null,"CLUB",null,null,null,"DISTANCE"]
[null,null,1,null,1,{"$f":"IF(ISERROR(VLOOKUP(C26,$C$7:$Y$22,4,FALSE))=TRUE,0,IF(VLOOKUP(C26,$C$7:$Y$22,22,FALSE)=0,\"\",IF(VLOOKUP(C26,$C$7:$Y$22,22,FALSE)=99,99,IF(VLOOKUP(C26,$C$7:$Y$22,22,FALSE)=98,98,IF(VLOOKUP(C26,$C$7:$Y$22,22,FALSE)=96,96,VLOOKUP(C26,$C$7:$Y$22,4,FALSE))))))","v":0},{"$f":"IF(ISERROR(VLOOKUP(C26,$C$7:$Y$22,4,FALSE))=TRUE,0,VLOOKUP(C26,$C$7:$Y$22,5,FALSE))","v":0},{"$f":"IF(ISERROR(VLOOKUP(C26,$C$7:$Y$22,4,FALSE))=TRUE,0,VLOOKUP(C26,$C$7:$Y$22,6,FALSE))","v":0},{"$f":"IF(ISERROR(VLOOKUP(C26,$C$7:$Y$22,4,FALSE))=TRUE,0,IF(VLOOKUP(C26,$C$7:$Y$22,22,FALSE)=0,\"\",IF(VLOOKUP(C26,$C$7:$Y$22,22,FALSE)>95.99,\"\",VLOOKUP(C26,$C$7:$Y$22,22,FALSE))))","v":0},null,1,{"$f":"IF(ISERROR(VLOOKUP(C26,$D$7:$Y$22,4,FALSE))=TRUE,0,IF(VLOOKUP(C26,D$7:Y$22,21,FALSE)=0,\"\",VLOOKUP(C26,D$7:Y$22,3,FALSE)))","v":0},{"$f":"IF(ISERROR(VLOOKUP(C26,$D$7:$Y$22,4,FALSE))=TRUE,0,VLOOKUP(C26,D$7:Y$22,4,FALSE))","v":0},null,null,null,{"$f":"IF(ISERROR(VLOOKUP(C26,$D$7:$Y$22,4,FALSE))=TRUE,0,VLOOKUP(C26,$D$7:$Y$22,5,FALSE))","v":0},null,null,null,{"$f":"IF(ISERROR(VLOOKUP(C26,$D$7:$Y$22,3,FALSE))=TRUE,0,IF(VLOOKUP(C26,$D$7:$Y$22,21,FALSE)=0,\"\",VLOOKUP(C26,$D$7:$Y$22,21,FALSE)))","v":0}]
[null,null,2,null,2,0,0,0,0,null,2,0,0,null,null,null,0,null,null,null,0]
[null,null,3,null,3,0,0,0,0,null,3,0,0,null,null,null,0,null,null,null,0]
[null,null,4,null,4,0,0,0,0,null,4,0,0,null,null,null,0,null,null,null,0]
[null,null,5,null,5,0,0,0,0,null,5,0,0,null,null,null,0,null,null,null,0]
[null,null,6,null,6,0,0,0,0,null,6,0,0,null,null,null,0,null,null,null,0,null,"REFEREE'S SIGNATURE"]
[null,null,7,null,7,0,0,0,0,null,7,0,0,null,null,null,0,null,null,null,0]
[null,null,8,null,8,0,0,0,0,null,8,0,0,null,null,null,0,null,null,null,0]

{"sheet":"Womens TJ","index":17,"n_rows":33,"n_cols":32,"rows_kept":33,"cut":false,"hidden":false,"merged":[[0,4,0,5],[2,4,2,5],[2,19,2,28],[3,4,3,5],[5,8,5,9],[5,10,5,11],[2,16,2,18],[2,6,2,7],[2,8,2,10],[3,6,3,7],[3,8,3,10],[5,12,5,13],[5,19,5,20],[2,11,2,15],[3,11,3,12],[4,23,4,24],[3,13,3,15],[3,16,3,18],[3,19,3,28],[4,25,5,25],[5,23,5,24],[4,16,5,16],[4,17,4,18],[4,19,4,20],[30,22,30,28],[23,4,23,9],[23,10,23,21],[23,22,23,28],[24,8,24,9],[25,16,25,19],[26,16,26,19],[27,16,27,19],[24,20,24,21],[30,8,30,9],[24,12,24,15],[24,16,24,19],[29,8,29,9],[26,8,26,9],[25,12,25,15],[26,12,26,15],[27,8,27,9],[25,8,25,9],[27,12,27,15],[28,12,28,15],[29,20,29,21],[30,20,30,21],[5,21,5,22],[4,26,4,28],[5,14,5,15],[5,17,5,18],[4,8,4,9],[4,10,4,11],[4,12,4,13],[4,14,4,15],[4,21,4,22],[9,17,9,18],[6,21,6,22],[6,19,6,20],[8,10,8,11],[9,10,9,11],[6,12,6,13],[9,8,9,9],[8,12,8,13],[9,12,9,13],[8,19,8,20],[8,21,8,22],[9,21,9,22],[6,17,6,18],[6,14,6,15],[10,21,10,22],[10,17,10,18],[7,19,7,20],[9,19,9,20],[10,19,10,20],[11,19,11,20],[11,21,11,22],[7,21,7,22],[13,8,13,9],[11,10,11,11],[12,10,12,11],[13,10,13,11],[8,8,8,9],[11,12,11,13],[10,10,10,11],[11,14,11,15],[7,17,7,18],[8,17,8,18],[11,17,11,18],[11,8,11,9],[10,12,10,13],[7,14,7,15],[8,14,8,15],[9,14,9,15],[10,14,10,15],[10,8,10,9],[12,8,12,9],[7,8,7,9],[7,10,7,11],[7,12,7,13],[6,8,6,9],[6,10,6,11],[19,8,19,9],[12,12,12,13],[13,12,13,13],[12,14,12,15],[13,14,13,15],[20,8,20,9],[21,8,21,9],[14,10,14,11],[15,10,15,11],[16,10,16,11],[17,10,17,11],[18,10,18,11],[19,10,19,11],[15,8,15,9],[14,8,14,9],[21,10,21,11],[17,8,17,9],[18,8,18,9],[16,8,16,9],[20,10,20,11],[21,12,21,13],[14,12,14,13],[15,12,15,13],[16,12,16,13],[17,12,17,13],[18,12,18,13],[20,12,20,13],[19,12,19,13],[20,17,20,18],[21,14,21,15],[14,14,14,15],[15,14,15,15],[16,14,16,15],[17,14,17,15],[16,17,16,18],[17,17,17,18],[18,17,18,18],[19,17,19,18],[21,17,21,18],[18,14,18,15],[19,14,19,15],[12,21,12,22],[13,21,13,22],[14,21,14,22],[19,21,19,22],[13,17,13,18],[14,17,14,18],[15,17,15,18],[12,19,12,20],[13,19,13,20],[14,19,14,20],[18,19,18,20],[19,19,19,20],[15,19,15,20],[16,19,16,20],[17,19,17,20],[12,17,12,18],[13,23,13,24],[21,19,21,20],[15,23,15,24],[16,23,16,24],[32,8,32,9],[31,12,31,15],[32,12,32,15],[29,12,29,15],[30,12,30,15],[31,20,31,21],[32,20,32,21],[31,16,31,19],[32,16,32,19],[29,16,29,19],[21,23,21,24],[17,23,17,24],[18,23,18,24],[15,21,15,22],[16,21,16,22],[18,21,18,22],[17,21,17,22],[20,21,20,22],[21,21,21,22],[20,14,20,15],[14,23,14,24],[20,19,20,20],[0,6,0,17],[0,19,0,28],[1,4,1,18],[1,19,1,23],[1,25,1,28],[31,8,31,9],[27,20,27,21],[28,20,28,21],[30,16,30,19],[28,16,28,19],[28,8,28,9],[25,20,25,21],[26,20,26,21],[6,23,6,24],[7,23,7,24],[8,23,8,24],[9,23,9,24],[10,23,10,24],[11,23,11,24],[12,23,12,24],[19,23,19,24],[20,23,20,24]]}
[null,null,null,null,"Home",null,{"$f":"'Match Day'!I4","v":"Northern T&F League"},null,null,null,null,null,null,null,null,null,null,null,null,{"$f":"'Match Day'!C12","v":"Southport Waterloo AC"}]
[16,null,26,null,"UK ATHLETICS: DISTANCE CARD",null,null,null,null,null,null,null,null,null,null,null,null,null,null,"Progression Standard:",null,null,null,null,{"$f":"VLOOKUP(A2,womens_handbook,20,FALSE)","v":8},"metres"]
[null,null,{"$f":"VLOOKUP(A2,womens_handbook,37,FALSE)","v":17},null,"MEETING ",null,{"$f":"CONCATENATE('Match Day'!$I$8,\" \",'Match Day'!$I$10)","v":"Division 4W Match 1"},null,"VENUE ",null,null,{"$f":"'Match Day'!$I$12","v":"Litherland"},null,null,null,null,"DATE ",null,null,{"$f":"'Match Day'!$I$6","v":"2014-05-04"}]
[null,null,{"$f":"VLOOKUP(A2,womens_declare,20,FALSE)","v":17},null,"EVENT",null,{"$f":"VLOOKUP(A2,womens_handbook,3,FALSE)","v":"Women's Triple Jump"},null,"TIME",null,null,{"$f":"VLOOKUP(A2,womens_handbook,2,FALSE)","v":"14:00:00"},null,"RECORD",null,null,{"$f":"VLOOKUP(A2,womens_handbook,29,FALSE)","v":1994},null,null,{"$f":"IF($A2=\"\",\"\",CONCATENATE(VLOOKUP($A2,womens_handbook,26,FALSE),\", \",VLOOKUP($A2,womens_handbook,27,FALSE),\", \",VLOOKUP($A2,womens_handbook,28,FALSE)))","v":"C Miller, Preston , 12.05m"}]
[null,null,null,null,"Order","No","NAME","CLUB","1st Trial",null,"2nd Trial",null,"3rd Trial",null,"Best of 3",null,"Position after\n3 Trials","4th Trial",null,"5th Trial",null,"6th Trial",null,"Best of All",null,"Final\nPositionn","A or B"]
[null,null,"A","B",null,null,null,null,"Metres",null,"Metres",null,"Metres",null,"Metres",null,null,"Metres",null,"Metres",null,"Metres",null,"Metres",null,null,null,"A","B"]
[{"$f":"IF(F7=\"\",\"\",IF(F7>10,F7/11,F7))","v":6},null,{"$f":"AB7","v":""},{"$f":"AC7","v":""},1,{"$f":"HLOOKUP(E7,womens_handbook,C3,FALSE)","v":6},{"$f":"IF(ISERROR(HLOOKUP(F7,womens_declare,C4,FALSE))=TRUE,\"\",HLOOKUP(F7,womens_declare,C4,FALSE))","v":"-"},{"$f":"IF(ISERROR(VLOOKUP(A7,matchday,2,FALSE))=TRUE,\"\",VLOOKUP(A7,matchday,2,FALSE))","v":"Warrington AC"},0,null,0,null,0,null,{"$f":"LARGE(I7:N7,1)","v":0},null,{"$f":"IF(OR(O7=0,O7=\"\"),0,RANK(O7,$O$7:$P$22,0))","v":0},0,null,0,null,0,null,{"$f":"IF(O7>LARGE(R7:W7,1),O7,LARGE(R7:W7,1))","v":0},null,{"$f":"IF(OR(Q7=0,Q7=\"\",X7=\"\",X7=0),0,RANK(X7,$X$7:$Y$22,0))","v":0},{"$f":"IF(OR(Z7=0,Z7=\"\"),\"\",IF(Z8=0,\"A\",IF(Z7>Z8,\"B\",\"A\")))","v":""},{"$f":"IF(OR(Z7=0,Z7=\"\",AA7=\"B\"),\"\",RANK(AE7,$AE$7:$AE$22,1))","v":""},{"$f":"IF(OR(Z7=0,Z7=\"\",AA7=\"A\"),\"\",RANK(AF7,$AF$7:$AF$22,1))","v":""},null,{"$f":"IF(OR(Z7=\"\",Z7=0,AA7=\"\",AA7=0,AA7=\"B\"),\"\",Z7)","v":""},{"$f":"IF(OR(Z7=\"\",Z7=0,AA7=\"\",AA7=0,AA7=\"A\"),\"\",Z7)","v":""}]
[6,null,"","",2,{"$f":"HLOOKUP(E8,womens_handbook,C3,FALSE)","v":66},{"$f":"IF(ISERROR(HLOOKUP(F8,womens_declare,C4,FALSE))=TRUE,\"\",HLOOKUP(F8,womens_declare,C4,FALSE))","v":"-"},"Warrington AC",0,null,0,null,0,null,0,null,0,0,null,0,null,0,null,0,null,0,{"$f":"IF(OR(Z8=0,Z8=\"\"),\"\",IF(Z7=0,\"A\",IF(Z8>=Z7,\"B\",\"A\")))","v":""},"","",null,"",""]
[7,null,"","",3,{"$f":"HLOOKUP(E9,womens_handbook,C3,FALSE)","v":7},{"$f":"IF(ISERROR(HLOOKUP(F9,womens_declare,C4,FALSE))=TRUE,\"\",HLOOKUP(F9,womens_declare,C4,FALSE))","v":"-"},"Wrexham AAC",0,null,0,null,0,null,0,null,0,0,null,0,null,0,null,0,null,0,{"$f":"IF(OR(Z9=0,Z9=\"\"),\"\",IF(Z10=0,\"A\",IF(Z9>Z10,\"B\",\"A\")))","v":""},"","",null,"",""]
[7,null,"","",4,{"$f":"HLOOKUP(E10,womens_handbook,C3,FALSE)","v":77},{"$f":"IF(ISERROR(HLOOKUP(F10,womens_declare,C4,FALSE))=TRUE,\"\",HLOOKUP(F10,womens_declare,C4,FALSE))","v":"-"},"Wrexham AAC",0,null,0,null,0,null,0,null,0,0,null,0,null,0,null,0,null,0,{"$f":"IF(OR(Z10=0,Z10=\"\"),\"\",IF(Z9=0,\"A\",IF(Z10>=Z9,\"B\",\"A\")))","v":""},"","",null,"",""]
[1,null,"","",5,{"$f":"HLOOKUP(E11,womens_handbook,C3,FALSE)","v":1},{"$f":"IF(ISERROR(HLOOKUP(F11,womens_declare,C4,FALSE))=TRUE,\"\",HLOOKUP(F11,womens_declare,C4,FALSE))","v":"-"},"Altrincham & District AC",0,null,0,null,0,null,0,null,0,0,null,0,null,0,null,0,null,0,{"$f":"IF(OR(Z11=0,Z11=\"\"),\"\",IF(Z12=0,\"A\",IF(Z11>Z12,\"B\",\"A\")))","v":""},"","",null,"",""]
[1,null,"","",6,{"$f":"HLOOKUP(E12,womens_handbook,C3,FALSE)","v":11},{"$f":"IF(ISERROR(HLOOKUP(F12,womens_declare,C4,FALSE))=TRUE,\"\",HLOOKUP(F12,womens_declare,C4,FALSE))","v":"-"},"Altrincham & District AC",0,null,0,null,0,null,0,null,0,0,null,0,null,0,null,0,null,0,{"$f":"IF(OR(Z12=0,Z12=\"\"),\"\",IF(Z11=0,\"A\",IF(Z12>=Z11,\"B\",\"A\")))","v":""},"","",null,"",""]
[2,null,"","",7,{"$f":"HLOOKUP(E13,womens_handbook,C3,FALSE)","v":2},{"$f":"IF(ISERROR(HLOOKUP(F13,womens_declare,C4,FALSE))=TRUE,\"\",HLOOKUP(F13,womens_declare,C4,FALSE))","v":"-"},"Crewe & Nantwich AC",0,null,0,null,0,null,0,null,0,0,null,0,null,0,null,0,null,0,{"$f":"IF(OR(Z13=0,Z13=\"\"),\"\",IF(Z14=0,\"A\",IF(Z13>Z14,\"B\",\"A\")))","v":""},"","",null,"",""]
[2,null,"","",8,{"$f":"HLOOKUP(E14,womens_handbook,C3,FALSE)","v":22},{"$f":"IF(ISERROR(HLOOKUP(F14,womens_declare,C4,FALSE))=TRUE,\"\",HLOOKUP(F14,womens_declare,C4,FALSE))","v":"-"},"Crewe & Nantwich AC",0,null,0,null,0,null,0,null,0,0,null,0,null,0,null,0,null,0,{"$f":"IF(OR(Z14=0,Z14=\"\"),\"\",IF(Z13=0,\"A\",IF(Z14>=Z13,\"B\",\"A\")))","v":""},"","",null,"",""]
[3,null,"","",9,{"$f":"HLOOKUP(E15,womens_handbook,C3,FALSE)","v":3},{"$f":"IF(ISERROR(HLOOKUP(F15,womens_declare,C4,FALSE))=TRUE,\"\",HLOOKUP(F15,womens_declare,C4,FALSE))","v":"-"},"Isle of Man \"B\"",0,null,0,null,0,null,0,null,0,0,null,0,null,0,null,0,null,0,{"$f":"IF(OR(Z15=0,Z15=\"\"),\"\",IF(Z16=0,\"A\",IF(Z15>Z16,\"B\",\"A\")))","v":""},"","",null,"",""]
[3,null,"","",10,{"$f":"HLOOKUP(E16,womens_handbook,C3,FALSE)","v":33},{"$f":"IF(ISERROR(HLOOKUP(F16,womens_declare,C4,FALSE))=TRUE,\"\",HLOOKUP(F16,womens_declare,C4,FALSE))","v":"-"},"Isle of Man \"B\"",0,null,0,null,0,null,0,null,0,0,null,0,null,0,null,0,null,0,{"$f":"IF(OR(Z16=0,Z16=\"\"),\"\",IF(Z15=0,\"A\",IF(Z16>=Z15,\"B\",\"A\")))","v":""},"","",null,"",""]
[5,null,"","",11,{"$f":"HLOOKUP(E17,womens_handbook,C3,FALSE)","v":5},{"$f":"IF(ISERROR(HLOOKUP(F17,womens_declare,C4,FALSE))=TRUE,\"\",HLOOKUP(F17,womens_declare,C4,FALSE))","v":"-"},"Southport Waterloo AC",0,null,0,null,0,null,0,null,0,0,null,0,null,0,null,0,null,0,{"$f":"IF(OR(Z17=0,Z17=\"\"),\"\",IF(Z18=0,\"A\",IF(Z17>Z18,\"B\",\"A\")))","v":""},"","",null,"",""]
[5,null,"","",12,{"$f":"HLOOKUP(E18,womens_handbook,C3,FALSE)","v":55},{"$f":"IF(ISERROR(HLOOKUP(F18,womens_declare,C4,FALSE))=TRUE,\"\",HLOOKUP(F18,womens_declare,C4,FALSE))","v":"-"},"Southport Waterloo AC",0,null,0,null,0,null,0,null,0,0,null,0,null,0,null,0,null,0,{"$f":"IF(OR(Z18=0,Z18=\"\"),\"\",IF(Z17=0,\"A\",IF(Z18>=Z17,\"B\",\"A\")))","v":""},"","",null,"",""]
[4,null,"","",13,{"$f":"HLOOKUP(E19,womens_handbook,C3,FALSE)","v":4},{"$f":"IF(ISERROR(HLOOKUP(F19,womens_declare,C4,FALSE))=TRUE,\"\",HLOOKUP(F19,womens_declare,C4,FALSE))","v":"-"},"Salford Metropolitan AC",0,null,0,null,0,null,0,null,0,0,null,0,null,0,null,0,null,0,{"$f":"IF(OR(Z19=0,Z19=\"\"),\"\",IF(Z20=0,\"A\",IF(Z19>Z20,\"B\",\"A\")))","v":""},"","",null,"",""]
[4,null,"","",14,{"$f":"HLOOKUP(E20,womens_handbook,C3,FALSE)","v":44},{"$f":"IF(ISERROR(HLOOKUP(F20,womens_declare,C4,FALSE))=TRUE,\"\",HLOOKUP(F20,womens_declare,C4,FALSE))","v":"-"},"Salford Metropolitan AC",0,null,0,null,0,null,0,null,0,0,null,0,null,0,null,0,null,0,{"$f":"IF(OR(Z20=0,Z20=\"\"),\"\",IF(Z19=0,\"A\",IF(Z20>=Z19,\"B\",\"A\")))","v":""},"","",null,"",""]
[0,null,"","",15,{"$f":"HLOOKUP(E21,womens_handbook,C3,FALSE)","v":0},{"$f":"IF(ISERROR(HLOOKUP(F21,womens_declare,C4,FALSE))=TRUE,\"\",HLOOKUP(F21,womens_declare,C4,FALSE))","v":""},"",0,null,0,null,0,null,0,null,0,0,null,0,null,0,null,0,null,0,{"$f":"IF(OR(Z21=0,Z21=\"\"),\"\",IF(Z22=0,\"A\",IF(Z21>Z22,\"B\",\"A\")))","v":""},"","",null,"",""]
[0,null,"","",16,{"$f":"HLOOKUP(E22,womens_handbook,C3,FALSE)","v":0},{"$f":"IF(ISERROR(HLOOKUP(F22,womens_declare,C4,FALSE))=TRUE,\"\",HLOOKUP(F22,womens_declare,C4,FALSE))","v":""},"",0,null,0,null,0,null,0,null,0,0,null,0,null,0,null,0,null,0,{"$f":"IF(OR(Z22=0,Z22=\"\"),\"\",IF(Z21=0,\"A\",IF(Z22>=Z21,\"B\",\"A\")))","v":""},"","",null,"",""]
[]
[null,null,null,null,"\"A\" STRING RESULT",null,null,null,null,null,"\"B\" STRING RESULT",null,null,null,null,null,null,null,null,null,null,null,"JUDGES' SIGNATURES"]
[null,null,null,null,"Posn","No.","NAME","CLUB","DISTANCE",null,"Posn","No.","NAME",null,null,null,"CLUB",null,null,null,"DISTANCE"]
[null,null,1,null,1,{"$f":"IF(ISERROR(VLOOKUP(C26,$C$7:$Y$22,4,FALSE))=TRUE,0,IF(VLOOKUP(C26,$C$7:$Y$22,22,FALSE)=0,\"\",IF(VLOOKUP(C26,$C$7:$Y$22,22,FALSE)=99,99,IF(VLOOKUP(C26,$C$7:$Y$22,22,FALSE)=98,98,IF(VLOOKUP(C26,$C$7:$Y$22,22,FALSE)=96,96,VLOOKUP(C26,$C$7:$Y$22,4,FALSE))))))","v":0},{"$f":"IF(ISERROR(VLOOKUP(C26,$C$7:$Y$22,4,FALSE))=TRUE,0,VLOOKUP(C26,$C$7:$Y$22,5,FALSE))","v":0},{"$f":"IF(ISERROR(VLOOKUP(C26,$C$7:$Y$22,4,FALSE))=TRUE,0,VLOOKUP(C26,$C$7:$Y$22,6,FALSE))","v":0},{"$f":"IF(ISERROR(VLOOKUP(C26,$C$7:$Y$22,4,FALSE))=TRUE,0,IF(VLOOKUP(C26,$C$7:$Y$22,22,FALSE)=0,\"\",IF(VLOOKUP(C26,$C$7:$Y$22,22,FALSE)>95.99,\"\",VLOOKUP(C26,$C$7:$Y$22,22,FALSE))))","v":0},null,1,{"$f":"IF(ISERROR(VLOOKUP(C26,$D$7:$Y$22,4,FALSE))=TRUE,0,IF(VLOOKUP(C26,D$7:Y$22,21,FALSE)=0,\"\",VLOOKUP(C26,D$7:Y$22,3,FALSE)))","v":0},{"$f":"IF(ISERROR(VLOOKUP(C26,$D$7:$Y$22,4,FALSE))=TRUE,0,VLOOKUP(C26,D$7:Y$22,4,FALSE))","v":0},null,null,null,{"$f":"IF(ISERROR(VLOOKUP(C26,$D$7:$Y$22,4,FALSE))=TRUE,0,VLOOKUP(C26,$D$7:$Y$22,5,FALSE))","v":0},null,null,null,{"$f":"IF(ISERROR(VLOOKUP(C26,$D$7:$Y$22,3,FALSE))=TRUE,0,IF(VLOOKUP(C26,$D$7:$Y$22,21,FALSE)=0,\"\",VLOOKUP(C26,$D$7:$Y$22,21,FALSE)))","v":0}]
[null,null,2,null,2,0,0,0,0,null,2,0,0,null,null,null,0,null,null,null,0]
[null,null,3,null,3,0,0,0,0,null,3,0,0,null,null,null,0,null,null,null,0]
[null,null,4,null,4,0,0,0,0,null,4,0,0,null,null,null,0,null,null,null,0]
[null,null,5,null,5,0,0,0,0,null,5,0,0,null,null,null,0,null,null,null,0]
[null,null,6,null,6,0,0,0,0,null,6,0,0,null,null,null,0,null,null,null,0,null,"REFEREE'S SIGNATURE"]
[null,null,7,null,7,0,0,0,0,null,7,0,0,null,null,null,0,null,null,null,0]
[null,null,8,null,8,0,0,0,0,null,8,0,0,null,null,null,0,null,null,null,0]

{"sheet":"Womens HJ","index":18,"n_rows":33,"n_cols":72,"rows_kept":33,"cut":false,"hidden":false,"merged":[[31,14,31,19],[30,20,30,25],[18,30,18,31],[19,28,19,29],[21,18,21,19],[23,10,23,27],[21,10,21,11],[32,14,32,19],[29,12,29,13],[30,12,30,13],[31,12,31,13],[32,12,32,13],[29,14,29,19],[30,14,30,19],[32,20,32,25],[30,10,30,11],[26,14,26,19],[28,14,28,19],[31,10,31,11],[27,20,27,25],[29,20,29,25],[26,20,26,25],[28,10,28,11],[31,20,31,25],[16,30,16,31],[14,28,14,29],[17,30,17,31],[15,28,15,29],[16,28,16,29],[17,28,17,29],[17,26,17,27],[20,28,20,29],[20,26,20,27],[20,20,20,21],[15,24,15,25],[16,24,16,25],[17,24,17,25],[20,22,20,23],[19,24,19,25],[20,24,20,25],[18,24,18,25],[17,22,17,23],[13,24,13,25],[14,24,14,25],[6,24,6,25],[7,24,7,25],[8,24,8,25],[10,24,10,25],[9,24,9,25],[11,24,11,25],[12,24,12,25],[6,22,6,23],[7,22,7,23],[8,22,8,23],[9,22,9,23],[10,22,10,23],[11,22,11,23],[19,22,19,23],[12,22,12,23],[13,22,13,23],[14,22,14,23],[15,22,15,23],[16,22,16,23],[18,22,18,23],[6,16,6,17],[7,16,7,17],[8,16,8,17],[9,16,9,17],[10,16,10,17],[11,16,11,17],[6,20,6,21],[7,20,7,21],[8,20,8,21],[9,20,9,21],[10,20,10,21],[11,20,11,21],[15,16,15,17],[16,16,16,17],[17,16,17,17],[18,16,18,17],[19,16,19,17],[12,16,12,17],[13,16,13,17],[15,20,15,21],[16,20,16,21],[13,18,13,19],[14,18,14,19],[15,18,15,19],[16,18,16,19],[17,18,17,19],[18,18,18,19],[19,18,19,19],[14,20,14,21],[17,20,17,21],[18,20,18,21],[19,20,19,21],[13,20,13,21],[6,10,6,11],[7,10,7,11],[8,10,8,11],[9,10,9,11],[10,10,10,11],[19,10,19,11],[20,10,20,11],[14,8,14,9],[17,8,17,9],[18,8,18,9],[19,8,19,9],[13,10,13,11],[14,10,14,11],[15,10,15,11],[16,10,16,11],[17,10,17,11],[18,10,18,11],[12,8,12,9],[7,8,7,9],[8,8,8,9],[15,8,15,9],[16,8,16,9],[6,8,6,9],[9,8,9,9],[6,12,6,13],[9,32,9,33],[5,16,5,17],[5,26,5,27],[12,14,12,15],[6,14,6,15],[7,14,7,15],[7,12,7,13],[8,12,8,13],[9,12,9,13],[10,12,10,13],[11,12,11,13],[12,12,12,13],[12,18,12,19],[6,18,6,19],[7,18,7,19],[8,18,8,19],[9,18,9,19],[10,18,10,19],[11,18,11,19],[12,20,12,21],[6,26,6,27],[7,26,7,27],[8,26,8,27],[3,14,3,19],[2,26,2,28],[4,34,5,34],[4,35,5,35],[5,30,5,31],[4,32,4,33],[5,32,5,33],[5,14,5,15],[2,8,2,10],[4,8,4,9],[4,10,4,11],[5,18,5,19],[5,20,5,21],[4,20,4,21],[3,8,3,10],[5,8,5,9],[5,10,5,11],[5,12,5,13],[4,22,4,23],[4,28,4,29],[4,16,4,17],[5,28,5,29],[5,22,5,23],[5,24,5,25],[17,32,17,33],[20,30,20,31],[19,30,19,31],[21,30,21,31],[18,28,18,29],[12,32,12,33],[13,32,13,33],[13,26,13,27],[12,26,12,27],[14,26,14,27],[21,26,21,27],[16,26,16,27],[12,30,12,31],[13,30,13,31],[12,28,12,29],[13,28,13,29],[15,32,15,33],[14,32,14,33],[16,32,16,33],[18,26,18,27],[14,30,14,31],[15,26,15,27],[21,28,21,29],[15,30,15,31],[27,26,27,27],[26,26,26,27],[4,39,5,40],[4,37,5,37],[6,32,6,33],[9,26,9,27],[10,26,10,27],[11,26,11,27],[6,30,6,31],[7,30,7,31],[8,30,8,31],[9,30,9,31],[11,30,11,31],[11,32,11,33],[10,32,10,33],[10,30,10,31],[6,28,6,29],[7,28,7,29],[8,28,8,29],[9,28,9,29],[10,28,10,29],[11,28,11,29],[18,32,18,33],[21,32,21,33],[15,12,15,13],[11,8,11,9],[32,8,32,9],[29,26,29,27],[30,26,30,27],[31,26,31,27],[32,26,32,27],[25,14,25,19],[25,20,25,25],[28,20,28,25],[27,12,27,13],[27,14,27,19],[28,12,28,13],[26,12,26,13],[32,10,32,11],[31,8,31,9],[29,8,29,9],[30,8,30,9],[28,8,28,9],[25,8,25,9],[26,8,26,9],[25,12,25,13],[25,10,25,11],[27,8,27,9],[28,26,28,27],[24,14,24,19],[24,8,24,9],[21,14,21,15],[21,16,21,17],[21,20,21,21],[10,14,10,15],[11,14,11,15],[11,10,11,11],[13,12,13,13],[13,14,13,15],[14,14,14,15],[15,14,15,15],[17,14,17,15],[18,14,18,15],[16,14,16,15],[14,16,14,17],[17,12,17,13],[18,12,18,13],[21,8,21,9],[23,4,23,9],[20,8,20,9],[16,12,16,13],[14,12,14,13],[4,26,4,27],[4,30,4,31],[30,28,30,40],[19,32,19,33],[20,32,20,33],[27,10,27,11],[24,20,24,25],[19,26,19,27],[25,26,25,27],[23,28,23,40],[24,26,24,27],[21,24,21,25],[29,10,29,11],[19,14,19,15],[20,14,20,15],[24,12,24,13],[20,12,20,13],[21,12,21,13],[19,12,19,13],[26,10,26,11],[24,10,24,11],[20,18,20,19],[20,16,20,17],[21,22,21,23],[0,6,0,24],[0,26,0,40],[10,8,10,9],[13,8,13,9],[12,10,12,11],[8,14,8,15],[9,14,9,15],[0,4,0,5],[2,4,2,5],[3,4,3,5],[2,6,2,7],[3,6,3,7],[2,11,2,25],[4,12,4,13],[4,14,4,15],[3,20,3,22],[3,23,3,40],[4,18,4,19],[4,24,4,25],[2,29,2,40],[3,11,3,13],[4,36,5,36],[8,32,8,33],[7,32,7,33]]}
[null,null,null,null,"Home",null,{"$f":"'Match Day'!I4","v":"Northern T&F League"},null,null,null,null,null,null,null,null,null,null,null,null,null,null,null,null,null,null,null,{"$f":"'Match Day'!C14","v":"Warrington AC"}]
[14,26,null,null,"UK ATHLETICS: HEIGHT CARD"]
[null,{"$f":"VLOOKUP(A2,womens_handbook,37,FALSE)","v":15},null,null,"MEETING ",null,{"$f":"CONCATENATE('Match Day'!$I$8,\" \",'Match Day'!$I$10)","v":"Division 4W Match 1"},null,"VENUE ",null,null,{"$f":"'Match Day'!$I$12","v":"Litherland"},null,null,null,null,null,null,null,null,null,null,null,null,null,null,"DATE ",null,null,{"$f":"'Match Day'!$I$6","v":"2014-05-04"}]
[null,{"$f":"VLOOKUP(A2,womens_declare,20,FALSE)","v":15},null,null,"EVENT",null,{"$f":"VLOOKUP(A2,womens_handbook,3,FALSE)","v":"Women's High Jump"},null,"TIME",null,null,{"$f":"VLOOKUP(A2,womens_handbook,2,FALSE)","v":"15:20:00"},null,null,"League Record",null,null,null,null,null,{"$f":"VLOOKUP(A2,womens_handbook,29,FALSE)","v":1986},null,null,{"$f":"CONCATENATE(VLOOKUP($A2,womens_handbook,26,FALSE),\", \",VLOOKUP($A2,womens_handbook,27,FALSE),\", \",VLOOKUP($A2,womens_handbook,28,FALSE))","v":"J Little, Border Harriers, 1.86m"}]
[null,null,null,null,"Order","No","NAME","CLUB",{"$f":"VLOOKUP(A2,womens_handbook,20,FALSE)","v":1.1000000000000001},null,1.1499999999999999,null,1.2,null,1.25,null,1.3,null,1.35,null,1.4,null,null,null,null,null,null,null,null,null,null,null,"Best of All",null,"Trials at\nHt Cleared","Total \nFailures","Total\nTrials","Final\nPositionn",null,"A or B",null,"Tie"]
[null,null,null,null,null,null,null,null,"Metres",null,"Metres",null,"Metres",null,"Metres",null,"Metres",null,"Metres",null,"Metres",null,"Metres",null,"Metres",null,"Metres",null,"Metres",null,"Metres",null,"Metres",null,null,null,null,null,null,null,null,null,null,null,null,null,null,null,null,null,null,null,null,null,null,null,1,2,3,4,5,6,7,8,1,2,3,4,5,6,7,8]
[null,{"$f":"IF(F7=\"\",\"\",IF(F7>10,F7/11,F7))","v":3},{"$f":"IF(AL7=0,0,IF(AM7=\"B\",\"\",RANK(BB7,$BB$7:$BB$22,1)))","v":0},{"$f":"IF(AL7=0,0,IF(AM7=\"A\",\"\",RANK(BC7,$BC$7:$BC$22,1)))","v":0},1,{"$f":"HLOOKUP(E7,womens_handbook,B3,FALSE)","v":3},{"$f":"IF(ISERROR(HLOOKUP(F7,'Declarations (F)'!$D$3:$S$31,B4,FALSE))=TRUE,\"\",HLOOKUP(F7,'Declarations (F)'!$D$3:$S$31,B4,FALSE))","v":"-"},{"$f":"IF(ISERROR(VLOOKUP(B7,matchday,2,FALSE))=TRUE,\"\",VLOOKUP(B7,matchday,2,FALSE))","v":"Isle of Man \"B\""},null,null,null,null,null,null,null,null,null,null,null,null,null,null,null,null,null,null,null,null,null,null,null,null,0,null,null,null,null,0,{"$f":"IF(OR(AL7=0,AL7=\"\"),\"\",IF(AL8=0,\"A\",IF(AL7>AL8,\"B\",\"A\")))","v":""},{"$f":"IF(AL7=0,0,IF(AM7=\"B\",\"\",RANK(AY7,$AY7:$AY22,1)))","v":0},{"$f":"IF(AL7=0,0,IF(AM7=\"A\",\"\",RANK(AZ7,$AZ7:$AZ22,1)))","v":0},0,null,{"$f":"IF(AS7=\"\",\"\",REPT(AT7,AS7-1))","v":""},{"$f":"IF(AT7=\"\",\"\",HLOOKUP(AN7,$BE$6:$BL$23,18,FALSE))","v":""},{"$f":"IF(OR(AN7=0,AN7=\"\"),\"\",IF(OR(AN7=AN8,AN7=AN9,AN7=AN10,AN7=AN11,AN7=AN12,AN7=AN13,AN7=AN14,AN7=AN15,AN7=AN16,AN7=AN17,AN7=AN18,AN7=AN19,AN7=AN20,AN7=AN21,AN7=AN22),\"=\",\"\"))","v":""},null,{"$f":"IF(AW7=\"\",\"\",REPT(AX7,AW7-1))","v":""},{"$f":"IF(AX7=\"\",\"\",HLOOKUP(AO7,$BM$6:$BT$23,18,FALSE))","v":""},{"$f":"IF(OR(AO7=0,AO7=\"\"),\"\",IF(OR(AO7=AO8,AO7=AO9,AO7=AO10,AO7=AO11,AO7=AO12,AO7=AO13,AO7=AO14,AO7=AO15,AO7=AO16,AO7=AO17,AO7=AO18,AO7=AO19,AO7=AO20,AO7=AO21,AO7=AO22),\"=\",\"\"))","v":""},{"$f":"IF(OR(AL7=0,AG7=0,AM7=\"B\"),\"\",AL7)","v":""},{"$f":"IF(OR(AL7=0,AG7=0,AM7=\"A\"),\"\",AL7)","v":""},null,{"$f":"IF(AY7=\"\",\"\",AY7+($AP7/10))","v":""},"",null,{"$f":"IF($AN7=\"\",\"\",IF($AN7=BE$6,$AN7,\"\"))","v":""},"","","","","","","",{"$f":"IF($AO7=\"\",\"\",IF($AO7=BM$6,$AO7,\"\"))","v":""},"","","","","","",""]
[null,3,{"$f":"IF(AL8=0,0,IF(AM8=\"B\",\"\",RANK(BB8,$BB$7:$BB$22,1)))","v":0},{"$f":"IF(AL8=0,0,IF(AM8=\"A\",\"\",RANK(BC8,$BC$7:$BC$22,1)))","v":0},2,{"$f":"HLOOKUP(E8,womens_handbook,B3,FALSE)","v":33},{"$f":"IF(ISERROR(HLOOKUP(F8,'Declarations (F)'!$D$3:$S$31,B4,FALSE))=TRUE,\"\",HLOOKUP(F8,'Declarations (F)'!$D$3:$S$31,B4,FALSE))","v":"-"},"Isle of Man \"B\"",null,null,null,null,null,null,null,null,null,null,null,null,null,null,null,null,null,null,null,null,null,null,null,null,0,null,null,null,null,0,{"$f":"IF(OR(AL8=0,AL8=\"\"),\"\",IF(AL7=0,\"A\",IF(AL8>=AL7,\"B\",\"A\")))","v":""},{"$f":"IF(AL8=0,0,IF(AM8=\"B\",\"\",RANK(AY8,$AY7:$AY22,1)))","v":0},{"$f":"IF(AL8=0,0,IF(AM8=\"A\",\"\",RANK(AZ8,$AZ7:$AZ22,1)))","v":0},0,null,"","",{"$f":"IF(OR(AN8=0,AN8=\"\"),\"\",IF(OR(AN8=AN9,AN8=AN10,AN8=AN11,AN8=AN12,AN8=AN13,AN8=AN14,AN8=AN15,AN8=AN16,AN8=AN17,AN8=AN18,AN8=AN19,AN8=AN20,AN8=AN21,AN8=AN22,AN8=AN7),\"=\",\"\"))","v":""},null,"","",{"$f":"IF(OR(AO8=0,AO8=\"\"),\"\",IF(OR(AO8=AO9,AO8=AO10,AO8=AO11,AO8=AO12,AO8=AO13,AO8=AO14,AO8=AO15,AO8=AO16,AO8=AO17,AO8=AO18,AO8=AO19,AO8=AO20,AO8=AO21,AO8=AO22,AO8=AO7),\"=\",\"\"))","v":""},{"$f":"IF(OR(AL8=0,AG8=0,AM8=\"B\"),\"\",AL8)","v":""},{"$f":"IF(OR(AL8=0,AG8=0,AM8=\"A\"),\"\",AL8)","v":""},null,"","",null,"","","","","","","","","","","","","","","",""]
[null,1,0,0,3,{"$f":"HLOOKUP(E9,womens_handbook,B3,FALSE)","v":1},{"$f":"IF(ISERROR(HLOOKUP(F9,'Declarations (F)'!$D$3:$S$31,B4,FALSE))=TRUE,\"\",HLOOKUP(F9,'Declarations (F)'!$D$3:$S$31,B4,FALSE))","v":"-"},"Altrincham & District AC",null,null,null,null,null,null,null,null,null,null,null,null,null,null,null,null,null,null,null,null,null,null,null,null,0,null,null,null,null,0,{"$f":"IF(OR(AL9=0,AL9=\"\"),\"\",IF(AL10=0,\"A\",IF(AL9>AL10,\"B\",\"A\")))","v":""},{"$f":"IF(AL9=0,0,IF(AM9=\"B\",\"\",RANK(AY9,$AY7:$AY22,1)))","v":0},{"$f":"IF(AL9=0,0,IF(AM9=\"A\",\"\",RANK(AZ9,$AZ7:$AZ22,1)))","v":0},0,null,"",{"$f":"IF(AT9=\"\",\"\",HLOOKUP(AN9,$BE$6:$BL$23,18,FALSE))","v":""},{"$f":"IF(OR(AN9=0,AN9=\"\"),\"\",IF(OR(AN9=AN10,AN9=AN11,AN9=AN12,AN9=AN13,AN9=AN14,AN9=AN15,AN9=AN16,AN9=AN17,AN9=AN18,AN9=AN19,AN9=AN20,AN9=AN21,AN9=AN22,AN9=AN7,AN9=AN8),\"=\",\"\"))","v":""},null,"","",{"$f":"IF(OR(AO9=0,AO9=\"\"),\"\",IF(OR(AO9=AO10,AO9=AO11,AO9=AO12,AO9=AO13,AO9=AO14,AO9=AO15,AO9=AO16,AO9=AO17,AO9=AO18,AO9=AO19,AO9=AO20,AO9=AO21,AO9=AO22,AO9=AO7,AO9=AO8),\"=\",\"\"))","v":""},"","",null,"","",null,"","","","","","","","","","","","","","","",""]
[null,1,0,0,4,{"$f":"HLOOKUP(E10,womens_handbook,B3,FALSE)","v":11},{"$f":"IF(ISERROR(HLOOKUP(F10,'Declarations (F)'!$D$3:$S$31,B4,FALSE))=TRUE,\"\",HLOOKUP(F10,'Declarations (F)'!$D$3:$S$31,B4,FALSE))","v":"-"},"Altrincham & District AC",null,null,null,null,null,null,null,null,null,null,null,null,null,null,null,null,null,null,null,null,null,null,null,null,0,null,null,null,null,0,{"$f":"IF(OR(AL10=0,AL10=\"\"),\"\",IF(AL9=0,\"A\",IF(AL10>=AL9,\"B\",\"A\")))","v":""},{"$f":"IF(AL10=0,0,IF(AM10=\"B\",\"\",RANK(AY10,$AY7:$AY22,1)))","v":0},{"$f":"IF(AL10=0,0,IF(AM10=\"A\",\"\",RANK(AZ10,$AZ7:$AZ22,1)))","v":0},0,null,"","",{"$f":"IF(OR(AN10=0,AN10=\"\"),\"\",IF(OR(AN10=AN11,AN10=AN12,AN10=AN13,AN10=AN14,AN10=AN15,AN10=AN16,AN10=AN17,AN10=AN18,AN10=AN19,AN10=AN20,AN10=AN21,AN10=AN22,AN10=AN7,AN10=AN8,AN10=AN9),\"=\",\"\"))","v":""},null,"","",{"$f":"IF(OR(AO10=0,AO10=\"\"),\"\",IF(OR(AO10=AO11,AO10=AO12,AO10=AO13,AO10=AO14,AO10=AO15,AO10=AO16,AO10=AO17,AO10=AO18,AO10=AO19,AO10=AO20,AO10=AO21,AO10=AO22,AO10=AO7,AO10=AO8,AO10=AO9),\"=\",\"\"))","v":""},"","",null,"","",null,"","","","","","","","","","","","","","","",""]
[null,4,0,0,5,{"$f":"HLOOKUP(E11,womens_handbook,B3,FALSE)","v":4},{"$f":"IF(ISERROR(HLOOKUP(F11,'Declarations (F)'!$D$3:$S$31,B4,FALSE))=TRUE,\"\",HLOOKUP(F11,'Declarations (F)'!$D$3:$S$31,B4,FALSE))","v":"-"},"Salford Metropolitan AC",null,null,null,null,null,null,null,null,null,null,null,null,null,null,null,null,null,null,null,null,null,null,null,null,0,null,null,null,null,0,{"$f":"IF(OR(AL11=0,AL11=\"\"),\"\",IF(AL12=0,\"A\",IF(AL11>AL12,\"B\",\"A\")))","v":""},{"$f":"IF(AL11=0,0,IF(AM11=\"B\",\"\",RANK(AY11,$AY7:$AY22,1)))","v":0},{"$f":"IF(AL11=0,0,IF(AM11=\"A\",\"\",RANK(AZ11,$AZ7:$AZ22,1)))","v":0},0,null,"","",{"$f":"IF(OR(AN11=0,AN11=\"\"),\"\",IF(OR(AN11=AN12,AN11=AN13,AN11=AN14,AN11=AN15,AN11=AN16,AN11=AN17,AN11=AN18,AN11=AN19,AN11=AN20,AN11=AN21,AN11=AN22,AN11=AN7,AN11=AN8,AN11=AN9,AN11=AN10),\"=\",\"\"))","v":""},null,"","",{"$f":"IF(OR(AO11=0,AO11=\"\"),\"\",IF(OR(AO11=AO12,AO11=AO13,AO11=AO14,AO11=AO15,AO11=AO16,AO11=AO17,AO11=AO18,AO11=AO19,AO11=AO20,AO11=AO21,AO11=AO22,AO11=AO7,AO11=AO8,AO11=AO9,AO11=AO10),\"=\",\"\"))","v":""},"","",null,"","",null,"","","","","","","","","","","","","","","",""]
[null,4,0,0,6,{"$f":"HLOOKUP(E12,womens_handbook,B3,FALSE)","v":44},{"$f":"IF(ISERROR(HLOOKUP(F12,'Declarations (F)'!$D$3:$S$31,B4,FALSE))=TRUE,\"\",HLOOKUP(F12,'Declarations (F)'!$D$3:$S$31,B4,FALSE))","v":"-"},"Salford Metropolitan AC",null,null,null,null,null,null,null,null,null,null,null,null,null,null,null,null,null,null,null,null,null,null,null,null,0,null,null,null,null,0,{"$f":"IF(OR(AL12=0,AL12=\"\"),\"\",IF(AL11=0,\"A\",IF(AL12>=AL11,\"B\",\"A\")))","v":""},{"$f":"IF(AL12=0,0,IF(AM12=\"B\",\"\",RANK(AY12,$AY7:$AY22,1)))","v":0},{"$f":"IF(AL12=0,0,IF(AM12=\"A\",\"\",RANK(AZ12,$AZ7:$AZ22,1)))","v":0},0,null,"","",{"$f":"IF(OR(AN12=0,AN12=\"\"),\"\",IF(OR(AN12=AN13,AN12=AN14,AN12=AN15,AN12=AN16,AN12=AN17,AN12=AN18,AN12=AN19,AN12=AN20,AN12=AN21,AN12=AN22,AN12=AN7,AN12=AN8,AN12=AN9,AN12=AN10,AN12=AN11),\"=\",\"\"))","v":""},null,"","",{"$f":"IF(OR(AO12=0,AO12=\"\"),\"\",IF(OR(AO12=AO13,AO12=AO14,AO12=AO15,AO12=AO16,AO12=AO17,AO12=AO18,AO12=AO19,AO12=AO20,AO12=AO21,AO12=AO22,AO12=AO7,AO12=AO8,AO12=AO9,AO12=AO10,AO12=AO11),\"=\",\"\"))","v":""},"","",null,"","",null,"","","","","","","","","","","","","","","",""]
[null,6,0,0,7,{"$f":"HLOOKUP(E13,womens_handbook,B3,FALSE)","v":6},{"$f":"IF(ISERROR(HLOOKUP(F13,'Declarations (F)'!$D$3:$S$31,B4,FALSE))=TRUE,\"\",HLOOKUP(F13,'Declarations (F)'!$D$3:$S$31,B4,FALSE))","v":"-"},"Warrington AC",null,null,null,null,null,null,null,null,null,null,null,null,null,null,null,null,null,null,null,null,null,null,null,null,0,null,null,null,null,0,{"$f":"IF(OR(AL13=0,AL13=\"\"),\"\",IF(AL14=0,\"A\",IF(AL13>AL14,\"B\",\"A\")))","v":""},{"$f":"IF(AL13=0,0,IF(AM13=\"B\",\"\",RANK(AY13,$AY7:$AY22,1)))","v":0},{"$f":"IF(AL13=0,0,IF(AM13=\"A\",\"\",RANK(AZ13,$AZ7:$AZ22,1)))","v":0},0,null,"","",{"$f":"IF(OR(AN13=0,AN13=\"\"),\"\",IF(OR(AN13=AN14,AN13=AN15,AN13=AN16,AN13=AN17,AN13=AN18,AN13=AN19,AN13=AN20,AN13=AN21,AN13=AN22,AN13=AN7,AN13=AN8,AN13=AN9,AN13=AN10,AN13=AN11,AN13=AN12),\"=\",\"\"))","v":""},null,"","",{"$f":"IF(OR(AO13=0,AO13=\"\"),\"\",IF(OR(AO13=AO14,AO13=AO15,AO13=AO16,AO13=AO17,AO13=AO18,AO13=AO19,AO13=AO20,AO13=AO21,AO13=AO22,AO13=AO7,AO13=AO8,AO13=AO9,AO13=AO10,AO13=AO11,AO13=AO12),\"=\",\"\"))","v":""},"","",null,"","",null,"","","","","","","","","","","","","","","",""]
[null,6,0,0,8,{"$f":"HLOOKUP(E14,womens_handbook,B3,FALSE)","v":66},{"$f":"IF(ISERROR(HLOOKUP(F14,'Declarations (F)'!$D$3:$S$31,B4,FALSE))=TRUE,\"\",HLOOKUP(F14,'Declarations (F)'!$D$3:$S$31,B4,FALSE))","v":"-"},"Warrington AC",null,null,null,null,null,null,null,null,null,null,null,null,null,null,null,null,null,null,null,null,null,null,null,null,0,null,null,null,null,0,{"$f":"IF(OR(AL14=0,AL14=\"\"),\"\",IF(AL13=0,\"A\",IF(AL14>=AL13,\"B\",\"A\")))","v":""},{"$f":"IF(AL14=0,0,IF(AM14=\"B\",\"\",RANK(AY14,$AY7:$AY22,1)))","v":0},{"$f":"IF(AL14=0,0,IF(AM14=\"A\",\"\",RANK(AZ14,$AZ7:$AZ22,1)))","v":0},0,null,"","",{"$f":"IF(OR(AN14=0,AN14=\"\"),\"\",IF(OR(AN14=AN15,AN14=AN16,AN14=AN17,AN14=AN18,AN14=AN19,AN14=AN20,AN14=AN21,AN14=AN22,AN14=AN7,AN14=AN8,AN14=AN9,AN14=AN10,AN14=AN11,AN14=AN12,AN14=AN13),\"=\",\"\"))","v":""},null,"","",{"$f":"IF(OR(AO14=0,AO14=\"\"),\"\",IF(OR(AO14=AO15,AO14=AO16,AO14=AO17,AO14=AO18,AO14=AO19,AO14=AO20,AO14=AO21,AO14=AO22,AO14=AO7,AO14=AO8,AO14=AO9,AO14=AO10,AO14=AO11,AO14=AO12,AO14=AO13),\"=\",\"\"))","v":""},"","",null,"","",null,"","","","","","","","","","","","","","","",""]
[null,5,0,0,9,{"$f":"HLOOKUP(E15,womens_handbook,B3,FALSE)","v":5},{"$f":"IF(ISERROR(HLOOKUP(F15,'Declarations (F)'!$D$3:$S$31,B4,FALSE))=TRUE,\"\",HLOOKUP(F15,'Declarations (F)'!$D$3:$S$31,B4,FALSE))","v":"-"},"Southport Waterloo AC",null,null,null,null,null,null,null,null,null,null,null,null,null,null,null,null,null,null,null,null,null,null,null,null,0,null,null,null,null,0,{"$f":"IF(OR(AL15=0,AL15=\"\"),\"\",IF(AL16=0,\"A\",IF(AL15>AL16,\"B\",\"A\")))","v":""},{"$f":"IF(AL15=0,0,IF(AM15=\"B\",\"\",RANK(AY15,$AY7:$AY22,1)))","v":0},{"$f":"IF(AL15=0,0,IF(AM15=\"A\",\"\",RANK(AZ15,$AZ7:$AZ22,1)))","v":0},0,null,"","",{"$f":"IF(OR(AN15=0,AN15=\"\"),\"\",IF(OR(AN15=AN16,AN15=AN17,AN15=AN18,AN15=AN19,AN15=AN20,AN15=AN21,AN15=AN22,AN15=AN7,AN15=AN8,AN15=AN9,AN15=AN10,AN15=AN11,AN15=AN12,AN15=AN13,AN15=AN14),\"=\",\"\"))","v":""},null,"","",{"$f":"IF(OR(AO15=0,AO15=\"\"),\"\",IF(OR(AO15=AO16,AO15=AO17,AO15=AO18,AO15=AO19,AO15=AO20,AO15=AO21,AO15=AO22,AO15=AO7,AO15=AO8,AO15=AO9,AO15=AO10,AO15=AO11,AO15=AO12,AO15=AO13,AO15=AO14),\"=\",\"\"))","v":""},"","",null,"","",null,"","","","","","","","","","","","","","","",""]
[null,5,0,0,10,{"$f":"HLOOKUP(E16,womens_handbook,B3,FALSE)","v":55},{"$f":"IF(ISERROR(HLOOKUP(F16,'Declarations (F)'!$D$3:$S$31,B4,FALSE))=TRUE,\"\",HLOOKUP(F16,'Declarations (F)'!$D$3:$S$31,B4,FALSE))","v":"-"},"Southport Waterloo AC",null,null,null,null,null,null,null,null,null,null,null,null,null,null,null,null,null,null,null,null,null,null,null,null,0,null,null,null,null,0,{"$f":"IF(OR(AL16=0,AL16=\"\"),\"\",IF(AL15=0,\"A\",IF(AL16>=AL15,\"B\",\"A\")))","v":""},{"$f":"IF(AL16=0,0,IF(AM16=\"B\",\"\",RANK(AY16,$AY7:$AY22,1)))","v":0},{"$f":"IF(AL16=0,0,IF(AM16=\"A\",\"\",RANK(AZ16,$AZ7:$AZ22,1)))","v":0},0,null,"","",{"$f":"IF(OR(AN16=0,AN16=\"\"),\"\",IF(OR(AN16=AN17,AN16=AN18,AN16=AN19,AN16=AN20,AN16=AN21,AN16=AN22,AN16=AN7,AN16=AN8,AN16=AN9,AN16=AN10,AN16=AN11,AN16=AN12,AN16=AN13,AN16=AN14,AN16=AN15),\"=\",\"\"))","v":""},null,"","",{"$f":"IF(OR(AO16=0,AO16=\"\"),\"\",IF(OR(AO16=AO17,AO16=AO18,AO16=AO19,AO16=AO20,AO16=AO21,AO16=AO22,AO16=AO7,AO16=AO8,AO16=AO9,AO16=AO10,AO16=AO11,AO16=AO12,AO16=AO13,AO16=AO14,AO16=AO15),\"=\",\"\"))","v":""},"","",null,"","",null,"","","","","","","","","","","","","","","",""]
[null,7,0,0,11,{"$f":"HLOOKUP(E17,womens_handbook,B3,FALSE)","v":7},{"$f":"IF(ISERROR(HLOOKUP(F17,'Declarations (F)'!$D$3:$S$31,B4,FALSE))=TRUE,\"\",HLOOKUP(F17,'Declarations (F)'!$D$3:$S$31,B4,FALSE))","v":"-"},"Wrexham AAC",null,null,null,null,null,null,null,null,null,null,null,null,null,null,null,null,null,null,null,null,null,null,null,null,0,null,null,null,null,0,{"$f":"IF(OR(AL17=0,AL17=\"\"),\"\",IF(AL18=0,\"A\",IF(AL17>AL18,\"B\",\"A\")))","v":""},{"$f":"IF(AL17=0,0,IF(AM17=\"B\",\"\",RANK(AY17,$AY7:$AY22,1)))","v":0},{"$f":"IF(AL17=0,0,IF(AM17=\"A\",\"\",RANK(AZ17,$AZ7:$AZ22,1)))","v":0},0,null,"","",{"$f":"IF(OR(AN17=0,AN17=\"\"),\"\",IF(OR(AN17=AN18,AN17=AN19,AN17=AN20,AN17=AN21,AN17=AN22,AN17=AN7,AN17=AN8,AN17=AN9,AN17=AN10,AN17=AN11,AN17=AN12,AN17=AN13,AN17=AN14,AN17=AN15,AN17=AN16),\"=\",\"\"))","v":""},null,"","",{"$f":"IF(OR(AO17=0,AO17=\"\"),\"\",IF(OR(AO17=AO18,AO17=AO19,AO17=AO20,AO17=AO21,AO17=AO22,AO17=AO7,AO17=AO8,AO17=AO9,AO17=AO10,AO17=AO11,AO17=AO12,AO17=AO13,AO17=AO14,AO17=AO15,AO17=AO16),\"=\",\"\"))","v":""},"","",null,"","",null,"","","","","","","","","","","","","","","",""]
[null,7,0,0,12,{"$f":"HLOOKUP(E18,womens_handbook,B3,FALSE)","v":77},{"$f":"IF(ISERROR(HLOOKUP(F18,'Declarations (F)'!$D$3:$S$31,B4,FALSE))=TRUE,\"\",HLOOKUP(F18,'Declarations (F)'!$D$3:$S$31,B4,FALSE))","v":"-"},"Wrexham AAC",null,null,null,null,null,null,null,null,null,null,null,null,null,null,null,null,null,null,null,null,null,null,null,null,0,null,null,null,null,0,{"$f":"IF(OR(AL18=0,AL18=\"\"),\"\",IF(AL17=0,\"A\",IF(AL18>=AL17,\"B\",\"A\")))","v":""},{"$f":"IF(AL18=0,0,IF(AM18=\"B\",\"\",RANK(AY18,$AY7:$AY22,1)))","v":0},{"$f":"IF(AL18=0,0,IF(AM18=\"A\",\"\",RANK(AZ18,$AZ7:$AZ22,1)))","v":0},0,null,"","",{"$f":"IF(OR(AN18=0,AN18=\"\"),\"\",IF(OR(AN18=AN19,AN18=AN20,AN18=AN21,AN18=AN22,AN18=AN7,AN18=AN8,AN18=AN9,AN18=AN10,AN18=AN11,AN18=AN12,AN18=AN13,AN18=AN14,AN18=AN15,AN18=AN16,AN18=AN17),\"=\",\"\"))","v":""},null,"","",{"$f":"IF(OR(AO18=0,AO18=\"\"),\"\",IF(OR(AO18=AO19,AO18=AO20,AO18=AO21,AO18=AO22,AO18=AO7,AO18=AO8,AO18=AO9,AO18=AO10,AO18=AO11,AO18=AO12,AO18=AO13,AO18=AO14,AO18=AO15,AO18=AO16,AO18=AO17),\"=\",\"\"))","v":""},"","",null,"","",null,"","","","","","","","","","","","","","","",""]
[null,2,0,0,13,{"$f":"HLOOKUP(E19,womens_handbook,B3,FALSE)","v":2},{"$f":"IF(ISERROR(HLOOKUP(F19,'Declarations (F)'!$D$3:$S$31,B4,FALSE))=TRUE,\"\",HLOOKUP(F19,'Declarations (F)'!$D$3:$S$31,B4,FALSE))","v":"-"},"Crewe & Nantwich AC",null,null,null,null,null,null,null,null,null,null,null,null,null,null,null,null,null,null,null,null,null,null,null,null,0,null,null,null,null,0,{"$f":"IF(OR(AL19=0,AL19=\"\"),\"\",IF(AL20=0,\"A\",IF(AL19>AL20,\"B\",\"A\")))","v":""},{"$f":"IF(AL19=0,0,IF(AM19=\"B\",\"\",RANK(AY19,$AY7:$AY22,1)))","v":0},{"$f":"IF(AL19=0,0,IF(AM19=\"A\",\"\",RANK(AZ19,$AZ7:$AZ22,1)))","v":0},0,null,"","",{"$f":"IF(OR(AN19=0,AN19=\"\"),\"\",IF(OR(AN19=AN20,AN19=AN21,AN19=AN22,AN19=AN7,AN19=AN8,AN19=AN9,AN19=AN10,AN19=AN11,AN19=AN12,AN19=AN13,AN19=AN14,AN19=AN15,AN19=AN16,AN19=AN17,AN19=AN18),\"=\",\"\"))","v":""},null,"","",{"$f":"IF(OR(AO19=0,AO19=\"\"),\"\",IF(OR(AO19=AO20,AO19=AO21,AO19=AO22,AO19=AO7,AO19=AO8,AO19=AO9,AO19=AO10,AO19=AO11,AO19=AO12,AO19=AO13,AO19=AO14,AO19=AO15,AO19=AO16,AO19=AO17,AO19=AO18),\"=\",\"\"))","v":""},"","",null,"","",null,"","","","","","","","","","","","","","","",""]
[null,2,0,0,14,{"$f":"HLOOKUP(E20,womens_handbook,B3,FALSE)","v":22},{"$f":"IF(ISERROR(HLOOKUP(F20,'Declarations (F)'!$D$3:$S$31,B4,FALSE))=TRUE,\"\",HLOOKUP(F20,'Declarations (F)'!$D$3:$S$31,B4,FALSE))","v":"-"},"Crewe & Nantwich AC",null,null,null,null,null,null,null,null,null,null,null,null,null,null,null,null,null,null,null,null,null,null,null,null,0,null,null,null,null,0,{"$f":"IF(OR(AL20=0,AL20=\"\"),\"\",IF(AL19=0,\"A\",IF(AL20>=AL19,\"B\",\"A\")))","v":""},{"$f":"IF(AL20=0,0,IF(AM20=\"B\",\"\",RANK(AY20,$AY7:$AY22,1)))","v":0},{"$f":"IF(AL20=0,0,IF(AM20=\"A\",\"\",RANK(AZ20,$AZ7:$AZ22,1)))","v":0},0,null,"","",{"$f":"IF(OR(AN20=0,AN20=\"\"),\"\",IF(OR(AN20=AN21,AN20=AN22,AN20=AN7,AN20=AN8,AN20=AN9,AN20=AN10,AN20=AN11,AN20=AN12,AN20=AN13,AN20=AN14,AN20=AN15,AN20=AN16,AN20=AN17,AN20=AN18,AN20=AN19),\"=\",\"\"))","v":""},null,"","",{"$f":"IF(OR(AO20=0,AO20=\"\"),\"\",IF(OR(AO20=AO21,AO20=AO22,AO20=AO7,AO20=AO8,AO20=AO9,AO20=AO10,AO20=AO11,AO20=AO12,AO20=AO13,AO20=AO14,AO20=AO15,AO20=AO16,AO20=AO17,AO20=AO18,AO20=AO19),\"=\",\"\"))","v":""},"","",null,"","",null,"","","","","","","","","","","","","","","",""]
[null,0,0,0,15,{"$f":"HLOOKUP(E21,womens_handbook,B3,FALSE)","v":0},{"$f":"IF(ISERROR(HLOOKUP(F21,'Declarations (F)'!$D$3:$S$31,B4,FALSE))=TRUE,\"\",HLOOKUP(F21,'Declarations (F)'!$D$3:$S$31,B4,FALSE))","v":""},"",null,null,null,null,null,null,null,null,null,null,null,null,null,null,null,null,null,null,null,null,null,null,null,null,0,null,null,null,null,0,{"$f":"IF(OR(AL21=0,AL21=\"\"),\"\",IF(AL22=0,\"A\",IF(AL21>AL22,\"B\",\"A\")))","v":""},{"$f":"IF(AL21=0,0,IF(AM21=\"B\",\"\",RANK(AY21,$AY7:$AY22,1)))","v":0},{"$f":"IF(AL21=0,0,IF(AM21=\"A\",\"\",RANK(AZ21,$AZ7:$AZ22,1)))","v":0},0,null,"","",{"$f":"IF(OR(AN21=0,AN21=\"\"),\"\",IF(OR(AN21=AN22,AN21=AN7,AN21=AN8,AN21=AN9,AN21=AN10,AN21=AN11,AN21=AN12,AN21=AN13,AN21=AN14,AN21=AN15,AN21=AN16,AN21=AN17,AN21=AN18,AN21=AN19,AN21=AN20),\"=\",\"\"))","v":""},null,"","",{"$f":"IF(OR(AO21=0,AO21=\"\"),\"\",IF(OR(AO21=AO22,AO21=AO7,AO21=AO8,AO21=AO9,AO21=AO10,AO21=AO11,AO21=AO12,AO21=AO13,AO21=AO14,AO21=AO15,AO21=AO16,AO21=AO17,AO21=AO18,AO21=AO19,AO21=AO20),\"=\",\"\"))","v":""},"","",null,"","",null,"","","","","","","","","","","","","","","",""]
[null,0,0,0,16,{"$f":"HLOOKUP(E22,womens_handbook,B3,FALSE)","v":0},{"$f":"IF(ISERROR(HLOOKUP(F22,'Declarations (F)'!$D$3:$S$31,B4,FALSE))=TRUE,\"\",HLOOKUP(F22,'Declarations (F)'!$D$3:$S$31,B4,FALSE))","v":""},"",null,null,null,null,null,null,null,null,null,null,null,null,null,null,null,null,null,null,null,null,null,null,null,null,0,null,null,null,null,0,{"$f":"IF(OR(AL22=0,AL22=\"\"),\"\",IF(AL21=0,\"A\",IF(AL22>=AL21,\"B\",\"A\")))","v":""},{"$f":"IF(AL22=0,0,IF(AM22=\"B\",\"\",RANK(AY22,$AY7:$AY22,1)))","v":0},{"$f":"IF(AL22=0,0,IF(AM22=\"A\",\"\",RANK(AZ22,$AZ7:$AZ22,1)))","v":0},0,null,"","",{"$f":"IF(OR(AN22=0,AN22=\"\"),\"\",IF(OR(AN22=AN7,AN22=AN8,AN22=AN9,AN22=AN10,AN22=AN11,AN22=AN12,AN22=AN13,AN22=AN14,AN22=AN15,AN22=AN16,AN22=AN17,AN22=AN18,AN22=AN19,AN22=AN20,AN22=AN21),\"=\",\"\"))","v":""},null,"","",{"$f":"IF(OR(AO22=0,AO22=\"\"),\"\",IF(OR(AO22=AO7,AO22=AO8,AO22=AO9,AO22=AO10,AO22=AO11,AO22=AO12,AO22=AO13,AO22=AO14,AO22=AO15,AO22=AO16,AO22=AO17,AO22=AO18,AO22=AO19,AO22=AO20,AO22=AO21),\"=\",\"\"))","v":""},"","",null,"","",null,"","","","","","","","","","","","","","","",""]
[null,null,null,null,null,null,null,null,null,null,null,null,null,null,null,null,null,null,null,null,null,null,null,null,null,null,null,null,null,null,null,null,null,null,null,null,null,null,null,null,null,null,null,null,null,null,null,null,null,null,null,null,null,null,null,null,{"$f":"COUNTIF(BE7:BE22,BE6)","v":0},0,0,0,0,0,0,0,0,0,0,0,0,0,0,0]
[null,null,null,null,"\"A\" STRING RESULT",null,null,null,null,null,"\"B\" STRING RESULT",null,null,null,null,null,null,null,null,null,null,null,null,null,null,null,null,null,"JUDGES' SIGNATURES"]
[null,null,null,null,"Posn","No.","NAME","CLUB","HEIGHT",null,"Posn",null,"No.",null,"NAME",null,null,null,null,null,"CLUB",null,null,null,null,null,"HEIGHT"]
[null,null,null,1,{"$f":"IF(ISERROR(VLOOKUP(D26,$C$7:$AR$22,31,FALSE))=TRUE,\"\",IF(VLOOKUP(D26,$C$7:$AR$22,42,FALSE)=\"\",VLOOKUP(D26,$C$7:$AR$22,38,FALSE),CONCATENATE(VLOOKUP(D26,$C$7:$AR$22,38,FALSE),VLOOKUP(D26,$C$7:$AR$22,42,FALSE))))","v":""},{"$f":"IF(ISERROR(VLOOKUP(D26,$C$7:$AH$22,31,FALSE))=TRUE,\"\",IF(VLOOKUP(D26,$C$7:$AH$22,31,FALSE)=0,\"\",IF(VLOOKUP(D26,$C$7:$AH$22,31,FALSE)=99,99,IF(VLOOKUP(D26,$C$7:$AH$22,31,FALSE)=97,97,IF(VLOOKUP(D26,$C$7:$AH$22,31,FALSE)=96,96,VLOOKUP(D26,$C$7:$AH$22,4,FALSE))))))","v":""},{"$f":"IF(ISERROR(VLOOKUP(D26,$C$7:$AH$22,31,FALSE))=TRUE,\"\",VLOOKUP(D26,$C$7:$AH$22,5,FALSE))","v":""},{"$f":"IF(ISERROR(VLOOKUP(D26,$C$7:$AH$22,31,FALSE))=TRUE,\"\",VLOOKUP(D26,$C$7:$AH$22,6,FALSE))","v":""},{"$f":"IF(ISERROR(VLOOKUP(D26,$C$7:$AH$22,31,FALSE))=TRUE,\"\",IF(VLOOKUP(D26,C$7:AH$22,31,FALSE)=0,0,IF(VLOOKUP(D26,C$7:AH$22,31,FALSE)>95.99,\"\",VLOOKUP(D26,C$7:AH$22,31,FALSE))))","v":""},null,{"$f":"IF(ISERROR(VLOOKUP(D26,$D$7:$AV$22,30,FALSE))=TRUE,\"\",IF(VLOOKUP(D26,$D$7:$AV$22,45,FALSE)=\"\",VLOOKUP(D26,$D$7:$AV$22,38,FALSE),CONCATENATE(VLOOKUP(D26,$D$7:$AV$22,38,FALSE),VLOOKUP(D26,$D$7:$AV$22,45,FALSE))))","v":""},{"$f":"IF(ISERROR(VLOOKUP(K26,$C$7:$AR$22,31,FALSE))=TRUE,\"\",CONCATENATE(VLOOKUP(K26,$C$7:$AR$22,38,FALSE),VLOOKUP(K26,$C$7:$AR$22,42,FALSE)))","v":""},{"$f":"IF(ISERROR(VLOOKUP(D26,$D$7:$AH$22,30,FALSE))=TRUE,\"\",IF(VLOOKUP(D26,$D$7:$AH$22,30,FALSE)=0,\"\",VLOOKUP(D26,$D$7:$AH$22,3,FALSE)))","v":""},null,{"$f":"IF(ISERROR(VLOOKUP(D26,$D$7:$AH$22,30,FALSE))=TRUE,\"\",VLOOKUP(D26,$D$7:$AH$22,4,FALSE))","v":""},null,null,null,null,null,{"$f":"IF(ISERROR(VLOOKUP(D26,$D$7:$AH$22,30,FALSE))=TRUE,\"\",VLOOKUP(D26,$D$7:$AH$22,5,FALSE))","v":""},null,null,null,null,null,{"$f":"IF(ISERROR(VLOOKUP(D26,$D$7:$AH$22,30,FALSE))=TRUE,\"\",IF(VLOOKUP(D26,$D$7:$AH$22,30,FALSE)=0,\"\",VLOOKUP(D26,$D$7:$AH$22,30,FALSE)))","v":""}]
[null,null,null,2,"","","","","",null,"","","",null,"",null,null,null,null,null,"",null,null,null,null,null,""]
[null,null,null,3,"","","","","",null,"","","",null,"",null,null,null,null,null,"",null,null,null,null,null,""]
[null,null,null,4,"","","","","",null,"","","",null,"",null,null,null,null,null,"",null,null,null,null,null,""]
[null,null,null,5,"","","","","",null,"","","",null,"",null,null,null,null,null,"",null,null,null,null,null,""]
[null,null,null,6,"","","","","",null,"","","",null,"",null,null,null,null,null,"",null,null,null,null,null,"",null,"REFEREE'S SIGNATURE"]
[null,null,null,7,"","","","","",null,"","","",null,"",null,null,null,null,null,"",null,null,null,null,null,""]
[null,null,null,8,"","","","","",null,"","","",null,"",null,null,null,null,null,"",null,null,null,null,null,""]

{"sheet":"Womens PV","index":19,"n_rows":33,"n_cols":72,"rows_kept":33,"cut":false,"hidden":false,"merged":[[3,11,3,13],[3,14,3,19],[13,8,13,9],[10,10,10,11],[4,32,4,33],[5,32,5,33],[27,20,27,25],[5,14,5,15],[5,16,5,17],[5,18,5,19],[5,20,5,21],[21,16,21,17],[24,20,24,25],[18,32,18,33],[21,32,21,33],[21,18,21,19],[5,22,5,23],[5,24,5,25],[5,26,5,27],[5,28,5,29],[5,30,5,31],[19,32,19,33],[16,32,16,33],[11,32,11,33],[0,4,0,5],[28,12,28,13],[28,10,28,11],[7,8,7,9],[8,8,8,9],[5,8,5,9],[2,4,2,5],[3,4,3,5],[2,8,2,10],[4,8,4,9],[4,10,4,11],[2,6,2,7],[3,6,3,7],[2,11,2,25],[4,12,4,13],[4,14,4,15],[14,14,14,15],[3,20,3,22],[3,8,3,10],[6,8,6,9],[9,8,9,9],[11,8,11,9],[10,8,10,9],[12,8,12,9],[32,8,32,9],[29,26,29,27],[30,26,30,27],[31,26,31,27],[32,26,32,27],[29,10,29,11],[32,10,32,11],[31,8,31,9],[29,8,29,9],[30,8,30,9],[31,10,31,11],[29,20,29,25],[30,20,30,25],[32,14,32,19],[32,12,32,13],[30,10,30,11],[32,20,32,25],[28,8,28,9],[25,8,25,9],[26,8,26,9],[26,20,26,25],[25,12,25,13],[18,8,18,9],[25,20,25,25],[28,20,28,25],[27,12,27,13],[27,14,27,19],[26,14,26,19],[28,14,28,19],[27,8,27,9],[26,12,26,13],[24,8,24,9],[24,12,24,13],[23,4,23,9],[27,10,27,11],[24,10,24,11],[21,8,21,9],[19,18,19,19],[19,24,19,25],[20,24,20,25],[21,20,21,21],[10,32,10,33],[17,26,17,27],[18,30,18,31],[3,23,3,40],[9,32,9,33],[7,32,7,33],[17,32,17,33],[15,32,15,33],[4,28,4,29],[6,32,6,33],[13,32,13,33],[14,32,14,33],[12,32,12,33],[12,24,12,25],[13,24,13,25],[15,24,15,25],[16,24,16,25],[7,24,7,25],[8,24,8,25],[17,24,17,25],[18,24,18,25],[10,24,10,25],[9,24,9,25],[11,24,11,25],[6,10,6,11],[5,10,5,11],[5,12,5,13],[2,26,2,28],[4,34,5,34],[4,35,5,35],[4,36,5,36],[4,16,4,17],[4,18,4,19],[4,24,4,25],[6,14,6,15],[6,16,6,17],[6,18,6,19],[6,20,6,21],[6,22,6,23],[6,24,6,25],[6,26,6,27],[4,26,4,27],[4,30,4,31],[2,29,2,40],[4,20,4,21],[4,22,4,23],[4,39,5,40],[4,37,5,37],[30,28,30,40],[25,10,25,11],[26,10,26,11],[8,32,8,33],[14,10,14,11],[6,12,6,13],[8,12,8,13],[9,12,9,13],[10,12,10,13],[20,32,20,33],[23,28,23,40],[24,26,24,27],[21,28,21,29],[20,30,20,31],[23,10,23,27],[21,26,21,27],[18,26,18,27],[19,26,19,27],[20,26,20,27],[25,26,25,27],[27,26,27,27],[26,26,26,27],[28,26,28,27],[20,10,20,11],[21,10,21,11],[17,10,17,11],[18,10,18,11],[19,8,19,9],[20,8,20,9],[14,8,14,9],[15,8,15,9],[16,8,16,9],[17,8,17,9],[7,16,7,17],[18,16,18,17],[15,20,15,21],[16,20,16,21],[17,20,17,21],[18,20,18,21],[14,18,14,19],[15,18,15,19],[16,18,16,19],[17,18,17,19],[8,16,8,17],[9,16,9,17],[10,16,10,17],[11,16,11,17],[12,16,12,17],[17,16,17,17],[13,16,13,17],[14,16,14,17],[15,16,15,17],[16,16,16,17],[7,18,7,19],[8,18,8,19],[9,18,9,19],[10,18,10,19],[7,10,7,11],[8,10,8,11],[9,10,9,11],[19,10,19,11],[15,10,15,11],[16,10,16,11],[12,12,12,13],[13,12,13,13],[14,12,14,13],[15,12,15,13],[16,12,16,13],[17,12,17,13],[11,10,11,11],[12,10,12,11],[13,10,13,11],[18,12,18,13],[11,12,11,13],[7,12,7,13],[17,14,17,15],[18,14,18,15],[15,14,15,15],[16,14,16,15],[13,14,13,15],[19,14,19,15],[20,14,20,15],[7,14,7,15],[8,14,8,15],[9,14,9,15],[10,14,10,15],[11,14,11,15],[12,14,12,15],[11,18,11,19],[13,18,13,19],[18,18,18,19],[13,22,13,23],[14,22,14,23],[7,20,7,21],[8,20,8,21],[9,20,9,21],[10,20,10,21],[11,20,11,21],[13,20,13,21],[14,20,14,21],[7,22,7,23],[8,22,8,23],[9,22,9,23],[10,22,10,23],[12,18,12,19],[12,20,12,21],[15,22,15,23],[16,22,16,23],[17,22,17,23],[18,22,18,23],[11,22,11,23],[12,22,12,23],[14,24,14,25],[7,26,7,27],[8,26,8,27],[9,26,9,27],[10,26,10,27],[11,26,11,27],[15,26,15,27],[16,26,16,27],[6,28,6,29],[7,28,7,29],[8,28,8,29],[9,28,9,29],[10,28,10,29],[11,28,11,29],[12,28,12,29],[13,26,13,27],[12,26,12,27],[14,26,14,27],[11,30,11,31],[10,30,10,31],[12,30,12,31],[13,30,13,31],[13,28,13,29],[15,28,15,29],[6,30,6,31],[7,30,7,31],[8,30,8,31],[9,30,9,31],[14,28,14,29],[17,28,17,29],[14,30,14,31],[15,30,15,31],[16,30,16,31],[17,30,17,31],[19,30,19,31],[16,28,16,29],[21,30,21,31],[18,28,18,29],[19,28,19,29],[20,28,20,29],[0,6,0,24],[0,26,0,40],[19,16,19,17],[20,16,20,17],[19,12,19,13],[20,12,20,13],[31,20,31,25],[19,22,19,23],[29,14,29,19],[30,14,30,19],[31,14,31,19],[21,22,21,23],[20,18,20,19],[19,20,19,21],[20,20,20,21],[20,22,20,23],[24,14,24,19],[29,12,29,13],[30,12,30,13],[31,12,31,13],[25,14,25,19],[21,24,21,25],[21,12,21,13],[21,14,21,15]]}
[null,null,null,null,"Home",null,{"$f":"'Match Day'!I4","v":"Northern T&F League"},null,null,null,null,null,null,null,null,null,null,null,null,null,null,null,null,null,null,null,{"$f":"'Match Day'!C10","v":"Salford Metropolitan AC"}]
[12,26,null,null,"UK ATHLETICS: HEIGHT CARD"]
[null,{"$f":"VLOOKUP(A2,womens_handbook,37,FALSE)","v":13},null,null,"MEETING ",null,{"$f":"CONCATENATE('Match Day'!$I$8,\" \",'Match Day'!$I$10)","v":"Division 4W Match 1"},null,"VENUE ",null,null,{"$f":"'Match Day'!$I$12","v":"Litherland"},null,null,null,null,null,null,null,null,null,null,null,null,null,null,"DATE ",null,null,{"$f":"'Match Day'!$I$6","v":"2014-05-04"}]
[null,{"$f":"VLOOKUP(A2,womens_declare,20,FALSE)","v":13},null,null,"EVENT",null,{"$f":"VLOOKUP(A2,womens_handbook,3,FALSE)","v":"Women's Pole Vault"},null,"TIME",null,null,{"$f":"VLOOKUP(A2,womens_handbook,2,FALSE)","v":"11:30:00"},null,null,"League Record",null,null,null,null,null,{"$f":"VLOOKUP(A2,womens_handbook,29,FALSE)","v":1997},null,null,{"$f":"CONCATENATE(VLOOKUP($A2,womens_handbook,26,FALSE),\", \",VLOOKUP($A2,womens_handbook,27,FALSE),\", \",VLOOKUP($A2,womens_handbook,28,FALSE))","v":"Janine Whitlock, Trafford, 4.01m"}]
[null,null,null,null,"Order","No","NAME","CLUB",{"$f":"VLOOKUP(A2,womens_handbook,20,FALSE)","v":1.7},null,1.8,null,1.9,null,2,null,2.1,null,null,null,null,null,null,null,null,null,null,null,null,null,null,null,"Best of All",null,"Trials at\nHt Cleared","Total \nFailures","Total\nTrials","Final\nPositionn",null,"A or B",null,"Tie"]
[null,null,null,null,null,null,null,null,"Metres",null,"Metres",null,"Metres",null,"Metres",null,"Metres",null,"Metres",null,"Metres",null,"Metres",null,"Metres",null,"Metres",null,"Metres",null,"Metres",null,"Metres",null,null,null,null,null,null,null,null,null,null,null,null,null,null,null,null,null,null,null,null,null,null,null,1,2,3,4,5,6,7,8,1,2,3,4,5,6,7,8]
[null,{"$f":"IF(F7=\"\",\"\",IF(F7>10,F7/11,F7))","v":5},{"$f":"IF(AL7=0,0,IF(AM7=\"B\",\"\",RANK(BB7,$BB$7:$BB$22,1)))","v":0},{"$f":"IF(AL7=0,0,IF(AM7=\"A\",\"\",RANK(BC7,$BC$7:$BC$22,1)))","v":0},1,{"$f":"HLOOKUP(E7,womens_handbook,B3,FALSE)","v":5},{"$f":"IF(ISERROR(HLOOKUP(F7,'Declarations (F)'!$D$3:$S$31,B4,FALSE))=TRUE,\"\",HLOOKUP(F7,'Declarations (F)'!$D$3:$S$31,B4,FALSE))","v":"-"},{"$f":"IF(ISERROR(VLOOKUP(B7,matchday,2,FALSE))=TRUE,\"\",VLOOKUP(B7,matchday,2,FALSE))","v":"Southport Waterloo AC"},null,null,null,null,null,null,null,null,null,null,null,null,null,null,null,null,null,null,null,null,null,null,null,null,0,null,null,null,null,0,{"$f":"IF(OR(AL7=0,AL7=\"\"),\"\",IF(AL8=0,\"A\",IF(AL7>AL8,\"B\",\"A\")))","v":""},{"$f":"IF(AL7=0,0,IF(AM7=\"B\",\"\",RANK(AY7,$AY7:$AY22,1)))","v":0},{"$f":"IF(AL7=0,0,IF(AM7=\"A\",\"\",RANK(AZ7,$AZ7:$AZ22,1)))","v":0},0,null,{"$f":"IF(AS7=\"\",\"\",REPT(AT7,AS7-1))","v":""},{"$f":"IF(AT7=\"\",\"\",HLOOKUP(AN7,$BE$6:$BL$23,18,FALSE))","v":""},{"$f":"IF(OR(AN7=0,AN7=\"\"),\"\",IF(OR(AN7=AN8,AN7=AN9,AN7=AN10,AN7=AN11,AN7=AN12,AN7=AN13,AN7=AN14,AN7=AN15,AN7=AN16,AN7=AN17,AN7=AN18,AN7=AN19,AN7=AN20,AN7=AN21,AN7=AN22),\"=\",\"\"))","v":""},null,{"$f":"IF(AW7=\"\",\"\",REPT(AX7,AW7-1))","v":""},{"$f":"IF(AX7=\"\",\"\",HLOOKUP(AO7,$BM$6:$BT$23,18,FALSE))","v":""},{"$f":"IF(OR(AO7=0,AO7=\"\"),\"\",IF(OR(AO7=AO8,AO7=AO9,AO7=AO10,AO7=AO11,AO7=AO12,AO7=AO13,AO7=AO14,AO7=AO15,AO7=AO16,AO7=AO17,AO7=AO18,AO7=AO19,AO7=AO20,AO7=AO21,AO7=AO22),\"=\",\"\"))","v":""},{"$f":"IF(OR(AL7=0,AG7=0,AM7=\"B\"),\"\",AL7)","v":""},{"$f":"IF(OR(AL7=0,AG7=0,AM7=\"A\"),\"\",AL7)","v":""},null,{"$f":"IF(AY7=\"\",\"\",AY7+($AP7/10))","v":""},"",null,{"$f":"IF($AN7=\"\",\"\",IF($AN7=BE$6,$AN7,\"\"))","v":""},"","","","","","","",{"$f":"IF($AO7=\"\",\"\",IF($AO7=BM$6,$AO7,\"\"))","v":""},"","","","","","",""]
[null,5,{"$f":"IF(AL8=0,0,IF(AM8=\"B\",\"\",RANK(BB8,$BB$7:$BB$22,1)))","v":0},{"$f":"IF(AL8=0,0,IF(AM8=\"A\",\"\",RANK(BC8,$BC$7:$BC$22,1)))","v":0},2,{"$f":"HLOOKUP(E8,womens_handbook,B3,FALSE)","v":55},{"$f":"IF(ISERROR(HLOOKUP(F8,'Declarations (F)'!$D$3:$S$31,B4,FALSE))=TRUE,\"\",HLOOKUP(F8,'Declarations (F)'!$D$3:$S$31,B4,FALSE))","v":"-"},"Southport Waterloo AC",null,null,null,null,null,null,null,null,null,null,null,null,null,null,null,null,null,null,null,null,null,null,null,null,0,null,null,null,null,0,{"$f":"IF(OR(AL8=0,AL8=\"\"),\"\",IF(AL7=0,\"A\",IF(AL8>=AL7,\"B\",\"A\")))","v":""},{"$f":"IF(AL8=0,0,IF(AM8=\"B\",\"\",RANK(AY8,$AY7:$AY22,1)))","v":0},{"$f":"IF(AL8=0,0,IF(AM8=\"A\",\"\",RANK(AZ8,$AZ7:$AZ22,1)))","v":0},0,null,"","",{"$f":"IF(OR(AN8=0,AN8=\"\"),\"\",IF(OR(AN8=AN9,AN8=AN10,AN8=AN11,AN8=AN12,AN8=AN13,AN8=AN14,AN8=AN15,AN8=AN16,AN8=AN17,AN8=AN18,AN8=AN19,AN8=AN20,AN8=AN21,AN8=AN22,AN8=AN7),\"=\",\"\"))","v":""},null,"","",{"$f":"IF(OR(AO8=0,AO8=\"\"),\"\",IF(OR(AO8=AO9,AO8=AO10,AO8=AO11,AO8=AO12,AO8=AO13,AO8=AO14,AO8=AO15,AO8=AO16,AO8=AO17,AO8=AO18,AO8=AO19,AO8=AO20,AO8=AO21,AO8=AO22,AO8=AO7),\"=\",\"\"))","v":""},{"$f":"IF(OR(AL8=0,AG8=0,AM8=\"B\"),\"\",AL8)","v":""},{"$f":"IF(OR(AL8=0,AG8=0,AM8=\"A\"),\"\",AL8)","v":""},null,"","",null,"","","","","","","","","","","","","","","",""]
[null,4,0,0,3,{"$f":"HLOOKUP(E9,womens_handbook,B3,FALSE)","v":4},{"$f":"IF(ISERROR(HLOOKUP(F9,'Declarations (F)'!$D$3:$S$31,B4,FALSE))=TRUE,\"\",HLOOKUP(F9,'Declarations (F)'!$D$3:$S$31,B4,FALSE))","v":"-"},"Salford Metropolitan AC",null,null,null,null,null,null,null,null,null,null,null,null,null,null,null,null,null,null,null,null,null,null,null,null,0,null,null,null,null,0,{"$f":"IF(OR(AL9=0,AL9=\"\"),\"\",IF(AL10=0,\"A\",IF(AL9>AL10,\"B\",\"A\")))","v":""},{"$f":"IF(AL9=0,0,IF(AM9=\"B\",\"\",RANK(AY9,$AY7:$AY22,1)))","v":0},{"$f":"IF(AL9=0,0,IF(AM9=\"A\",\"\",RANK(AZ9,$AZ7:$AZ22,1)))","v":0},0,null,"",{"$f":"IF(AT9=\"\",\"\",HLOOKUP(AN9,$BE$6:$BL$23,18,FALSE))","v":""},{"$f":"IF(OR(AN9=0,AN9=\"\"),\"\",IF(OR(AN9=AN10,AN9=AN11,AN9=AN12,AN9=AN13,AN9=AN14,AN9=AN15,AN9=AN16,AN9=AN17,AN9=AN18,AN9=AN19,AN9=AN20,AN9=AN21,AN9=AN22,AN9=AN7,AN9=AN8),\"=\",\"\"))","v":""},null,"","",{"$f":"IF(OR(AO9=0,AO9=\"\"),\"\",IF(OR(AO9=AO10,AO9=AO11,AO9=AO12,AO9=AO13,AO9=AO14,AO9=AO15,AO9=AO16,AO9=AO17,AO9=AO18,AO9=AO19,AO9=AO20,AO9=AO21,AO9=AO22,AO9=AO7,AO9=AO8),\"=\",\"\"))","v":""},"","",null,"","",null,"","","","","","","","","","","","","","","",""]
[null,4,0,0,4,{"$f":"HLOOKUP(E10,womens_handbook,B3,FALSE)","v":44},{"$f":"IF(ISERROR(HLOOKUP(F10,'Declarations (F)'!$D$3:$S$31,B4,FALSE))=TRUE,\"\",HLOOKUP(F10,'Declarations (F)'!$D$3:$S$31,B4,FALSE))","v":"-"},"Salford Metropolitan AC",null,null,null,null,null,null,null,null,null,null,null,null,null,null,null,null,null,null,null,null,null,null,null,null,0,null,null,null,null,0,{"$f":"IF(OR(AL10=0,AL10=\"\"),\"\",IF(AL9=0,\"A\",IF(AL10>=AL9,\"B\",\"A\")))","v":""},{"$f":"IF(AL10=0,0,IF(AM10=\"B\",\"\",RANK(AY10,$AY7:$AY22,1)))","v":0},{"$f":"IF(AL10=0,0,IF(AM10=\"A\",\"\",RANK(AZ10,$AZ7:$AZ22,1)))","v":0},0,null,"","",{"$f":"IF(OR(AN10=0,AN10=\"\"),\"\",IF(OR(AN10=AN11,AN10=AN12,AN10=AN13,AN10=AN14,AN10=AN15,AN10=AN16,AN10=AN17,AN10=AN18,AN10=AN19,AN10=AN20,AN10=AN21,AN10=AN22,AN10=AN7,AN10=AN8,AN10=AN9),\"=\",\"\"))","v":""},null,"","",{"$f":"IF(OR(AO10=0,AO10=\"\"),\"\",IF(OR(AO10=AO11,AO10=AO12,AO10=AO13,AO10=AO14,AO10=AO15,AO10=AO16,AO10=AO17,AO10=AO18,AO10=AO19,AO10=AO20,AO10=AO21,AO10=AO22,AO10=AO7,AO10=AO8,AO10=AO9),\"=\",\"\"))","v":""},"","",null,"","",null,"","","","","","","","","","","","","","","",""]
[null,2,0,0,5,{"$f":"HLOOKUP(E11,womens_handbook,B3,FALSE)","v":2},{"$f":"IF(ISERROR(HLOOKUP(F11,'Declarations (F)'!$D$3:$S$31,B4,FALSE))=TRUE,\"\",HLOOKUP(F11,'Declarations (F)'!$D$3:$S$31,B4,FALSE))","v":"-"},"Crewe & Nantwich AC",null,null,null,null,null,null,null,null,null,null,null,null,null,null,null,null,null,null,null,null,null,null,null,null,0,null,null,null,null,0,{"$f":"IF(OR(AL11=0,AL11=\"\"),\"\",IF(AL12=0,\"A\",IF(AL11>AL12,\"B\",\"A\")))","v":""},{"$f":"IF(AL11=0,0,IF(AM11=\"B\",\"\",RANK(AY11,$AY7:$AY22,1)))","v":0},{"$f":"IF(AL11=0,0,IF(AM11=\"A\",\"\",RANK(AZ11,$AZ7:$AZ22,1)))","v":0},0,null,"","",{"$f":"IF(OR(AN11=0,AN11=\"\"),\"\",IF(OR(AN11=AN12,AN11=AN13,AN11=AN14,AN11=AN15,AN11=AN16,AN11=AN17,AN11=AN18,AN11=AN19,AN11=AN20,AN11=AN21,AN11=AN22,AN11=AN7,AN11=AN8,AN11=AN9,AN11=AN10),\"=\",\"\"))","v":""},null,"","",{"$f":"IF(OR(AO11=0,AO11=\"\"),\"\",IF(OR(AO11=AO12,AO11=AO13,AO11=AO14,AO11=AO15,AO11=AO16,AO11=AO17,AO11=AO18,AO11=AO19,AO11=AO20,AO11=AO21,AO11=AO22,AO11=AO7,AO11=AO8,AO11=AO9,AO11=AO10),\"=\",\"\"))","v":""},"","",null,"","",null,"","","","","","","","","","","","","","","",""]
[null,2,0,0,6,{"$f":"HLOOKUP(E12,womens_handbook,B3,FALSE)","v":22},{"$f":"IF(ISERROR(HLOOKUP(F12,'Declarations (F)'!$D$3:$S$31,B4,FALSE))=TRUE,\"\",HLOOKUP(F12,'Declarations (F)'!$D$3:$S$31,B4,FALSE))","v":"-"},"Crewe & Nantwich AC",null,null,null,null,null,null,null,null,null,null,null,null,null,null,null,null,null,null,null,null,null,null,null,null,0,null,null,null,null,0,{"$f":"IF(OR(AL12=0,AL12=\"\"),\"\",IF(AL11=0,\"A\",IF(AL12>=AL11,\"B\",\"A\")))","v":""},{"$f":"IF(AL12=0,0,IF(AM12=\"B\",\"\",RANK(AY12,$AY7:$AY22,1)))","v":0},{"$f":"IF(AL12=0,0,IF(AM12=\"A\",\"\",RANK(AZ12,$AZ7:$AZ22,1)))","v":0},0,null,"","",{"$f":"IF(OR(AN12=0,AN12=\"\"),\"\",IF(OR(AN12=AN13,AN12=AN14,AN12=AN15,AN12=AN16,AN12=AN17,AN12=AN18,AN12=AN19,AN12=AN20,AN12=AN21,AN12=AN22,AN12=AN7,AN12=AN8,AN12=AN9,AN12=AN10,AN12=AN11),\"=\",\"\"))","v":""},null,"","",{"$f":"IF(OR(AO12=0,AO12=\"\"),\"\",IF(OR(AO12=AO13,AO12=AO14,AO12=AO15,AO12=AO16,AO12=AO17,AO12=AO18,AO12=AO19,AO12=AO20,AO12=AO21,AO12=AO22,AO12=AO7,AO12=AO8,AO12=AO9,AO12=AO10,AO12=AO11),\"=\",\"\"))","v":""},"","",null,"","",null,"","","","","","","","","","","","","","","",""]
[null,3,0,0,7,{"$f":"HLOOKUP(E13,womens_handbook,B3,FALSE)","v":3},{"$f":"IF(ISERROR(HLOOKUP(F13,'Declarations (F)'!$D$3:$S$31,B4,FALSE))=TRUE,\"\",HLOOKUP(F13,'Declarations (F)'!$D$3:$S$31,B4,FALSE))","v":"-"},"Isle of Man \"B\"",null,null,null,null,null,null,null,null,null,null,null,null,null,null,null,null,null,null,null,null,null,null,null,null,0,null,null,null,null,0,{"$f":"IF(OR(AL13=0,AL13=\"\"),\"\",IF(AL14=0,\"A\",IF(AL13>AL14,\"B\",\"A\")))","v":""},{"$f":"IF(AL13=0,0,IF(AM13=\"B\",\"\",RANK(AY13,$AY7:$AY22,1)))","v":0},{"$f":"IF(AL13=0,0,IF(AM13=\"A\",\"\",RANK(AZ13,$AZ7:$AZ22,1)))","v":0},0,null,"","",{"$f":"IF(OR(AN13=0,AN13=\"\"),\"\",IF(OR(AN13=AN14,AN13=AN15,AN13=AN16,AN13=AN17,AN13=AN18,AN13=AN19,AN13=AN20,AN13=AN21,AN13=AN22,AN13=AN7,AN13=AN8,AN13=AN9,AN13=AN10,AN13=AN11,AN13=AN12),\"=\",\"\"))","v":""},null,"","",{"$f":"IF(OR(AO13=0,AO13=\"\"),\"\",IF(OR(AO13=AO14,AO13=AO15,AO13=AO16,AO13=AO17,AO13=AO18,AO13=AO19,AO13=AO20,AO13=AO21,AO13=AO22,AO13=AO7,AO13=AO8,AO13=AO9,AO13=AO10,AO13=AO11,AO13=AO12),\"=\",\"\"))","v":""},"","",null,"","",null,"","","","","","","","","","","","","","","",""]
[null,3,0,0,8,{"$f":"HLOOKUP(E14,womens_handbook,B3,FALSE)","v":33},{"$f":"IF(ISERROR(HLOOKUP(F14,'Declarations (F)'!$D$3:$S$31,B4,FALSE))=TRUE,\"\",HLOOKUP(F14,'Declarations (F)'!$D$3:$S$31,B4,FALSE))","v":"-"},"Isle of Man \"B\"",null,null,null,null,null,null,null,null,null,null,null,null,null,null,null,null,null,null,null,null,null,null,null,null,0,null,null,null,null,0,{"$f":"IF(OR(AL14=0,AL14=\"\"),\"\",IF(AL13=0,\"A\",IF(AL14>=AL13,\"B\",\"A\")))","v":""},{"$f":"IF(AL14=0,0,IF(AM14=\"B\",\"\",RANK(AY14,$AY7:$AY22,1)))","v":0},{"$f":"IF(AL14=0,0,IF(AM14=\"A\",\"\",RANK(AZ14,$AZ7:$AZ22,1)))","v":0},0,null,"","",{"$f":"IF(OR(AN14=0,AN14=\"\"),\"\",IF(OR(AN14=AN15,AN14=AN16,AN14=AN17,AN14=AN18,AN14=AN19,AN14=AN20,AN14=AN21,AN14=AN22,AN14=AN7,AN14=AN8,AN14=AN9,AN14=AN10,AN14=AN11,AN14=AN12,AN14=AN13),\"=\",\"\"))","v":""},null,"","",{"$f":"IF(OR(AO14=0,AO14=\"\"),\"\",IF(OR(AO14=AO15,AO14=AO16,AO14=AO17,AO14=AO18,AO14=AO19,AO14=AO20,AO14=AO21,AO14=AO22,AO14=AO7,AO14=AO8,AO14=AO9,AO14=AO10,AO14=AO11,AO14=AO12,AO14=AO13),\"=\",\"\"))","v":""},"","",null,"","",null,"","","","","","","","","","","","","","","",""]
[null,7,0,0,9,{"$f":"HLOOKUP(E15,womens_handbook,B3,FALSE)","v":7},{"$f":"IF(ISERROR(HLOOKUP(F15,'Declarations (F)'!$D$3:$S$31,B4,FALSE))=TRUE,\"\",HLOOKUP(F15,'Declarations (F)'!$D$3:$S$31,B4,FALSE))","v":"-"},"Wrexham AAC",null,null,null,null,null,null,null,null,null,null,null,null,null,null,null,null,null,null,null,null,null,null,null,null,0,null,null,null,null,0,{"$f":"IF(OR(AL15=0,AL15=\"\"),\"\",IF(AL16=0,\"A\",IF(AL15>AL16,\"B\",\"A\")))","v":""},{"$f":"IF(AL15=0,0,IF(AM15=\"B\",\"\",RANK(AY15,$AY7:$AY22,1)))","v":0},{"$f":"IF(AL15=0,0,IF(AM15=\"A\",\"\",RANK(AZ15,$AZ7:$AZ22,1)))","v":0},0,null,"","",{"$f":"IF(OR(AN15=0,AN15=\"\"),\"\",IF(OR(AN15=AN16,AN15=AN17,AN15=AN18,AN15=AN19,AN15=AN20,AN15=AN21,AN15=AN22,AN15=AN7,AN15=AN8,AN15=AN9,AN15=AN10,AN15=AN11,AN15=AN12,AN15=AN13,AN15=AN14),\"=\",\"\"))","v":""},null,"","",{"$f":"IF(OR(AO15=0,AO15=\"\"),\"\",IF(OR(AO15=AO16,AO15=AO17,AO15=AO18,AO15=AO19,AO15=AO20,AO15=AO21,AO15=AO22,AO15=AO7,AO15=AO8,AO15=AO9,AO15=AO10,AO15=AO11,AO15=AO12,AO15=AO13,AO15=AO14),\"=\",\"\"))","v":""},"","",null,"","",null,"","","","","","","","","","","","","","","",""]
[null,7,0,0,10,{"$f":"HLOOKUP(E16,womens_handbook,B3,FALSE)","v":77},{"$f":"IF(ISERROR(HLOOKUP(F16,'Declarations (F)'!$D$3:$S$31,B4,FALSE))=TRUE,\"\",HLOOKUP(F16,'Declarations (F)'!$D$3:$S$31,B4,FALSE))","v":"-"},"Wrexham AAC",null,null,null,null,null,null,null,null,null,null,null,null,null,null,null,null,null,null,null,null,null,null,null,null,0,null,null,null,null,0,{"$f":"IF(OR(AL16=0,AL16=\"\"),\"\",IF(AL15=0,\"A\",IF(AL16>=AL15,\"B\",\"A\")))","v":""},{"$f":"IF(AL16=0,0,IF(AM16=\"B\",\"\",RANK(AY16,$AY7:$AY22,1)))","v":0},{"$f":"IF(AL16=0,0,IF(AM16=\"A\",\"\",RANK(AZ16,$AZ7:$AZ22,1)))","v":0},0,null,"","",{"$f":"IF(OR(AN16=0,AN16=\"\"),\"\",IF(OR(AN16=AN17,AN16=AN18,AN16=AN19,AN16=AN20,AN16=AN21,AN16=AN22,AN16=AN7,AN16=AN8,AN16=AN9,AN16=AN10,AN16=AN11,AN16=AN12,AN16=AN13,AN16=AN14,AN16=AN15),\"=\",\"\"))","v":""},null,"","",{"$f":"IF(OR(AO16=0,AO16=\"\"),\"\",IF(OR(AO16=AO17,AO16=AO18,AO16=AO19,AO16=AO20,AO16=AO21,AO16=AO22,AO16=AO7,AO16=AO8,AO16=AO9,AO16=AO10,AO16=AO11,AO16=AO12,AO16=AO13,AO16=AO14,AO16=AO15),\"=\",\"\"))","v":""},"","",null,"","",null,"","","","","","","","","","","","","","","",""]
[null,1,0,0,11,{"$f":"HLOOKUP(E17,womens_handbook,B3,FALSE)","v":1},{"$f":"IF(ISERROR(HLOOKUP(F17,'Declarations (F)'!$D$3:$S$31,B4,FALSE))=TRUE,\"\",HLOOKUP(F17,'Declarations (F)'!$D$3:$S$31,B4,FALSE))","v":"-"},"Altrincham & District AC",null,null,null,null,null,null,null,null,null,null,null,null,null,null,null,null,null,null,null,null,null,null,null,null,0,null,null,null,null,0,{"$f":"IF(OR(AL17=0,AL17=\"\"),\"\",IF(AL18=0,\"A\",IF(AL17>AL18,\"B\",\"A\")))","v":""},{"$f":"IF(AL17=0,0,IF(AM17=\"B\",\"\",RANK(AY17,$AY7:$AY22,1)))","v":0},{"$f":"IF(AL17=0,0,IF(AM17=\"A\",\"\",RANK(AZ17,$AZ7:$AZ22,1)))","v":0},0,null,"","",{"$f":"IF(OR(AN17=0,AN17=\"\"),\"\",IF(OR(AN17=AN18,AN17=AN19,AN17=AN20,AN17=AN21,AN17=AN22,AN17=AN7,AN17=AN8,AN17=AN9,AN17=AN10,AN17=AN11,AN17=AN12,AN17=AN13,AN17=AN14,AN17=AN15,AN17=AN16),\"=\",\"\"))","v":""},null,"","",{"$f":"IF(OR(AO17=0,AO17=\"\"),\"\",IF(OR(AO17=AO18,AO17=AO19,AO17=AO20,AO17=AO21,AO17=AO22,AO17=AO7,AO17=AO8,AO17=AO9,AO17=AO10,AO17=AO11,AO17=AO12,AO17=AO13,AO17=AO14,AO17=AO15,AO17=AO16),\"=\",\"\"))","v":""},"","",null,"","",null,"","","","","","","","","","","","","","","",""]
[null,1,0,0,12,{"$f":"HLOOKUP(E18,womens_handbook,B3,FALSE)","v":11},{"$f":"IF(ISERROR(HLOOKUP(F18,'Declarations (F)'!$D$3:$S$31,B4,FALSE))=TRUE,\"\",HLOOKUP(F18,'Declarations (F)'!$D$3:$S$31,B4,FALSE))","v":"-"},"Altrincham & District AC",null,null,null,null,null,null,null,null,null,null,null,null,null,null,null,null,null,null,null,null,null,null,null,null,0,null,null,null,null,0,{"$f":"IF(OR(AL18=0,AL18=\"\"),\"\",IF(AL17=0,\"A\",IF(AL18>=AL17,\"B\",\"A\")))","v":""},{"$f":"IF(AL18=0,0,IF(AM18=\"B\",\"\",RANK(AY18,$AY7:$AY22,1)))","v":0},{"$f":"IF(AL18=0,0,IF(AM18=\"A\",\"\",RANK(AZ18,$AZ7:$AZ22,1)))","v":0},0,null,"","",{"$f":"IF(OR(AN18=0,AN18=\"\"),\"\",IF(OR(AN18=AN19,AN18=AN20,AN18=AN21,AN18=AN22,AN18=AN7,AN18=AN8,AN18=AN9,AN18=AN10,AN18=AN11,AN18=AN12,AN18=AN13,AN18=AN14,AN18=AN15,AN18=AN16,AN18=AN17),\"=\",\"\"))","v":""},null,"","",{"$f":"IF(OR(AO18=0,AO18=\"\"),\"\",IF(OR(AO18=AO19,AO18=AO20,AO18=AO21,AO18=AO22,AO18=AO7,AO18=AO8,AO18=AO9,AO18=AO10,AO18=AO11,AO18=AO12,AO18=AO13,AO18=AO14,AO18=AO15,AO18=AO16,AO18=AO17),\"=\",\"\"))","v":""},"","",null,"","",null,"","","","","","","","","","","","","","","",""]
[null,6,0,0,13,{"$f":"HLOOKUP(E19,womens_handbook,B3,FALSE)","v":6},{"$f":"IF(ISERROR(HLOOKUP(F19,'Declarations (F)'!$D$3:$S$31,B4,FALSE))=TRUE,\"\",HLOOKUP(F19,'Declarations (F)'!$D$3:$S$31,B4,FALSE))","v":"-"},"Warrington AC",null,null,null,null,null,null,null,null,null,null,null,null,null,null,null,null,null,null,null,null,null,null,null,null,0,null,null,null,null,0,{"$f":"IF(OR(AL19=0,AL19=\"\"),\"\",IF(AL20=0,\"A\",IF(AL19>AL20,\"B\",\"A\")))","v":""},{"$f":"IF(AL19=0,0,IF(AM19=\"B\",\"\",RANK(AY19,$AY7:$AY22,1)))","v":0},{"$f":"IF(AL19=0,0,IF(AM19=\"A\",\"\",RANK(AZ19,$AZ7:$AZ22,1)))","v":0},0,null,"","",{"$f":"IF(OR(AN19=0,AN19=\"\"),\"\",IF(OR(AN19=AN20,AN19=AN21,AN19=AN22,AN19=AN7,AN19=AN8,AN19=AN9,AN19=AN10,AN19=AN11,AN19=AN12,AN19=AN13,AN19=AN14,AN19=AN15,AN19=AN16,AN19=AN17,AN19=AN18),\"=\",\"\"))","v":""},null,"","",{"$f":"IF(OR(AO19=0,AO19=\"\"),\"\",IF(OR(AO19=AO20,AO19=AO21,AO19=AO22,AO19=AO7,AO19=AO8,AO19=AO9,AO19=AO10,AO19=AO11,AO19=AO12,AO19=AO13,AO19=AO14,AO19=AO15,AO19=AO16,AO19=AO17,AO19=AO18),\"=\",\"\"))","v":""},"","",null,"","",null,"","","","","","","","","","","","","","","",""]
[null,6,0,0,14,{"$f":"HLOOKUP(E20,womens_handbook,B3,FALSE)","v":66},{"$f":"IF(ISERROR(HLOOKUP(F20,'Declarations (F)'!$D$3:$S$31,B4,FALSE))=TRUE,\"\",HLOOKUP(F20,'Declarations (F)'!$D$3:$S$31,B4,FALSE))","v":"-"},"Warrington AC",null,null,null,null,null,null,null,null,null,null,null,null,null,null,null,null,null,null,null,null,null,null,null,null,0,null,null,null,null,0,{"$f":"IF(OR(AL20=0,AL20=\"\"),\"\",IF(AL19=0,\"A\",IF(AL20>=AL19,\"B\",\"A\")))","v":""},{"$f":"IF(AL20=0,0,IF(AM20=\"B\",\"\",RANK(AY20,$AY7:$AY22,1)))","v":0},{"$f":"IF(AL20=0,0,IF(AM20=\"A\",\"\",RANK(AZ20,$AZ7:$AZ22,1)))","v":0},0,null,"","",{"$f":"IF(OR(AN20=0,AN20=\"\"),\"\",IF(OR(AN20=AN21,AN20=AN22,AN20=AN7,AN20=AN8,AN20=AN9,AN20=AN10,AN20=AN11,AN20=AN12,AN20=AN13,AN20=AN14,AN20=AN15,AN20=AN16,AN20=AN17,AN20=AN18,AN20=AN19),\"=\",\"\"))","v":""},null,"","",{"$f":"IF(OR(AO20=0,AO20=\"\"),\"\",IF(OR(AO20=AO21,AO20=AO22,AO20=AO7,AO20=AO8,AO20=AO9,AO20=AO10,AO20=AO11,AO20=AO12,AO20=AO13,AO20=AO14,AO20=AO15,AO20=AO16,AO20=AO17,AO20=AO18,AO20=AO19),\"=\",\"\"))","v":""},"","",null,"","",null,"","","","","","","","","","","","","","","",""]
[null,0,0,0,15,{"$f":"HLOOKUP(E21,womens_handbook,B3,FALSE)","v":0},{"$f":"IF(ISERROR(HLOOKUP(F21,'Declarations (F)'!$D$3:$S$31,B4,FALSE))=TRUE,\"\",HLOOKUP(F21,'Declarations (F)'!$D$3:$S$31,B4,FALSE))","v":""},"",null,null,null,null,null,null,null,null,null,null,null,null,null,null,null,null,null,null,null,null,null,null,null,null,0,null,null,null,null,0,{"$f":"IF(OR(AL21=0,AL21=\"\"),\"\",IF(AL22=0,\"A\",IF(AL21>AL22,\"B\",\"A\")))","v":""},{"$f":"IF(AL21=0,0,IF(AM21=\"B\",\"\",RANK(AY21,$AY7:$AY22,1)))","v":0},{"$f":"IF(AL21=0,0,IF(AM21=\"A\",\"\",RANK(AZ21,$AZ7:$AZ22,1)))","v":0},0,null,"","",{"$f":"IF(OR(AN21=0,AN21=\"\"),\"\",IF(OR(AN21=AN22,AN21=AN7,AN21=AN8,AN21=AN9,AN21=AN10,AN21=AN11,AN21=AN12,AN21=AN13,AN21=AN14,AN21=AN15,AN21=AN16,AN21=AN17,AN21=AN18,AN21=AN19,AN21=AN20),\"=\",\"\"))","v":""},null,"","",{"$f":"IF(OR(AO21=0,AO21=\"\"),\"\",IF(OR(AO21=AO22,AO21=AO7,AO21=AO8,AO21=AO9,AO21=AO10,AO21=AO11,AO21=AO12,AO21=AO13,AO21=AO14,AO21=AO15,AO21=AO16,AO21=AO17,AO21=AO18,AO21=AO19,AO21=AO20),\"=\",\"\"))","v":""},"","",null,"","",null,"","","","","","","","","","","","","","","",""]
[null,0,0,0,16,{"$f":"HLOOKUP(E22,womens_handbook,B3,FALSE)","v":0},{"$f":"IF(ISERROR(HLOOKUP(F22,'Declarations (F)'!$D$3:$S$31,B4,FALSE))=TRUE,\"\",HLOOKUP(F22,'Declarations (F)'!$D$3:$S$31,B4,FALSE))","v":""},"",null,null,null,null,null,null,null,null,null,null,null,null,null,null,null,null,null,null,null,null,null,null,null,null,0,null,null,null,null,0,{"$f":"IF(OR(AL22=0,AL22=\"\"),\"\",IF(AL21=0,\"A\",IF(AL22>=AL21,\"B\",\"A\")))","v":""},{"$f":"IF(AL22=0,0,IF(AM22=\"B\",\"\",RANK(AY22,$AY7:$AY22,1)))","v":0},{"$f":"IF(AL22=0,0,IF(AM22=\"A\",\"\",RANK(AZ22,$AZ7:$AZ22,1)))","v":0},0,null,"","",{"$f":"IF(OR(AN22=0,AN22=\"\"),\"\",IF(OR(AN22=AN7,AN22=AN8,AN22=AN9,AN22=AN10,AN22=AN11,AN22=AN12,AN22=AN13,AN22=AN14,AN22=AN15,AN22=AN16,AN22=AN17,AN22=AN18,AN22=AN19,AN22=AN20,AN22=AN21),\"=\",\"\"))","v":""},null,"","",{"$f":"IF(OR(AO22=0,AO22=\"\"),\"\",IF(OR(AO22=AO7,AO22=AO8,AO22=AO9,AO22=AO10,AO22=AO11,AO22=AO12,AO22=AO13,AO22=AO14,AO22=AO15,AO22=AO16,AO22=AO17,AO22=AO18,AO22=AO19,AO22=AO20,AO22=AO21),\"=\",\"\"))","v":""},"","",null,"","",null,"","","","","","","","","","","","","","","",""]
[null,null,null,null,null,null,null,null,null,null,null,null,null,null,null,null,null,null,null,null,null,null,null,null,null,null,null,null,null,null,null,null,null,null,null,null,null,null,null,null,null,null,null,null,null,null,null,null,null,null,null,null,null,null,null,null,{"$f":"COUNTIF(BE7:BE22,BE6)","v":0},0,0,0,0,0,0,0,0,0,0,0,0,0,0,0]
[null,null,null,null,"\"A\" STRING RESULT",null,null,null,null,null,"\"B\" STRING RESULT",null,null,null,null,null,null,null,null,null,null,null,null,null,null,null,null,null,"JUDGES' SIGNATURES"]
[null,null,null,null,"Posn","No.","NAME","CLUB","HEIGHT",null,"Posn",null,"No.",null,"NAME",null,null,null,null,null,"CLUB",null,null,null,null,null,"HEIGHT"]
[null,null,null,1,{"$f":"IF(ISERROR(VLOOKUP(D26,$C$7:$AR$22,31,FALSE))=TRUE,\"\",IF(VLOOKUP(D26,$C$7:$AR$22,42,FALSE)=\"\",VLOOKUP(D26,$C$7:$AR$22,38,FALSE),CONCATENATE(VLOOKUP(D26,$C$7:$AR$22,38,FALSE),VLOOKUP(D26,$C$7:$AR$22,42,FALSE))))","v":""},{"$f":"IF(ISERROR(VLOOKUP(D26,$C$7:$AH$22,31,FALSE))=TRUE,\"\",IF(VLOOKUP(D26,$C$7:$AH$22,31,FALSE)=0,\"\",IF(VLOOKUP(D26,$C$7:$AH$22,31,FALSE)=99,99,IF(VLOOKUP(D26,$C$7:$AH$22,31,FALSE)=97,97,IF(VLOOKUP(D26,$C$7:$AH$22,31,FALSE)=96,96,VLOOKUP(D26,$C$7:$AH$22,4,FALSE))))))","v":""},{"$f":"IF(ISERROR(VLOOKUP(D26,$C$7:$AH$22,31,FALSE))=TRUE,\"\",VLOOKUP(D26,$C$7:$AH$22,5,FALSE))","v":""},{"$f":"IF(ISERROR(VLOOKUP(D26,$C$7:$AH$22,31,FALSE))=TRUE,\"\",VLOOKUP(D26,$C$7:$AH$22,6,FALSE))","v":""},{"$f":"IF(ISERROR(VLOOKUP(D26,$C$7:$AH$22,31,FALSE))=TRUE,\"\",IF(VLOOKUP(D26,C$7:AH$22,31,FALSE)=0,0,IF(VLOOKUP(D26,C$7:AH$22,31,FALSE)>95.99,\"\",VLOOKUP(D26,C$7:AH$22,31,FALSE))))","v":""},null,{"$f":"IF(ISERROR(VLOOKUP(D26,$D$7:$AV$22,30,FALSE))=TRUE,\"\",IF(VLOOKUP(D26,$D$7:$AV$22,45,FALSE)=\"\",VLOOKUP(D26,$D$7:$AV$22,38,FALSE),CONCATENATE(VLOOKUP(D26,$D$7:$AV$22,38,FALSE),VLOOKUP(D26,$D$7:$AV$22,45,FALSE))))","v":""},{"$f":"IF(ISERROR(VLOOKUP(K26,$C$7:$AR$22,31,FALSE))=TRUE,\"\",CONCATENATE(VLOOKUP(K26,$C$7:$AR$22,38,FALSE),VLOOKUP(K26,$C$7:$AR$22,42,FALSE)))","v":""},{"$f":"IF(ISERROR(VLOOKUP(D26,$D$7:$AH$22,30,FALSE))=TRUE,\"\",IF(VLOOKUP(D26,$D$7:$AH$22,30,FALSE)=0,\"\",VLOOKUP(D26,$D$7:$AH$22,3,FALSE)))","v":""},null,{"$f":"IF(ISERROR(VLOOKUP(D26,$D$7:$AH$22,30,FALSE))=TRUE,\"\",VLOOKUP(D26,$D$7:$AH$22,4,FALSE))","v":""},null,null,null,null,null,{"$f":"IF(ISERROR(VLOOKUP(D26,$D$7:$AH$22,30,FALSE))=TRUE,\"\",VLOOKUP(D26,$D$7:$AH$22,5,FALSE))","v":""},null,null,null,null,null,{"$f":"IF(ISERROR(VLOOKUP(D26,$D$7:$AH$22,30,FALSE))=TRUE,\"\",IF(VLOOKUP(D26,$D$7:$AH$22,30,FALSE)=0,\"\",VLOOKUP(D26,$D$7:$AH$22,30,FALSE)))","v":""}]
[null,null,null,2,"","","","","",null,"","","",null,"",null,null,null,null,null,"",null,null,null,null,null,""]
[null,null,null,3,"","","","","",null,"","","",null,"",null,null,null,null,null,"",null,null,null,null,null,""]
[null,null,null,4,"","","","","",null,"","","",null,"",null,null,null,null,null,"",null,null,null,null,null,""]
[null,null,null,5,"","","","","",null,"","","",null,"",null,null,null,null,null,"",null,null,null,null,null,""]
[null,null,null,6,"","","","","",null,"","","",null,"",null,null,null,null,null,"",null,null,null,null,null,"",null,"REFEREE'S SIGNATURE"]
[null,null,null,7,"","","","","",null,"","","",null,"",null,null,null,null,null,"",null,null,null,null,null,""]
[null,null,null,8,"","","","","",null,"","","",null,"",null,null,null,null,null,"",null,null,null,null,null,""]

{"sheet":"Scores","index":20,"n_rows":16,"n_cols":5,"rows_kept":16,"cut":false,"hidden":false,"merged":[[1,0,1,1]]}
[{"$f":"CONCATENATE('Match Day'!I8,\" \",'Match Day'!I10,\" - \",'Match Day'!I12)","v":"Division 4W Match 1 - Litherland"},null,null,null,"Home"]
[{"$f":"'Match Day'!I6","v":"2014-05-04"}]
[]
["Posn","Points after",{"$f":"Home!AG23","v":0},"event(s)"]
[]
[1,{"$f":"IF(AND(Points!$U$24=0,Points!$U$45=0),\"\",IF(ISERROR(HLOOKUP(A6,Points!$C$46:$R$52,2,FALSE)=TRUE),\"\",HLOOKUP(A6,Points!$C$46:$R$52,2,FALSE)))","v":""},{"$f":"IF(AND(Points!$U$24=0,Points!$U$45=0),\"\",IF(ISERROR(HLOOKUP(A6,Points!$C$46:$R$52,5,FALSE)=TRUE),\"\",HLOOKUP(A6,Points!$C$46:$R$52,5,FALSE)))","v":""}]
[2,{"$f":"IF(AND(Points!$U$24=0,Points!$U$45=0),\"\",IF(ISERROR(HLOOKUP(A7,Points!$C$46:$R$52,2,FALSE)=TRUE),\"\",HLOOKUP(A7,Points!$C$46:$R$52,2,FALSE)))","v":""},{"$f":"IF(AND(Points!$U$24=0,Points!$U$45=0),\"\",IF(ISERROR(HLOOKUP(A7,Points!$C$46:$R$52,5,FALSE)=TRUE),\"\",HLOOKUP(A7,Points!$C$46:$R$52,5,FALSE)))","v":""}]
[3,{"$f":"IF(AND(Points!$U$24=0,Points!$U$45=0),\"\",IF(ISERROR(HLOOKUP(A8,Points!$C$46:$R$52,2,FALSE)=TRUE),\"\",HLOOKUP(A8,Points!$C$46:$R$52,2,FALSE)))","v":""},{"$f":"IF(AND(Points!$U$24=0,Points!$U$45=0),\"\",IF(ISERROR(HLOOKUP(A8,Points!$C$46:$R$52,5,FALSE)=TRUE),\"\",HLOOKUP(A8,Points!$C$46:$R$52,5,FALSE)))","v":""}]
[4,{"$f":"IF(AND(Points!$U$24=0,Points!$U$45=0),\"\",IF(ISERROR(HLOOKUP(A9,Points!$C$46:$R$52,2,FALSE)=TRUE),\"\",HLOOKUP(A9,Points!$C$46:$R$52,2,FALSE)))","v":""},{"$f":"IF(AND(Points!$U$24=0,Points!$U$45=0),\"\",IF(ISERROR(HLOOKUP(A9,Points!$C$46:$R$52,5,FALSE)=TRUE),\"\",HLOOKUP(A9,Points!$C$46:$R$52,5,FALSE)))","v":""}]
[5,{"$f":"IF(AND(Points!$U$24=0,Points!$U$45=0),\"\",IF(ISERROR(HLOOKUP(A10,Points!$C$46:$R$52,2,FALSE)=TRUE),\"\",HLOOKUP(A10,Points!$C$46:$R$52,2,FALSE)))","v":""},{"$f":"IF(AND(Points!$U$24=0,Points!$U$45=0),\"\",IF(ISERROR(HLOOKUP(A10,Points!$C$46:$R$52,5,FALSE)=TRUE),\"\",HLOOKUP(A10,Points!$C$46:$R$52,5,FALSE)))","v":""}]
[6,{"$f":"IF(AND(Points!$U$24=0,Points!$U$45=0),\"\",IF(ISERROR(HLOOKUP(A11,Points!$C$46:$R$52,2,FALSE)=TRUE),\"\",HLOOKUP(A11,Points!$C$46:$R$52,2,FALSE)))","v":""},{"$f":"IF(AND(Points!$U$24=0,Points!$U$45=0),\"\",IF(ISERROR(HLOOKUP(A11,Points!$C$46:$R$52,5,FALSE)=TRUE),\"\",HLOOKUP(A11,Points!$C$46:$R$52,5,FALSE)))","v":""}]
[7,{"$f":"IF(AND(Points!$U$24=0,Points!$U$45=0),\"\",IF(ISERROR(HLOOKUP(A12,Points!$C$46:$R$52,2,FALSE)=TRUE),\"\",HLOOKUP(A12,Points!$C$46:$R$52,2,FALSE)))","v":""},{"$f":"IF(AND(Points!$U$24=0,Points!$U$45=0),\"\",IF(ISERROR(HLOOKUP(A12,Points!$C$46:$R$52,5,FALSE)=TRUE),\"\",HLOOKUP(A12,Points!$C$46:$R$52,5,FALSE)))","v":""}]
[8,{"$f":"IF(AND(Points!$U$24=0,Points!$U$45=0),\"\",IF(ISERROR(HLOOKUP(A13,Points!$C$46:$R$52,2,FALSE)=TRUE),\"\",HLOOKUP(A13,Points!$C$46:$R$52,2,FALSE)))","v":""},{"$f":"IF(AND(Points!$U$24=0,Points!$U$45=0),\"\",IF(ISERROR(HLOOKUP(A13,Points!$C$46:$R$52,5,FALSE)=TRUE),\"\",HLOOKUP(A13,Points!$C$46:$R$52,5,FALSE)))","v":""}]
[null,"Unused Team Points",{"$f":"Points!$S$48","v":0}]
[null,"Officials Points",{"$f":"Points!$S$49","v":0}]
[null,"Total",{"$f":"SUM(C6:C15)","v":0}]

{"sheet":"Rounds","index":21,"n_rows":13,"n_cols":12,"rows_kept":13,"cut":false,"hidden":false,"merged":[[3,1,3,2],[3,10,3,11],[0,10,0,11],[3,4,3,5],[3,7,3,8],[1,0,1,1]]}
[{"$f":"CONCATENATE('Match Day'!I8,\" \",'Match Day'!I10,\" - \",'Match Day'!I12)","v":"Division 4W Match 1 - Litherland"},null,null,null,null,null,null,null,null,null,"Home"]
[{"$f":"'Match Day'!I6","v":"2014-05-04"}]
[]
[null,"Match 1",null,null,"Match 2",null,null,"Match 3",null,null,"Overall"]
[null,"League","Match",null,"League","Match",null,"League","Match",null,"League","Match"]
[{"$f":"'Match Day'!$C$4","v":"Altrincham & District AC"},null,null,null,null,null,null,null,null,null,{"$f":"B6+E6+H6","v":0},0]
[{"$f":"'Match Day'!$C$6","v":"Crewe & Nantwich AC"},null,null,null,null,null,null,null,null,null,0,0]
[{"$f":"'Match Day'!$C$8","v":"Isle of Man \"B\""},null,null,null,null,null,null,null,null,null,0,0]
[{"$f":"'Match Day'!$C$10","v":"Salford Metropolitan AC"},null,null,null,null,null,null,null,null,null,0,0]
[{"$f":"'Match Day'!$C$12","v":"Southport Waterloo AC"},null,null,null,null,null,null,null,null,null,0,0]
[{"$f":"'Match Day'!$C$14","v":"Warrington AC"},null,null,null,null,null,null,null,null,null,0,0]
[{"$f":"'Match Day'!$C$16","v":"Wrexham AAC"},null,null,null,null,null,null,null,null,null,0,0]
[{"$f":"'Match Day'!$C$18","v":" "},null,null,null,null,null,null,null,null,null,0,0]

{"sheet":"Declarations (M)","index":22,"n_rows":58,"n_cols":20,"rows_kept":58,"cut":false,"hidden":false,"merged":[[1,17,1,18],[1,15,1,16],[1,11,1,12],[1,13,1,14],[1,3,1,4],[1,5,1,6],[1,7,1,8],[1,9,1,10]]}
[null,null,"Home"]
[null,null,"MEN'S",{"$f":"'Match Day'!C4","v":"Altrincham & District AC"},null,{"$f":"'Match Day'!C6","v":"Crewe & Nantwich AC"},null,{"$f":"'Match Day'!C8","v":"Isle of Man \"B\""},null,{"$f":"'Match Day'!C10","v":"Salford Metropolitan AC"},null,{"$f":"'Match Day'!C12","v":"Southport Waterloo AC"},null,{"$f":"'Match Day'!C14","v":"Warrington AC"},null,{"$f":"'Match Day'!C16","v":"Wrexham AAC"},null,{"$f":"'Match Day'!C18","v":" "},null,"Row"]
["Event ",null,"DECLARATIONS",{"$f":"'Match Day'!B4","v":1},{"$f":"D3*11","v":11},{"$f":"'Match Day'!B6","v":2},{"$f":"F3*11","v":22},{"$f":"'Match Day'!B8","v":3},{"$f":"H3*11","v":33},{"$f":"'Match Day'!B10","v":4},{"$f":"J3*11","v":44},{"$f":"'Match Day'!B12","v":5},{"$f":"L3*11","v":55},{"$f":"'Match Day'!B14","v":6},{"$f":"N3*11","v":66},{"$f":"'Match Day'!B16","v":7},{"$f":"P3*11","v":77},{"$f":"'Match Day'!B18","v":8},{"$f":"R3*11","v":88},1]
[null,null,null,"A","B","A","B","A","B","A","B","A","B","A","B","A","B","A","B",2]
[3,null,{"$f":"VLOOKUP(A5,Handbook!$A$4:$C$24,3,FALSE)","v":"Men's 100m"},"-","-","-","-","-","-","-","-","-","-","-","-","-","-","-","-",3]
[7,null,{"$f":"VLOOKUP(A6,Handbook!$A$4:$C$24,3,FALSE)","v":"Men's 200m"},"-","-","-","-","-","-","-","-","-","-","-","-","-","-","-","-",4]
[4,null,{"$f":"VLOOKUP(A7,Handbook!$A$4:$C$24,3,FALSE)","v":"Men's 400m"},"-","-","-","-","-","-","-","-","-","-","-","-","-","-","-","-",5]
[2,null,{"$f":"VLOOKUP(A8,Handbook!$A$4:$C$24,3,FALSE)","v":"Men's 800m"},"-","-","-","-","-","-","-","-","-","-","-","-","-","-","-","-",6]
[8,null,{"$f":"VLOOKUP(A9,Handbook!$A$4:$C$24,3,FALSE)","v":"Men's 1500m"},"-","-","-","-","-","-","-","-","-","-","-","-","-","-","-","-",7]
[5,null,{"$f":"VLOOKUP(A10,Handbook!$A$4:$C$24,3,FALSE)","v":"Men's 3000m S/Chase"},"-","-","-","-","-","-","-","-","-","-","-","-","-","-","-","-",8]
[21,null,{"$f":"VLOOKUP(A11,Handbook!$A$4:$C$24,3,FALSE)","v":"Men's 5000m"},"-","-","-","-","-","-","-","-","-","-","-","-","-","-","-","-",9]
[1,null,{"$f":"VLOOKUP(A12,Handbook!$A$4:$C$24,3,FALSE)","v":"Men's 400m Hurdles"},"-","-","-","-","-","-","-","-","-","-","-","-","-","-","-","-",10]
[6,null,{"$f":"VLOOKUP(A13,Handbook!$A$4:$C$24,3,FALSE)","v":"Men's 110m Hurdles"},"-","-","-","-","-","-","-","-","-","-","-","-","-","-","-","-",11]
[11,null,{"$f":"VLOOKUP(A14,Handbook!$A$4:$C$24,3,FALSE)","v":"Men's Hammer"},"-","-","-","-","-","-","-","-","-","-","-","-","-","-","-","-",12]
[12,null,{"$f":"VLOOKUP(A15,Handbook!$A$4:$C$24,3,FALSE)","v":"Men's Pole Vault"},"-","-","-","-","-","-","-","-","-","-","-","-","-","-","-","-",13]
[13,null,{"$f":"VLOOKUP(A16,Handbook!$A$4:$C$24,3,FALSE)","v":"Men's Long Jump"},"-","-","-","-","-","-","-","-","-","-","-","-","-","-","-","-",14]
[14,null,{"$f":"VLOOKUP(A17,Handbook!$A$4:$C$24,3,FALSE)","v":"Men's High Jump"},"-","-","-","-","-","-","-","-","-","-","-","-","-","-","-","-",15]
[15,null,{"$f":"VLOOKUP(A18,Handbook!$A$4:$C$24,3,FALSE)","v":"Men's Discus"},"-","-","-","-","-","-","-","-","-","-","-","-","-","-","-","-",16]
[16,null,{"$f":"VLOOKUP(A19,Handbook!$A$4:$C$24,3,FALSE)","v":"Men's Triple Jump"},"-","-","-","-","-","-","-","-","-","-","-","-","-","-","-","-",17]
[17,null,{"$f":"VLOOKUP(A20,Handbook!$A$4:$C$24,3,FALSE)","v":"Men's Shot Putt"},"-","-","-","-","-","-","-","-","-","-","-","-","-","-","-","-",18]
[18,null,{"$f":"VLOOKUP(A21,Handbook!$A$4:$C$24,3,FALSE)","v":"Men's Javelin"},"-","-","-","-","-","-","-","-","-","-","-","-","-","-","-","-",19]
[19,null,{"$f":"VLOOKUP(A22,Handbook!$A$4:$C$24,3,FALSE)","v":"Men's 100m Non Scoring"},"-","-","-","-","-","-","-","-","-","-","-","-","-","-","-","-",20]
[20,null,{"$f":"VLOOKUP(A23,Handbook!$A$4:$C$24,3,FALSE)","v":"Men's 400m Non Scoring"},"-","-","-","-","-","-","-","-","-","-","-","-","-","-","-","-",21]
[9,null,{"$f":"VLOOKUP(A24,Handbook!$A$4:$C$24,3,FALSE)","v":"Men's 4x100m Relay"},"-",null,"-",null,"-",null,"-",null,"-",null,"-",null,"-",null,"-",null,22]
[9,null,{"$f":"VLOOKUP(A25,Handbook!$A$4:$C$24,3,FALSE)","v":"Men's 4x100m Relay"},"-",null,"-",null,"-",null,"-",null,"-",null,"-",null,"-",null,"-",null,23]
[9,null,{"$f":"VLOOKUP(A26,Handbook!$A$4:$C$24,3,FALSE)","v":"Men's 4x100m Relay"},"-",null,"-",null,"-",null,"-",null,"-",null,"-",null,"-",null,"-",null,24]
[9,null,{"$f":"VLOOKUP(A27,Handbook!$A$4:$C$24,3,FALSE)","v":"Men's 4x100m Relay"},"-",null,"-",null,"-",null,"-",null,"-",null,"-",null,"-",null,"-",null,25]
[10,null,{"$f":"VLOOKUP(A28,Handbook!$A$4:$C$24,3,FALSE)","v":"Men's 4x400m Relay"},"-",null,"-",null,"-",null,"-",null,"-",null,"-",null,"-",null,"-",null,26]
[10,null,{"$f":"VLOOKUP(A29,Handbook!$A$4:$C$24,3,FALSE)","v":"Men's 4x400m Relay"},"-",null,"-",null,"-",null,"-",null,"-",null,"-",null,"-",null,"-",null,27]
[10,null,{"$f":"VLOOKUP(A30,Handbook!$A$4:$C$24,3,FALSE)","v":"Men's 4x400m Relay"},"-",null,"-",null,"-",null,"-",null,"-",null,"-",null,"-",null,"-",null,28]
[10,null,{"$f":"VLOOKUP(A31,Handbook!$A$4:$C$24,3,FALSE)","v":"Men's 4x400m Relay"},"-",null,"-",null,"-",null,"-",null,"-",null,"-",null,"-",null,"-",null,29]
[null,null,null,{"$f":"E5","v":"-"},{"$f":"D5","v":"-"},{"$f":"G5","v":"-"},{"$f":"F5","v":"-"},{"$f":"I5","v":"-"},{"$f":"H5","v":"-"},{"$f":"K5","v":"-"},{"$f":"J5","v":"-"},{"$f":"M5","v":"-"},{"$f":"L5","v":"-"},{"$f":"O5","v":"-"},{"$f":"N5","v":"-"},{"$f":"Q5","v":"-"},{"$f":"P5","v":"-"},{"$f":"S5","v":"-"},{"$f":"R5","v":"-"}]
[null,null,null,{"$f":"E6","v":"-"},{"$f":"D6","v":"-"},"-","-","-","-","-","-","-","-","-","-","-","-","-","-"]
[null,null,null,"-","-","-","-","-","-","-","-","-","-","-","-","-","-","-","-"]
[null,null,null,"-","-","-","-","-","-","-","-","-","-","-","-","-","-","-","-"]
[null,null,null,"-","-","-","-","-","-","-","-","-","-","-","-","-","-","-","-"]
[null,null,null,"-","-","-","-","-","-","-","-","-","-","-","-","-","-","-","-"]
[null,null,null,"-","-","-","-","-","-","-","-","-","-","-","-","-","-","-","-"]
[null,null,null,"-","-","-","-","-","-","-","-","-","-","-","-","-","-","-","-"]
[null,null,null,"-","-","-","-","-","-","-","-","-","-","-","-","-","-","-","-"]
[null,null,null,"-","-","-","-","-","-","-","-","-","-","-","-","-","-","-","-"]
[null,null,null,"-","-","-","-","-","-","-","-","-","-","-","-","-","-","-","-"]
[null,null,null,"-","-","-","-","-","-","-","-","-","-","-","-","-","-","-","-"]
[null,null,null,"-","-","-","-","-","-","-","-","-","-","-","-","-","-","-","-"]
[null,null,null,"-","-","-","-","-","-","-","-","-","-","-","-","-","-","-","-"]
[null,null,null,"-","-","-","-","-","-","-","-","-","-","-","-","-","-","-","-"]
[null,null,null,"-","-","-","-","-","-","-","-","-","-","-","-","-","-","-","-"]
[null,null,null,"-","-","-","-","-","-","-","-","-","-","-","-","-","-","-","-"]
[null,null,null,{"$f":"E24","v":0},"-",{"$f":"G24","v":0},"-",{"$f":"I24","v":0},"-",{"$f":"K24","v":0},"-",{"$f":"M24","v":0},"-",{"$f":"O24","v":0},"-",{"$f":"Q24","v":0},"-",{"$f":"S24","v":0},"-"]
[null,null,null,{"$f":"E25","v":0},"-",{"$f":"G25","v":0},"-",{"$f":"I25","v":0},"-",{"$f":"K25","v":0},"-",{"$f":"M25","v":0},"-",{"$f":"O25","v":0},"-",{"$f":"Q25","v":0},"-",{"$f":"S25","v":0},"-"]
[null,null,null,{"$f":"E26","v":0},"-",{"$f":"G26","v":0},"-",{"$f":"I26","v":0},"-",{"$f":"K26","v":0},"-",{"$f":"M26","v":0},"-",{"$f":"O26","v":0},"-",{"$f":"Q26","v":0},"-",{"$f":"S26","v":0},"-"]
[null,null,null,null,"-",null,"-",null,"-",null,"-",null,"-",null,"-",null,"-",null,"-"]
[null,null,null,null,"-",null,"-",null,"-",null,"-",null,"-",null,"-",null,"-",null,"-"]
[null,null,null,null,"-",null,"-",null,"-",null,"-",null,"-",null,"-",null,"-",null,"-"]
[null,null,null,null,"-",null,"-",null,"-",null,"-",null,"-",null,"-",null,"-",null,"-"]
[null,null,null,null,"-",null,"-",null,"-",null,"-",null,"-",null,"-",null,"-",null,"-"]
[null,null,null,null,"-",null,"-",null,"-",null,"-",null,"-",null,"-",null,"-",null,"-"]
[null,null,null,null,"-",null,"-",null,"-",null,"-",null,"-",null,"-",null,"-",null,"-"]

{"sheet":"Declarations (F)","index":23,"n_rows":58,"n_cols":20,"rows_kept":58,"cut":false,"hidden":false,"merged":[[1,3,1,4],[1,5,1,6],[1,7,1,8],[1,9,1,10],[1,17,1,18],[1,15,1,16],[1,11,1,12],[1,13,1,14]]}
[null,null,"Home"]
[null,null,"WOMENS",{"$f":"'Match Day'!C4","v":"Altrincham & District AC"},null,{"$f":"'Match Day'!C6","v":"Crewe & Nantwich AC"},null,{"$f":"'Match Day'!C8","v":"Isle of Man \"B\""},null,{"$f":"'Match Day'!C10","v":"Salford Metropolitan AC"},null,{"$f":"'Match Day'!C12","v":"Southport Waterloo AC"},null,{"$f":"'Match Day'!C14","v":"Warrington AC"},null,{"$f":"'Match Day'!C16","v":"Wrexham AAC"},null,{"$f":"'Match Day'!C18","v":" "},null,"Row"]
["Event ",null,"DECLARATIONS",{"$f":"'Match Day'!B4","v":1},{"$f":"D3*11","v":11},{"$f":"'Match Day'!B6","v":2},{"$f":"F3*11","v":22},{"$f":"'Match Day'!B8","v":3},{"$f":"H3*11","v":33},{"$f":"'Match Day'!B10","v":4},{"$f":"J3*11","v":44},{"$f":"'Match Day'!B12","v":5},{"$f":"L3*11","v":55},{"$f":"'Match Day'!B14","v":6},{"$f":"N3*11","v":66},{"$f":"'Match Day'!B16","v":7},{"$f":"P3*11","v":77},{"$f":"'Match Day'!B18","v":8},{"$f":"R3*11","v":88},1]
[null,null,null,"A","B","A","B","A","B","A","B","A","B","A","B","A","B","A","B",2]
[3,null,{"$f":"VLOOKUP(A5,Handbook!$A$26:$AK$46,3,FALSE)","v":"Women's 100m"},"-","-","-","-","-","-","-","-","-","-","-","-","-","-","-","-",3]
[7,null,{"$f":"VLOOKUP(A6,Handbook!$A$26:$AK$46,3,FALSE)","v":"Women's 200m"},"-","-","-","-","-","-","-","-","-","-","-","-","-","-","-","-",4]
[4,null,{"$f":"VLOOKUP(A7,Handbook!$A$26:$AK$46,3,FALSE)","v":"Women's 400m"},"-","-","-","-","-","-","-","-","-","-","-","-","-","-","-","-",5]
[2,null,{"$f":"VLOOKUP(A8,Handbook!$A$26:$AK$46,3,FALSE)","v":"Women's 800m"},"-","-","-","-","-","-","-","-","-","-","-","-","-","-","-","-",6]
[8,null,{"$f":"VLOOKUP(A9,Handbook!$A$26:$AK$46,3,FALSE)","v":"Women's 1500m"},"-","-","-","-","-","-","-","-","-","-","-","-","-","-","-","-",7]
[5,null,{"$f":"VLOOKUP(A10,Handbook!$A$26:$AK$46,3,FALSE)","v":"Women's 1500m S/Chase"},"-","-","-","-","-","-","-","-","-","-","-","-","-","-","-","-",8]
[21,null,{"$f":"VLOOKUP(A11,Handbook!$A$26:$AK$46,3,FALSE)","v":"Women's 3000m"},"-","-","-","-","-","-","-","-","-","-","-","-","-","-","-","-",9]
[1,null,{"$f":"VLOOKUP(A12,Handbook!$A$26:$AK$46,3,FALSE)","v":"Women's 400m Hurdles"},"-","-","-","-","-","-","-","-","-","-","-","-","-","-","-","-",10]
[6,null,{"$f":"VLOOKUP(A13,Handbook!$A$26:$AK$46,3,FALSE)","v":"Women's 100m Hurdles"},"-","-","-","-","-","-","-","-","-","-","-","-","-","-","-","-",11]
[11,null,{"$f":"VLOOKUP(A14,Handbook!$A$26:$AK$46,3,FALSE)","v":"Women's Hammer"},"-","-","-","-","-","-","-","-","-","-","-","-","-","-","-","-",12]
[12,null,{"$f":"VLOOKUP(A15,Handbook!$A$26:$AK$46,3,FALSE)","v":"Women's Pole Vault"},"-","-","-","-","-","-","-","-","-","-","-","-","-","-","-","-",13]
[13,null,{"$f":"VLOOKUP(A16,Handbook!$A$26:$AK$46,3,FALSE)","v":"Women's Long Jump"},"-","-","-","-","-","-","-","-","-","-","-","-","-","-","-","-",14]
[14,null,{"$f":"VLOOKUP(A17,Handbook!$A$26:$AK$46,3,FALSE)","v":"Women's High Jump"},"-","-","-","-","-","-","-","-","-","-","-","-","-","-","-","-",15]
[15,null,{"$f":"VLOOKUP(A18,Handbook!$A$26:$AK$46,3,FALSE)","v":"Women's Discus"},"-","-","-","-","-","-","-","-","-","-","-","-","-","-","-","-",16]
[16,null,{"$f":"VLOOKUP(A19,Handbook!$A$26:$AK$46,3,FALSE)","v":"Women's Triple Jump"},"-","-","-","-","-","-","-","-","-","-","-","-","-","-","-","-",17]
[17,null,{"$f":"VLOOKUP(A20,Handbook!$A$26:$AK$46,3,FALSE)","v":"Women's Shot Putt"},"-","-","-","-","-","-","-","-","-","-","-","-","-","-","-","-",18]
[18,null,{"$f":"VLOOKUP(A21,Handbook!$A$26:$AK$46,3,FALSE)","v":"Women's Javelin"},"-","-","-","-","-","-","-","-","-","-","-","-","-","-","-","-",19]
[19,null,{"$f":"VLOOKUP(A22,Handbook!$A$26:$AK$46,3,FALSE)","v":"Women's 100m Non Scoring"},"-","-","-","-","-","-","-","-","-","-","-","-","-","-","-","-",20]
[20,null,{"$f":"VLOOKUP(A23,Handbook!$A$26:$AK$46,3,FALSE)","v":"Women's 400m Non Scoring"},"-","-","-","-","-","-","-","-","-","-","-","-","-","-","-","-",21]
[9,null,{"$f":"VLOOKUP(A24,Handbook!$A$26:$AK$46,3,FALSE)","v":"Women's 4x100m Relay"},"-",null,"-",null,"-",null,"-",null,"-",null,"-",null,"-",null,"-",null,22]
[9,null,{"$f":"VLOOKUP(A25,Handbook!$A$26:$AK$46,3,FALSE)","v":"Women's 4x100m Relay"},"-",null,"-",null,"-",null,"-",null,"-",null,"-",null,"-",null,"-",null,23]
[9,null,{"$f":"VLOOKUP(A26,Handbook!$A$26:$AK$46,3,FALSE)","v":"Women's 4x100m Relay"},"-",null,"-",null,"-",null,"-",null,"-",null,"-",null,"-",null,"-",null,24]
[9,null,{"$f":"VLOOKUP(A27,Handbook!$A$26:$AK$46,3,FALSE)","v":"Women's 4x100m Relay"},"-",null,"-",null,"-",null,"-",null,"-",null,"-",null,"-",null,"-",null,25]
[10,null,{"$f":"VLOOKUP(A28,Handbook!$A$26:$AK$46,3,FALSE)","v":"Women's 4x400m Relay"},"-",null,"-",null,"-",null,"-",null,"-",null,"-",null,"-",null,"-",null,26]
[10,null,{"$f":"VLOOKUP(A29,Handbook!$A$26:$AK$46,3,FALSE)","v":"Women's 4x400m Relay"},"-",null,"-",null,"-",null,"-",null,"-",null,"-",null,"-",null,"-",null,27]
[10,null,{"$f":"VLOOKUP(A30,Handbook!$A$26:$AK$46,3,FALSE)","v":"Women's 4x400m Relay"},"-",null,"-",null,"-",null,"-",null,"-",null,"-",null,"-",null,"-",null,28]
[10,null,{"$f":"VLOOKUP(A31,Handbook!$A$26:$AK$46,3,FALSE)","v":"Women's 4x400m Relay"},"-",null,"-",null,"-",null,"-",null,"-",null,"-",null,"-",null,"-",null,29]
[null,null,null,{"$f":"E5","v":"-"},{"$f":"D5","v":"-"},{"$f":"G5","v":"-"},{"$f":"F5","v":"-"},{"$f":"I5","v":"-"},{"$f":"H5","v":"-"},{"$f":"K5","v":"-"},{"$f":"J5","v":"-"},{"$f":"M5","v":"-"},{"$f":"L5","v":"-"},{"$f":"O5","v":"-"},{"$f":"N5","v":"-"},{"$f":"Q5","v":"-"},{"$f":"P5","v":"-"},{"$f":"S5","v":"-"},{"$f":"R5","v":"-"}]
[null,null,null,{"$f":"E6","v":"-"},{"$f":"D6","v":"-"},"-","-",{"$f":"I6","v":"-"},{"$f":"H6","v":"-"},{"$f":"K6","v":"-"},{"$f":"J6","v":"-"},{"$f":"M6","v":"-"},{"$f":"L6","v":"-"},{"$f":"O6","v":"-"},{"$f":"N6","v":"-"},{"$f":"Q6","v":"-"},{"$f":"P6","v":"-"},{"$f":"S6","v":"-"},{"$f":"R6","v":"-"}]
[null,null,null,"-","-","-","-","-","-","-","-","-","-","-","-","-","-","-","-"]
[null,null,null,"-","-","-","-","-","-","-","-","-","-","-","-","-","-","-","-"]
[null,null,null,"-","-","-","-","-","-","-","-","-","-","-","-","-","-","-","-"]
[null,null,null,"-","-","-","-","-","-","-","-","-","-","-","-","-","-","-","-"]
[null,null,null,"-","-","-","-","-","-","-","-","-","-","-","-","-","-","-","-"]
[null,null,null,"-","-","-","-","-","-","-","-","-","-","-","-","-","-","-","-"]
[null,null,null,"-","-","-","-","-","-","-","-","-","-","-","-","-","-","-","-"]
[null,null,null,"-","-","-","-","-","-","-","-","-","-","-","-","-","-","-","-"]
[null,null,null,"-","-","-","-","-","-","-","-","-","-","-","-","-","-","-","-"]
[null,null,null,"-","-","-","-","-","-","-","-","-","-","-","-","-","-","-","-"]
[null,null,null,"-","-","-","-","-","-","-","-","-","-","-","-","-","-","-","-"]
[null,null,null,"-","-","-","-","-","-","-","-","-","-","-","-","-","-","-","-"]
[null,null,null,"-","-","-","-","-","-","-","-","-","-","-","-","-","-","-","-"]
[null,null,null,"-","-","-","-","-","-","-","-","-","-","-","-","-","-","-","-"]
[null,null,null,"-","-","-","-","-","-","-","-","-","-","-","-","-","-","-","-"]
[null,null,null,{"$f":"E24","v":0},{"$f":"D22","v":"-"},{"$f":"G24","v":0},"-",{"$f":"I24","v":0},"-",{"$f":"K24","v":0},"-",{"$f":"M24","v":0},"-",{"$f":"O24","v":0},"-",{"$f":"Q24","v":0},"-",{"$f":"S24","v":0},"-"]
[null,null,null,{"$f":"E25","v":0},"-",{"$f":"G25","v":0},"-",{"$f":"I25","v":0},"-",{"$f":"K25","v":0},"-",{"$f":"M25","v":0},"-",{"$f":"O25","v":0},"-",{"$f":"Q25","v":0},"-",{"$f":"S25","v":0},"-"]
[null,null,null,{"$f":"E26","v":0},"-",{"$f":"G26","v":0},"-",{"$f":"I26","v":0},"-",{"$f":"K26","v":0},"-",{"$f":"M26","v":0},"-",{"$f":"O26","v":0},"-",{"$f":"Q26","v":0},"-",{"$f":"S26","v":0},"-"]
[null,null,null,null,"-",null,"-",null,"-",null,"-",null,"-",null,"-",null,"-",null,"-"]
[null,null,null,null,"-",null,"-",null,"-",null,"-",null,"-",null,"-",null,"-",null,"-"]
[null,null,null,null,"-",null,"-",null,"-",null,"-",null,"-",null,"-",null,"-",null,"-"]
[null,null,null,null,"-",null,"-",null,"-",null,"-",null,"-",null,"-",null,"-",null,"-"]
[null,null,null,null,"-",null,"-",null,"-",null,"-",null,"-",null,"-",null,"-",null,"-"]
[null,null,null,null,"-",null,"-",null,"-",null,"-",null,"-",null,"-",null,"-",null,"-"]
[null,null,null,null,"-",null,"-",null,"-",null,"-",null,"-",null,"-",null,"-",null,"-"]

{"sheet":"Match Day","index":24,"n_rows":30,"n_cols":9,"rows_kept":30,"cut":false,"hidden":false,"merged":[[19,1,19,5],[20,2,20,3],[11,8,11,10],[1,2,1,4],[3,2,3,4],[5,2,5,4],[7,2,7,4],[3,8,3,10],[9,2,9,4],[5,8,5,10],[7,8,7,10],[9,8,9,10],[17,2,17,4],[11,2,11,4],[13,2,13,4],[15,2,15,4]]}
["Home"]
[null,"Number","Competing Clubs",null,null,"Abbr. Name"]
[]
[1,1,"Altrincham & District AC",null,null,"Altrincham",null,"LEAGUE","Northern T&F League"]
[]
[2,2,"Crewe & Nantwich AC",null,null,"Crewe",null,"DATE","2014-05-04"]
[]
[3,3,"Isle of Man \"B\"",null,null,"IoM",null,"DIVISION","Division 4W"]
[]
[4,4,"Salford Metropolitan AC",null,null,"Salford",null,"MATCH","Match 1"]
[]
[5,5,"Southport Waterloo AC",null,null,"Southport",null,"VENUE","Litherland"]
[]
[6,6,"Warrington AC",null,null,"Warrington"]
[]
[7,7,"Wrexham AAC",null,null,"Wrexham",null,"If no 7th team in Cell B16 hit space bar once in 'Competing Clubs' column"]
[]
[8,8," ",null,null," ",null,"If no 8th team in Cell B18 hit space bar once in 'Competing Clubs' column."]
[]
[null,"SCORING TABLES"]
[null,null,"Match Points",null,null,"League"]
[null,"Position","A String","B String"]
[null,"1st",10,8,null,7]
[null,"2nd",8,6,null,6]
[null,"3rd",7,5,null,5]
[null,"4th",6,4,null,4]
[null,"5th",5,3,null,3]
[null,"6th",4,2,null,2]
[null,"7th",3,1,null,1]
[null,"8th"]

{"sheet":"Handbook","index":25,"n_rows":46,"n_cols":37,"rows_kept":46,"cut":false,"hidden":false,"merged":[[1,29,1,32],[1,11,1,18],[1,25,1,28],[0,0,0,2],[0,19,0,21],[0,12,0,14],[0,3,0,5],[1,3,1,10],[1,22,1,24]]}
["North of England T&F League",null,null,"Home",null,null,null,null,null,null,null,null,"Home",null,null,null,null,null,null,"Home"]
["Event \nNo","Time","Event","Order of Competition A",null,null,null,null,null,null,null,"Order of Competition B",null,null,null,null,null,null,null,"Standards","League\nRecords","Divisional\nRecords","AAA Grades",null,null,"League Record Holders",null,null,null,"Division Record Holders",null,null,null,"T/F","Wind\nReadings","D/H","Row"]
[null,null,null,1,2,3,4,5,6,7,8,9,10,11,12,13,14,15,16,"(metres)",null,null,"AW B",2,3,"Athlete","Club","Performance","Year","Athlete","Club","Performance","Year",null,null,null,1]
[1,"13:10:00","Men's 400m Hurdles",{"$f":"D6","v":2},{"$f":"E6","v":5},7,4,6,3,1,0,{"$f":"D4*11","v":22},{"$f":"E4*11","v":55},77,44,66,33,11,0,null,50.5,50.5,63,58,58,"Peter Crampton","Spenborough & Dist","50.5s",1995,"-","-","-","-","T",null,null,2]
[2,"13:35:00","Men's 800m",3,1,4,6,5,7,2,null,{"$f":"D5*11","v":33},11,44,66,55,77,22,0,null,"00:01:46.100","00:01:46.100","00:02:04","00:02:00","00:02:00","Andrew Carter","Stretford AC","00:01:46.100",1971,"-","-","-","-","T",null,null,3]
[3,"13:55:00","Men's 100m",2,5,7,4,6,3,1,null,22,55,77,44,66,33,11,0,null,10.6,10.6,11.5,11.3,11.3,"Chris Tomlinson","Mandale H & AC","10.6s",2001,"-","-","-","-","T","Y",null,4]
[4,"15:15:00","Men's 400m",4,3,5,1,2,6,7,null,44,33,55,11,22,66,77,0,null,46.7,46.7,53,51,51,"Mark Sesay","Leeds City AC","46.7s",1997,"-","-","-","-","T",null,null,5]
[5,"14:05:00","Men's 3000m S/Chase",7,2,6,5,1,4,3,null,77,22,66,55,11,44,33,0,null,"00:08:32.700","00:08:32.700","11:00:00","00:10:00","00:10:00","Denis Coates","Gateshead H & AC","00:08:32.700",1980,"-","-","-","-","T",null,null,6]
[6,"14:55:00","Men's 110m Hurdles",2,5,7,4,6,3,1,null,22,55,77,44,66,33,11,0,null,14.4,14.4,18,16,16,"Kevin Lumsden","Morpeth H & AC","14.4s",1994,"-","-","-","-","T","Y",null,7]
[7,"15:55:00","Men's 200m",5,4,2,3,7,1,6,null,55,44,22,33,77,11,66,0,null,21,21,23.4,23,23,"Luke Evans","Blackburn Harriers",21,2010,"-","-","-","-","T","Y",null,8]
[8,"15:20:00","Men's 1500m",1,6,3,7,4,2,5,null,11,66,33,77,44,22,55,0,null,"00:03:42","00:03:42","04:20:00","00:04:08","00:04:08","Steve Cram","Jarrow & Hebburn AC","00:03:42",1991,"-","-","-","-","T",null,null,9]
[9,"16:40:00","Men's 4x100m Relay",6,1,7,3,2,4,5,null,null,null,null,null,null,null,null,null,null,42.3,42.3,44,44,44,"-","Wigan & Dist H","42.3s",1995,"-","-","-","-","T",null,null,10]
[10,"17:00:00","Men's 4x400m Relay",7,6,2,1,5,3,4,null,null,null,null,null,null,null,null,null,null,"00:03:13.400","00:03:13.400","00:03:26","00:03:26","00:03:26","-","Wigan & Dist H","00:03:13.400",1995,"-","-","-","-","T",null,null,11]
[11,"11:30:00","Men's Hammer",2,{"$f":"D14*11","v":22},5,{"$f":"F14*11","v":55},7,{"$f":"H14*11","v":77},4,{"$f":"J14*11","v":44},6,{"$f":"L14*11","v":66},3,{"$f":"N14*11","v":33},1,{"$f":"P14*11","v":11},null,{"$f":"R14*11","v":0},25,72.94,72.94,26,40,40,"David Smith","Hull Spartan AC","72.94m",1988,"-","-","-","-","F",null,"D",12]
[12,"11:30:00","Men's Pole Vault",5,{"$f":"D15*11","v":55},4,{"$f":"F15*11","v":44},2,{"$f":"H15*11","v":22},3,{"$f":"J15*11","v":33},7,{"$f":"L15*11","v":77},1,{"$f":"N15*11","v":11},6,{"$f":"P15*11","v":66},null,{"$f":"R15*11","v":0},2.1,5.3,5.15,3,3.7,3.7,"Luke Cutts","City of Sheffield AC",5.3,2008,"-","-","-","-","F",null,"H",13]
[13,"13:00:00","Men's Long Jump",4,44,3,33,5,55,1,11,2,22,6,66,7,77,null,0,5.5,7.6,7.6,5.8,6.5,6.5,"Chris Kirk","Wakefield & District","7.60m",2003,"-","-","-","-","F",null,"D",14]
[14,"13:45:00","Men's High Jump",3,33,1,11,4,44,6,66,5,55,7,77,2,22,null,0,1.4,2.2000000000000002,2.2000000000000002,1.73,1.9,1.9,"Brian Hall","Bolton Utd Harriers","2.20m",2007,"-","-","-","-","F",null,"H",15]
[15,"13:30:00","Men's Discus",1,11,6,66,3,33,7,77,4,44,2,22,5,55,null,0,25,60.19,60.19,28,35,35,"Carl Myerscough","Blackpool & Fylde AC","60.19m",1998,"-","-","-","-","F",null,"D",16]
[16,"15:35:00","Men's Triple Jump",6,66,7,77,1,11,2,22,3,33,5,55,4,44,null,0,10,17.43,17.43,11.8,13,13,"Jonathan Edwards","Gateshead H & AC","17.43m",1991,"-","-","-","-","F",null,"D",17]
[17,"15:05:00","Men's Shot Putt",7,77,2,22,6,66,5,55,1,11,4,44,3,33,null,0,9,18.86,18.86,10,13,13,"Carl Myerscough","Blackpool & Fylde AC","18.86m",2007,"-","-","-","-","F",null,"D",18]
[18,"15:20:00","Men's Javelin",2,22,7,77,5,55,6,66,4,44,1,11,3,33,null,0,35,74.72,74.72,37,50,50,"Mick Hill","Leeds City AC","74.72m",2004,"-","-","-","-","F",null,"D",19]
[19,"14:00:00","Men's 100m Non Scoring",null,null,null,null,null,null,null,null,null,null,null,null,null,null,null,null,null,10.6,10.6,11.5,11.3,11.3,{"$f":"Z6","v":"Chris Tomlinson"},"Mandale H & AC","10.6s",2001,"-","-","-","-","T","Y",null,20]
[20,"14:20:00","Men's 400m Non Scoring",null,null,null,null,null,null,null,null,null,null,null,null,null,null,null,null,null,51.7,51.7,51,51,51,"Mark Sesay","Leeds City AC","46.7s",1997,"-","-","-","-","T",null,null,21]
[21,"16:05:00","Men's 5000m",6,7,1,2,3,5,4,null,{"$f":"D24*11","v":66},{"$f":"E24*11","v":77},11,22,33,55,44,0,null,"00:13:45.800","00:13:45.800","00:16:45","00:16:30","00:16:30","Steve Kenyon","Bolton Utd Harriers","00:13:45.800",1979,"-","-","-","-","T",null,null,22]
[null,null,null,1,2,3,4,5,6,7,8,9,10,11,12,13,14,15,16,null,null,null,null,null,null,null,null,null,null,null,null,null,null,null,null,null,1]
[1,"13:00:00","Women's 400m Hurdles",{"$f":"D4","v":2},{"$f":"E4","v":5},7,4,6,3,1,0,22,55,77,44,66,33,11,0,null,58.8,58.8,74,70,70,"V Boden","Hallamshire","58.80s",1987,"-","-","-","-","T",null,null,2]
[2,"13:25:00","Women's 800m",{"$f":"D5","v":3},{"$f":"E5","v":1},4,6,5,7,2,0,33,11,44,66,55,77,22,0,null,"00:02:04.300","00:02:04.300","00:02:27","00:02:25","00:02:25","C Cahill","Gateshead H & AC","00:02:04.300",1988,"-","-","-","-","T",null,null,3]
[3,"13:45:00","Women's 100m",{"$f":"D6","v":2},{"$f":"E6","v":5},7,4,6,3,1,0,22,55,77,44,66,33,11,0,null,11.6,11.6,13.2,13,13,"L Stuart","Middlesbrough","11.6s","1998/91","-","-","-","-","T","Y",null,4]
[4,"15:05:00","Women's 400m",{"$f":"D7","v":4},{"$f":"E7","v":3},5,1,2,6,7,0,44,33,55,11,22,66,77,0,null,53.7,53.7,64,62,62,"Joselyn Hoyte-Smith","Dorothy Hyman Track Club","53.7s","1976/80","-","-","-","-","T",null,null,5]
[5,"16:05:00","Women's 1500m S/Chase",{"$f":"D8","v":7},{"$f":"E8","v":2},6,5,1,4,3,0,77,22,66,55,11,44,33,0,null,"-","-","00:07:00","00:10:00","00:10:00","-","-","-","-","-","-","-","-","T",null,null,6]
[6,"14:25:00","Women's 100m Hurdles",{"$f":"D9","v":2},{"$f":"E9","v":5},7,4,6,3,1,0,22,55,77,44,66,33,11,0,null,12.5,12.5,18,16.5,16.5,"H Platt","Warrington AC","12.5s",1985,"-","-","-","-","T","Y",null,7]
[7,"15:45:00","Women's 200m",5,{"$f":"E10","v":4},2,3,7,1,6,0,55,44,22,33,77,11,66,0,null,23.3,23.3,27,27,27,"L Stuart","Middlesbrough","23.3s",1991,"-","-","-","-","T","Y",null,8]
[8,"15:35:00","Women's 1500m",1,{"$f":"E11","v":6},3,7,4,2,5,0,11,66,33,77,44,22,55,0,null,"00:04:07.600","00:04:07.600","00:05:05","00:05:00","00:05:00","J Scott","Darlington","00:04:07.600",1987,"-","-","-","-","T",null,null,9]
[9,"16:30:00","Women's 4x100m Relay",6,{"$f":"E12","v":1},7,3,2,4,5,0,null,null,null,null,null,null,null,null,null,48.2,48.2,52,52,52,"-","Rotherham H & AC","48.2s",1994,"-","-","-","-","T",null,null,10]
[10,"16:50:00","Women's 4x400m Relay",7,{"$f":"E13","v":6},2,1,5,3,4,0,null,null,null,null,null,null,null,null,null,"00:03:52","00:03:52","00:04:15","00:04:15","00:04:15","-","Wigan","00:03:52",1987,"-","-","-","-","T",null,null,11]
[11,"12:30:00","Women's Hammer",2,{"$f":"E14","v":22},5,55,7,77,4,44,6,66,3,33,1,11,0,0,20,64.930000000000007,64.930000000000007,25,30,30,"Sophie Hitchin","Blackburn Harriers",64.930000000000007,2010,"-","-","-","-","F",null,"D",12]
[12,"11:30:00","Women's Pole Vault",5,{"$f":"E15","v":55},4,44,2,22,3,33,7,77,1,11,6,66,0,0,1.7,4.01,4.01,2.2999999999999998,2.25,2.25,"Janine Whitlock","Trafford","4.01m",1997,"-","-","-","-","F",null,"H",13]
[13,"11:30:00","Women's Long Jump",4,{"$f":"E16","v":44},3,33,5,55,1,11,2,22,6,66,7,77,0,0,4,6.39,6.39,4.75,5,5,"S Hearnshaw","Hull Spartan AC","6.39m",1984,"-","-","-","-","F",null,"D",14]
[14,"15:20:00","Women's High Jump",3,{"$f":"E17","v":33},1,11,4,44,6,66,5,55,7,77,2,22,0,0,1.1000000000000001,1.86,1.86,1.5,1.55,1.55,"J Little","Border Harriers","1.86m",1986,"-","-","-","-","F",null,"H",15]
[15,"14:30:00","Women's Discus",1,{"$f":"E18","v":11},6,66,3,33,7,77,4,44,2,22,5,55,0,0,25,54.96,54.96,25,30,30,"Kara Nwidobie","Blackpool & Fylde AC","54.96m",2007,"-","-","-","-","F",null,"D",16]
[16,"14:00:00","Women's Triple Jump",6,{"$f":"E19","v":66},7,77,1,11,2,22,3,33,5,55,4,44,0,0,8,12.05,12.05,9.5,10,10,"C Miller","Preston ","12.05m",1994,"-","-","-","-","F",null,"D",17]
[17,"13:45:00","Women's Shot Putt",7,{"$f":"E20","v":77},2,22,6,66,5,55,1,11,4,44,3,33,0,0,8,16.16,16.16,8.3000000000000007,10,10,"Y Hanson-Nortey","Hallamshire","16.16m",1987,"-","-","-","-","F",null,"D",18]
[18,"16:10:00","Women's Javelin",2,{"$f":"E21","v":22},7,77,5,55,6,66,4,44,1,11,3,33,0,0,25,49.5,49.5,25,30,30,"C White","Border Harriers","49.50m",1987,"-","-","-","-","F",null,"D",19]
[19,"14:00:00","Women's 100m Non Scoring",null,null,null,null,null,null,null,null,null,null,null,null,null,null,null,null,null,11.6,11.6,13.2,13,13,"L Stuart","Middlesbrough","11.6s","1998/91","-","-","-","-","T","Y",null,20]
[20,"14:20:00","Women's 400m Non Scoring",null,null,null,null,null,null,null,null,null,null,null,null,null,null,null,null,null,51.7,51.7,62,62,62,"-","-","-","-","-","-","-","-","T",null,null,21]
[21,"14:35:00","Women's 3000m",{"$f":"D24","v":6},{"$f":"E24","v":7},1,2,3,5,4,0,66,77,11,22,33,55,44,0,null,"00:09:25","00:09:25","00:11:30","00:11:00","00:11:00","A Hulley","Leeds City AC","00:09:25",1990,"-","-","-","-","T",null,null,22]

{"sheet":"Track Lists","index":26,"n_rows":219,"n_cols":8,"rows_kept":219,"cut":false,"hidden":false,"merged":[[206,2,206,4],[0,2,0,4],[1,2,1,3]]}
[null,null,{"$f":"CONCATENATE('Match Day'!I8,\" \",'Match Day'!I10,\" - \",'Match Day'!I12)","v":"Division 4W Match 1 - Litherland"},null,null,null,null,"Home"]
[null,null,{"$f":"'Match Day'!I6","v":"2014-05-04"}]
[1,null,{"$f":"CONCATENATE(VLOOKUP(A3,mens_handbook,3,FALSE),\" - A String\")","v":"Men's 400m Hurdles - A String"},null,null,"Time:",{"$f":"VLOOKUP(A3,Handbook!$A$4:$B$24,2,FALSE)","v":"13:10:00"}]
[{"$f":"VLOOKUP(A3,mens_handbook,37,FALSE)","v":2},null,"Lane","Number","Athlete","Club"]
[{"$f":"VLOOKUP(A3,mens_declare,20,FALSE)","v":10},{"$f":"IF(D5=\"\",\"\",IF(D5>10,D5/11,D5))","v":2},1,{"$f":"HLOOKUP(C5,mens_handbook,A4,FALSE)","v":2},{"$f":"IF(ISERROR(HLOOKUP(D5,mens_declare,A5,FALSE))=TRUE,\"\",HLOOKUP(D5,mens_declare,A5,FALSE))","v":"-"},{"$f":"IF(ISERROR(VLOOKUP(B5,'Match Day'!$B$4:$C$18,2,FALSE))=TRUE,\"\",VLOOKUP(B5,'Match Day'!$B$4:$C$18,2,FALSE))","v":"Crewe & Nantwich AC"}]
[null,{"$f":"IF(D6=\"\",\"\",IF(D6>10,D6/11,D6))","v":5},2,{"$f":"HLOOKUP(C6,mens_handbook,A4,FALSE)","v":5},{"$f":"IF(ISERROR(HLOOKUP(D6,mens_declare,A5,FALSE))=TRUE,\"\",HLOOKUP(D6,mens_declare,A5,FALSE))","v":"-"},{"$f":"IF(ISERROR(VLOOKUP(B6,matchday,2,FALSE))=TRUE,\"\",VLOOKUP(B6,matchday,2,FALSE))","v":"Southport Waterloo AC"}]
[null,7,3,{"$f":"HLOOKUP(C7,mens_handbook,A4,FALSE)","v":7},{"$f":"IF(ISERROR(HLOOKUP(D7,mens_declare,A5,FALSE))=TRUE,\"\",HLOOKUP(D7,mens_declare,A5,FALSE))","v":"-"},"Wrexham AAC"]
[null,4,4,{"$f":"HLOOKUP(C8,mens_handbook,A4,FALSE)","v":4},{"$f":"IF(ISERROR(HLOOKUP(D8,mens_declare,A5,FALSE))=TRUE,\"\",HLOOKUP(D8,mens_declare,A5,FALSE))","v":"-"},"Salford Metropolitan AC"]
[null,6,5,{"$f":"HLOOKUP(C9,mens_handbook,A4,FALSE)","v":6},{"$f":"IF(ISERROR(HLOOKUP(D9,mens_declare,A5,FALSE))=TRUE,\"\",HLOOKUP(D9,mens_declare,A5,FALSE))","v":"-"},"Warrington AC"]
[null,3,6,{"$f":"HLOOKUP(C10,mens_handbook,A4,FALSE)","v":3},{"$f":"IF(ISERROR(HLOOKUP(D10,mens_declare,A5,FALSE))=TRUE,\"\",HLOOKUP(D10,mens_declare,A5,FALSE))","v":"-"},"Isle of Man \"B\""]
[null,1,7,{"$f":"HLOOKUP(C11,mens_handbook,A4,FALSE)","v":1},{"$f":"IF(ISERROR(HLOOKUP(D11,mens_declare,A5,FALSE))=TRUE,\"\",HLOOKUP(D11,mens_declare,A5,FALSE))","v":"-"},"Altrincham & District AC"]
[null,0,8,{"$f":"HLOOKUP(C12,mens_handbook,A4,FALSE)","v":0},{"$f":"IF(ISERROR(HLOOKUP(D12,mens_declare,A5,FALSE))=TRUE,\"\",HLOOKUP(D12,mens_declare,A5,FALSE))","v":""},""]
[]
[]
[null,null,{"$f":"CONCATENATE(VLOOKUP(A3,mens_handbook,3,FALSE),\" - B String\")","v":"Men's 400m Hurdles - B String"},null,null,"Time:",{"$f":"VLOOKUP(A3,Handbook!$A$4:$B$24,2,FALSE)","v":"13:10:00"}]
[null,null,"Lane","Number","Athlete","Club"]
[9,{"$f":"IF(D17=\"\",\"\",IF(D17>10,D17/11,D17))","v":2},1,{"$f":"HLOOKUP(A17,mens_handbook,A4,FALSE)","v":22},{"$f":"IF(ISERROR(HLOOKUP(D17,mens_declare,A5,FALSE))=TRUE,\"\",HLOOKUP(D17,mens_declare,A5,FALSE))","v":"-"},{"$f":"IF(ISERROR(VLOOKUP(B17,matchday,2,FALSE))=TRUE,\"\",VLOOKUP(B17,matchday,2,FALSE))","v":"Crewe & Nantwich AC"}]
[10,{"$f":"IF(D18=\"\",\"\",IF(D18>10,D18/11,D18))","v":5},2,{"$f":"HLOOKUP(A18,mens_handbook,A4,FALSE)","v":55},{"$f":"IF(ISERROR(HLOOKUP(D18,mens_declare,A5,FALSE))=TRUE,\"\",HLOOKUP(D18,mens_declare,A5,FALSE))","v":"-"},"Southport Waterloo AC"]
[11,7,3,{"$f":"HLOOKUP(A19,mens_handbook,A4,FALSE)","v":77},{"$f":"IF(ISERROR(HLOOKUP(D19,mens_declare,A5,FALSE))=TRUE,\"\",HLOOKUP(D19,mens_declare,A5,FALSE))","v":"-"},"Wrexham AAC"]
[12,4,4,{"$f":"HLOOKUP(A20,mens_handbook,A4,FALSE)","v":44},{"$f":"IF(ISERROR(HLOOKUP(D20,mens_declare,A5,FALSE))=TRUE,\"\",HLOOKUP(D20,mens_declare,A5,FALSE))","v":"-"},"Salford Metropolitan AC"]
[13,6,5,{"$f":"HLOOKUP(A21,mens_handbook,A4,FALSE)","v":66},{"$f":"IF(ISERROR(HLOOKUP(D21,mens_declare,A5,FALSE))=TRUE,\"\",HLOOKUP(D21,mens_declare,A5,FALSE))","v":"-"},"Warrington AC"]
[14,3,6,{"$f":"HLOOKUP(A22,mens_handbook,A4,FALSE)","v":33},{"$f":"IF(ISERROR(HLOOKUP(D22,mens_declare,A5,FALSE))=TRUE,\"\",HLOOKUP(D22,mens_declare,A5,FALSE))","v":"-"},"Isle of Man \"B\""]
[15,1,7,{"$f":"HLOOKUP(A23,mens_handbook,A4,FALSE)","v":11},{"$f":"IF(ISERROR(HLOOKUP(D23,mens_declare,A5,FALSE))=TRUE,\"\",HLOOKUP(D23,mens_declare,A5,FALSE))","v":"-"},"Altrincham & District AC"]
[16,0,8,{"$f":"HLOOKUP(A24,mens_handbook,A4,FALSE)","v":0},{"$f":"IF(ISERROR(HLOOKUP(D24,mens_declare,A5,FALSE))=TRUE,\"\",HLOOKUP(D24,mens_declare,A5,FALSE))","v":""},""]
[]
[null,null,"League",{"$f":"VLOOKUP(A3,mens_handbook,29,FALSE)","v":1995},{"$f":"VLOOKUP(A3,mens_handbook,26,FALSE)","v":"Peter Crampton"},{"$f":"VLOOKUP(A3,mens_handbook,27,FALSE)","v":"Spenborough & Dist"},{"$f":"VLOOKUP(A3,mens_handbook,28,FALSE)","v":"50.5s"}]
[null,null,"Division",{"$f":"VLOOKUP(A3,mens_handbook,33,FALSE)","v":"-"},{"$f":"VLOOKUP(A3,mens_handbook,30,FALSE)","v":"-"},{"$f":"VLOOKUP(A3,mens_handbook,31,FALSE)","v":"-"},{"$f":"VLOOKUP(A3,mens_handbook,32,FALSE)","v":"-"}]
[2,null,{"$f":"CONCATENATE(VLOOKUP(A28,mens_handbook,3,FALSE),\" - A String\")","v":"Men's 800m - A String"},null,null,"Time:",{"$f":"VLOOKUP(A28,Handbook!$A$4:$B$24,2,FALSE)","v":"13:35:00"}]
[{"$f":"VLOOKUP(A28,mens_handbook,37,FALSE)","v":3},null,"Lane","Number","Athlete","Club"]
[{"$f":"VLOOKUP(A28,mens_declare,20,FALSE)","v":6},{"$f":"IF(D30=\"\",\"\",IF(D30>10,D30/11,D30))","v":3},1,{"$f":"HLOOKUP(C30,mens_handbook,A29,FALSE)","v":3},{"$f":"IF(ISERROR(HLOOKUP(D30,mens_declare,A30,FALSE))=TRUE,\"\",HLOOKUP(D30,mens_declare,A30,FALSE))","v":"-"},{"$f":"IF(ISERROR(VLOOKUP(B30,matchday,2,FALSE))=TRUE,\"\",VLOOKUP(B30,matchday,2,FALSE))","v":"Isle of Man \"B\""}]
[null,{"$f":"IF(D31=\"\",\"\",IF(D31>10,D31/11,D31))","v":1},2,{"$f":"HLOOKUP(C31,mens_handbook,A29,FALSE)","v":1},{"$f":"IF(ISERROR(HLOOKUP(D31,mens_declare,A30,FALSE))=TRUE,\"\",HLOOKUP(D31,mens_declare,A30,FALSE))","v":"-"},"Altrincham & District AC"]
[null,4,3,{"$f":"HLOOKUP(C32,mens_handbook,A29,FALSE)","v":4},{"$f":"IF(ISERROR(HLOOKUP(D32,mens_declare,A30,FALSE))=TRUE,\"\",HLOOKUP(D32,mens_declare,A30,FALSE))","v":"-"},"Salford Metropolitan AC"]
[null,6,4,{"$f":"HLOOKUP(C33,mens_handbook,A29,FALSE)","v":6},{"$f":"IF(ISERROR(HLOOKUP(D33,mens_declare,A30,FALSE))=TRUE,\"\",HLOOKUP(D33,mens_declare,A30,FALSE))","v":"-"},"Warrington AC"]
[null,5,5,{"$f":"HLOOKUP(C34,mens_handbook,A29,FALSE)","v":5},{"$f":"IF(ISERROR(HLOOKUP(D34,mens_declare,A30,FALSE))=TRUE,\"\",HLOOKUP(D34,mens_declare,A30,FALSE))","v":"-"},"Southport Waterloo AC"]
[null,7,6,{"$f":"HLOOKUP(C35,mens_handbook,A29,FALSE)","v":7},{"$f":"IF(ISERROR(HLOOKUP(D35,mens_declare,A30,FALSE))=TRUE,\"\",HLOOKUP(D35,mens_declare,A30,FALSE))","v":"-"},"Wrexham AAC"]
[null,2,7,{"$f":"HLOOKUP(C36,mens_handbook,A29,FALSE)","v":2},{"$f":"IF(ISERROR(HLOOKUP(D36,mens_declare,A30,FALSE))=TRUE,\"\",HLOOKUP(D36,mens_declare,A30,FALSE))","v":"-"},"Crewe & Nantwich AC"]
[null,0,8,{"$f":"HLOOKUP(C37,mens_handbook,A29,FALSE)","v":0},{"$f":"IF(ISERROR(HLOOKUP(D37,mens_declare,A30,FALSE))=TRUE,\"\",HLOOKUP(D37,mens_declare,A30,FALSE))","v":""},""]
[]
[]
[null,null,{"$f":"CONCATENATE(VLOOKUP(A28,mens_handbook,3,FALSE),\" - B String\")","v":"Men's 800m - B String"},null,null,"Time:",{"$f":"VLOOKUP(A28,Handbook!$A$4:$B$24,2,FALSE)","v":"13:35:00"}]
[null,null,"Lane","Number","Athlete","Club"]
[9,{"$f":"IF(D42=\"\",\"\",IF(D42>10,D42/11,D42))","v":3},1,{"$f":"HLOOKUP(A42,mens_handbook,A29,FALSE)","v":33},{"$f":"IF(ISERROR(HLOOKUP(D42,mens_declare,A30,FALSE))=TRUE,\"\",HLOOKUP(D42,mens_declare,A30,FALSE))","v":"-"},{"$f":"IF(ISERROR(VLOOKUP(B42,matchday,2,FALSE))=TRUE,\"\",VLOOKUP(B42,matchday,2,FALSE))","v":"Isle of Man \"B\""}]
[10,{"$f":"IF(D43=\"\",\"\",IF(D43>10,D43/11,D43))","v":1},2,{"$f":"HLOOKUP(A43,mens_handbook,A29,FALSE)","v":11},{"$f":"IF(ISERROR(HLOOKUP(D43,mens_declare,A30,FALSE))=TRUE,\"\",HLOOKUP(D43,mens_declare,A30,FALSE))","v":"-"},"Altrincham & District AC"]
[11,4,3,{"$f":"HLOOKUP(A44,mens_handbook,A29,FALSE)","v":44},{"$f":"IF(ISERROR(HLOOKUP(D44,mens_declare,A30,FALSE))=TRUE,\"\",HLOOKUP(D44,mens_declare,A30,FALSE))","v":"-"},"Salford Metropolitan AC"]
[12,6,4,{"$f":"HLOOKUP(A45,mens_handbook,A29,FALSE)","v":66},{"$f":"IF(ISERROR(HLOOKUP(D45,mens_declare,A30,FALSE))=TRUE,\"\",HLOOKUP(D45,mens_declare,A30,FALSE))","v":"-"},"Warrington AC"]
[13,5,5,{"$f":"HLOOKUP(A46,mens_handbook,A29,FALSE)","v":55},{"$f":"IF(ISERROR(HLOOKUP(D46,mens_declare,A30,FALSE))=TRUE,\"\",HLOOKUP(D46,mens_declare,A30,FALSE))","v":"-"},"Southport Waterloo AC"]
[14,7,6,{"$f":"HLOOKUP(A47,mens_handbook,A29,FALSE)","v":77},{"$f":"IF(ISERROR(HLOOKUP(D47,mens_declare,A30,FALSE))=TRUE,\"\",HLOOKUP(D47,mens_declare,A30,FALSE))","v":"-"},"Wrexham AAC"]
[15,2,7,{"$f":"HLOOKUP(A48,mens_handbook,A29,FALSE)","v":22},{"$f":"IF(ISERROR(HLOOKUP(D48,mens_declare,A30,FALSE))=TRUE,\"\",HLOOKUP(D48,mens_declare,A30,FALSE))","v":"-"},"Crewe & Nantwich AC"]
[16,0,8,{"$f":"HLOOKUP(A49,mens_handbook,A29,FALSE)","v":0},{"$f":"IF(ISERROR(HLOOKUP(D49,mens_declare,A30,FALSE))=TRUE,\"\",HLOOKUP(D49,mens_declare,A30,FALSE))","v":""},""]
[]
[null,null,"League",{"$f":"VLOOKUP(A28,mens_handbook,29,FALSE)","v":1971},{"$f":"VLOOKUP(A28,mens_handbook,26,FALSE)","v":"Andrew Carter"},{"$f":"VLOOKUP(A28,mens_handbook,27,FALSE)","v":"Stretford AC"},{"$f":"VLOOKUP(A28,mens_handbook,28,FALSE)","v":"00:01:46.100"}]
[null,null,"Division",{"$f":"VLOOKUP(A28,mens_handbook,33,FALSE)","v":"-"},{"$f":"VLOOKUP(A28,mens_handbook,30,FALSE)","v":"-"},{"$f":"VLOOKUP(A28,mens_handbook,31,FALSE)","v":"-"},{"$f":"VLOOKUP(A28,mens_handbook,32,FALSE)","v":"-"}]
[3,null,{"$f":"CONCATENATE(VLOOKUP(A53,mens_handbook,3,FALSE),\" - A String\")","v":"Men's 100m - A String"},null,null,"Time:",{"$f":"VLOOKUP(A53,Handbook!$A$4:$B$24,2,FALSE)","v":"13:55:00"}]
[{"$f":"VLOOKUP(A53,mens_handbook,37,FALSE)","v":4},null,"Lane","Number","Athlete","Club"]
[{"$f":"VLOOKUP(A53,mens_declare,20,FALSE)","v":3},{"$f":"IF(D55=\"\",\"\",IF(D55>10,D55/11,D55))","v":2},1,{"$f":"HLOOKUP(C55,mens_handbook,A54,FALSE)","v":2},{"$f":"IF(ISERROR(HLOOKUP(D55,mens_declare,A55,FALSE))=TRUE,\"\",HLOOKUP(D55,mens_declare,A55,FALSE))","v":"-"},{"$f":"IF(ISERROR(VLOOKUP(B55,matchday,2,FALSE))=TRUE,\"\",VLOOKUP(B55,matchday,2,FALSE))","v":"Crewe & Nantwich AC"}]
[null,{"$f":"IF(D56=\"\",\"\",IF(D56>10,D56/11,D56))","v":5},2,{"$f":"HLOOKUP(C56,mens_handbook,A54,FALSE)","v":5},{"$f":"IF(ISERROR(HLOOKUP(D56,mens_declare,A55,FALSE))=TRUE,\"\",HLOOKUP(D56,mens_declare,A55,FALSE))","v":"-"},"Southport Waterloo AC"]
[null,7,3,{"$f":"HLOOKUP(C57,mens_handbook,A54,FALSE)","v":7},{"$f":"IF(ISERROR(HLOOKUP(D57,mens_declare,A55,FALSE))=TRUE,\"\",HLOOKUP(D57,mens_declare,A55,FALSE))","v":"-"},"Wrexham AAC"]
[null,4,4,{"$f":"HLOOKUP(C58,mens_handbook,A54,FALSE)","v":4},{"$f":"IF(ISERROR(HLOOKUP(D58,mens_declare,A55,FALSE))=TRUE,\"\",HLOOKUP(D58,mens_declare,A55,FALSE))","v":"-"},"Salford Metropolitan AC"]
[null,6,5,{"$f":"HLOOKUP(C59,mens_handbook,A54,FALSE)","v":6},{"$f":"IF(ISERROR(HLOOKUP(D59,mens_declare,A55,FALSE))=TRUE,\"\",HLOOKUP(D59,mens_declare,A55,FALSE))","v":"-"},"Warrington AC"]
[null,3,6,{"$f":"HLOOKUP(C60,mens_handbook,A54,FALSE)","v":3},{"$f":"IF(ISERROR(HLOOKUP(D60,mens_declare,A55,FALSE))=TRUE,\"\",HLOOKUP(D60,mens_declare,A55,FALSE))","v":"-"},"Isle of Man \"B\""]
[null,1,7,{"$f":"HLOOKUP(C61,mens_handbook,A54,FALSE)","v":1},{"$f":"IF(ISERROR(HLOOKUP(D61,mens_declare,A55,FALSE))=TRUE,\"\",HLOOKUP(D61,mens_declare,A55,FALSE))","v":"-"},"Altrincham & District AC"]
[null,0,8,{"$f":"HLOOKUP(C62,mens_handbook,A54,FALSE)","v":0},{"$f":"IF(ISERROR(HLOOKUP(D62,mens_declare,A55,FALSE))=TRUE,\"\",HLOOKUP(D62,mens_declare,A55,FALSE))","v":""},""]
[]
[]
[null,null,{"$f":"CONCATENATE(VLOOKUP(A53,mens_handbook,3,FALSE),\" - B String\")","v":"Men's 100m - B String"},null,null,"Time:",{"$f":"VLOOKUP(A53,Handbook!$A$4:$B$24,2,FALSE)","v":"13:55:00"}]
[null,null,"Lane","Number","Athlete","Club"]
[9,{"$f":"IF(D67=\"\",\"\",IF(D67>10,D67/11,D67))","v":2},1,{"$f":"HLOOKUP(A67,mens_handbook,A54,FALSE)","v":22},{"$f":"IF(ISERROR(HLOOKUP(D67,mens_declare,A55,FALSE))=TRUE,\"\",HLOOKUP(D67,mens_declare,A55,FALSE))","v":"-"},{"$f":"IF(ISERROR(VLOOKUP(B67,matchday,2,FALSE))=TRUE,\"\",VLOOKUP(B67,matchday,2,FALSE))","v":"Crewe & Nantwich AC"}]
[10,{"$f":"IF(D68=\"\",\"\",IF(D68>10,D68/11,D68))","v":5},2,{"$f":"HLOOKUP(A68,mens_handbook,A54,FALSE)","v":55},{"$f":"IF(ISERROR(HLOOKUP(D68,mens_declare,A55,FALSE))=TRUE,\"\",HLOOKUP(D68,mens_declare,A55,FALSE))","v":"-"},"Southport Waterloo AC"]
[11,7,3,{"$f":"HLOOKUP(A69,mens_handbook,A54,FALSE)","v":77},{"$f":"IF(ISERROR(HLOOKUP(D69,mens_declare,A55,FALSE))=TRUE,\"\",HLOOKUP(D69,mens_declare,A55,FALSE))","v":"-"},"Wrexham AAC"]
[12,4,4,{"$f":"HLOOKUP(A70,mens_handbook,A54,FALSE)","v":44},{"$f":"IF(ISERROR(HLOOKUP(D70,mens_declare,A55,FALSE))=TRUE,\"\",HLOOKUP(D70,mens_declare,A55,FALSE))","v":"-"},"Salford Metropolitan AC"]
[13,6,5,{"$f":"HLOOKUP(A71,mens_handbook,A54,FALSE)","v":66},{"$f":"IF(ISERROR(HLOOKUP(D71,mens_declare,A55,FALSE))=TRUE,\"\",HLOOKUP(D71,mens_declare,A55,FALSE))","v":"-"},"Warrington AC"]
[14,3,6,{"$f":"HLOOKUP(A72,mens_handbook,A54,FALSE)","v":33},{"$f":"IF(ISERROR(HLOOKUP(D72,mens_declare,A55,FALSE))=TRUE,\"\",HLOOKUP(D72,mens_declare,A55,FALSE))","v":"-"},"Isle of Man \"B\""]
[15,1,7,{"$f":"HLOOKUP(A73,mens_handbook,A54,FALSE)","v":11},{"$f":"IF(ISERROR(HLOOKUP(D73,mens_declare,A55,FALSE))=TRUE,\"\",HLOOKUP(D73,mens_declare,A55,FALSE))","v":"-"},"Altrincham & District AC"]
[16,0,8,{"$f":"HLOOKUP(A74,mens_handbook,A54,FALSE)","v":0},{"$f":"IF(ISERROR(HLOOKUP(D74,mens_declare,A55,FALSE))=TRUE,\"\",HLOOKUP(D74,mens_declare,A55,FALSE))","v":""},""]
[]
[null,null,"League",{"$f":"VLOOKUP(A53,mens_handbook,29,FALSE)","v":2001},{"$f":"VLOOKUP(A53,mens_handbook,26,FALSE)","v":"Chris Tomlinson"},{"$f":"VLOOKUP(A53,mens_handbook,27,FALSE)","v":"Mandale H & AC"},{"$f":"VLOOKUP(A53,mens_handbook,28,FALSE)","v":"10.6s"}]
[null,null,"Division",{"$f":"VLOOKUP(A53,mens_handbook,33,FALSE)","v":"-"},{"$f":"VLOOKUP(A53,mens_handbook,30,FALSE)","v":"-"},{"$f":"VLOOKUP(A53,mens_handbook,31,FALSE)","v":"-"},{"$f":"VLOOKUP(A53,mens_handbook,32,FALSE)","v":"-"}]
[4,null,{"$f":"CONCATENATE(VLOOKUP(A78,mens_handbook,3,FALSE),\" - A String\")","v":"Men's 400m - A String"},null,null,"Time:",{"$f":"VLOOKUP(A78,Handbook!$A$4:$B$24,2,FALSE)","v":"15:15:00"}]
[{"$f":"VLOOKUP(A78,mens_handbook,37,FALSE)","v":5},null,"Lane","Number","Athlete","Club"]
[{"$f":"VLOOKUP(A78,mens_declare,20,FALSE)","v":5},{"$f":"IF(D80=\"\",\"\",IF(D80>10,D80/11,D80))","v":4},1,{"$f":"HLOOKUP(C80,mens_handbook,A79,FALSE)","v":4},{"$f":"IF(ISERROR(HLOOKUP(D80,mens_declare,A80,FALSE))=TRUE,\"\",HLOOKUP(D80,mens_declare,A80,FALSE))","v":"-"},{"$f":"IF(ISERROR(VLOOKUP(B80,matchday,2,FALSE))=TRUE,\"\",VLOOKUP(B80,matchday,2,FALSE))","v":"Salford Metropolitan AC"}]
[null,{"$f":"IF(D81=\"\",\"\",IF(D81>10,D81/11,D81))","v":3},2,{"$f":"HLOOKUP(C81,mens_handbook,A79,FALSE)","v":3},{"$f":"IF(ISERROR(HLOOKUP(D81,mens_declare,A80,FALSE))=TRUE,\"\",HLOOKUP(D81,mens_declare,A80,FALSE))","v":"-"},"Isle of Man \"B\""]
[null,5,3,{"$f":"HLOOKUP(C82,mens_handbook,A79,FALSE)","v":5},{"$f":"IF(ISERROR(HLOOKUP(D82,mens_declare,A80,FALSE))=TRUE,\"\",HLOOKUP(D82,mens_declare,A80,FALSE))","v":"-"},"Southport Waterloo AC"]
[null,1,4,{"$f":"HLOOKUP(C83,mens_handbook,A79,FALSE)","v":1},{"$f":"IF(ISERROR(HLOOKUP(D83,mens_declare,A80,FALSE))=TRUE,\"\",HLOOKUP(D83,mens_declare,A80,FALSE))","v":"-"},"Altrincham & District AC"]
[null,2,5,{"$f":"HLOOKUP(C84,mens_handbook,A79,FALSE)","v":2},{"$f":"IF(ISERROR(HLOOKUP(D84,mens_declare,A80,FALSE))=TRUE,\"\",HLOOKUP(D84,mens_declare,A80,FALSE))","v":"-"},"Crewe & Nantwich AC"]
[null,6,6,{"$f":"HLOOKUP(C85,mens_handbook,A79,FALSE)","v":6},{"$f":"IF(ISERROR(HLOOKUP(D85,mens_declare,A80,FALSE))=TRUE,\"\",HLOOKUP(D85,mens_declare,A80,FALSE))","v":"-"},"Warrington AC"]
[null,7,7,{"$f":"HLOOKUP(C86,mens_handbook,A79,FALSE)","v":7},{"$f":"IF(ISERROR(HLOOKUP(D86,mens_declare,A80,FALSE))=TRUE,\"\",HLOOKUP(D86,mens_declare,A80,FALSE))","v":"-"},"Wrexham AAC"]
[null,0,8,{"$f":"HLOOKUP(C87,mens_handbook,A79,FALSE)","v":0},{"$f":"IF(ISERROR(HLOOKUP(D87,mens_declare,A80,FALSE))=TRUE,\"\",HLOOKUP(D87,mens_declare,A80,FALSE))","v":""},""]
[]
[]
[null,null,{"$f":"CONCATENATE(VLOOKUP(A78,mens_handbook,3,FALSE),\" - B String\")","v":"Men's 400m - B String"},null,null,"Time:",{"$f":"VLOOKUP(A78,Handbook!$A$4:$B$24,2,FALSE)","v":"15:15:00"}]
[null,null,"Lane","Number","Athlete","Club"]
[9,{"$f":"IF(D92=\"\",\"\",IF(D92>10,D92/11,D92))","v":4},1,{"$f":"HLOOKUP(A92,mens_handbook,A79,FALSE)","v":44},{"$f":"IF(ISERROR(HLOOKUP(D92,mens_declare,A80,FALSE))=TRUE,\"\",HLOOKUP(D92,mens_declare,A80,FALSE))","v":"-"},{"$f":"IF(ISERROR(VLOOKUP(B92,matchday,2,FALSE))=TRUE,\"\",VLOOKUP(B92,matchday,2,FALSE))","v":"Salford Metropolitan AC"}]
[10,{"$f":"IF(D93=\"\",\"\",IF(D93>10,D93/11,D93))","v":3},2,{"$f":"HLOOKUP(A93,mens_handbook,A79,FALSE)","v":33},{"$f":"IF(ISERROR(HLOOKUP(D93,mens_declare,A80,FALSE))=TRUE,\"\",HLOOKUP(D93,mens_declare,A80,FALSE))","v":"-"},"Isle of Man \"B\""]
[11,5,3,{"$f":"HLOOKUP(A94,mens_handbook,A79,FALSE)","v":55},{"$f":"IF(ISERROR(HLOOKUP(D94,mens_declare,A80,FALSE))=TRUE,\"\",HLOOKUP(D94,mens_declare,A80,FALSE))","v":"-"},"Southport Waterloo AC"]
[12,1,4,{"$f":"HLOOKUP(A95,mens_handbook,A79,FALSE)","v":11},{"$f":"IF(ISERROR(HLOOKUP(D95,mens_declare,A80,FALSE))=TRUE,\"\",HLOOKUP(D95,mens_declare,A80,FALSE))","v":"-"},"Altrincham & District AC"]
[13,2,5,{"$f":"HLOOKUP(A96,mens_handbook,A79,FALSE)","v":22},{"$f":"IF(ISERROR(HLOOKUP(D96,mens_declare,A80,FALSE))=TRUE,\"\",HLOOKUP(D96,mens_declare,A80,FALSE))","v":"-"},"Crewe & Nantwich AC"]
[14,6,6,{"$f":"HLOOKUP(A97,mens_handbook,A79,FALSE)","v":66},{"$f":"IF(ISERROR(HLOOKUP(D97,mens_declare,A80,FALSE))=TRUE,\"\",HLOOKUP(D97,mens_declare,A80,FALSE))","v":"-"},"Warrington AC"]
[15,7,7,{"$f":"HLOOKUP(A98,mens_handbook,A79,FALSE)","v":77},{"$f":"IF(ISERROR(HLOOKUP(D98,mens_declare,A80,FALSE))=TRUE,\"\",HLOOKUP(D98,mens_declare,A80,FALSE))","v":"-"},"Wrexham AAC"]
[16,0,8,{"$f":"HLOOKUP(A99,mens_handbook,A79,FALSE)","v":0},{"$f":"IF(ISERROR(HLOOKUP(D99,mens_declare,A80,FALSE))=TRUE,\"\",HLOOKUP(D99,mens_declare,A80,FALSE))","v":""},""]
[]
[null,null,"League",{"$f":"VLOOKUP(A78,mens_handbook,29,FALSE)","v":1997},{"$f":"VLOOKUP(A78,mens_handbook,26,FALSE)","v":"Mark Sesay"},{"$f":"VLOOKUP(A78,mens_handbook,27,FALSE)","v":"Leeds City AC"},{"$f":"VLOOKUP(A78,mens_handbook,28,FALSE)","v":"46.7s"}]
[null,null,"Division",{"$f":"VLOOKUP(A78,mens_handbook,33,FALSE)","v":"-"},{"$f":"VLOOKUP(A78,mens_handbook,30,FALSE)","v":"-"},{"$f":"VLOOKUP(A78,mens_handbook,31,FALSE)","v":"-"},{"$f":"VLOOKUP(A78,mens_handbook,32,FALSE)","v":"-"}]
[5,null,{"$f":"CONCATENATE(VLOOKUP(A103,mens_handbook,3,FALSE),\"\")","v":"Men's 3000m S/Chase"},null,null,"Time:",{"$f":"VLOOKUP(A103,Handbook!$A$4:$B$24,2,FALSE)","v":"14:05:00"}]
[{"$f":"VLOOKUP(A103,mens_handbook,37,FALSE)","v":6},null,"Order","Number","Athlete","Club"]
[{"$f":"VLOOKUP(A103,mens_declare,20,FALSE)","v":8},{"$f":"IF(D105=\"\",\"\",IF(D105>10,D105/11,D105))","v":7},1,{"$f":"HLOOKUP(C105,Handbook!$D$3:$S$24,A104,FALSE)","v":7},{"$f":"IF(ISERROR(HLOOKUP(D105,mens_declare,A105,FALSE))=TRUE,\"\",HLOOKUP(D105,mens_declare,A105,FALSE))","v":"-"},{"$f":"IF(ISERROR(VLOOKUP(B105,matchday,2,FALSE))=TRUE,\"\",VLOOKUP(B105,matchday,2,FALSE))","v":"Wrexham AAC"}]
[null,{"$f":"IF(D106=\"\",\"\",IF(D106>10,D106/11,D106))","v":2},2,{"$f":"HLOOKUP(C106,Handbook!$D$3:$S$24,A104,FALSE)","v":2},{"$f":"IF(ISERROR(HLOOKUP(D106,mens_declare,A105,FALSE))=TRUE,\"\",HLOOKUP(D106,mens_declare,A105,FALSE))","v":"-"},"Crewe & Nantwich AC"]
[null,6,3,{"$f":"HLOOKUP(C107,Handbook!$D$3:$S$24,A104,FALSE)","v":6},{"$f":"IF(ISERROR(HLOOKUP(D107,mens_declare,A105,FALSE))=TRUE,\"\",HLOOKUP(D107,mens_declare,A105,FALSE))","v":"-"},"Warrington AC"]
[null,5,4,{"$f":"HLOOKUP(C108,Handbook!$D$3:$S$24,A104,FALSE)","v":5},{"$f":"IF(ISERROR(HLOOKUP(D108,mens_declare,A105,FALSE))=TRUE,\"\",HLOOKUP(D108,mens_declare,A105,FALSE))","v":"-"},"Southport Waterloo AC"]
[null,1,5,{"$f":"HLOOKUP(C109,Handbook!$D$3:$S$24,A104,FALSE)","v":1},{"$f":"IF(ISERROR(HLOOKUP(D109,mens_declare,A105,FALSE))=TRUE,\"\",HLOOKUP(D109,mens_declare,A105,FALSE))","v":"-"},"Altrincham & District AC"]
[null,4,6,{"$f":"HLOOKUP(C110,Handbook!$D$3:$S$24,A104,FALSE)","v":4},{"$f":"IF(ISERROR(HLOOKUP(D110,mens_declare,A105,FALSE))=TRUE,\"\",HLOOKUP(D110,mens_declare,A105,FALSE))","v":"-"},"Salford Metropolitan AC"]
[null,3,7,{"$f":"HLOOKUP(C111,Handbook!$D$3:$S$24,A104,FALSE)","v":3},{"$f":"IF(ISERROR(HLOOKUP(D111,mens_declare,A105,FALSE))=TRUE,\"\",HLOOKUP(D111,mens_declare,A105,FALSE))","v":"-"},"Isle of Man \"B\""]
[null,0,8,{"$f":"HLOOKUP(C112,Handbook!$D$3:$S$24,A104,FALSE)","v":0},{"$f":"IF(ISERROR(HLOOKUP(D112,mens_declare,A105,FALSE))=TRUE,\"\",HLOOKUP(D112,mens_declare,A105,FALSE))","v":""},""]
[null,7,9,{"$f":"HLOOKUP(C113,Handbook!$D$3:$S$24,A104,FALSE)","v":77},{"$f":"IF(ISERROR(HLOOKUP(D113,mens_declare,A105,FALSE))=TRUE,\"\",HLOOKUP(D113,mens_declare,A105,FALSE))","v":"-"},"Wrexham AAC"]
[null,2,10,{"$f":"HLOOKUP(C114,Handbook!$D$3:$S$24,A104,FALSE)","v":22},{"$f":"IF(ISERROR(HLOOKUP(D114,mens_declare,A105,FALSE))=TRUE,\"\",HLOOKUP(D114,mens_declare,A105,FALSE))","v":"-"},"Crewe & Nantwich AC"]
[null,6,11,{"$f":"HLOOKUP(C115,Handbook!$D$3:$S$24,A104,FALSE)","v":66},{"$f":"IF(ISERROR(HLOOKUP(D115,mens_declare,A105,FALSE))=TRUE,\"\",HLOOKUP(D115,mens_declare,A105,FALSE))","v":"-"},"Warrington AC"]
[null,5,12,{"$f":"HLOOKUP(C116,Handbook!$D$3:$S$24,A104,FALSE)","v":55},{"$f":"IF(ISERROR(HLOOKUP(D116,mens_declare,A105,FALSE))=TRUE,\"\",HLOOKUP(D116,mens_declare,A105,FALSE))","v":"-"},"Southport Waterloo AC"]
[null,1,13,{"$f":"HLOOKUP(C117,Handbook!$D$3:$S$24,A104,FALSE)","v":11},{"$f":"IF(ISERROR(HLOOKUP(D117,mens_declare,A105,FALSE))=TRUE,\"\",HLOOKUP(D117,mens_declare,A105,FALSE))","v":"-"},"Altrincham & District AC"]
[null,4,14,{"$f":"HLOOKUP(C118,Handbook!$D$3:$S$24,A104,FALSE)","v":44},{"$f":"IF(ISERROR(HLOOKUP(D118,mens_declare,A105,FALSE))=TRUE,\"\",HLOOKUP(D118,mens_declare,A105,FALSE))","v":"-"},"Salford Metropolitan AC"]
[null,3,15,{"$f":"HLOOKUP(C119,Handbook!$D$3:$S$24,A104,FALSE)","v":33},{"$f":"IF(ISERROR(HLOOKUP(D119,mens_declare,A105,FALSE))=TRUE,\"\",HLOOKUP(D119,mens_declare,A105,FALSE))","v":"-"},"Isle of Man \"B\""]
[null,0,16,{"$f":"HLOOKUP(C120,Handbook!$D$3:$S$24,A104,FALSE)","v":0},{"$f":"IF(ISERROR(HLOOKUP(D120,mens_declare,A105,FALSE))=TRUE,\"\",HLOOKUP(D120,mens_declare,A105,FALSE))","v":""},""]
[]
[null,null,"League",{"$f":"VLOOKUP(A103,mens_handbook,29,FALSE)","v":1980},{"$f":"VLOOKUP(A103,mens_handbook,26,FALSE)","v":"Denis Coates"},{"$f":"VLOOKUP(A103,mens_handbook,27,FALSE)","v":"Gateshead H & AC"},{"$f":"VLOOKUP(A103,mens_handbook,28,FALSE)","v":"00:08:32.700"}]
[null,null,"Division",{"$f":"VLOOKUP(A103,mens_handbook,33,FALSE)","v":"-"},{"$f":"VLOOKUP(A103,mens_handbook,30,FALSE)","v":"-"},{"$f":"VLOOKUP(A103,mens_handbook,31,FALSE)","v":"-"},{"$f":"VLOOKUP(A103,mens_handbook,32,FALSE)","v":"-"}]
[21,null,{"$f":"CONCATENATE(VLOOKUP(A124,mens_handbook,3,FALSE),\"\")","v":"Men's 5000m"},null,null,"Time:",{"$f":"VLOOKUP(A124,Handbook!$A$4:$B$24,2,FALSE)","v":"16:05:00"}]
[{"$f":"VLOOKUP(A124,mens_handbook,37,FALSE)","v":22},null,"Order","Number","Athlete","Club"]
[{"$f":"VLOOKUP(A124,mens_declare,20,FALSE)","v":9},{"$f":"IF(D126=\"\",\"\",IF(D126>10,D126/11,D126))","v":6},1,{"$f":"HLOOKUP(C126,Handbook!$D$3:$S$24,A125,FALSE)","v":6},{"$f":"IF(ISERROR(HLOOKUP(D126,mens_declare,A126,FALSE))=TRUE,\"\",HLOOKUP(D126,mens_declare,A126,FALSE))","v":"-"},{"$f":"IF(ISERROR(VLOOKUP(B126,matchday,2,FALSE))=TRUE,\"\",VLOOKUP(B126,matchday,2,FALSE))","v":"Warrington AC"}]
[null,{"$f":"IF(D127=\"\",\"\",IF(D127>10,D127/11,D127))","v":7},2,{"$f":"HLOOKUP(C127,Handbook!$D$3:$S$24,A125,FALSE)","v":7},{"$f":"IF(ISERROR(HLOOKUP(D127,mens_declare,A126,FALSE))=TRUE,\"\",HLOOKUP(D127,mens_declare,A126,FALSE))","v":"-"},"Wrexham AAC"]
[null,1,3,{"$f":"HLOOKUP(C128,Handbook!$D$3:$S$24,A125,FALSE)","v":1},{"$f":"IF(ISERROR(HLOOKUP(D128,mens_declare,A126,FALSE))=TRUE,\"\",HLOOKUP(D128,mens_declare,A126,FALSE))","v":"-"},"Altrincham & District AC"]
[null,2,4,{"$f":"HLOOKUP(C129,Handbook!$D$3:$S$24,A125,FALSE)","v":2},{"$f":"IF(ISERROR(HLOOKUP(D129,mens_declare,A126,FALSE))=TRUE,\"\",HLOOKUP(D129,mens_declare,A126,FALSE))","v":"-"},"Crewe & Nantwich AC"]
[null,3,5,{"$f":"HLOOKUP(C130,Handbook!$D$3:$S$24,A125,FALSE)","v":3},{"$f":"IF(ISERROR(HLOOKUP(D130,mens_declare,A126,FALSE))=TRUE,\"\",HLOOKUP(D130,mens_declare,A126,FALSE))","v":"-"},"Isle of Man \"B\""]
[null,5,6,{"$f":"HLOOKUP(C131,Handbook!$D$3:$S$24,A125,FALSE)","v":5},{"$f":"IF(ISERROR(HLOOKUP(D131,mens_declare,A126,FALSE))=TRUE,\"\",HLOOKUP(D131,mens_declare,A126,FALSE))","v":"-"},"Southport Waterloo AC"]
[null,4,7,{"$f":"HLOOKUP(C132,Handbook!$D$3:$S$24,A125,FALSE)","v":4},{"$f":"IF(ISERROR(HLOOKUP(D132,mens_declare,A126,FALSE))=TRUE,\"\",HLOOKUP(D132,mens_declare,A126,FALSE))","v":"-"},"Salford Metropolitan AC"]
[null,0,8,{"$f":"HLOOKUP(C133,Handbook!$D$3:$S$24,A125,FALSE)","v":0},{"$f":"IF(ISERROR(HLOOKUP(D133,mens_declare,A126,FALSE))=TRUE,\"\",HLOOKUP(D133,mens_declare,A126,FALSE))","v":""},""]
[null,6,9,{"$f":"HLOOKUP(C134,Handbook!$D$3:$S$24,A125,FALSE)","v":66},{"$f":"IF(ISERROR(HLOOKUP(D134,mens_declare,A126,FALSE))=TRUE,\"\",HLOOKUP(D134,mens_declare,A126,FALSE))","v":"-"},"Warrington AC"]
[null,7,10,{"$f":"HLOOKUP(C135,Handbook!$D$3:$S$24,A125,FALSE)","v":77},{"$f":"IF(ISERROR(HLOOKUP(D135,mens_declare,A126,FALSE))=TRUE,\"\",HLOOKUP(D135,mens_declare,A126,FALSE))","v":"-"},"Wrexham AAC"]
[null,1,11,{"$f":"HLOOKUP(C136,Handbook!$D$3:$S$24,A125,FALSE)","v":11},{"$f":"IF(ISERROR(HLOOKUP(D136,mens_declare,A126,FALSE))=TRUE,\"\",HLOOKUP(D136,mens_declare,A126,FALSE))","v":"-"},"Altrincham & District AC"]
[null,2,12,{"$f":"HLOOKUP(C137,Handbook!$D$3:$S$24,A125,FALSE)","v":22},{"$f":"IF(ISERROR(HLOOKUP(D137,mens_declare,A126,FALSE))=TRUE,\"\",HLOOKUP(D137,mens_declare,A126,FALSE))","v":"-"},"Crewe & Nantwich AC"]
[null,3,13,{"$f":"HLOOKUP(C138,Handbook!$D$3:$S$24,A125,FALSE)","v":33},{"$f":"IF(ISERROR(HLOOKUP(D138,mens_declare,A126,FALSE))=TRUE,\"\",HLOOKUP(D138,mens_declare,A126,FALSE))","v":"-"},"Isle of Man \"B\""]
[null,5,14,{"$f":"HLOOKUP(C139,Handbook!$D$3:$S$24,A125,FALSE)","v":55},{"$f":"IF(ISERROR(HLOOKUP(D139,mens_declare,A126,FALSE))=TRUE,\"\",HLOOKUP(D139,mens_declare,A126,FALSE))","v":"-"},"Southport Waterloo AC"]
[null,4,15,{"$f":"HLOOKUP(C140,Handbook!$D$3:$S$24,A125,FALSE)","v":44},{"$f":"IF(ISERROR(HLOOKUP(D140,mens_declare,A126,FALSE))=TRUE,\"\",HLOOKUP(D140,mens_declare,A126,FALSE))","v":"-"},"Salford Metropolitan AC"]
[null,0,16,{"$f":"HLOOKUP(C141,Handbook!$D$3:$S$24,A125,FALSE)","v":0},{"$f":"IF(ISERROR(HLOOKUP(D141,mens_declare,A126,FALSE))=TRUE,\"\",HLOOKUP(D141,mens_declare,A126,FALSE))","v":""},""]
[]
[null,null,"League",{"$f":"VLOOKUP(A124,mens_handbook,29,FALSE)","v":1979},{"$f":"VLOOKUP(A124,mens_handbook,26,FALSE)","v":"Steve Kenyon"},{"$f":"VLOOKUP(A124,mens_handbook,27,FALSE)","v":"Bolton Utd Harriers"},{"$f":"VLOOKUP(A124,mens_handbook,28,FALSE)","v":"00:13:45.800"}]
[null,null,"Division",{"$f":"VLOOKUP(A124,mens_handbook,33,FALSE)","v":"-"},{"$f":"VLOOKUP(A124,mens_handbook,30,FALSE)","v":"-"},{"$f":"VLOOKUP(A124,mens_handbook,31,FALSE)","v":"-"},{"$f":"VLOOKUP(A124,mens_handbook,32,FALSE)","v":"-"}]
[6,null,{"$f":"CONCATENATE(VLOOKUP(A145,mens_handbook,3,FALSE),\" - A String\")","v":"Men's 110m Hurdles - A String"},null,null,"Time:",{"$f":"VLOOKUP(A145,Handbook!$A$4:$B$24,2,FALSE)","v":"14:55:00"}]
[{"$f":"VLOOKUP(A145,mens_handbook,37,FALSE)","v":7},null,"Lane","Number","Athlete","Club"]
[{"$f":"VLOOKUP(A145,mens_declare,20,FALSE)","v":11},{"$f":"IF(D147=\"\",\"\",IF(D147>10,D147/11,D147))","v":2},1,{"$f":"HLOOKUP(C147,mens_handbook,A146,FALSE)","v":2},{"$f":"IF(ISERROR(HLOOKUP(D147,mens_declare,A147,FALSE))=TRUE,\"\",HLOOKUP(D147,mens_declare,A147,FALSE))","v":"-"},{"$f":"IF(ISERROR(VLOOKUP(B147,matchday,2,FALSE))=TRUE,\"\",VLOOKUP(B147,matchday,2,FALSE))","v":"Crewe & Nantwich AC"}]
[null,{"$f":"IF(D148=\"\",\"\",IF(D148>10,D148/11,D148))","v":5},2,{"$f":"HLOOKUP(C148,mens_handbook,A146,FALSE)","v":5},{"$f":"IF(ISERROR(HLOOKUP(D148,mens_declare,A147,FALSE))=TRUE,\"\",HLOOKUP(D148,mens_declare,A147,FALSE))","v":"-"},"Southport Waterloo AC"]
[null,7,3,{"$f":"HLOOKUP(C149,mens_handbook,A146,FALSE)","v":7},{"$f":"IF(ISERROR(HLOOKUP(D149,mens_declare,A147,FALSE))=TRUE,\"\",HLOOKUP(D149,mens_declare,A147,FALSE))","v":"-"},"Wrexham AAC"]
[null,4,4,{"$f":"HLOOKUP(C150,mens_handbook,A146,FALSE)","v":4},{"$f":"IF(ISERROR(HLOOKUP(D150,mens_declare,A147,FALSE))=TRUE,\"\",HLOOKUP(D150,mens_declare,A147,FALSE))","v":"-"},"Salford Metropolitan AC"]
[null,6,5,{"$f":"HLOOKUP(C151,mens_handbook,A146,FALSE)","v":6},{"$f":"IF(ISERROR(HLOOKUP(D151,mens_declare,A147,FALSE))=TRUE,\"\",HLOOKUP(D151,mens_declare,A147,FALSE))","v":"-"},"Warrington AC"]
[null,3,6,{"$f":"HLOOKUP(C152,mens_handbook,A146,FALSE)","v":3},{"$f":"IF(ISERROR(HLOOKUP(D152,mens_declare,A147,FALSE))=TRUE,\"\",HLOOKUP(D152,mens_declare,A147,FALSE))","v":"-"},"Isle of Man \"B\""]
[null,1,7,{"$f":"HLOOKUP(C153,mens_handbook,A146,FALSE)","v":1},{"$f":"IF(ISERROR(HLOOKUP(D153,mens_declare,A147,FALSE))=TRUE,\"\",HLOOKUP(D153,mens_declare,A147,FALSE))","v":"-"},"Altrincham & District AC"]
[null,0,8,{"$f":"HLOOKUP(C154,mens_handbook,A146,FALSE)","v":0},{"$f":"IF(ISERROR(HLOOKUP(D154,mens_declare,A147,FALSE))=TRUE,\"\",HLOOKUP(D154,mens_declare,A147,FALSE))","v":""},""]
[]
[]
[null,null,{"$f":"CONCATENATE(VLOOKUP(A145,mens_handbook,3,FALSE),\" - B String\")","v":"Men's 110m Hurdles - B String"},null,null,"Time:",{"$f":"VLOOKUP(A145,Handbook!$A$4:$B$24,2,FALSE)","v":"14:55:00"}]
[null,null,"Lane","Number","Athlete","Club"]
[9,{"$f":"IF(D159=\"\",\"\",IF(D159>10,D159/11,D159))","v":2},1,{"$f":"HLOOKUP(A159,mens_handbook,A146,FALSE)","v":22},{"$f":"IF(ISERROR(HLOOKUP(D159,mens_declare,A147,FALSE))=TRUE,\"\",HLOOKUP(D159,mens_declare,A147,FALSE))","v":"-"},{"$f":"IF(ISERROR(VLOOKUP(B159,matchday,2,FALSE))=TRUE,\"\",VLOOKUP(B159,matchday,2,FALSE))","v":"Crewe & Nantwich AC"}]
[10,{"$f":"IF(D160=\"\",\"\",IF(D160>10,D160/11,D160))","v":5},2,{"$f":"HLOOKUP(A160,mens_handbook,A146,FALSE)","v":55},{"$f":"IF(ISERROR(HLOOKUP(D160,mens_declare,A147,FALSE))=TRUE,\"\",HLOOKUP(D160,mens_declare,A147,FALSE))","v":"-"},"Southport Waterloo AC"]
[11,7,3,{"$f":"HLOOKUP(A161,mens_handbook,A146,FALSE)","v":77},{"$f":"IF(ISERROR(HLOOKUP(D161,mens_declare,A147,FALSE))=TRUE,\"\",HLOOKUP(D161,mens_declare,A147,FALSE))","v":"-"},"Wrexham AAC"]
[12,4,4,{"$f":"HLOOKUP(A162,mens_handbook,A146,FALSE)","v":44},{"$f":"IF(ISERROR(HLOOKUP(D162,mens_declare,A147,FALSE))=TRUE,\"\",HLOOKUP(D162,mens_declare,A147,FALSE))","v":"-"},"Salford Metropolitan AC"]
[13,6,5,{"$f":"HLOOKUP(A163,mens_handbook,A146,FALSE)","v":66},{"$f":"IF(ISERROR(HLOOKUP(D163,mens_declare,A147,FALSE))=TRUE,\"\",HLOOKUP(D163,mens_declare,A147,FALSE))","v":"-"},"Warrington AC"]
[14,3,6,{"$f":"HLOOKUP(A164,mens_handbook,A146,FALSE)","v":33},{"$f":"IF(ISERROR(HLOOKUP(D164,mens_declare,A147,FALSE))=TRUE,\"\",HLOOKUP(D164,mens_declare,A147,FALSE))","v":"-"},"Isle of Man \"B\""]
[15,1,7,{"$f":"HLOOKUP(A165,mens_handbook,A146,FALSE)","v":11},{"$f":"IF(ISERROR(HLOOKUP(D165,mens_declare,A147,FALSE))=TRUE,\"\",HLOOKUP(D165,mens_declare,A147,FALSE))","v":"-"},"Altrincham & District AC"]
[16,0,8,{"$f":"HLOOKUP(A166,mens_handbook,A146,FALSE)","v":0},{"$f":"IF(ISERROR(HLOOKUP(D166,mens_declare,A147,FALSE))=TRUE,\"\",HLOOKUP(D166,mens_declare,A147,FALSE))","v":""},""]
[]
[null,null,"League",{"$f":"VLOOKUP(A145,mens_handbook,29,FALSE)","v":1994},{"$f":"VLOOKUP(A145,mens_handbook,26,FALSE)","v":"Kevin Lumsden"},{"$f":"VLOOKUP(A145,mens_handbook,27,FALSE)","v":"Morpeth H & AC"},{"$f":"VLOOKUP(A145,mens_handbook,28,FALSE)","v":"14.4s"}]
[null,null,"Division",{"$f":"VLOOKUP(A145,mens_handbook,33,FALSE)","v":"-"},{"$f":"VLOOKUP(A145,mens_handbook,30,FALSE)","v":"-"},{"$f":"VLOOKUP(A145,mens_handbook,31,FALSE)","v":"-"},{"$f":"VLOOKUP(A145,mens_handbook,32,FALSE)","v":"-"}]
[7,null,{"$f":"CONCATENATE(VLOOKUP(A170,mens_handbook,3,FALSE),\" - A String\")","v":"Men's 200m - A String"},null,null,"Time:",{"$f":"VLOOKUP(A170,Handbook!$A$4:$B$24,2,FALSE)","v":"15:55:00"}]
[{"$f":"VLOOKUP(A170,mens_handbook,37,FALSE)","v":8},null,"Lane","Number","Athlete","Club"]
[{"$f":"VLOOKUP(A170,mens_declare,20,FALSE)","v":4},{"$f":"IF(D172=\"\",\"\",IF(D172>10,D172/11,D172))","v":5},1,{"$f":"HLOOKUP(C172,mens_handbook,A171,FALSE)","v":5},{"$f":"IF(ISERROR(HLOOKUP(D172,mens_declare,A172,FALSE))=TRUE,\"\",HLOOKUP(D172,mens_declare,A172,FALSE))","v":"-"},{"$f":"IF(ISERROR(VLOOKUP(B172,matchday,2,FALSE))=TRUE,\"\",VLOOKUP(B172,matchday,2,FALSE))","v":"Southport Waterloo AC"}]
[null,{"$f":"IF(D173=\"\",\"\",IF(D173>10,D173/11,D173))","v":4},2,{"$f":"HLOOKUP(C173,mens_handbook,A171,FALSE)","v":4},{"$f":"IF(ISERROR(HLOOKUP(D173,mens_declare,A172,FALSE))=TRUE,\"\",HLOOKUP(D173,mens_declare,A172,FALSE))","v":"-"},"Salford Metropolitan AC"]
[null,2,3,{"$f":"HLOOKUP(C174,mens_handbook,A171,FALSE)","v":2},{"$f":"IF(ISERROR(HLOOKUP(D174,mens_declare,A172,FALSE))=TRUE,\"\",HLOOKUP(D174,mens_declare,A172,FALSE))","v":"-"},"Crewe & Nantwich AC"]
[null,3,4,{"$f":"HLOOKUP(C175,mens_handbook,A171,FALSE)","v":3},{"$f":"IF(ISERROR(HLOOKUP(D175,mens_declare,A172,FALSE))=TRUE,\"\",HLOOKUP(D175,mens_declare,A172,FALSE))","v":"-"},"Isle of Man \"B\""]
[null,7,5,{"$f":"HLOOKUP(C176,mens_handbook,A171,FALSE)","v":7},{"$f":"IF(ISERROR(HLOOKUP(D176,mens_declare,A172,FALSE))=TRUE,\"\",HLOOKUP(D176,mens_declare,A172,FALSE))","v":"-"},"Wrexham AAC"]
[null,1,6,{"$f":"HLOOKUP(C177,mens_handbook,A171,FALSE)","v":1},{"$f":"IF(ISERROR(HLOOKUP(D177,mens_declare,A172,FALSE))=TRUE,\"\",HLOOKUP(D177,mens_declare,A172,FALSE))","v":"-"},"Altrincham & District AC"]
[null,6,7,{"$f":"HLOOKUP(C178,mens_handbook,A171,FALSE)","v":6},{"$f":"IF(ISERROR(HLOOKUP(D178,mens_declare,A172,FALSE))=TRUE,\"\",HLOOKUP(D178,mens_declare,A172,FALSE))","v":"-"},"Warrington AC"]
[null,0,8,{"$f":"HLOOKUP(C179,mens_handbook,A171,FALSE)","v":0},{"$f":"IF(ISERROR(HLOOKUP(D179,mens_declare,A172,FALSE))=TRUE,\"\",HLOOKUP(D179,mens_declare,A172,FALSE))","v":""},""]
[]
[]
[null,null,{"$f":"CONCATENATE(VLOOKUP(A170,mens_handbook,3,FALSE),\" - B String\")","v":"Men's 200m - B String"},null,null,"Time:",{"$f":"VLOOKUP(A170,Handbook!$A$4:$B$24,2,FALSE)","v":"15:55:00"}]
[null,null,"Lane","Number","Athlete","Club"]
[9,{"$f":"IF(D184=\"\",\"\",IF(D184>10,D184/11,D184))","v":5},1,{"$f":"HLOOKUP(A184,mens_handbook,A171,FALSE)","v":55},{"$f":"IF(ISERROR(HLOOKUP(D184,mens_declare,A172,FALSE))=TRUE,\"\",HLOOKUP(D184,mens_declare,A172,FALSE))","v":"-"},{"$f":"IF(ISERROR(VLOOKUP(B184,matchday,2,FALSE))=TRUE,\"\",VLOOKUP(B184,matchday,2,FALSE))","v":"Southport Waterloo AC"}]
[10,{"$f":"IF(D185=\"\",\"\",IF(D185>10,D185/11,D185))","v":4},2,{"$f":"HLOOKUP(A185,mens_handbook,A171,FALSE)","v":44},{"$f":"IF(ISERROR(HLOOKUP(D185,mens_declare,A172,FALSE))=TRUE,\"\",HLOOKUP(D185,mens_declare,A172,FALSE))","v":"-"},"Salford Metropolitan AC"]
[11,2,3,{"$f":"HLOOKUP(A186,mens_handbook,A171,FALSE)","v":22},{"$f":"IF(ISERROR(HLOOKUP(D186,mens_declare,A172,FALSE))=TRUE,\"\",HLOOKUP(D186,mens_declare,A172,FALSE))","v":"-"},"Crewe & Nantwich AC"]
[12,3,4,{"$f":"HLOOKUP(A187,mens_handbook,A171,FALSE)","v":33},{"$f":"IF(ISERROR(HLOOKUP(D187,mens_declare,A172,FALSE))=TRUE,\"\",HLOOKUP(D187,mens_declare,A172,FALSE))","v":"-"},"Isle of Man \"B\""]
[13,7,5,{"$f":"HLOOKUP(A188,mens_handbook,A171,FALSE)","v":77},{"$f":"IF(ISERROR(HLOOKUP(D188,mens_declare,A172,FALSE))=TRUE,\"\",HLOOKUP(D188,mens_declare,A172,FALSE))","v":"-"},"Wrexham AAC"]
[14,1,6,{"$f":"HLOOKUP(A189,mens_handbook,A171,FALSE)","v":11},{"$f":"IF(ISERROR(HLOOKUP(D189,mens_declare,A172,FALSE))=TRUE,\"\",HLOOKUP(D189,mens_declare,A172,FALSE))","v":"-"},"Altrincham & District AC"]
[15,6,7,{"$f":"HLOOKUP(A190,mens_handbook,A171,FALSE)","v":66},{"$f":"IF(ISERROR(HLOOKUP(D190,mens_declare,A172,FALSE))=TRUE,\"\",HLOOKUP(D190,mens_declare,A172,FALSE))","v":"-"},"Warrington AC"]
[16,0,8,{"$f":"HLOOKUP(A191,mens_handbook,A171,FALSE)","v":0},{"$f":"IF(ISERROR(HLOOKUP(D191,mens_declare,A172,FALSE))=TRUE,\"\",HLOOKUP(D191,mens_declare,A172,FALSE))","v":""},""]
[]
[null,null,"League",{"$f":"VLOOKUP(A170,mens_handbook,29,FALSE)","v":2010},{"$f":"VLOOKUP(A170,mens_handbook,26,FALSE)","v":"Luke Evans"},{"$f":"VLOOKUP(A170,mens_handbook,27,FALSE)","v":"Blackburn Harriers"},{"$f":"VLOOKUP(A170,mens_handbook,28,FALSE)","v":21}]
[null,null,"Division",{"$f":"VLOOKUP(A170,mens_handbook,33,FALSE)","v":"-"},{"$f":"VLOOKUP(A170,mens_handbook,30,FALSE)","v":"-"},{"$f":"VLOOKUP(A170,mens_handbook,31,FALSE)","v":"-"},{"$f":"VLOOKUP(A170,mens_handbook,32,FALSE)","v":"-"}]
[8,null,{"$f":"CONCATENATE(VLOOKUP(A195,mens_handbook,3,FALSE),\" - A String\")","v":"Men's 1500m - A String"},null,null,"Time:",{"$f":"VLOOKUP(A195,Handbook!$A$4:$B$24,2,FALSE)","v":"15:20:00"}]
[{"$f":"VLOOKUP(A195,mens_handbook,37,FALSE)","v":9},null,"Lane","Number","Athlete","Club"]
[{"$f":"VLOOKUP(A195,mens_declare,20,FALSE)","v":7},{"$f":"IF(D197=\"\",\"\",IF(D197>10,D197/11,D197))","v":1},1,{"$f":"HLOOKUP(C197,mens_handbook,A196,FALSE)","v":1},{"$f":"IF(ISERROR(HLOOKUP(D197,mens_declare,A197,FALSE))=TRUE,\"\",HLOOKUP(D197,mens_declare,A197,FALSE))","v":"-"},{"$f":"IF(ISERROR(VLOOKUP(B197,matchday,2,FALSE))=TRUE,\"\",VLOOKUP(B197,matchday,2,FALSE))","v":"Altrincham & District AC"}]
[null,{"$f":"IF(D198=\"\",\"\",IF(D198>10,D198/11,D198))","v":6},2,{"$f":"HLOOKUP(C198,mens_handbook,A196,FALSE)","v":6},{"$f":"IF(ISERROR(HLOOKUP(D198,mens_declare,A197,FALSE))=TRUE,\"\",HLOOKUP(D198,mens_declare,A197,FALSE))","v":"-"},"Warrington AC"]
[null,3,3,{"$f":"HLOOKUP(C199,mens_handbook,A196,FALSE)","v":3},{"$f":"IF(ISERROR(HLOOKUP(D199,mens_declare,A197,FALSE))=TRUE,\"\",HLOOKUP(D199,mens_declare,A197,FALSE))","v":"-"},"Isle of Man \"B\""]
[null,7,4,{"$f":"HLOOKUP(C200,mens_handbook,A196,FALSE)","v":7},{"$f":"IF(ISERROR(HLOOKUP(D200,mens_declare,A197,FALSE))=TRUE,\"\",HLOOKUP(D200,mens_declare,A197,FALSE))","v":"-"},"Wrexham AAC"]
[null,4,5,{"$f":"HLOOKUP(C201,mens_handbook,A196,FALSE)","v":4},{"$f":"IF(ISERROR(HLOOKUP(D201,mens_declare,A197,FALSE))=TRUE,\"\",HLOOKUP(D201,mens_declare,A197,FALSE))","v":"-"},"Salford Metropolitan AC"]
[null,2,6,{"$f":"HLOOKUP(C202,mens_handbook,A196,FALSE)","v":2},{"$f":"IF(ISERROR(HLOOKUP(D202,mens_declare,A197,FALSE))=TRUE,\"\",HLOOKUP(D202,mens_declare,A197,FALSE))","v":"-"},"Crewe & Nantwich AC"]
[null,5,7,{"$f":"HLOOKUP(C203,mens_handbook,A196,FALSE)","v":5},{"$f":"IF(ISERROR(HLOOKUP(D203,mens_declare,A197,FALSE))=TRUE,\"\",HLOOKUP(D203,mens_declare,A197,FALSE))","v":"-"},"Southport Waterloo AC"]
[null,0,8,{"$f":"HLOOKUP(C204,mens_handbook,A196,FALSE)","v":0},{"$f":"IF(ISERROR(HLOOKUP(D204,mens_declare,A197,FALSE))=TRUE,\"\",HLOOKUP(D204,mens_declare,A197,FALSE))","v":""},""]
[]
[]
[null,null,{"$f":"CONCATENATE(VLOOKUP(A195,mens_handbook,3,FALSE),\" - B String\")","v":"Men's 1500m - B String"},null,null,"Time:",{"$f":"VLOOKUP(A195,Handbook!$A$4:$B$24,2,FALSE)","v":"15:20:00"}]
[null,null,"Lane","Number","Athlete","Club"]
[9,{"$f":"IF(D209=\"\",\"\",IF(D209>10,D209/11,D209))","v":1},1,{"$f":"HLOOKUP(A209,mens_handbook,A196,FALSE)","v":11},{"$f":"IF(ISERROR(HLOOKUP(D209,mens_declare,A197,FALSE))=TRUE,\"\",HLOOKUP(D209,mens_declare,A197,FALSE))","v":"-"},{"$f":"IF(ISERROR(VLOOKUP(B209,matchday,2,FALSE))=TRUE,\"\",VLOOKUP(B209,matchday,2,FALSE))","v":"Altrincham & District AC"}]
[10,{"$f":"IF(D210=\"\",\"\",IF(D210>10,D210/11,D210))","v":6},2,{"$f":"HLOOKUP(A210,mens_handbook,A196,FALSE)","v":66},{"$f":"IF(ISERROR(HLOOKUP(D210,mens_declare,A197,FALSE))=TRUE,\"\",HLOOKUP(D210,mens_declare,A197,FALSE))","v":"-"},"Warrington AC"]
[11,3,3,{"$f":"HLOOKUP(A211,mens_handbook,A196,FALSE)","v":33},{"$f":"IF(ISERROR(HLOOKUP(D211,mens_declare,A197,FALSE))=TRUE,\"\",HLOOKUP(D211,mens_declare,A197,FALSE))","v":"-"},"Isle of Man \"B\""]
[12,7,4,{"$f":"HLOOKUP(A212,mens_handbook,A196,FALSE)","v":77},{"$f":"IF(ISERROR(HLOOKUP(D212,mens_declare,A197,FALSE))=TRUE,\"\",HLOOKUP(D212,mens_declare,A197,FALSE))","v":"-"},"Wrexham AAC"]
[13,4,5,{"$f":"HLOOKUP(A213,mens_handbook,A196,FALSE)","v":44},{"$f":"IF(ISERROR(HLOOKUP(D213,mens_declare,A197,FALSE))=TRUE,\"\",HLOOKUP(D213,mens_declare,A197,FALSE))","v":"-"},"Salford Metropolitan AC"]
[14,2,6,{"$f":"HLOOKUP(A214,mens_handbook,A196,FALSE)","v":22},{"$f":"IF(ISERROR(HLOOKUP(D214,mens_declare,A197,FALSE))=TRUE,\"\",HLOOKUP(D214,mens_declare,A197,FALSE))","v":"-"},"Crewe & Nantwich AC"]
[15,5,7,{"$f":"HLOOKUP(A215,mens_handbook,A196,FALSE)","v":55},{"$f":"IF(ISERROR(HLOOKUP(D215,mens_declare,A197,FALSE))=TRUE,\"\",HLOOKUP(D215,mens_declare,A197,FALSE))","v":"-"},"Southport Waterloo AC"]
[16,0,8,{"$f":"HLOOKUP(A216,mens_handbook,A196,FALSE)","v":0},{"$f":"IF(ISERROR(HLOOKUP(D216,mens_declare,A197,FALSE))=TRUE,\"\",HLOOKUP(D216,mens_declare,A197,FALSE))","v":""},""]
[]
[null,null,"League",{"$f":"VLOOKUP(A195,mens_handbook,29,FALSE)","v":1991},{"$f":"VLOOKUP(A195,mens_handbook,26,FALSE)","v":"Steve Cram"},{"$f":"VLOOKUP(A195,mens_handbook,27,FALSE)","v":"Jarrow & Hebburn AC"},{"$f":"VLOOKUP(A195,mens_handbook,28,FALSE)","v":"00:03:42"}]
[null,null,"Division",{"$f":"VLOOKUP(A195,mens_handbook,33,FALSE)","v":"-"},{"$f":"VLOOKUP(A195,mens_handbook,30,FALSE)","v":"-"},{"$f":"VLOOKUP(A195,mens_handbook,31,FALSE)","v":"-"},{"$f":"VLOOKUP(A195,mens_handbook,32,FALSE)","v":"-"}]

{"sheet":"Track Lists (F)","index":27,"n_rows":219,"n_cols":8,"rows_kept":219,"cut":false,"hidden":false,"merged":[[0,2,0,4],[1,2,1,3]]}
[null,null,{"$f":"CONCATENATE('Match Day'!I8,\" \",'Match Day'!I10,\" - \",'Match Day'!I12)","v":"Division 4W Match 1 - Litherland"},null,null,null,null,"Home"]
[null,null,{"$f":"'Match Day'!I6","v":"2014-05-04"}]
[1,null,{"$f":"CONCATENATE(VLOOKUP(A3,womens_handbook,3,FALSE),\" - A String\")","v":"Women's 400m Hurdles - A String"},null,null,"Time:",{"$f":"VLOOKUP(A3,womens_handbook,2,FALSE)","v":"13:00:00"}]
[{"$f":"VLOOKUP(A3,womens_handbook,37,FALSE)","v":2},null,"Lane","Number","Athlete","Club"]
[{"$f":"VLOOKUP(A3,womens_declare,20,FALSE)","v":10},{"$f":"IF(D5=\"\",\"\",IF(D5>10,D5/11,D5))","v":2},1,{"$f":"HLOOKUP(C5,womens_handbook,A4,FALSE)","v":2},{"$f":"IF(ISERROR(HLOOKUP(D5,womens_declare,A5,FALSE))=TRUE,\"\",HLOOKUP(D5,womens_declare,A5,FALSE))","v":"-"},{"$f":"IF(ISERROR(VLOOKUP(B5,matchday,2,FALSE))=TRUE,\"\",VLOOKUP(B5,matchday,2,FALSE))","v":"Crewe & Nantwich AC"}]
[null,5,2,{"$f":"HLOOKUP(C6,womens_handbook,A4,FALSE)","v":5},{"$f":"IF(ISERROR(HLOOKUP(D6,womens_declare,A5,FALSE))=TRUE,\"\",HLOOKUP(D6,womens_declare,A5,FALSE))","v":"-"},"Southport Waterloo AC"]
[null,7,3,{"$f":"HLOOKUP(C7,womens_handbook,A4,FALSE)","v":7},{"$f":"IF(ISERROR(HLOOKUP(D7,womens_declare,A5,FALSE))=TRUE,\"\",HLOOKUP(D7,womens_declare,A5,FALSE))","v":"-"},"Wrexham AAC"]
[null,4,4,{"$f":"HLOOKUP(C8,womens_handbook,A4,FALSE)","v":4},{"$f":"IF(ISERROR(HLOOKUP(D8,womens_declare,A5,FALSE))=TRUE,\"\",HLOOKUP(D8,womens_declare,A5,FALSE))","v":"-"},"Salford Metropolitan AC"]
[null,6,5,{"$f":"HLOOKUP(C9,womens_handbook,A4,FALSE)","v":6},{"$f":"IF(ISERROR(HLOOKUP(D9,womens_declare,A5,FALSE))=TRUE,\"\",HLOOKUP(D9,womens_declare,A5,FALSE))","v":"-"},"Warrington AC"]
[null,3,6,{"$f":"HLOOKUP(C10,womens_handbook,A4,FALSE)","v":3},{"$f":"IF(ISERROR(HLOOKUP(D10,womens_declare,A5,FALSE))=TRUE,\"\",HLOOKUP(D10,womens_declare,A5,FALSE))","v":"-"},"Isle of Man \"B\""]
[null,1,7,{"$f":"HLOOKUP(C11,womens_handbook,A4,FALSE)","v":1},{"$f":"IF(ISERROR(HLOOKUP(D11,womens_declare,A5,FALSE))=TRUE,\"\",HLOOKUP(D11,womens_declare,A5,FALSE))","v":"-"},"Altrincham & District AC"]
[null,0,8,{"$f":"HLOOKUP(C12,womens_handbook,A4,FALSE)","v":0},{"$f":"IF(ISERROR(HLOOKUP(D12,womens_declare,A5,FALSE))=TRUE,\"\",HLOOKUP(D12,womens_declare,A5,FALSE))","v":""},""]
[]
[]
[null,null,{"$f":"CONCATENATE(VLOOKUP(A3,womens_handbook,3,FALSE),\" - B String\")","v":"Women's 400m Hurdles - B String"},null,null,"Time:",{"$f":"VLOOKUP(A3,womens_handbook,2,FALSE)","v":"13:00:00"}]
[null,null,"Lane","Number","Athlete","Club"]
[9,{"$f":"IF(D17=\"\",\"\",IF(D17>10,D17/11,D17))","v":2},1,{"$f":"HLOOKUP(A17,womens_handbook,A4,FALSE)","v":22},{"$f":"IF(ISERROR(HLOOKUP(D17,womens_declare,A5,FALSE))=TRUE,\"\",HLOOKUP(D17,womens_declare,A5,FALSE))","v":"-"},{"$f":"IF(ISERROR(VLOOKUP(B17,matchday,2,FALSE))=TRUE,\"\",VLOOKUP(B17,matchday,2,FALSE))","v":"Crewe & Nantwich AC"}]
[10,5,2,{"$f":"HLOOKUP(A18,womens_handbook,A4,FALSE)","v":55},{"$f":"IF(ISERROR(HLOOKUP(D18,womens_declare,A5,FALSE))=TRUE,\"\",HLOOKUP(D18,womens_declare,A5,FALSE))","v":"-"},"Southport Waterloo AC"]
[11,7,3,{"$f":"HLOOKUP(A19,womens_handbook,A4,FALSE)","v":77},{"$f":"IF(ISERROR(HLOOKUP(D19,womens_declare,A5,FALSE))=TRUE,\"\",HLOOKUP(D19,womens_declare,A5,FALSE))","v":"-"},"Wrexham AAC"]
[12,4,4,{"$f":"HLOOKUP(A20,womens_handbook,A4,FALSE)","v":44},{"$f":"IF(ISERROR(HLOOKUP(D20,womens_declare,A5,FALSE))=TRUE,\"\",HLOOKUP(D20,womens_declare,A5,FALSE))","v":"-"},"Salford Metropolitan AC"]
[13,6,5,{"$f":"HLOOKUP(A21,womens_handbook,A4,FALSE)","v":66},{"$f":"IF(ISERROR(HLOOKUP(D21,womens_declare,A5,FALSE))=TRUE,\"\",HLOOKUP(D21,womens_declare,A5,FALSE))","v":"-"},"Warrington AC"]
[14,3,6,{"$f":"HLOOKUP(A22,womens_handbook,A4,FALSE)","v":33},{"$f":"IF(ISERROR(HLOOKUP(D22,womens_declare,A5,FALSE))=TRUE,\"\",HLOOKUP(D22,womens_declare,A5,FALSE))","v":"-"},"Isle of Man \"B\""]
[15,1,7,{"$f":"HLOOKUP(A23,womens_handbook,A4,FALSE)","v":11},{"$f":"IF(ISERROR(HLOOKUP(D23,womens_declare,A5,FALSE))=TRUE,\"\",HLOOKUP(D23,womens_declare,A5,FALSE))","v":"-"},"Altrincham & District AC"]
[16,0,8,{"$f":"HLOOKUP(A24,womens_handbook,A4,FALSE)","v":0},{"$f":"IF(ISERROR(HLOOKUP(D24,womens_declare,A5,FALSE))=TRUE,\"\",HLOOKUP(D24,womens_declare,A5,FALSE))","v":""},""]
[]
[null,null,"League",{"$f":"VLOOKUP(A3,womens_handbook,29,FALSE)","v":1987},{"$f":"VLOOKUP(A3,womens_handbook,26,FALSE)","v":"V Boden"},{"$f":"VLOOKUP(A3,womens_handbook,27,FALSE)","v":"Hallamshire"},{"$f":"VLOOKUP(A3,womens_handbook,28,FALSE)","v":"58.80s"}]
[null,null,"Division",{"$f":"VLOOKUP(A3,womens_handbook,33,FALSE)","v":"-"},{"$f":"VLOOKUP(A3,womens_handbook,30,FALSE)","v":"-"},{"$f":"VLOOKUP(A3,womens_handbook,31,FALSE)","v":"-"},{"$f":"VLOOKUP(A3,womens_handbook,32,FALSE)","v":"-"}]
[2,null,{"$f":"CONCATENATE(VLOOKUP(A28,womens_handbook,3,FALSE),\" - A String\")","v":"Women's 800m - A String"},null,null,"Time:",{"$f":"VLOOKUP(A28,womens_handbook,2,FALSE)","v":"13:25:00"}]
[{"$f":"VLOOKUP(A28,womens_handbook,37,FALSE)","v":3},null,"Lane","Number","Athlete","Club"]
[{"$f":"VLOOKUP(A28,womens_declare,20,FALSE)","v":6},{"$f":"IF(D30=\"\",\"\",IF(D30>10,D30/11,D30))","v":3},1,{"$f":"HLOOKUP(C30,womens_handbook,A29,FALSE)","v":3},{"$f":"IF(ISERROR(HLOOKUP(D30,womens_declare,A30,FALSE))=TRUE,\"\",HLOOKUP(D30,womens_declare,A30,FALSE))","v":"-"},{"$f":"IF(ISERROR(VLOOKUP(B30,matchday,2,FALSE))=TRUE,\"\",VLOOKUP(B30,matchday,2,FALSE))","v":"Isle of Man \"B\""}]
[null,1,2,{"$f":"HLOOKUP(C31,womens_handbook,A29,FALSE)","v":1},{"$f":"IF(ISERROR(HLOOKUP(D31,womens_declare,A30,FALSE))=TRUE,\"\",HLOOKUP(D31,womens_declare,A30,FALSE))","v":"-"},"Altrincham & District AC"]
[null,4,3,{"$f":"HLOOKUP(C32,womens_handbook,A29,FALSE)","v":4},{"$f":"IF(ISERROR(HLOOKUP(D32,womens_declare,A30,FALSE))=TRUE,\"\",HLOOKUP(D32,womens_declare,A30,FALSE))","v":"-"},"Salford Metropolitan AC"]
[null,6,4,{"$f":"HLOOKUP(C33,womens_handbook,A29,FALSE)","v":6},{"$f":"IF(ISERROR(HLOOKUP(D33,womens_declare,A30,FALSE))=TRUE,\"\",HLOOKUP(D33,womens_declare,A30,FALSE))","v":"-"},"Warrington AC"]
[null,5,5,{"$f":"HLOOKUP(C34,womens_handbook,A29,FALSE)","v":5},{"$f":"IF(ISERROR(HLOOKUP(D34,womens_declare,A30,FALSE))=TRUE,\"\",HLOOKUP(D34,womens_declare,A30,FALSE))","v":"-"},"Southport Waterloo AC"]
[null,7,6,{"$f":"HLOOKUP(C35,womens_handbook,A29,FALSE)","v":7},{"$f":"IF(ISERROR(HLOOKUP(D35,womens_declare,A30,FALSE))=TRUE,\"\",HLOOKUP(D35,womens_declare,A30,FALSE))","v":"-"},"Wrexham AAC"]
[null,2,7,{"$f":"HLOOKUP(C36,womens_handbook,A29,FALSE)","v":2},{"$f":"IF(ISERROR(HLOOKUP(D36,womens_declare,A30,FALSE))=TRUE,\"\",HLOOKUP(D36,womens_declare,A30,FALSE))","v":"-"},"Crewe & Nantwich AC"]
[null,0,8,{"$f":"HLOOKUP(C37,womens_handbook,A29,FALSE)","v":0},{"$f":"IF(ISERROR(HLOOKUP(D37,womens_declare,A30,FALSE))=TRUE,\"\",HLOOKUP(D37,womens_declare,A30,FALSE))","v":""},""]
[]
[]
[null,null,{"$f":"CONCATENATE(VLOOKUP(A28,womens_handbook,3,FALSE),\" - B String\")","v":"Women's 800m - B String"},null,null,"Time:",{"$f":"VLOOKUP(A28,womens_handbook,2,FALSE)","v":"13:25:00"}]
[null,null,"Lane","Number","Athlete","Club"]
[9,{"$f":"IF(D42=\"\",\"\",IF(D42>10,D42/11,D42))","v":3},1,{"$f":"HLOOKUP(A42,womens_handbook,A29,FALSE)","v":33},{"$f":"IF(ISERROR(HLOOKUP(D42,womens_declare,A30,FALSE))=TRUE,\"\",HLOOKUP(D42,womens_declare,A30,FALSE))","v":"-"},{"$f":"IF(ISERROR(VLOOKUP(B42,matchday,2,FALSE))=TRUE,\"\",VLOOKUP(B42,matchday,2,FALSE))","v":"Isle of Man \"B\""}]
[10,1,2,{"$f":"HLOOKUP(A43,womens_handbook,A29,FALSE)","v":11},{"$f":"IF(ISERROR(HLOOKUP(D43,womens_declare,A30,FALSE))=TRUE,\"\",HLOOKUP(D43,womens_declare,A30,FALSE))","v":"-"},"Altrincham & District AC"]
[11,4,3,{"$f":"HLOOKUP(A44,womens_handbook,A29,FALSE)","v":44},{"$f":"IF(ISERROR(HLOOKUP(D44,womens_declare,A30,FALSE))=TRUE,\"\",HLOOKUP(D44,womens_declare,A30,FALSE))","v":"-"},"Salford Metropolitan AC"]
[12,6,4,{"$f":"HLOOKUP(A45,womens_handbook,A29,FALSE)","v":66},{"$f":"IF(ISERROR(HLOOKUP(D45,womens_declare,A30,FALSE))=TRUE,\"\",HLOOKUP(D45,womens_declare,A30,FALSE))","v":"-"},"Warrington AC"]
[13,5,5,{"$f":"HLOOKUP(A46,womens_handbook,A29,FALSE)","v":55},{"$f":"IF(ISERROR(HLOOKUP(D46,womens_declare,A30,FALSE))=TRUE,\"\",HLOOKUP(D46,womens_declare,A30,FALSE))","v":"-"},"Southport Waterloo AC"]
[14,7,6,{"$f":"HLOOKUP(A47,womens_handbook,A29,FALSE)","v":77},{"$f":"IF(ISERROR(HLOOKUP(D47,womens_declare,A30,FALSE))=TRUE,\"\",HLOOKUP(D47,womens_declare,A30,FALSE))","v":"-"},"Wrexham AAC"]
[15,2,7,{"$f":"HLOOKUP(A48,womens_handbook,A29,FALSE)","v":22},{"$f":"IF(ISERROR(HLOOKUP(D48,womens_declare,A30,FALSE))=TRUE,\"\",HLOOKUP(D48,womens_declare,A30,FALSE))","v":"-"},"Crewe & Nantwich AC"]
[16,0,8,{"$f":"HLOOKUP(A49,womens_handbook,A29,FALSE)","v":0},{"$f":"IF(ISERROR(HLOOKUP(D49,womens_declare,A30,FALSE))=TRUE,\"\",HLOOKUP(D49,womens_declare,A30,FALSE))","v":""},""]
[]
[null,null,"League",{"$f":"VLOOKUP(A28,womens_handbook,29,FALSE)","v":1988},{"$f":"VLOOKUP(A28,womens_handbook,26,FALSE)","v":"C Cahill"},{"$f":"VLOOKUP(A28,womens_handbook,27,FALSE)","v":"Gateshead H & AC"},{"$f":"VLOOKUP(A28,womens_handbook,28,FALSE)","v":"00:02:04.300"}]
[null,null,"Division",{"$f":"VLOOKUP(A28,womens_handbook,33,FALSE)","v":"-"},{"$f":"VLOOKUP(A28,womens_handbook,30,FALSE)","v":"-"},{"$f":"VLOOKUP(A28,womens_handbook,31,FALSE)","v":"-"},{"$f":"VLOOKUP(A28,womens_handbook,32,FALSE)","v":"-"}]
[3,null,{"$f":"CONCATENATE(VLOOKUP(A53,womens_handbook,3,FALSE),\" - A String\")","v":"Women's 100m - A String"},null,null,"Time:",{"$f":"VLOOKUP(A53,womens_handbook,2,FALSE)","v":"13:45:00"}]
[{"$f":"VLOOKUP(A53,womens_handbook,37,FALSE)","v":4},null,"Lane","Number","Athlete","Club"]
[{"$f":"VLOOKUP(A53,womens_declare,20,FALSE)","v":3},{"$f":"IF(D55=\"\",\"\",IF(D55>10,D55/11,D55))","v":2},1,{"$f":"HLOOKUP(C55,womens_handbook,A54,FALSE)","v":2},{"$f":"IF(ISERROR(HLOOKUP(D55,womens_declare,A55,FALSE))=TRUE,\"\",HLOOKUP(D55,womens_declare,A55,FALSE))","v":"-"},{"$f":"IF(ISERROR(VLOOKUP(B55,matchday,2,FALSE))=TRUE,\"\",VLOOKUP(B55,matchday,2,FALSE))","v":"Crewe & Nantwich AC"}]
[null,5,2,{"$f":"HLOOKUP(C56,womens_handbook,A54,FALSE)","v":5},{"$f":"IF(ISERROR(HLOOKUP(D56,womens_declare,A55,FALSE))=TRUE,\"\",HLOOKUP(D56,womens_declare,A55,FALSE))","v":"-"},"Southport Waterloo AC"]
[null,7,3,{"$f":"HLOOKUP(C57,womens_handbook,A54,FALSE)","v":7},{"$f":"IF(ISERROR(HLOOKUP(D57,womens_declare,A55,FALSE))=TRUE,\"\",HLOOKUP(D57,womens_declare,A55,FALSE))","v":"-"},"Wrexham AAC"]
[null,4,4,{"$f":"HLOOKUP(C58,womens_handbook,A54,FALSE)","v":4},{"$f":"IF(ISERROR(HLOOKUP(D58,womens_declare,A55,FALSE))=TRUE,\"\",HLOOKUP(D58,womens_declare,A55,FALSE))","v":"-"},"Salford Metropolitan AC"]
[null,6,5,{"$f":"HLOOKUP(C59,womens_handbook,A54,FALSE)","v":6},{"$f":"IF(ISERROR(HLOOKUP(D59,womens_declare,A55,FALSE))=TRUE,\"\",HLOOKUP(D59,womens_declare,A55,FALSE))","v":"-"},"Warrington AC"]
[null,3,6,{"$f":"HLOOKUP(C60,womens_handbook,A54,FALSE)","v":3},{"$f":"IF(ISERROR(HLOOKUP(D60,womens_declare,A55,FALSE))=TRUE,\"\",HLOOKUP(D60,womens_declare,A55,FALSE))","v":"-"},"Isle of Man \"B\""]
[null,1,7,{"$f":"HLOOKUP(C61,womens_handbook,A54,FALSE)","v":1},{"$f":"IF(ISERROR(HLOOKUP(D61,womens_declare,A55,FALSE))=TRUE,\"\",HLOOKUP(D61,womens_declare,A55,FALSE))","v":"-"},"Altrincham & District AC"]
[null,0,8,{"$f":"HLOOKUP(C62,womens_handbook,A54,FALSE)","v":0},{"$f":"IF(ISERROR(HLOOKUP(D62,womens_declare,A55,FALSE))=TRUE,\"\",HLOOKUP(D62,womens_declare,A55,FALSE))","v":""},""]
[]
[]
[null,null,{"$f":"CONCATENATE(VLOOKUP(A53,womens_handbook,3,FALSE),\" - B String\")","v":"Women's 100m - B String"},null,null,"Time:",{"$f":"VLOOKUP(A53,womens_handbook,2,FALSE)","v":"13:45:00"}]
[null,null,"Lane","Number","Athlete","Club"]
[9,{"$f":"IF(D67=\"\",\"\",IF(D67>10,D67/11,D67))","v":2},1,{"$f":"HLOOKUP(A67,womens_handbook,A54,FALSE)","v":22},{"$f":"IF(ISERROR(HLOOKUP(D67,womens_declare,A55,FALSE))=TRUE,\"\",HLOOKUP(D67,womens_declare,A55,FALSE))","v":"-"},{"$f":"IF(ISERROR(VLOOKUP(B67,matchday,2,FALSE))=TRUE,\"\",VLOOKUP(B67,matchday,2,FALSE))","v":"Crewe & Nantwich AC"}]
[10,5,2,{"$f":"HLOOKUP(A68,womens_handbook,A54,FALSE)","v":55},{"$f":"IF(ISERROR(HLOOKUP(D68,womens_declare,A55,FALSE))=TRUE,\"\",HLOOKUP(D68,womens_declare,A55,FALSE))","v":"-"},"Southport Waterloo AC"]
[11,7,3,{"$f":"HLOOKUP(A69,womens_handbook,A54,FALSE)","v":77},{"$f":"IF(ISERROR(HLOOKUP(D69,womens_declare,A55,FALSE))=TRUE,\"\",HLOOKUP(D69,womens_declare,A55,FALSE))","v":"-"},"Wrexham AAC"]
[12,4,4,{"$f":"HLOOKUP(A70,womens_handbook,A54,FALSE)","v":44},{"$f":"IF(ISERROR(HLOOKUP(D70,womens_declare,A55,FALSE))=TRUE,\"\",HLOOKUP(D70,womens_declare,A55,FALSE))","v":"-"},"Salford Metropolitan AC"]
[13,6,5,{"$f":"HLOOKUP(A71,womens_handbook,A54,FALSE)","v":66},{"$f":"IF(ISERROR(HLOOKUP(D71,womens_declare,A55,FALSE))=TRUE,\"\",HLOOKUP(D71,womens_declare,A55,FALSE))","v":"-"},"Warrington AC"]
[14,3,6,{"$f":"HLOOKUP(A72,womens_handbook,A54,FALSE)","v":33},{"$f":"IF(ISERROR(HLOOKUP(D72,womens_declare,A55,FALSE))=TRUE,\"\",HLOOKUP(D72,womens_declare,A55,FALSE))","v":"-"},"Isle of Man \"B\""]
[15,1,7,{"$f":"HLOOKUP(A73,womens_handbook,A54,FALSE)","v":11},{"$f":"IF(ISERROR(HLOOKUP(D73,womens_declare,A55,FALSE))=TRUE,\"\",HLOOKUP(D73,womens_declare,A55,FALSE))","v":"-"},"Altrincham & District AC"]
[16,0,8,{"$f":"HLOOKUP(A74,womens_handbook,A54,FALSE)","v":0},{"$f":"IF(ISERROR(HLOOKUP(D74,womens_declare,A55,FALSE))=TRUE,\"\",HLOOKUP(D74,womens_declare,A55,FALSE))","v":""},""]
[]
[null,null,"League",{"$f":"VLOOKUP(A53,womens_handbook,29,FALSE)","v":"1998/91"},{"$f":"VLOOKUP(A53,womens_handbook,26,FALSE)","v":"L Stuart"},{"$f":"VLOOKUP(A53,womens_handbook,27,FALSE)","v":"Middlesbrough"},{"$f":"VLOOKUP(A53,womens_handbook,28,FALSE)","v":"11.6s"}]
[null,null,"Division",{"$f":"VLOOKUP(A53,womens_handbook,33,FALSE)","v":"-"},{"$f":"VLOOKUP(A53,womens_handbook,30,FALSE)","v":"-"},{"$f":"VLOOKUP(A53,womens_handbook,31,FALSE)","v":"-"},{"$f":"VLOOKUP(A53,womens_handbook,32,FALSE)","v":"-"}]
[4,null,{"$f":"CONCATENATE(VLOOKUP(A78,womens_handbook,3,FALSE),\" - A String\")","v":"Women's 400m - A String"},null,null,"Time:",{"$f":"VLOOKUP(A78,womens_handbook,2,FALSE)","v":"15:05:00"}]
[{"$f":"VLOOKUP(A78,womens_handbook,37,FALSE)","v":5},null,"Lane","Number","Athlete","Club"]
[{"$f":"VLOOKUP(A78,womens_declare,20,FALSE)","v":5},{"$f":"IF(D80=\"\",\"\",IF(D80>10,D80/11,D80))","v":4},1,{"$f":"HLOOKUP(C80,womens_handbook,A79,FALSE)","v":4},{"$f":"IF(ISERROR(HLOOKUP(D80,womens_declare,A80,FALSE))=TRUE,\"\",HLOOKUP(D80,womens_declare,A80,FALSE))","v":"-"},{"$f":"IF(ISERROR(VLOOKUP(B80,matchday,2,FALSE))=TRUE,\"\",VLOOKUP(B80,matchday,2,FALSE))","v":"Salford Metropolitan AC"}]
[null,3,2,{"$f":"HLOOKUP(C81,womens_handbook,A79,FALSE)","v":3},{"$f":"IF(ISERROR(HLOOKUP(D81,womens_declare,A80,FALSE))=TRUE,\"\",HLOOKUP(D81,womens_declare,A80,FALSE))","v":"-"},"Isle of Man \"B\""]
[null,5,3,{"$f":"HLOOKUP(C82,womens_handbook,A79,FALSE)","v":5},{"$f":"IF(ISERROR(HLOOKUP(D82,womens_declare,A80,FALSE))=TRUE,\"\",HLOOKUP(D82,womens_declare,A80,FALSE))","v":"-"},"Southport Waterloo AC"]
[null,1,4,{"$f":"HLOOKUP(C83,womens_handbook,A79,FALSE)","v":1},{"$f":"IF(ISERROR(HLOOKUP(D83,womens_declare,A80,FALSE))=TRUE,\"\",HLOOKUP(D83,womens_declare,A80,FALSE))","v":"-"},"Altrincham & District AC"]
[null,2,5,{"$f":"HLOOKUP(C84,womens_handbook,A79,FALSE)","v":2},{"$f":"IF(ISERROR(HLOOKUP(D84,womens_declare,A80,FALSE))=TRUE,\"\",HLOOKUP(D84,womens_declare,A80,FALSE))","v":"-"},"Crewe & Nantwich AC"]
[null,6,6,{"$f":"HLOOKUP(C85,womens_handbook,A79,FALSE)","v":6},{"$f":"IF(ISERROR(HLOOKUP(D85,womens_declare,A80,FALSE))=TRUE,\"\",HLOOKUP(D85,womens_declare,A80,FALSE))","v":"-"},"Warrington AC"]
[null,7,7,{"$f":"HLOOKUP(C86,womens_handbook,A79,FALSE)","v":7},{"$f":"IF(ISERROR(HLOOKUP(D86,womens_declare,A80,FALSE))=TRUE,\"\",HLOOKUP(D86,womens_declare,A80,FALSE))","v":"-"},"Wrexham AAC"]
[null,0,8,{"$f":"HLOOKUP(C87,womens_handbook,A79,FALSE)","v":0},{"$f":"IF(ISERROR(HLOOKUP(D87,womens_declare,A80,FALSE))=TRUE,\"\",HLOOKUP(D87,womens_declare,A80,FALSE))","v":""},""]
[]
[]
[null,null,{"$f":"CONCATENATE(VLOOKUP(A78,womens_handbook,3,FALSE),\" - B String\")","v":"Women's 400m - B String"},null,null,"Time:",{"$f":"VLOOKUP(A78,womens_handbook,2,FALSE)","v":"15:05:00"}]
[null,null,"Lane","Number","Athlete","Club"]
[9,{"$f":"IF(D92=\"\",\"\",IF(D92>10,D92/11,D92))","v":4},1,{"$f":"HLOOKUP(A92,womens_handbook,A79,FALSE)","v":44},{"$f":"IF(ISERROR(HLOOKUP(D92,womens_declare,A80,FALSE))=TRUE,\"\",HLOOKUP(D92,womens_declare,A80,FALSE))","v":"-"},{"$f":"IF(ISERROR(VLOOKUP(B92,matchday,2,FALSE))=TRUE,\"\",VLOOKUP(B92,matchday,2,FALSE))","v":"Salford Metropolitan AC"}]
[10,3,2,{"$f":"HLOOKUP(A93,womens_handbook,A79,FALSE)","v":33},{"$f":"IF(ISERROR(HLOOKUP(D93,womens_declare,A80,FALSE))=TRUE,\"\",HLOOKUP(D93,womens_declare,A80,FALSE))","v":"-"},"Isle of Man \"B\""]
[11,5,3,{"$f":"HLOOKUP(A94,womens_handbook,A79,FALSE)","v":55},{"$f":"IF(ISERROR(HLOOKUP(D94,womens_declare,A80,FALSE))=TRUE,\"\",HLOOKUP(D94,womens_declare,A80,FALSE))","v":"-"},"Southport Waterloo AC"]
[12,1,4,{"$f":"HLOOKUP(A95,womens_handbook,A79,FALSE)","v":11},{"$f":"IF(ISERROR(HLOOKUP(D95,womens_declare,A80,FALSE))=TRUE,\"\",HLOOKUP(D95,womens_declare,A80,FALSE))","v":"-"},"Altrincham & District AC"]
[13,2,5,{"$f":"HLOOKUP(A96,womens_handbook,A79,FALSE)","v":22},{"$f":"IF(ISERROR(HLOOKUP(D96,womens_declare,A80,FALSE))=TRUE,\"\",HLOOKUP(D96,womens_declare,A80,FALSE))","v":"-"},"Crewe & Nantwich AC"]
[14,6,6,{"$f":"HLOOKUP(A97,womens_handbook,A79,FALSE)","v":66},{"$f":"IF(ISERROR(HLOOKUP(D97,womens_declare,A80,FALSE))=TRUE,\"\",HLOOKUP(D97,womens_declare,A80,FALSE))","v":"-"},"Warrington AC"]
[15,7,7,{"$f":"HLOOKUP(A98,womens_handbook,A79,FALSE)","v":77},{"$f":"IF(ISERROR(HLOOKUP(D98,womens_declare,A80,FALSE))=TRUE,\"\",HLOOKUP(D98,womens_declare,A80,FALSE))","v":"-"},"Wrexham AAC"]
[16,0,8,{"$f":"HLOOKUP(A99,womens_handbook,A79,FALSE)","v":0},{"$f":"IF(ISERROR(HLOOKUP(D99,womens_declare,A80,FALSE))=TRUE,\"\",HLOOKUP(D99,womens_declare,A80,FALSE))","v":""},""]
[]
[null,null,"League",{"$f":"VLOOKUP(A78,womens_handbook,29,FALSE)","v":"1976/80"},{"$f":"VLOOKUP(A78,womens_handbook,26,FALSE)","v":"Joselyn Hoyte-Smith"},{"$f":"VLOOKUP(A78,womens_handbook,27,FALSE)","v":"Dorothy Hyman Track Club"},{"$f":"VLOOKUP(A78,womens_handbook,28,FALSE)","v":"53.7s"}]
[null,null,"Division",{"$f":"VLOOKUP(A78,womens_handbook,33,FALSE)","v":"-"},{"$f":"VLOOKUP(A78,womens_handbook,30,FALSE)","v":"-"},{"$f":"VLOOKUP(A78,womens_handbook,31,FALSE)","v":"-"},{"$f":"VLOOKUP(A78,womens_handbook,32,FALSE)","v":"-"}]
[5,null,{"$f":"CONCATENATE(VLOOKUP(A103,womens_handbook,3,FALSE),\"\")","v":"Women's 1500m S/Chase"},null,null,"Time:",{"$f":"VLOOKUP(A103,womens_handbook,2,FALSE)","v":"16:05:00"}]
[{"$f":"VLOOKUP(A103,womens_handbook,37,FALSE)","v":6},null,"Order","Number","Athlete","Club"]
[{"$f":"VLOOKUP(A103,womens_declare,20,FALSE)","v":8},{"$f":"IF(D105=\"\",\"\",IF(D105>10,D105/11,D105))","v":7},1,{"$f":"HLOOKUP(C105,Handbook!$D$3:$S$24,A104,FALSE)","v":7},{"$f":"IF(ISERROR(HLOOKUP(D105,womens_declare,A105,FALSE))=TRUE,\"\",HLOOKUP(D105,womens_declare,A105,FALSE))","v":"-"},{"$f":"IF(ISERROR(VLOOKUP(B105,matchday,2,FALSE))=TRUE,\"\",VLOOKUP(B105,matchday,2,FALSE))","v":"Wrexham AAC"}]
[null,2,2,{"$f":"HLOOKUP(C106,Handbook!$D$3:$S$24,A104,FALSE)","v":2},{"$f":"IF(ISERROR(HLOOKUP(D106,womens_declare,A105,FALSE))=TRUE,\"\",HLOOKUP(D106,womens_declare,A105,FALSE))","v":"-"},"Crewe & Nantwich AC"]
[null,6,3,{"$f":"HLOOKUP(C107,Handbook!$D$3:$S$24,A104,FALSE)","v":6},{"$f":"IF(ISERROR(HLOOKUP(D107,womens_declare,A105,FALSE))=TRUE,\"\",HLOOKUP(D107,womens_declare,A105,FALSE))","v":"-"},"Warrington AC"]
[null,5,4,{"$f":"HLOOKUP(C108,Handbook!$D$3:$S$24,A104,FALSE)","v":5},{"$f":"IF(ISERROR(HLOOKUP(D108,womens_declare,A105,FALSE))=TRUE,\"\",HLOOKUP(D108,womens_declare,A105,FALSE))","v":"-"},"Southport Waterloo AC"]
[null,1,5,{"$f":"HLOOKUP(C109,Handbook!$D$3:$S$24,A104,FALSE)","v":1},{"$f":"IF(ISERROR(HLOOKUP(D109,womens_declare,A105,FALSE))=TRUE,\"\",HLOOKUP(D109,womens_declare,A105,FALSE))","v":"-"},"Altrincham & District AC"]
[null,4,6,{"$f":"HLOOKUP(C110,Handbook!$D$3:$S$24,A104,FALSE)","v":4},{"$f":"IF(ISERROR(HLOOKUP(D110,womens_declare,A105,FALSE))=TRUE,\"\",HLOOKUP(D110,womens_declare,A105,FALSE))","v":"-"},"Salford Metropolitan AC"]
[null,3,7,{"$f":"HLOOKUP(C111,Handbook!$D$3:$S$24,A104,FALSE)","v":3},{"$f":"IF(ISERROR(HLOOKUP(D111,womens_declare,A105,FALSE))=TRUE,\"\",HLOOKUP(D111,womens_declare,A105,FALSE))","v":"-"},"Isle of Man \"B\""]
[null,0,8,{"$f":"HLOOKUP(C112,Handbook!$D$3:$S$24,A104,FALSE)","v":0},{"$f":"IF(ISERROR(HLOOKUP(D112,womens_declare,A105,FALSE))=TRUE,\"\",HLOOKUP(D112,womens_declare,A105,FALSE))","v":""},""]
[null,7,9,{"$f":"HLOOKUP(C113,Handbook!$D$3:$S$24,A104,FALSE)","v":77},{"$f":"IF(ISERROR(HLOOKUP(D113,womens_declare,A105,FALSE))=TRUE,\"\",HLOOKUP(D113,womens_declare,A105,FALSE))","v":"-"},"Wrexham AAC"]
[null,2,10,{"$f":"HLOOKUP(C114,Handbook!$D$3:$S$24,A104,FALSE)","v":22},{"$f":"IF(ISERROR(HLOOKUP(D114,womens_declare,A105,FALSE))=TRUE,\"\",HLOOKUP(D114,womens_declare,A105,FALSE))","v":"-"},"Crewe & Nantwich AC"]
[null,6,11,{"$f":"HLOOKUP(C115,Handbook!$D$3:$S$24,A104,FALSE)","v":66},{"$f":"IF(ISERROR(HLOOKUP(D115,womens_declare,A105,FALSE))=TRUE,\"\",HLOOKUP(D115,womens_declare,A105,FALSE))","v":"-"},"Warrington AC"]
[null,5,12,{"$f":"HLOOKUP(C116,Handbook!$D$3:$S$24,A104,FALSE)","v":55},{"$f":"IF(ISERROR(HLOOKUP(D116,womens_declare,A105,FALSE))=TRUE,\"\",HLOOKUP(D116,womens_declare,A105,FALSE))","v":"-"},"Southport Waterloo AC"]
[null,1,13,{"$f":"HLOOKUP(C117,Handbook!$D$3:$S$24,A104,FALSE)","v":11},{"$f":"IF(ISERROR(HLOOKUP(D117,womens_declare,A105,FALSE))=TRUE,\"\",HLOOKUP(D117,womens_declare,A105,FALSE))","v":"-"},"Altrincham & District AC"]
[null,4,14,{"$f":"HLOOKUP(C118,Handbook!$D$3:$S$24,A104,FALSE)","v":44},{"$f":"IF(ISERROR(HLOOKUP(D118,womens_declare,A105,FALSE))=TRUE,\"\",HLOOKUP(D118,womens_declare,A105,FALSE))","v":"-"},"Salford Metropolitan AC"]
[null,3,15,{"$f":"HLOOKUP(C119,Handbook!$D$3:$S$24,A104,FALSE)","v":33},{"$f":"IF(ISERROR(HLOOKUP(D119,womens_declare,A105,FALSE))=TRUE,\"\",HLOOKUP(D119,womens_declare,A105,FALSE))","v":"-"},"Isle of Man \"B\""]
[null,0,16,{"$f":"HLOOKUP(C120,Handbook!$D$3:$S$24,A104,FALSE)","v":0},{"$f":"IF(ISERROR(HLOOKUP(D120,womens_declare,A105,FALSE))=TRUE,\"\",HLOOKUP(D120,womens_declare,A105,FALSE))","v":""},""]
[]
[null,null,"League",{"$f":"VLOOKUP(A103,womens_handbook,29,FALSE)","v":"-"},{"$f":"VLOOKUP(A103,womens_handbook,26,FALSE)","v":"-"},{"$f":"VLOOKUP(A103,womens_handbook,27,FALSE)","v":"-"},{"$f":"VLOOKUP(A103,womens_handbook,28,FALSE)","v":"-"}]
[null,null,"Division",{"$f":"VLOOKUP(A103,womens_handbook,33,FALSE)","v":"-"},{"$f":"VLOOKUP(A103,womens_handbook,30,FALSE)","v":"-"},{"$f":"VLOOKUP(A103,womens_handbook,31,FALSE)","v":"-"},{"$f":"VLOOKUP(A103,womens_handbook,32,FALSE)","v":"-"}]
[21,null,{"$f":"CONCATENATE(VLOOKUP(A124,womens_handbook,3,FALSE),\"\")","v":"Women's 3000m"},null,null,"Time:",{"$f":"VLOOKUP(A124,womens_handbook,2,FALSE)","v":"14:35:00"}]
[{"$f":"VLOOKUP(A124,womens_handbook,37,FALSE)","v":22},null,"Order","Number","Athlete","Club"]
[{"$f":"VLOOKUP(A124,womens_declare,20,FALSE)","v":9},{"$f":"IF(D126=\"\",\"\",IF(D126>10,D126/11,D126))","v":6},1,{"$f":"HLOOKUP(C126,Handbook!$D$3:$S$24,A125,FALSE)","v":6},{"$f":"IF(ISERROR(HLOOKUP(D126,womens_declare,A126,FALSE))=TRUE,\"\",HLOOKUP(D126,womens_declare,A126,FALSE))","v":"-"},{"$f":"IF(ISERROR(VLOOKUP(B126,matchday,2,FALSE))=TRUE,\"\",VLOOKUP(B126,matchday,2,FALSE))","v":"Warrington AC"}]
[null,7,2,{"$f":"HLOOKUP(C127,Handbook!$D$3:$S$24,A125,FALSE)","v":7},{"$f":"IF(ISERROR(HLOOKUP(D127,womens_declare,A126,FALSE))=TRUE,\"\",HLOOKUP(D127,womens_declare,A126,FALSE))","v":"-"},"Wrexham AAC"]
[null,1,3,{"$f":"HLOOKUP(C128,Handbook!$D$3:$S$24,A125,FALSE)","v":1},{"$f":"IF(ISERROR(HLOOKUP(D128,womens_declare,A126,FALSE))=TRUE,\"\",HLOOKUP(D128,womens_declare,A126,FALSE))","v":"-"},"Altrincham & District AC"]
[null,2,4,{"$f":"HLOOKUP(C129,Handbook!$D$3:$S$24,A125,FALSE)","v":2},{"$f":"IF(ISERROR(HLOOKUP(D129,womens_declare,A126,FALSE))=TRUE,\"\",HLOOKUP(D129,womens_declare,A126,FALSE))","v":"-"},"Crewe & Nantwich AC"]
[null,3,5,{"$f":"HLOOKUP(C130,Handbook!$D$3:$S$24,A125,FALSE)","v":3},{"$f":"IF(ISERROR(HLOOKUP(D130,womens_declare,A126,FALSE))=TRUE,\"\",HLOOKUP(D130,womens_declare,A126,FALSE))","v":"-"},"Isle of Man \"B\""]
[null,5,6,{"$f":"HLOOKUP(C131,Handbook!$D$3:$S$24,A125,FALSE)","v":5},{"$f":"IF(ISERROR(HLOOKUP(D131,womens_declare,A126,FALSE))=TRUE,\"\",HLOOKUP(D131,womens_declare,A126,FALSE))","v":"-"},"Southport Waterloo AC"]
[null,4,7,{"$f":"HLOOKUP(C132,Handbook!$D$3:$S$24,A125,FALSE)","v":4},{"$f":"IF(ISERROR(HLOOKUP(D132,womens_declare,A126,FALSE))=TRUE,\"\",HLOOKUP(D132,womens_declare,A126,FALSE))","v":"-"},"Salford Metropolitan AC"]
[null,0,8,{"$f":"HLOOKUP(C133,Handbook!$D$3:$S$24,A125,FALSE)","v":0},{"$f":"IF(ISERROR(HLOOKUP(D133,womens_declare,A126,FALSE))=TRUE,\"\",HLOOKUP(D133,womens_declare,A126,FALSE))","v":""},""]
[null,6,9,{"$f":"HLOOKUP(C134,Handbook!$D$3:$S$24,A125,FALSE)","v":66},{"$f":"IF(ISERROR(HLOOKUP(D134,womens_declare,A126,FALSE))=TRUE,\"\",HLOOKUP(D134,womens_declare,A126,FALSE))","v":"-"},"Warrington AC"]
[null,7,10,{"$f":"HLOOKUP(C135,Handbook!$D$3:$S$24,A125,FALSE)","v":77},{"$f":"IF(ISERROR(HLOOKUP(D135,womens_declare,A126,FALSE))=TRUE,\"\",HLOOKUP(D135,womens_declare,A126,FALSE))","v":"-"},"Wrexham AAC"]
[null,1,11,{"$f":"HLOOKUP(C136,Handbook!$D$3:$S$24,A125,FALSE)","v":11},{"$f":"IF(ISERROR(HLOOKUP(D136,womens_declare,A126,FALSE))=TRUE,\"\",HLOOKUP(D136,womens_declare,A126,FALSE))","v":"-"},"Altrincham & District AC"]
[null,2,12,{"$f":"HLOOKUP(C137,Handbook!$D$3:$S$24,A125,FALSE)","v":22},{"$f":"IF(ISERROR(HLOOKUP(D137,womens_declare,A126,FALSE))=TRUE,\"\",HLOOKUP(D137,womens_declare,A126,FALSE))","v":"-"},"Crewe & Nantwich AC"]
[null,3,13,{"$f":"HLOOKUP(C138,Handbook!$D$3:$S$24,A125,FALSE)","v":33},{"$f":"IF(ISERROR(HLOOKUP(D138,womens_declare,A126,FALSE))=TRUE,\"\",HLOOKUP(D138,womens_declare,A126,FALSE))","v":"-"},"Isle of Man \"B\""]
[null,5,14,{"$f":"HLOOKUP(C139,Handbook!$D$3:$S$24,A125,FALSE)","v":55},{"$f":"IF(ISERROR(HLOOKUP(D139,womens_declare,A126,FALSE))=TRUE,\"\",HLOOKUP(D139,womens_declare,A126,FALSE))","v":"-"},"Southport Waterloo AC"]
[null,4,15,{"$f":"HLOOKUP(C140,Handbook!$D$3:$S$24,A125,FALSE)","v":44},{"$f":"IF(ISERROR(HLOOKUP(D140,womens_declare,A126,FALSE))=TRUE,\"\",HLOOKUP(D140,womens_declare,A126,FALSE))","v":"-"},"Salford Metropolitan AC"]
[null,0,16,{"$f":"HLOOKUP(C141,Handbook!$D$3:$S$24,A125,FALSE)","v":0},{"$f":"IF(ISERROR(HLOOKUP(D141,womens_declare,A126,FALSE))=TRUE,\"\",HLOOKUP(D141,womens_declare,A126,FALSE))","v":""},""]
[]
[null,null,"League",{"$f":"VLOOKUP(A124,womens_handbook,29,FALSE)","v":1990},{"$f":"VLOOKUP(A124,womens_handbook,26,FALSE)","v":"A Hulley"},{"$f":"VLOOKUP(A124,womens_handbook,27,FALSE)","v":"Leeds City AC"},{"$f":"VLOOKUP(A124,womens_handbook,28,FALSE)","v":"00:09:25"}]
[null,null,"Division",{"$f":"VLOOKUP(A124,womens_handbook,33,FALSE)","v":"-"},{"$f":"VLOOKUP(A124,womens_handbook,30,FALSE)","v":"-"},{"$f":"VLOOKUP(A124,womens_handbook,31,FALSE)","v":"-"},{"$f":"VLOOKUP(A124,womens_handbook,32,FALSE)","v":"-"}]
[6,null,{"$f":"CONCATENATE(VLOOKUP(A145,womens_handbook,3,FALSE),\" - A String\")","v":"Women's 100m Hurdles - A String"},null,null,"Time:",{"$f":"VLOOKUP(A145,womens_handbook,2,FALSE)","v":"14:25:00"}]
[{"$f":"VLOOKUP(A145,womens_handbook,37,FALSE)","v":7},null,"Lane","Number","Athlete","Club"]
[{"$f":"VLOOKUP(A145,womens_declare,20,FALSE)","v":11},{"$f":"IF(D147=\"\",\"\",IF(D147>10,D147/11,D147))","v":2},1,{"$f":"HLOOKUP(C147,womens_handbook,A146,FALSE)","v":2},{"$f":"IF(ISERROR(HLOOKUP(D147,womens_declare,A147,FALSE))=TRUE,\"\",HLOOKUP(D147,womens_declare,A147,FALSE))","v":"-"},{"$f":"IF(ISERROR(VLOOKUP(B147,matchday,2,FALSE))=TRUE,\"\",VLOOKUP(B147,matchday,2,FALSE))","v":"Crewe & Nantwich AC"}]
[null,5,2,{"$f":"HLOOKUP(C148,womens_handbook,A146,FALSE)","v":5},{"$f":"IF(ISERROR(HLOOKUP(D148,womens_declare,A147,FALSE))=TRUE,\"\",HLOOKUP(D148,womens_declare,A147,FALSE))","v":"-"},"Southport Waterloo AC"]
[null,7,3,{"$f":"HLOOKUP(C149,womens_handbook,A146,FALSE)","v":7},{"$f":"IF(ISERROR(HLOOKUP(D149,womens_declare,A147,FALSE))=TRUE,\"\",HLOOKUP(D149,womens_declare,A147,FALSE))","v":"-"},"Wrexham AAC"]
[null,4,4,{"$f":"HLOOKUP(C150,womens_handbook,A146,FALSE)","v":4},{"$f":"IF(ISERROR(HLOOKUP(D150,womens_declare,A147,FALSE))=TRUE,\"\",HLOOKUP(D150,womens_declare,A147,FALSE))","v":"-"},"Salford Metropolitan AC"]
[null,6,5,{"$f":"HLOOKUP(C151,womens_handbook,A146,FALSE)","v":6},{"$f":"IF(ISERROR(HLOOKUP(D151,womens_declare,A147,FALSE))=TRUE,\"\",HLOOKUP(D151,womens_declare,A147,FALSE))","v":"-"},"Warrington AC"]
[null,3,6,{"$f":"HLOOKUP(C152,womens_handbook,A146,FALSE)","v":3},{"$f":"IF(ISERROR(HLOOKUP(D152,womens_declare,A147,FALSE))=TRUE,\"\",HLOOKUP(D152,womens_declare,A147,FALSE))","v":"-"},"Isle of Man \"B\""]
[null,1,7,{"$f":"HLOOKUP(C153,womens_handbook,A146,FALSE)","v":1},{"$f":"IF(ISERROR(HLOOKUP(D153,womens_declare,A147,FALSE))=TRUE,\"\",HLOOKUP(D153,womens_declare,A147,FALSE))","v":"-"},"Altrincham & District AC"]
[null,0,8,{"$f":"HLOOKUP(C154,womens_handbook,A146,FALSE)","v":0},{"$f":"IF(ISERROR(HLOOKUP(D154,womens_declare,A147,FALSE))=TRUE,\"\",HLOOKUP(D154,womens_declare,A147,FALSE))","v":""},""]
[]
[]
[null,null,{"$f":"CONCATENATE(VLOOKUP(A145,womens_handbook,3,FALSE),\" - B String\")","v":"Women's 100m Hurdles - B String"},null,null,"Time:",{"$f":"VLOOKUP(A145,womens_handbook,2,FALSE)","v":"14:25:00"}]
[null,null,"Lane","Number","Athlete","Club"]
[9,{"$f":"IF(D159=\"\",\"\",IF(D159>10,D159/11,D159))","v":2},1,{"$f":"HLOOKUP(A159,womens_handbook,A146,FALSE)","v":22},{"$f":"IF(ISERROR(HLOOKUP(D159,womens_declare,A147,FALSE))=TRUE,\"\",HLOOKUP(D159,womens_declare,A147,FALSE))","v":"-"},{"$f":"IF(ISERROR(VLOOKUP(B159,matchday,2,FALSE))=TRUE,\"\",VLOOKUP(B159,matchday,2,FALSE))","v":"Crewe & Nantwich AC"}]
[10,5,2,{"$f":"HLOOKUP(A160,womens_handbook,A146,FALSE)","v":55},{"$f":"IF(ISERROR(HLOOKUP(D160,womens_declare,A147,FALSE))=TRUE,\"\",HLOOKUP(D160,womens_declare,A147,FALSE))","v":"-"},"Southport Waterloo AC"]
[11,7,3,{"$f":"HLOOKUP(A161,womens_handbook,A146,FALSE)","v":77},{"$f":"IF(ISERROR(HLOOKUP(D161,womens_declare,A147,FALSE))=TRUE,\"\",HLOOKUP(D161,womens_declare,A147,FALSE))","v":"-"},"Wrexham AAC"]
[12,4,4,{"$f":"HLOOKUP(A162,womens_handbook,A146,FALSE)","v":44},{"$f":"IF(ISERROR(HLOOKUP(D162,womens_declare,A147,FALSE))=TRUE,\"\",HLOOKUP(D162,womens_declare,A147,FALSE))","v":"-"},"Salford Metropolitan AC"]
[13,6,5,{"$f":"HLOOKUP(A163,womens_handbook,A146,FALSE)","v":66},{"$f":"IF(ISERROR(HLOOKUP(D163,womens_declare,A147,FALSE))=TRUE,\"\",HLOOKUP(D163,womens_declare,A147,FALSE))","v":"-"},"Warrington AC"]
[14,3,6,{"$f":"HLOOKUP(A164,womens_handbook,A146,FALSE)","v":33},{"$f":"IF(ISERROR(HLOOKUP(D164,womens_declare,A147,FALSE))=TRUE,\"\",HLOOKUP(D164,womens_declare,A147,FALSE))","v":"-"},"Isle of Man \"B\""]
[15,1,7,{"$f":"HLOOKUP(A165,womens_handbook,A146,FALSE)","v":11},{"$f":"IF(ISERROR(HLOOKUP(D165,womens_declare,A147,FALSE))=TRUE,\"\",HLOOKUP(D165,womens_declare,A147,FALSE))","v":"-"},"Altrincham & District AC"]
[16,0,8,{"$f":"HLOOKUP(A166,womens_handbook,A146,FALSE)","v":0},{"$f":"IF(ISERROR(HLOOKUP(D166,womens_declare,A147,FALSE))=TRUE,\"\",HLOOKUP(D166,womens_declare,A147,FALSE))","v":""},""]
[]
[null,null,"League",{"$f":"VLOOKUP(A145,womens_handbook,29,FALSE)","v":1985},{"$f":"VLOOKUP(A145,womens_handbook,26,FALSE)","v":"H Platt"},{"$f":"VLOOKUP(A145,womens_handbook,27,FALSE)","v":"Warrington AC"},{"$f":"VLOOKUP(A145,womens_handbook,28,FALSE)","v":"12.5s"}]
[null,null,"Division",{"$f":"VLOOKUP(A145,womens_handbook,33,FALSE)","v":"-"},{"$f":"VLOOKUP(A145,womens_handbook,30,FALSE)","v":"-"},{"$f":"VLOOKUP(A145,womens_handbook,31,FALSE)","v":"-"},{"$f":"VLOOKUP(A145,womens_handbook,32,FALSE)","v":"-"}]
[7,null,{"$f":"CONCATENATE(VLOOKUP(A170,womens_handbook,3,FALSE),\" - A String\")","v":"Women's 200m - A String"},null,null,"Time:",{"$f":"VLOOKUP(A170,womens_handbook,2,FALSE)","v":"15:45:00"}]
[{"$f":"VLOOKUP(A170,womens_handbook,37,FALSE)","v":8},null,"Lane","Number","Athlete","Club"]
[{"$f":"VLOOKUP(A170,womens_declare,20,FALSE)","v":4},{"$f":"IF(D172=\"\",\"\",IF(D172>10,D172/11,D172))","v":5},1,{"$f":"HLOOKUP(C172,womens_handbook,A171,FALSE)","v":5},{"$f":"IF(ISERROR(HLOOKUP(D172,womens_declare,A172,FALSE))=TRUE,\"\",HLOOKUP(D172,womens_declare,A172,FALSE))","v":"-"},{"$f":"IF(ISERROR(VLOOKUP(B172,matchday,2,FALSE))=TRUE,\"\",VLOOKUP(B172,matchday,2,FALSE))","v":"Southport Waterloo AC"}]
[null,4,2,{"$f":"HLOOKUP(C173,womens_handbook,A171,FALSE)","v":4},{"$f":"IF(ISERROR(HLOOKUP(D173,womens_declare,A172,FALSE))=TRUE,\"\",HLOOKUP(D173,womens_declare,A172,FALSE))","v":"-"},"Salford Metropolitan AC"]
[null,2,3,{"$f":"HLOOKUP(C174,womens_handbook,A171,FALSE)","v":2},{"$f":"IF(ISERROR(HLOOKUP(D174,womens_declare,A172,FALSE))=TRUE,\"\",HLOOKUP(D174,womens_declare,A172,FALSE))","v":"-"},"Crewe & Nantwich AC"]
[null,3,4,{"$f":"HLOOKUP(C175,womens_handbook,A171,FALSE)","v":3},{"$f":"IF(ISERROR(HLOOKUP(D175,womens_declare,A172,FALSE))=TRUE,\"\",HLOOKUP(D175,womens_declare,A172,FALSE))","v":"-"},"Isle of Man \"B\""]
[null,7,5,{"$f":"HLOOKUP(C176,womens_handbook,A171,FALSE)","v":7},{"$f":"IF(ISERROR(HLOOKUP(D176,womens_declare,A172,FALSE))=TRUE,\"\",HLOOKUP(D176,womens_declare,A172,FALSE))","v":"-"},"Wrexham AAC"]
[null,1,6,{"$f":"HLOOKUP(C177,womens_handbook,A171,FALSE)","v":1},{"$f":"IF(ISERROR(HLOOKUP(D177,womens_declare,A172,FALSE))=TRUE,\"\",HLOOKUP(D177,womens_declare,A172,FALSE))","v":"-"},"Altrincham & District AC"]
[null,6,7,{"$f":"HLOOKUP(C178,womens_handbook,A171,FALSE)","v":6},{"$f":"IF(ISERROR(HLOOKUP(D178,womens_declare,A172,FALSE))=TRUE,\"\",HLOOKUP(D178,womens_declare,A172,FALSE))","v":"-"},"Warrington AC"]
[null,0,8,{"$f":"HLOOKUP(C179,womens_handbook,A171,FALSE)","v":0},{"$f":"IF(ISERROR(HLOOKUP(D179,womens_declare,A172,FALSE))=TRUE,\"\",HLOOKUP(D179,womens_declare,A172,FALSE))","v":""},""]
[]
[]
[null,null,{"$f":"CONCATENATE(VLOOKUP(A170,womens_handbook,3,FALSE),\" - B String\")","v":"Women's 200m - B String"},null,null,"Time:",{"$f":"VLOOKUP(A170,womens_handbook,2,FALSE)","v":"15:45:00"}]
[null,null,"Lane","Number","Athlete","Club"]
[9,{"$f":"IF(D184=\"\",\"\",IF(D184>10,D184/11,D184))","v":5},1,{"$f":"HLOOKUP(A184,womens_handbook,A171,FALSE)","v":55},{"$f":"IF(ISERROR(HLOOKUP(D184,womens_declare,A172,FALSE))=TRUE,\"\",HLOOKUP(D184,womens_declare,A172,FALSE))","v":"-"},{"$f":"IF(ISERROR(VLOOKUP(B184,matchday,2,FALSE))=TRUE,\"\",VLOOKUP(B184,matchday,2,FALSE))","v":"Southport Waterloo AC"}]
[10,4,2,{"$f":"HLOOKUP(A185,womens_handbook,A171,FALSE)","v":44},{"$f":"IF(ISERROR(HLOOKUP(D185,womens_declare,A172,FALSE))=TRUE,\"\",HLOOKUP(D185,womens_declare,A172,FALSE))","v":"-"},"Salford Metropolitan AC"]
[11,2,3,{"$f":"HLOOKUP(A186,womens_handbook,A171,FALSE)","v":22},{"$f":"IF(ISERROR(HLOOKUP(D186,womens_declare,A172,FALSE))=TRUE,\"\",HLOOKUP(D186,womens_declare,A172,FALSE))","v":"-"},"Crewe & Nantwich AC"]
[12,3,4,{"$f":"HLOOKUP(A187,womens_handbook,A171,FALSE)","v":33},{"$f":"IF(ISERROR(HLOOKUP(D187,womens_declare,A172,FALSE))=TRUE,\"\",HLOOKUP(D187,womens_declare,A172,FALSE))","v":"-"},"Isle of Man \"B\""]
[13,7,5,{"$f":"HLOOKUP(A188,womens_handbook,A171,FALSE)","v":77},{"$f":"IF(ISERROR(HLOOKUP(D188,womens_declare,A172,FALSE))=TRUE,\"\",HLOOKUP(D188,womens_declare,A172,FALSE))","v":"-"},"Wrexham AAC"]
[14,1,6,{"$f":"HLOOKUP(A189,womens_handbook,A171,FALSE)","v":11},{"$f":"IF(ISERROR(HLOOKUP(D189,womens_declare,A172,FALSE))=TRUE,\"\",HLOOKUP(D189,womens_declare,A172,FALSE))","v":"-"},"Altrincham & District AC"]
[15,6,7,{"$f":"HLOOKUP(A190,womens_handbook,A171,FALSE)","v":66},{"$f":"IF(ISERROR(HLOOKUP(D190,womens_declare,A172,FALSE))=TRUE,\"\",HLOOKUP(D190,womens_declare,A172,FALSE))","v":"-"},"Warrington AC"]
[16,0,8,{"$f":"HLOOKUP(A191,womens_handbook,A171,FALSE)","v":0},{"$f":"IF(ISERROR(HLOOKUP(D191,womens_declare,A172,FALSE))=TRUE,\"\",HLOOKUP(D191,womens_declare,A172,FALSE))","v":""},""]
[]
[null,null,"League",{"$f":"VLOOKUP(A170,womens_handbook,29,FALSE)","v":1991},{"$f":"VLOOKUP(A170,womens_handbook,26,FALSE)","v":"L Stuart"},{"$f":"VLOOKUP(A170,womens_handbook,27,FALSE)","v":"Middlesbrough"},{"$f":"VLOOKUP(A170,womens_handbook,28,FALSE)","v":"23.3s"}]
[null,null,"Division",{"$f":"VLOOKUP(A170,womens_handbook,33,FALSE)","v":"-"},{"$f":"VLOOKUP(A170,womens_handbook,30,FALSE)","v":"-"},{"$f":"VLOOKUP(A170,womens_handbook,31,FALSE)","v":"-"},{"$f":"VLOOKUP(A170,womens_handbook,32,FALSE)","v":"-"}]
[8,null,{"$f":"CONCATENATE(VLOOKUP(A195,womens_handbook,3,FALSE),\" - A String\")","v":"Women's 1500m - A String"},null,null,"Time:",{"$f":"VLOOKUP(A195,womens_handbook,2,FALSE)","v":"15:35:00"}]
[{"$f":"VLOOKUP(A195,womens_handbook,37,FALSE)","v":9},null,"Lane","Number","Athlete","Club"]
[{"$f":"VLOOKUP(A195,womens_declare,20,FALSE)","v":7},{"$f":"IF(D197=\"\",\"\",IF(D197>10,D197/11,D197))","v":1},1,{"$f":"HLOOKUP(C197,womens_handbook,A196,FALSE)","v":1},{"$f":"IF(ISERROR(HLOOKUP(D197,womens_declare,A197,FALSE))=TRUE,\"\",HLOOKUP(D197,womens_declare,A197,FALSE))","v":"-"},{"$f":"IF(ISERROR(VLOOKUP(B197,matchday,2,FALSE))=TRUE,\"\",VLOOKUP(B197,matchday,2,FALSE))","v":"Altrincham & District AC"}]
[null,6,2,{"$f":"HLOOKUP(C198,womens_handbook,A196,FALSE)","v":6},{"$f":"IF(ISERROR(HLOOKUP(D198,womens_declare,A197,FALSE))=TRUE,\"\",HLOOKUP(D198,womens_declare,A197,FALSE))","v":"-"},"Warrington AC"]
[null,3,3,{"$f":"HLOOKUP(C199,womens_handbook,A196,FALSE)","v":3},{"$f":"IF(ISERROR(HLOOKUP(D199,womens_declare,A197,FALSE))=TRUE,\"\",HLOOKUP(D199,womens_declare,A197,FALSE))","v":"-"},"Isle of Man \"B\""]
[null,7,4,{"$f":"HLOOKUP(C200,womens_handbook,A196,FALSE)","v":7},{"$f":"IF(ISERROR(HLOOKUP(D200,womens_declare,A197,FALSE))=TRUE,\"\",HLOOKUP(D200,womens_declare,A197,FALSE))","v":"-"},"Wrexham AAC"]
[null,4,5,{"$f":"HLOOKUP(C201,womens_handbook,A196,FALSE)","v":4},{"$f":"IF(ISERROR(HLOOKUP(D201,womens_declare,A197,FALSE))=TRUE,\"\",HLOOKUP(D201,womens_declare,A197,FALSE))","v":"-"},"Salford Metropolitan AC"]
[null,2,6,{"$f":"HLOOKUP(C202,womens_handbook,A196,FALSE)","v":2},{"$f":"IF(ISERROR(HLOOKUP(D202,womens_declare,A197,FALSE))=TRUE,\"\",HLOOKUP(D202,womens_declare,A197,FALSE))","v":"-"},"Crewe & Nantwich AC"]
[null,5,7,{"$f":"HLOOKUP(C203,womens_handbook,A196,FALSE)","v":5},{"$f":"IF(ISERROR(HLOOKUP(D203,womens_declare,A197,FALSE))=TRUE,\"\",HLOOKUP(D203,womens_declare,A197,FALSE))","v":"-"},"Southport Waterloo AC"]
[null,0,8,{"$f":"HLOOKUP(C204,womens_handbook,A196,FALSE)","v":0},{"$f":"IF(ISERROR(HLOOKUP(D204,womens_declare,A197,FALSE))=TRUE,\"\",HLOOKUP(D204,womens_declare,A197,FALSE))","v":""},""]
[]
[]
[null,null,{"$f":"CONCATENATE(VLOOKUP(A195,womens_handbook,3,FALSE),\" - B String\")","v":"Women's 1500m - B String"},null,null,"Time:",{"$f":"VLOOKUP(A195,womens_handbook,2,FALSE)","v":"15:35:00"}]
[null,null,"Lane","Number","Athlete","Club"]
[9,{"$f":"IF(D209=\"\",\"\",IF(D209>10,D209/11,D209))","v":1},1,{"$f":"HLOOKUP(A209,womens_handbook,A196,FALSE)","v":11},{"$f":"IF(ISERROR(HLOOKUP(D209,womens_declare,A197,FALSE))=TRUE,\"\",HLOOKUP(D209,womens_declare,A197,FALSE))","v":"-"},{"$f":"IF(ISERROR(VLOOKUP(B209,matchday,2,FALSE))=TRUE,\"\",VLOOKUP(B209,matchday,2,FALSE))","v":"Altrincham & District AC"}]
[10,6,2,{"$f":"HLOOKUP(A210,womens_handbook,A196,FALSE)","v":66},{"$f":"IF(ISERROR(HLOOKUP(D210,womens_declare,A197,FALSE))=TRUE,\"\",HLOOKUP(D210,womens_declare,A197,FALSE))","v":"-"},"Warrington AC"]
[11,3,3,{"$f":"HLOOKUP(A211,womens_handbook,A196,FALSE)","v":33},{"$f":"IF(ISERROR(HLOOKUP(D211,womens_declare,A197,FALSE))=TRUE,\"\",HLOOKUP(D211,womens_declare,A197,FALSE))","v":"-"},"Isle of Man \"B\""]
[12,7,4,{"$f":"HLOOKUP(A212,womens_handbook,A196,FALSE)","v":77},{"$f":"IF(ISERROR(HLOOKUP(D212,womens_declare,A197,FALSE))=TRUE,\"\",HLOOKUP(D212,womens_declare,A197,FALSE))","v":"-"},"Wrexham AAC"]
[13,4,5,{"$f":"HLOOKUP(A213,womens_handbook,A196,FALSE)","v":44},{"$f":"IF(ISERROR(HLOOKUP(D213,womens_declare,A197,FALSE))=TRUE,\"\",HLOOKUP(D213,womens_declare,A197,FALSE))","v":"-"},"Salford Metropolitan AC"]
[14,2,6,{"$f":"HLOOKUP(A214,womens_handbook,A196,FALSE)","v":22},{"$f":"IF(ISERROR(HLOOKUP(D214,womens_declare,A197,FALSE))=TRUE,\"\",HLOOKUP(D214,womens_declare,A197,FALSE))","v":"-"},"Crewe & Nantwich AC"]
[15,5,7,{"$f":"HLOOKUP(A215,womens_handbook,A196,FALSE)","v":55},{"$f":"IF(ISERROR(HLOOKUP(D215,womens_declare,A197,FALSE))=TRUE,\"\",HLOOKUP(D215,womens_declare,A197,FALSE))","v":"-"},"Southport Waterloo AC"]
[16,0,8,{"$f":"HLOOKUP(A216,womens_handbook,A196,FALSE)","v":0},{"$f":"IF(ISERROR(HLOOKUP(D216,womens_declare,A197,FALSE))=TRUE,\"\",HLOOKUP(D216,womens_declare,A197,FALSE))","v":""},""]
[]
[null,null,"League",{"$f":"VLOOKUP(A195,womens_handbook,29,FALSE)","v":1987},{"$f":"VLOOKUP(A195,womens_handbook,26,FALSE)","v":"J Scott"},{"$f":"VLOOKUP(A195,womens_handbook,27,FALSE)","v":"Darlington"},{"$f":"VLOOKUP(A195,womens_handbook,28,FALSE)","v":"00:04:07.600"}]
[null,null,"Division",{"$f":"VLOOKUP(A195,womens_handbook,33,FALSE)","v":"-"},{"$f":"VLOOKUP(A195,womens_handbook,30,FALSE)","v":"-"},{"$f":"VLOOKUP(A195,womens_handbook,31,FALSE)","v":"-"},{"$f":"VLOOKUP(A195,womens_handbook,32,FALSE)","v":"-"}]

{"sheet":"Relay Lists","index":28,"n_rows":78,"n_cols":7,"rows_kept":78,"cut":false,"hidden":false,"merged":[[1,1,1,2]]}
[null,{"$f":"CONCATENATE('Match Day'!I8,\" \",'Match Day'!I10,\" - \",'Match Day'!I12)","v":"Division 4W Match 1 - Litherland"},null,null,null,null,"Home"]
[null,{"$f":"'Match Day'!I6","v":"2014-05-04"}]
[9,{"$f":"VLOOKUP(A3,Handbook!$A$4:$C$24,3,FALSE)","v":"Men's 4x100m Relay"},null,null,"Time:",{"$f":"VLOOKUP(A3,Handbook!$A$4:$B$24,2,FALSE)","v":"16:40:00"}]
[{"$f":"VLOOKUP(A3,mens_handbook,37,FALSE)","v":10},"Lane","No.","Club","Athlete"]
[{"$f":"VLOOKUP(A3,mens_declare,20,FALSE)","v":22}]
[null,1,{"$f":"HLOOKUP(B6,mens_handbook,A4,FALSE)","v":6},{"$f":"VLOOKUP(C6,matchday,2,FALSE)","v":"Warrington AC"},{"$f":"IF(ISERROR(HLOOKUP(C6,mens_declare,A5,FALSE))=TRUE,\"\",HLOOKUP(C6,mens_declare,A5,FALSE))","v":"-"}]
[null,null,null,null,{"$f":"IF(ISERROR(HLOOKUP(C6,mens_declare,A5+1,FALSE))=TRUE,\"\",HLOOKUP(C6,mens_declare,A5+1,FALSE))","v":"-"}]
[null,null,null,null,{"$f":"IF(ISERROR(HLOOKUP(C6,mens_declare,A5+2,FALSE))=TRUE,\"\",HLOOKUP(C6,mens_declare,A5+2,FALSE))","v":"-"}]
[null,null,null,null,{"$f":"IF(ISERROR(HLOOKUP(C6,mens_declare,A5+3,FALSE))=TRUE,\"\",HLOOKUP(C6,mens_declare,A5+3,FALSE))","v":"-"}]
[null,2,{"$f":"HLOOKUP(B10,mens_handbook,A4,FALSE)","v":1},{"$f":"IF(ISERROR(VLOOKUP(C10,matchday,2,FALSE))=TRUE,\"\",VLOOKUP(C10,matchday,2,FALSE))","v":"Altrincham & District AC"},{"$f":"IF(ISERROR(HLOOKUP(C10,mens_declare,A5,FALSE))=TRUE,\"\",HLOOKUP(C10,mens_declare,A5,FALSE))","v":"-"}]
[null,null,null,null,{"$f":"IF(ISERROR(HLOOKUP(C10,mens_declare,A5+1,FALSE))=TRUE,\"\",HLOOKUP(C10,mens_declare,A5+1,FALSE))","v":"-"}]
[null,null,null,null,{"$f":"IF(ISERROR(HLOOKUP(C10,mens_declare,A5+2,FALSE))=TRUE,\"\",HLOOKUP(C10,mens_declare,A5+2,FALSE))","v":"-"}]
[null,null,null,null,{"$f":"IF(ISERROR(HLOOKUP(C10,mens_declare,A5+3,FALSE))=TRUE,\"\",HLOOKUP(C10,mens_declare,A5+3,FALSE))","v":"-"}]
[null,3,{"$f":"HLOOKUP(B14,mens_handbook,A4,FALSE)","v":7},{"$f":"IF(ISERROR(VLOOKUP(C14,matchday,2,FALSE))=TRUE,\"\",VLOOKUP(C14,matchday,2,FALSE))","v":"Wrexham AAC"},{"$f":"IF(ISERROR(HLOOKUP(C14,mens_declare,A5,FALSE))=TRUE,\"\",HLOOKUP(C14,mens_declare,A5,FALSE))","v":"-"}]
[null,null,null,null,{"$f":"IF(ISERROR(HLOOKUP(C14,mens_declare,A5+1,FALSE))=TRUE,\"\",HLOOKUP(C14,mens_declare,A5+1,FALSE))","v":"-"}]
[null,null,null,null,{"$f":"IF(ISERROR(HLOOKUP(C14,mens_declare,A5+2,FALSE))=TRUE,\"\",HLOOKUP(C14,mens_declare,A5+2,FALSE))","v":"-"}]
[null,null,null,null,{"$f":"IF(ISERROR(HLOOKUP(C14,mens_declare,A5+3,FALSE))=TRUE,\"\",HLOOKUP(C14,mens_declare,A5+3,FALSE))","v":"-"}]
[null,4,{"$f":"HLOOKUP(B18,mens_handbook,A4,FALSE)","v":3},{"$f":"IF(ISERROR(VLOOKUP(C18,matchday,2,FALSE))=TRUE,\"\",VLOOKUP(C18,matchday,2,FALSE))","v":"Isle of Man \"B\""},{"$f":"IF(ISERROR(HLOOKUP(C18,mens_declare,A5,FALSE))=TRUE,\"\",HLOOKUP(C18,mens_declare,A5,FALSE))","v":"-"}]
[null,null,null,null,{"$f":"IF(ISERROR(HLOOKUP(C18,mens_declare,A5+1,FALSE))=TRUE,\"\",HLOOKUP(C18,mens_declare,A5+1,FALSE))","v":"-"}]
[null,null,null,null,{"$f":"IF(ISERROR(HLOOKUP(C18,mens_declare,A5+2,FALSE))=TRUE,\"\",HLOOKUP(C18,mens_declare,A5+2,FALSE))","v":"-"}]
[null,null,null,null,{"$f":"IF(ISERROR(HLOOKUP(C18,mens_declare,A5+3,FALSE))=TRUE,\"\",HLOOKUP(C18,mens_declare,A5+3,FALSE))","v":"-"}]
[null,5,{"$f":"HLOOKUP(B22,mens_handbook,A4,FALSE)","v":2},{"$f":"IF(ISERROR(VLOOKUP(C22,matchday,2,FALSE))=TRUE,\"\",VLOOKUP(C22,matchday,2,FALSE))","v":"Crewe & Nantwich AC"},{"$f":"IF(ISERROR(HLOOKUP(C22,mens_declare,A5,FALSE))=TRUE,\"\",HLOOKUP(C22,mens_declare,A5,FALSE))","v":"-"}]
[null,null,null,null,{"$f":"IF(ISERROR(HLOOKUP(C22,mens_declare,A5+1,FALSE))=TRUE,\"\",HLOOKUP(C22,mens_declare,A5+1,FALSE))","v":"-"}]
[null,null,null,null,{"$f":"IF(ISERROR(HLOOKUP(C22,mens_declare,A5+2,FALSE))=TRUE,\"\",HLOOKUP(C22,mens_declare,A5+2,FALSE))","v":"-"}]
[null,null,null,null,{"$f":"IF(ISERROR(HLOOKUP(C22,mens_declare,A5+3,FALSE))=TRUE,\"\",HLOOKUP(C22,mens_declare,A5+3,FALSE))","v":"-"}]
[null,6,{"$f":"HLOOKUP(B26,mens_handbook,A4,FALSE)","v":4},{"$f":"IF(ISERROR(VLOOKUP(C26,matchday,2,FALSE))=TRUE,\"\",VLOOKUP(C26,matchday,2,FALSE))","v":"Salford Metropolitan AC"},{"$f":"IF(ISERROR(HLOOKUP(C26,mens_declare,A5,FALSE))=TRUE,\"\",HLOOKUP(C26,mens_declare,A5,FALSE))","v":"-"}]
[null,null,null,null,{"$f":"IF(ISERROR(HLOOKUP(C26,mens_declare,A5+1,FALSE))=TRUE,\"\",HLOOKUP(C26,mens_declare,A5+1,FALSE))","v":"-"}]
[null,null,null,null,{"$f":"IF(ISERROR(HLOOKUP(C26,mens_declare,A5+2,FALSE))=TRUE,\"\",HLOOKUP(C26,mens_declare,A5+2,FALSE))","v":"-"}]
[null,null,null,null,{"$f":"IF(ISERROR(HLOOKUP(C26,mens_declare,A5+3,FALSE))=TRUE,\"\",HLOOKUP(C26,mens_declare,A5+3,FALSE))","v":"-"}]
[null,7,{"$f":"HLOOKUP(B30,mens_handbook,A4,FALSE)","v":5},{"$f":"IF(ISERROR(VLOOKUP(C30,matchday,2,FALSE))=TRUE,\"\",VLOOKUP(C30,matchday,2,FALSE))","v":"Southport Waterloo AC"},{"$f":"IF(ISERROR(HLOOKUP(C30,mens_declare,A5,FALSE))=TRUE,\"\",HLOOKUP(C30,mens_declare,A5,FALSE))","v":"-"}]
[null,null,null,null,{"$f":"IF(ISERROR(HLOOKUP(C30,mens_declare,A5+1,FALSE))=TRUE,\"\",HLOOKUP(C30,mens_declare,A5+1,FALSE))","v":"-"}]
[null,null,null,null,{"$f":"IF(ISERROR(HLOOKUP(C30,mens_declare,A5+2,FALSE))=TRUE,\"\",HLOOKUP(C30,mens_declare,A5+2,FALSE))","v":"-"}]
[null,null,null,null,{"$f":"IF(ISERROR(HLOOKUP(C30,mens_declare,A5+3,FALSE))=TRUE,\"\",HLOOKUP(C30,mens_declare,A5+3,FALSE))","v":"-"}]
[null,8,{"$f":"HLOOKUP(B34,mens_handbook,A4,FALSE)","v":0},{"$f":"IF(ISERROR(VLOOKUP(C34,matchday,2,FALSE))=TRUE,\"\",VLOOKUP(C34,matchday,2,FALSE))","v":""},{"$f":"IF(ISERROR(HLOOKUP(C34,mens_declare,A5,FALSE))=TRUE,\"\",HLOOKUP(C34,mens_declare,A5,FALSE))","v":""}]
[null,null,null,null,{"$f":"IF(ISERROR(HLOOKUP(C34,mens_declare,A5+1,FALSE))=TRUE,\"\",HLOOKUP(C34,mens_declare,A5+1,FALSE))","v":""}]
[null,null,null,null,{"$f":"IF(ISERROR(HLOOKUP(C34,mens_declare,A5+2,FALSE))=TRUE,\"\",HLOOKUP(C34,mens_declare,A5+2,FALSE))","v":""}]
[null,null,null,null,{"$f":"IF(ISERROR(HLOOKUP(C34,mens_declare,A5+3,FALSE))=TRUE,\"\",HLOOKUP(C34,mens_declare,A5+3,FALSE))","v":""}]
[]
[null,"League",{"$f":"VLOOKUP(A3,mens_handbook,29,FALSE)","v":1995},{"$f":"IF(VLOOKUP(A3,mens_handbook,26,FALSE)=\"\",\"\",VLOOKUP(A3,mens_handbook,26,FALSE))","v":"-"},{"$f":"VLOOKUP(A3,mens_handbook,27,FALSE)","v":"Wigan & Dist H"},{"$f":"VLOOKUP(A3,mens_handbook,28,FALSE)","v":"42.3s"}]
[null,"Division",{"$f":"VLOOKUP(A3,mens_handbook,33,FALSE)","v":"-"},{"$f":"IF(VLOOKUP(A3,mens_handbook,30,FALSE)=\"\",\"\",VLOOKUP(A3,mens_handbook,30,FALSE))","v":"-"},{"$f":"VLOOKUP(A3,mens_handbook,31,FALSE)","v":"-"},{"$f":"VLOOKUP(A3,mens_handbook,32,FALSE)","v":"-"}]
[10,{"$f":"VLOOKUP(A41,Handbook!$A$4:$C$24,3,FALSE)","v":"Men's 4x400m Relay"},null,null,"Time:",{"$f":"VLOOKUP(A41,Handbook!$A$4:$B$24,2,FALSE)","v":"17:00:00"}]
[{"$f":"VLOOKUP(A41,mens_handbook,37,FALSE)","v":11},"Lane","No.","Club","Athlete"]
[{"$f":"VLOOKUP(A41,mens_declare,20,FALSE)","v":26}]
[null,1,{"$f":"HLOOKUP(B44,mens_handbook,A42,FALSE)","v":7},{"$f":"VLOOKUP(C44,matchday,2,FALSE)","v":"Wrexham AAC"},{"$f":"IF(ISERROR(HLOOKUP(C44,mens_declare,A43,FALSE))=TRUE,\"\",HLOOKUP(C44,mens_declare,A43,FALSE))","v":"-"}]
[null,null,null,null,{"$f":"IF(ISERROR(HLOOKUP(C44,mens_declare,A43+1,FALSE))=TRUE,\"\",HLOOKUP(C44,mens_declare,A43+1,FALSE))","v":"-"}]
[null,null,null,null,{"$f":"IF(ISERROR(HLOOKUP(C44,mens_declare,A43+2,FALSE))=TRUE,\"\",HLOOKUP(C44,mens_declare,A43+2,FALSE))","v":"-"}]
[null,null,null,null,{"$f":"IF(ISERROR(HLOOKUP(C44,mens_declare,A43+3,FALSE))=TRUE,\"\",HLOOKUP(C44,mens_declare,A43+3,FALSE))","v":"-"}]
[null,2,{"$f":"HLOOKUP(B48,mens_handbook,A42,FALSE)","v":6},{"$f":"IF(ISERROR(VLOOKUP(C48,matchday,2,FALSE))=TRUE,\"\",VLOOKUP(C48,matchday,2,FALSE))","v":"Warrington AC"},{"$f":"IF(ISERROR(HLOOKUP(C48,mens_declare,A43,FALSE))=TRUE,\"\",HLOOKUP(C48,mens_declare,A43,FALSE))","v":"-"}]
[null,null,null,null,{"$f":"IF(ISERROR(HLOOKUP(C48,mens_declare,A43+1,FALSE))=TRUE,\"\",HLOOKUP(C48,mens_declare,A43+1,FALSE))","v":"-"}]
[null,null,null,null,{"$f":"IF(ISERROR(HLOOKUP(C48,mens_declare,A43+2,FALSE))=TRUE,\"\",HLOOKUP(C48,mens_declare,A43+2,FALSE))","v":"-"}]
[null,null,null,null,{"$f":"IF(ISERROR(HLOOKUP(C48,mens_declare,A43+3,FALSE))=TRUE,\"\",HLOOKUP(C48,mens_declare,A43+3,FALSE))","v":"-"}]
[null,3,{"$f":"HLOOKUP(B52,mens_handbook,A42,FALSE)","v":2},{"$f":"IF(ISERROR(VLOOKUP(C52,matchday,2,FALSE))=TRUE,\"\",VLOOKUP(C52,matchday,2,FALSE))","v":"Crewe & Nantwich AC"},{"$f":"IF(ISERROR(HLOOKUP(C52,mens_declare,A43,FALSE))=TRUE,\"\",HLOOKUP(C52,mens_declare,A43,FALSE))","v":"-"}]
[null,null,null,null,{"$f":"IF(ISERROR(HLOOKUP(C52,mens_declare,A43+1,FALSE))=TRUE,\"\",HLOOKUP(C52,mens_declare,A43+1,FALSE))","v":"-"}]
[null,null,null,null,{"$f":"IF(ISERROR(HLOOKUP(C52,mens_declare,A43+2,FALSE))=TRUE,\"\",HLOOKUP(C52,mens_declare,A43+2,FALSE))","v":"-"}]
[null,null,null,null,{"$f":"IF(ISERROR(HLOOKUP(C52,mens_declare,A43+3,FALSE))=TRUE,\"\",HLOOKUP(C52,mens_declare,A43+3,FALSE))","v":"-"}]
[null,4,{"$f":"HLOOKUP(B56,mens_handbook,A42,FALSE)","v":1},{"$f":"IF(ISERROR(VLOOKUP(C56,matchday,2,FALSE))=TRUE,\"\",VLOOKUP(C56,matchday,2,FALSE))","v":"Altrincham & District AC"},{"$f":"IF(ISERROR(HLOOKUP(C56,mens_declare,A43,FALSE))=TRUE,\"\",HLOOKUP(C56,mens_declare,A43,FALSE))","v":"-"}]
[null,null,null,null,{"$f":"IF(ISERROR(HLOOKUP(C56,mens_declare,A43+1,FALSE))=TRUE,\"\",HLOOKUP(C56,mens_declare,A43+1,FALSE))","v":"-"}]
[null,null,null,null,{"$f":"IF(ISERROR(HLOOKUP(C56,mens_declare,A43+2,FALSE))=TRUE,\"\",HLOOKUP(C56,mens_declare,A43+2,FALSE))","v":"-"}]
[null,null,null,null,{"$f":"IF(ISERROR(HLOOKUP(C56,mens_declare,A43+3,FALSE))=TRUE,\"\",HLOOKUP(C56,mens_declare,A43+3,FALSE))","v":"-"}]
[null,5,{"$f":"HLOOKUP(B60,mens_handbook,A42,FALSE)","v":5},{"$f":"IF(ISERROR(VLOOKUP(C60,matchday,2,FALSE))=TRUE,\"\",VLOOKUP(C60,matchday,2,FALSE))","v":"Southport Waterloo AC"},{"$f":"IF(ISERROR(HLOOKUP(C60,mens_declare,A43,FALSE))=TRUE,\"\",HLOOKUP(C60,mens_declare,A43,FALSE))","v":"-"}]
[null,null,null,null,{"$f":"IF(ISERROR(HLOOKUP(C60,mens_declare,A43+1,FALSE))=TRUE,\"\",HLOOKUP(C60,mens_declare,A43+1,FALSE))","v":"-"}]
[null,null,null,null,{"$f":"IF(ISERROR(HLOOKUP(C60,mens_declare,A43+2,FALSE))=TRUE,\"\",HLOOKUP(C60,mens_declare,A43+2,FALSE))","v":"-"}]
[null,null,null,null,{"$f":"IF(ISERROR(HLOOKUP(C60,mens_declare,A43+3,FALSE))=TRUE,\"\",HLOOKUP(C60,mens_declare,A43+3,FALSE))","v":"-"}]
[null,6,{"$f":"HLOOKUP(B64,mens_handbook,A42,FALSE)","v":3},{"$f":"IF(ISERROR(VLOOKUP(C64,matchday,2,FALSE))=TRUE,\"\",VLOOKUP(C64,matchday,2,FALSE))","v":"Isle of Man \"B\""},{"$f":"IF(ISERROR(HLOOKUP(C64,mens_declare,A43,FALSE))=TRUE,\"\",HLOOKUP(C64,mens_declare,A43,FALSE))","v":"-"}]
[null,null,null,null,{"$f":"IF(ISERROR(HLOOKUP(C64,mens_declare,A43+1,FALSE))=TRUE,\"\",HLOOKUP(C64,mens_declare,A43+1,FALSE))","v":"-"}]
[null,null,null,null,{"$f":"IF(ISERROR(HLOOKUP(C64,mens_declare,A43+2,FALSE))=TRUE,\"\",HLOOKUP(C64,mens_declare,A43+2,FALSE))","v":"-"}]
[null,null,null,null,{"$f":"IF(ISERROR(HLOOKUP(C64,mens_declare,A43+3,FALSE))=TRUE,\"\",HLOOKUP(C64,mens_declare,A43+3,FALSE))","v":"-"}]
[null,7,{"$f":"HLOOKUP(B68,mens_handbook,A42,FALSE)","v":4},{"$f":"IF(ISERROR(VLOOKUP(C68,matchday,2,FALSE))=TRUE,\"\",VLOOKUP(C68,matchday,2,FALSE))","v":"Salford Metropolitan AC"},{"$f":"IF(ISERROR(HLOOKUP(C68,mens_declare,A43,FALSE))=TRUE,\"\",HLOOKUP(C68,mens_declare,A43,FALSE))","v":"-"}]
[null,null,null,null,{"$f":"IF(ISERROR(HLOOKUP(C68,mens_declare,A43+1,FALSE))=TRUE,\"\",HLOOKUP(C68,mens_declare,A43+1,FALSE))","v":"-"}]
[null,null,null,null,{"$f":"IF(ISERROR(HLOOKUP(C68,mens_declare,A43+2,FALSE))=TRUE,\"\",HLOOKUP(C68,mens_declare,A43+2,FALSE))","v":"-"}]
[null,null,null,null,{"$f":"IF(ISERROR(HLOOKUP(C68,mens_declare,A43+3,FALSE))=TRUE,\"\",HLOOKUP(C68,mens_declare,A43+3,FALSE))","v":"-"}]
[null,8,{"$f":"HLOOKUP(B72,mens_handbook,A42,FALSE)","v":0},{"$f":"IF(ISERROR(VLOOKUP(C72,matchday,2,FALSE))=TRUE,\"\",VLOOKUP(C72,matchday,2,FALSE))","v":""},{"$f":"IF(ISERROR(HLOOKUP(C72,mens_declare,A43,FALSE))=TRUE,\"\",HLOOKUP(C72,mens_declare,A43,FALSE))","v":""}]
[null,null,null,null,{"$f":"IF(ISERROR(HLOOKUP(C72,mens_declare,A43+1,FALSE))=TRUE,\"\",HLOOKUP(C72,mens_declare,A43+1,FALSE))","v":""}]
[null,null,null,null,{"$f":"IF(ISERROR(HLOOKUP(C72,mens_declare,A43+2,FALSE))=TRUE,\"\",HLOOKUP(C72,mens_declare,A43+2,FALSE))","v":""}]
[null,null,null,null,{"$f":"IF(ISERROR(HLOOKUP(C72,mens_declare,A43+3,FALSE))=TRUE,\"\",HLOOKUP(C72,mens_declare,A43+3,FALSE))","v":""}]
[]
[null,"League",{"$f":"VLOOKUP(A41,mens_handbook,29,FALSE)","v":1995},{"$f":"IF(VLOOKUP(A41,mens_handbook,26,FALSE)=\"\",\"\",VLOOKUP(A41,mens_handbook,26,FALSE))","v":"-"},{"$f":"VLOOKUP(A41,mens_handbook,27,FALSE)","v":"Wigan & Dist H"},{"$f":"VLOOKUP(A41,mens_handbook,28,FALSE)","v":"00:03:13.400"}]
[null,"Division",{"$f":"VLOOKUP(A41,mens_handbook,33,FALSE)","v":"-"},{"$f":"IF(VLOOKUP(A41,mens_handbook,30,FALSE)=\"\",\"\",VLOOKUP(A41,mens_handbook,30,FALSE))","v":"-"},{"$f":"VLOOKUP(A41,mens_handbook,31,FALSE)","v":"-"},{"$f":"VLOOKUP(A41,mens_handbook,32,FALSE)","v":"-"}]

{"sheet":"Relay Lists (F)","index":29,"n_rows":78,"n_cols":7,"rows_kept":78,"cut":false,"hidden":false,"merged":[[1,1,1,2]]}
[null,{"$f":"CONCATENATE('Match Day'!I8,\" \",'Match Day'!I10,\" - \",'Match Day'!I12)","v":"Division 4W Match 1 - Litherland"},null,null,null,null,"Home"]
[null,{"$f":"'Match Day'!I6","v":"2014-05-04"}]
[9,{"$f":"VLOOKUP(A3,womens_handbook,3,FALSE)","v":"Women's 4x100m Relay"},null,null,"Time:",{"$f":"VLOOKUP(A3,womens_handbook,2,FALSE)","v":"16:30:00"}]
[{"$f":"VLOOKUP(A3,womens_handbook,37,FALSE)","v":10},"Lane","No.","Club","Athlete"]
[{"$f":"VLOOKUP(A3,womens_declare,20,FALSE)","v":22}]
[null,1,{"$f":"HLOOKUP(B6,womens_handbook,A4,FALSE)","v":6},{"$f":"VLOOKUP(C6,matchday,2,FALSE)","v":"Warrington AC"},{"$f":"IF(ISERROR(HLOOKUP(C6,womens_declare,A5,FALSE))=TRUE,\"\",HLOOKUP(C6,womens_declare,A5,FALSE))","v":"-"}]
[null,null,null,null,{"$f":"IF(ISERROR(HLOOKUP(C6,womens_declare,A5+1,FALSE))=TRUE,\"\",HLOOKUP(C6,womens_declare,A5+1,FALSE))","v":"-"}]
[null,null,null,null,{"$f":"IF(ISERROR(HLOOKUP(C6,womens_declare,A5+2,FALSE))=TRUE,\"\",HLOOKUP(C6,womens_declare,A5+2,FALSE))","v":"-"}]
[null,null,null,null,{"$f":"IF(ISERROR(HLOOKUP(C6,womens_declare,A5+3,FALSE))=TRUE,\"\",HLOOKUP(C6,womens_declare,A5+3,FALSE))","v":"-"}]
[null,2,{"$f":"HLOOKUP(B10,womens_handbook,A4,FALSE)","v":1},{"$f":"IF(ISERROR(VLOOKUP(C10,matchday,2,FALSE))=TRUE,\"\",VLOOKUP(C10,matchday,2,FALSE))","v":"Altrincham & District AC"},{"$f":"IF(ISERROR(HLOOKUP(C10,womens_declare,A5,FALSE))=TRUE,\"\",HLOOKUP(C10,womens_declare,A5,FALSE))","v":"-"}]
[null,null,null,null,{"$f":"IF(ISERROR(HLOOKUP(C10,womens_declare,A5+1,FALSE))=TRUE,\"\",HLOOKUP(C10,womens_declare,A5+1,FALSE))","v":"-"}]
[null,null,null,null,{"$f":"IF(ISERROR(HLOOKUP(C10,womens_declare,A5+2,FALSE))=TRUE,\"\",HLOOKUP(C10,womens_declare,A5+2,FALSE))","v":"-"}]
[null,null,null,null,{"$f":"IF(ISERROR(HLOOKUP(C10,womens_declare,A5+3,FALSE))=TRUE,\"\",HLOOKUP(C10,womens_declare,A5+3,FALSE))","v":"-"}]
[null,3,{"$f":"HLOOKUP(B14,womens_handbook,A4,FALSE)","v":7},{"$f":"IF(ISERROR(VLOOKUP(C14,matchday,2,FALSE))=TRUE,\"\",VLOOKUP(C14,matchday,2,FALSE))","v":"Wrexham AAC"},{"$f":"IF(ISERROR(HLOOKUP(C14,womens_declare,A5,FALSE))=TRUE,\"\",HLOOKUP(C14,womens_declare,A5,FALSE))","v":"-"}]
[null,null,null,null,{"$f":"IF(ISERROR(HLOOKUP(C14,womens_declare,A5+1,FALSE))=TRUE,\"\",HLOOKUP(C14,womens_declare,A5+1,FALSE))","v":"-"}]
[null,null,null,null,{"$f":"IF(ISERROR(HLOOKUP(C14,womens_declare,A5+2,FALSE))=TRUE,\"\",HLOOKUP(C14,womens_declare,A5+2,FALSE))","v":"-"}]
[null,null,null,null,{"$f":"IF(ISERROR(HLOOKUP(C14,womens_declare,A5+3,FALSE))=TRUE,\"\",HLOOKUP(C14,womens_declare,A5+3,FALSE))","v":"-"}]
[null,4,{"$f":"HLOOKUP(B18,womens_handbook,A4,FALSE)","v":3},{"$f":"IF(ISERROR(VLOOKUP(C18,matchday,2,FALSE))=TRUE,\"\",VLOOKUP(C18,matchday,2,FALSE))","v":"Isle of Man \"B\""},{"$f":"IF(ISERROR(HLOOKUP(C18,womens_declare,A5,FALSE))=TRUE,\"\",HLOOKUP(C18,womens_declare,A5,FALSE))","v":"-"}]
[null,null,null,null,{"$f":"IF(ISERROR(HLOOKUP(C18,womens_declare,A5+1,FALSE))=TRUE,\"\",HLOOKUP(C18,womens_declare,A5+1,FALSE))","v":"-"}]
[null,null,null,null,{"$f":"IF(ISERROR(HLOOKUP(C18,womens_declare,A5+2,FALSE))=TRUE,\"\",HLOOKUP(C18,womens_declare,A5+2,FALSE))","v":"-"}]
[null,null,null,null,{"$f":"IF(ISERROR(HLOOKUP(C18,womens_declare,A5+3,FALSE))=TRUE,\"\",HLOOKUP(C18,womens_declare,A5+3,FALSE))","v":"-"}]
[null,5,{"$f":"HLOOKUP(B22,womens_handbook,A4,FALSE)","v":2},{"$f":"IF(ISERROR(VLOOKUP(C22,matchday,2,FALSE))=TRUE,\"\",VLOOKUP(C22,matchday,2,FALSE))","v":"Crewe & Nantwich AC"},{"$f":"IF(ISERROR(HLOOKUP(C22,womens_declare,A5,FALSE))=TRUE,\"\",HLOOKUP(C22,womens_declare,A5,FALSE))","v":"-"}]
[null,null,null,null,{"$f":"IF(ISERROR(HLOOKUP(C22,womens_declare,A5+1,FALSE))=TRUE,\"\",HLOOKUP(C22,womens_declare,A5+1,FALSE))","v":"-"}]
[null,null,null,null,{"$f":"IF(ISERROR(HLOOKUP(C22,womens_declare,A5+2,FALSE))=TRUE,\"\",HLOOKUP(C22,womens_declare,A5+2,FALSE))","v":"-"}]
[null,null,null,null,{"$f":"IF(ISERROR(HLOOKUP(C22,womens_declare,A5+3,FALSE))=TRUE,\"\",HLOOKUP(C22,womens_declare,A5+3,FALSE))","v":"-"}]
[null,6,{"$f":"HLOOKUP(B26,womens_handbook,A4,FALSE)","v":4},{"$f":"IF(ISERROR(VLOOKUP(C26,matchday,2,FALSE))=TRUE,\"\",VLOOKUP(C26,matchday,2,FALSE))","v":"Salford Metropolitan AC"},{"$f":"IF(ISERROR(HLOOKUP(C26,womens_declare,A5,FALSE))=TRUE,\"\",HLOOKUP(C26,womens_declare,A5,FALSE))","v":"-"}]
[null,null,null,null,{"$f":"IF(ISERROR(HLOOKUP(C26,womens_declare,A5+1,FALSE))=TRUE,\"\",HLOOKUP(C26,womens_declare,A5+1,FALSE))","v":"-"}]
[null,null,null,null,{"$f":"IF(ISERROR(HLOOKUP(C26,womens_declare,A5+2,FALSE))=TRUE,\"\",HLOOKUP(C26,womens_declare,A5+2,FALSE))","v":"-"}]
[null,null,null,null,{"$f":"IF(ISERROR(HLOOKUP(C26,womens_declare,A5+3,FALSE))=TRUE,\"\",HLOOKUP(C26,womens_declare,A5+3,FALSE))","v":"-"}]
[null,7,{"$f":"HLOOKUP(B30,womens_handbook,A4,FALSE)","v":5},{"$f":"IF(ISERROR(VLOOKUP(C30,matchday,2,FALSE))=TRUE,\"\",VLOOKUP(C30,matchday,2,FALSE))","v":"Southport Waterloo AC"},{"$f":"IF(ISERROR(HLOOKUP(C30,womens_declare,A5,FALSE))=TRUE,\"\",HLOOKUP(C30,womens_declare,A5,FALSE))","v":"-"}]
[null,null,null,null,{"$f":"IF(ISERROR(HLOOKUP(C30,womens_declare,A5+1,FALSE))=TRUE,\"\",HLOOKUP(C30,womens_declare,A5+1,FALSE))","v":"-"}]
[null,null,null,null,{"$f":"IF(ISERROR(HLOOKUP(C30,womens_declare,A5+2,FALSE))=TRUE,\"\",HLOOKUP(C30,womens_declare,A5+2,FALSE))","v":"-"}]
[null,null,null,null,{"$f":"IF(ISERROR(HLOOKUP(C30,womens_declare,A5+3,FALSE))=TRUE,\"\",HLOOKUP(C30,womens_declare,A5+3,FALSE))","v":"-"}]
[null,8,{"$f":"HLOOKUP(B34,womens_handbook,A4,FALSE)","v":0},{"$f":"IF(ISERROR(VLOOKUP(C34,matchday,2,FALSE))=TRUE,\"\",VLOOKUP(C34,matchday,2,FALSE))","v":""},{"$f":"IF(ISERROR(HLOOKUP(C34,womens_declare,A5,FALSE))=TRUE,\"\",HLOOKUP(C34,womens_declare,A5,FALSE))","v":""}]
[null,null,null,null,{"$f":"IF(ISERROR(HLOOKUP(C34,womens_declare,A5+1,FALSE))=TRUE,\"\",HLOOKUP(C34,womens_declare,A5+1,FALSE))","v":""}]
[null,null,null,null,{"$f":"IF(ISERROR(HLOOKUP(C34,womens_declare,A5+2,FALSE))=TRUE,\"\",HLOOKUP(C34,womens_declare,A5+2,FALSE))","v":""}]
[null,null,null,null,{"$f":"IF(ISERROR(HLOOKUP(C34,womens_declare,A5+3,FALSE))=TRUE,\"\",HLOOKUP(C34,womens_declare,A5+3,FALSE))","v":""}]
[]
[null,"League",{"$f":"VLOOKUP(A3,womens_handbook,29,FALSE)","v":1994},{"$f":"IF(VLOOKUP(A3,womens_handbook,26,FALSE)=\"\",\"\",VLOOKUP(A3,womens_handbook,26,FALSE))","v":"-"},{"$f":"VLOOKUP(A3,womens_handbook,27,FALSE)","v":"Rotherham H & AC"},{"$f":"VLOOKUP(A3,womens_handbook,28,FALSE)","v":"48.2s"}]
[null,"Division",{"$f":"VLOOKUP(A3,womens_handbook,33,FALSE)","v":"-"},{"$f":"IF(VLOOKUP(A3,womens_handbook,30,FALSE)=\"\",\"\",VLOOKUP(A3,womens_handbook,30,FALSE))","v":"-"},{"$f":"VLOOKUP(A3,womens_handbook,31,FALSE)","v":"-"},{"$f":"VLOOKUP(A3,womens_handbook,32,FALSE)","v":"-"}]
[10,{"$f":"VLOOKUP(A41,womens_handbook,3,FALSE)","v":"Women's 4x400m Relay"},null,null,"Time:",{"$f":"VLOOKUP(A41,womens_handbook,2,FALSE)","v":"16:50:00"}]
[{"$f":"VLOOKUP(A41,Handbook!$A$4:$AK$24,37,FALSE)","v":11},"Lane","No.","Club","Athlete"]
[{"$f":"VLOOKUP(A41,womens_declare,20,FALSE)","v":26}]
[null,1,{"$f":"HLOOKUP(B44,womens_handbook,A42,FALSE)","v":7},{"$f":"VLOOKUP(C44,matchday,2,FALSE)","v":"Wrexham AAC"},{"$f":"IF(ISERROR(HLOOKUP(C44,womens_declare,A43,FALSE))=TRUE,\"\",HLOOKUP(C44,womens_declare,A43,FALSE))","v":"-"}]
[null,null,null,null,{"$f":"IF(ISERROR(HLOOKUP(C44,womens_declare,A43+1,FALSE))=TRUE,\"\",HLOOKUP(C44,womens_declare,A43+1,FALSE))","v":"-"}]
[null,null,null,null,{"$f":"IF(ISERROR(HLOOKUP(C44,womens_declare,A43+2,FALSE))=TRUE,\"\",HLOOKUP(C44,womens_declare,A43+2,FALSE))","v":"-"}]
[null,null,null,null,{"$f":"IF(ISERROR(HLOOKUP(C44,womens_declare,A43+3,FALSE))=TRUE,\"\",HLOOKUP(C44,womens_declare,A43+3,FALSE))","v":"-"}]
[null,2,{"$f":"HLOOKUP(B48,womens_handbook,A42,FALSE)","v":6},{"$f":"IF(ISERROR(VLOOKUP(C48,matchday,2,FALSE))=TRUE,\"\",VLOOKUP(C48,matchday,2,FALSE))","v":"Warrington AC"},{"$f":"IF(ISERROR(HLOOKUP(C48,womens_declare,A43,FALSE))=TRUE,\"\",HLOOKUP(C48,womens_declare,A43,FALSE))","v":"-"}]
[null,null,null,null,{"$f":"IF(ISERROR(HLOOKUP(C48,womens_declare,A43+1,FALSE))=TRUE,\"\",HLOOKUP(C48,womens_declare,A43+1,FALSE))","v":"-"}]
[null,null,null,null,{"$f":"IF(ISERROR(HLOOKUP(C48,womens_declare,A43+2,FALSE))=TRUE,\"\",HLOOKUP(C48,womens_declare,A43+2,FALSE))","v":"-"}]
[null,null,null,null,{"$f":"IF(ISERROR(HLOOKUP(C48,womens_declare,A43+3,FALSE))=TRUE,\"\",HLOOKUP(C48,womens_declare,A43+3,FALSE))","v":"-"}]
[null,3,{"$f":"HLOOKUP(B52,womens_handbook,A42,FALSE)","v":2},{"$f":"IF(ISERROR(VLOOKUP(C52,matchday,2,FALSE))=TRUE,\"\",VLOOKUP(C52,matchday,2,FALSE))","v":"Crewe & Nantwich AC"},{"$f":"IF(ISERROR(HLOOKUP(C52,womens_declare,A43,FALSE))=TRUE,\"\",HLOOKUP(C52,womens_declare,A43,FALSE))","v":"-"}]
[null,null,null,null,{"$f":"IF(ISERROR(HLOOKUP(C52,womens_declare,A43+1,FALSE))=TRUE,\"\",HLOOKUP(C52,womens_declare,A43+1,FALSE))","v":"-"}]
[null,null,null,null,{"$f":"IF(ISERROR(HLOOKUP(C52,womens_declare,A43+2,FALSE))=TRUE,\"\",HLOOKUP(C52,womens_declare,A43+2,FALSE))","v":"-"}]
[null,null,null,null,{"$f":"IF(ISERROR(HLOOKUP(C52,womens_declare,A43+3,FALSE))=TRUE,\"\",HLOOKUP(C52,womens_declare,A43+3,FALSE))","v":"-"}]
[null,4,{"$f":"HLOOKUP(B56,womens_handbook,A42,FALSE)","v":1},{"$f":"IF(ISERROR(VLOOKUP(C56,matchday,2,FALSE))=TRUE,\"\",VLOOKUP(C56,matchday,2,FALSE))","v":"Altrincham & District AC"},{"$f":"IF(ISERROR(HLOOKUP(C56,womens_declare,A43,FALSE))=TRUE,\"\",HLOOKUP(C56,womens_declare,A43,FALSE))","v":"-"}]
[null,null,null,null,{"$f":"IF(ISERROR(HLOOKUP(C56,womens_declare,A43+1,FALSE))=TRUE,\"\",HLOOKUP(C56,womens_declare,A43+1,FALSE))","v":"-"}]
[null,null,null,null,{"$f":"IF(ISERROR(HLOOKUP(C56,womens_declare,A43+2,FALSE))=TRUE,\"\",HLOOKUP(C56,womens_declare,A43+2,FALSE))","v":"-"}]
[null,null,null,null,{"$f":"IF(ISERROR(HLOOKUP(C56,womens_declare,A43+3,FALSE))=TRUE,\"\",HLOOKUP(C56,womens_declare,A43+3,FALSE))","v":"-"}]
[null,5,{"$f":"HLOOKUP(B60,womens_handbook,A42,FALSE)","v":5},{"$f":"IF(ISERROR(VLOOKUP(C60,matchday,2,FALSE))=TRUE,\"\",VLOOKUP(C60,matchday,2,FALSE))","v":"Southport Waterloo AC"},{"$f":"IF(ISERROR(HLOOKUP(C60,womens_declare,A43,FALSE))=TRUE,\"\",HLOOKUP(C60,womens_declare,A43,FALSE))","v":"-"}]
[null,null,null,null,{"$f":"IF(ISERROR(HLOOKUP(C60,womens_declare,A43+1,FALSE))=TRUE,\"\",HLOOKUP(C60,womens_declare,A43+1,FALSE))","v":"-"}]
[null,null,null,null,{"$f":"IF(ISERROR(HLOOKUP(C60,womens_declare,A43+2,FALSE))=TRUE,\"\",HLOOKUP(C60,womens_declare,A43+2,FALSE))","v":"-"}]
[null,null,null,null,{"$f":"IF(ISERROR(HLOOKUP(C60,womens_declare,A43+3,FALSE))=TRUE,\"\",HLOOKUP(C60,womens_declare,A43+3,FALSE))","v":"-"}]
[null,6,{"$f":"HLOOKUP(B64,womens_handbook,A42,FALSE)","v":3},{"$f":"IF(ISERROR(VLOOKUP(C64,matchday,2,FALSE))=TRUE,\"\",VLOOKUP(C64,matchday,2,FALSE))","v":"Isle of Man \"B\""},{"$f":"IF(ISERROR(HLOOKUP(C64,womens_declare,A43,FALSE))=TRUE,\"\",HLOOKUP(C64,womens_declare,A43,FALSE))","v":"-"}]
[null,null,null,null,{"$f":"IF(ISERROR(HLOOKUP(C64,womens_declare,A43+1,FALSE))=TRUE,\"\",HLOOKUP(C64,womens_declare,A43+1,FALSE))","v":"-"}]
[null,null,null,null,{"$f":"IF(ISERROR(HLOOKUP(C64,womens_declare,A43+2,FALSE))=TRUE,\"\",HLOOKUP(C64,womens_declare,A43+2,FALSE))","v":"-"}]
[null,null,null,null,{"$f":"IF(ISERROR(HLOOKUP(C64,womens_declare,A43+3,FALSE))=TRUE,\"\",HLOOKUP(C64,womens_declare,A43+3,FALSE))","v":"-"}]
[null,7,{"$f":"HLOOKUP(B68,womens_handbook,A42,FALSE)","v":4},{"$f":"IF(ISERROR(VLOOKUP(C68,matchday,2,FALSE))=TRUE,\"\",VLOOKUP(C68,matchday,2,FALSE))","v":"Salford Metropolitan AC"},{"$f":"IF(ISERROR(HLOOKUP(C68,womens_declare,A43,FALSE))=TRUE,\"\",HLOOKUP(C68,womens_declare,A43,FALSE))","v":"-"}]
[null,null,null,null,{"$f":"IF(ISERROR(HLOOKUP(C68,womens_declare,A43+1,FALSE))=TRUE,\"\",HLOOKUP(C68,womens_declare,A43+1,FALSE))","v":"-"}]
[null,null,null,null,{"$f":"IF(ISERROR(HLOOKUP(C68,womens_declare,A43+2,FALSE))=TRUE,\"\",HLOOKUP(C68,womens_declare,A43+2,FALSE))","v":"-"}]
[null,null,null,null,{"$f":"IF(ISERROR(HLOOKUP(C68,womens_declare,A43+3,FALSE))=TRUE,\"\",HLOOKUP(C68,womens_declare,A43+3,FALSE))","v":"-"}]
[null,8,{"$f":"HLOOKUP(B72,womens_handbook,A42,FALSE)","v":0},{"$f":"IF(ISERROR(VLOOKUP(C72,matchday,2,FALSE))=TRUE,\"\",VLOOKUP(C72,matchday,2,FALSE))","v":""},{"$f":"IF(ISERROR(HLOOKUP(C72,womens_declare,A43,FALSE))=TRUE,\"\",HLOOKUP(C72,womens_declare,A43,FALSE))","v":""}]
[null,null,null,null,{"$f":"IF(ISERROR(HLOOKUP(C72,womens_declare,A43+1,FALSE))=TRUE,\"\",HLOOKUP(C72,womens_declare,A43+1,FALSE))","v":""}]
[null,null,null,null,{"$f":"IF(ISERROR(HLOOKUP(C72,womens_declare,A43+2,FALSE))=TRUE,\"\",HLOOKUP(C72,womens_declare,A43+2,FALSE))","v":""}]
[null,null,null,null,{"$f":"IF(ISERROR(HLOOKUP(C72,womens_declare,A43+3,FALSE))=TRUE,\"\",HLOOKUP(C72,womens_declare,A43+3,FALSE))","v":""}]
[]
[null,"League",{"$f":"VLOOKUP(A41,womens_handbook,29,FALSE)","v":1987},{"$f":"IF(VLOOKUP(A41,womens_handbook,26,FALSE)=\"\",\"\",VLOOKUP(A41,womens_handbook,26,FALSE))","v":"-"},{"$f":"VLOOKUP(A41,womens_handbook,27,FALSE)","v":"Wigan"},{"$f":"VLOOKUP(A41,womens_handbook,28,FALSE)","v":"00:03:52"}]
[null,"Division",{"$f":"VLOOKUP(A41,womens_handbook,33,FALSE)","v":"-"},{"$f":"IF(VLOOKUP(A41,womens_handbook,30,FALSE)=\"\",\"\",VLOOKUP(A41,womens_handbook,30,FALSE))","v":"-"},{"$f":"VLOOKUP(A41,womens_handbook,31,FALSE)","v":"-"},{"$f":"VLOOKUP(A41,womens_handbook,32,FALSE)","v":"-"}]

{"sheet":"M_1500m","index":30,"n_rows":36,"n_cols":19,"rows_kept":36,"cut":false,"hidden":false,"merged":[[0,0,0,2],[0,3,0,6],[1,3,1,4]]}
["Home",null,null,{"$f":"CONCATENATE('Match Day'!I8,\" \",'Match Day'!I10,\" \",'Match Day'!I12)","v":"Division 4W Match 1 Litherland"}]
[8,null,null,"Men's 1500m",null,null,"Perf"]
[{"$f":"VLOOKUP(A2,mens_handbook,37,FALSE)","v":9},{"$f":"IF(D3=\"\",\"\",IF(D3>10,D3/11,D3))","v":""},1,null,{"$f":"IF(ISERROR(HLOOKUP(D3,mens_declare,$A$4,FALSE))=TRUE,\"\",HLOOKUP(D3,mens_declare,$A$4,FALSE))","v":""},{"$f":"IF(ISERROR(VLOOKUP(B3,matchday,2,FALSE))=TRUE,\"\",VLOOKUP(B3,matchday,2,FALSE))","v":""},null,{"$f":"IF(G3=\"\",\"\",IF(Y2=\"T\",T3,T4))","v":""},{"$f":"C3","v":1},{"$f":"'Match Day'!B4","v":1},{"$f":"J3","v":1},{"$f":"IF(ISERROR(VLOOKUP(J3,$D$3:$I$18,6,FALSE)=TRUE),\"\",VLOOKUP(J3,$D$3:$I$18,6,FALSE))","v":""},{"$f":"IF(L3=0,0,IF(OR(VLOOKUP(K3*11,$K$11:$L$18,2,FALSE)=0,L3<=VLOOKUP(K3*11,$K$11:$L$18,2,FALSE)),\"A\",\"B\"))","v":"A"},{"$f":"IF(M3=0,0,IF(OR(Q3=\"\",M3=\"B\"),\"\",RANK(Q3,$Q$3:$Q$18,1)))","v":""},{"$f":"IF(M3=0,0,IF(OR(R3=\"\",M3=\"A\"),\"\",RANK(R3,$R$3:$R$18,1)))","v":""},{"$f":"J3","v":1},{"$f":"IF(OR(I3=0,L3=0,M3=\"B\"),\"\",L3)","v":""},{"$f":"IF(OR(I3=0,L3=0,M3=\"A\"),\"\",L3)","v":""},{"$f":"Results!AL4","v":1}]
[{"$f":"VLOOKUP(A2,mens_declare,20,FALSE)","v":7},{"$f":"IF(D4=\"\",\"\",IF(D4>10,D4/11,D4))","v":""},2,null,"","",null,{"$f":"IF(G4=\"\",\"\",IF(G4<G3,\"X\",\"\"))","v":""},2,{"$f":"'Match Day'!B6","v":2},{"$f":"J4","v":2},"","A","","",2,"","",{"$f":"Results!AL5","v":2}]
[null,"",3,null,"","",null,{"$f":"IF(G5=\"\",\"\",IF(G5<G4,\"X\",\"\"))","v":""},3,{"$f":"'Match Day'!B8","v":3},3,"","A","","",3,"","",{"$f":"Results!AL6","v":3}]
[null,"",4,null,"","",null,"",4,{"$f":"'Match Day'!B10","v":4},4,"","A","","",4,"","",{"$f":"Results!AL7","v":4}]
[null,"",5,null,"","",null,"",5,{"$f":"'Match Day'!B12","v":5},5,"","A","","",5,"","",{"$f":"Results!AL8","v":5}]
[null,"",6,null,"","",null,"",6,{"$f":"'Match Day'!B14","v":6},6,"","A","","",6,"","",{"$f":"Results!AL9","v":6}]
[null,"",7,null,"","",null,"",7,{"$f":"'Match Day'!B16","v":7},7,"","A","","",7,"","",{"$f":"Results!AL10","v":7}]
[null,"",8,null,"","",null,"",8,{"$f":"'Match Day'!B18","v":8},8,"","A","","",8,"","",{"$f":"Results!AL11","v":8}]
[null,"",9,null,"","",null,"",9,{"$f":"J3*11","v":11},{"$f":"K3*11","v":11},"",{"$f":"IF(L11=0,0,IF(OR(VLOOKUP(K11/11,$K$3:$L$11,2,FALSE)=0,L11<=VLOOKUP(K11/11,$K$3:$L$10,2,FALSE)),\"A\",\"B\"))","v":"A"},"","",11,"","",{"$f":"Results!AL12","v":11}]
[null,"",10,null,"","",null,"",10,{"$f":"J4*11","v":22},22,"","A","","",22,"","",{"$f":"Results!AL13","v":22}]
[null,"",11,null,"","",null,"",11,33,33,"","A","","",33,"","",{"$f":"Results!AL14","v":33}]
[null,"",12,null,"","",null,"",12,44,44,"","A","","",44,"","",{"$f":"Results!AL15","v":44}]
[null,"",13,null,"","",null,"",13,55,55,"","A","","",55,"","",{"$f":"Results!AL16","v":55}]
[null,"",14,null,"","",null,"",14,66,66,"","A","","",66,"","",{"$f":"Results!AL17","v":66}]
[null,"",15,null,"","",null,"",15,77,77,"","A","","",77,"","",{"$f":"Results!AL18","v":77}]
[null,"",16,null,"","",null,"",16,88,88,"","A","","",88,"","",{"$f":"Results!AL19","v":88}]
[null,null,null,null,null,null,null,null,null,null,null,null,null,null,null,null,null,null,{"$f":"Results!AL20","v":99}]
[{"$f":"IF(D20=\"\",\"\",IF(D20>10,D20/11,D20))","v":0},"A",1,{"$f":"IF(ISERROR(VLOOKUP(C20,$N$3:$P$18,3,FALSE))=TRUE,0,VLOOKUP(C20,$N$3:$P$18,3,FALSE))","v":0},{"$f":"IF(ISERROR(HLOOKUP(D20,mens_declare,$A$4,FALSE))=TRUE,\"\",HLOOKUP(D20,mens_declare,$A$4,FALSE))","v":""},{"$f":"IF(ISERROR(VLOOKUP(A20,matchday,2,FALSE))=TRUE,\"\",VLOOKUP(A20,matchday,2,FALSE))","v":""},{"$f":"IF(ISERROR(VLOOKUP(D20,$D$3:$G$18,4,FALSE))=TRUE,0,VLOOKUP(D20,$D$3:$G$18,4,FALSE))","v":"00:00:00"},null,null,null,null,null,null,null,null,null,null,null,{"$f":"Results!AL21","v":97}]
[{"$f":"IF(D21=\"\",\"\",IF(D21>10,D21/11,D21))","v":0},null,2,0,"","","00:00:00",null,null,null,null,null,null,null,null,null,null,null,{"$f":"Results!AL22","v":98}]
[0,null,3,0,"","","00:00:00",null,null,null,null,null,null,null,null,null,null,null,{"$f":"Results!AL23","v":96}]
[0,null,4,0,"","","00:00:00"]
[0,null,5,0,"","","00:00:00"]
[0,null,6,0,"","","00:00:00"]
[0,null,7,0,"","","00:00:00"]
[0,null,8,0,"","","00:00:00"]
[]
[{"$f":"IF(D29=\"\",\"\",IF(D29>10,D29/11,D29))","v":0},"B",1,{"$f":"IF(ISERROR(VLOOKUP(C29,$O$3:$P$18,2,FALSE))=TRUE,0,VLOOKUP(C29,$O$3:$P$18,2,FALSE))","v":0},{"$f":"IF(ISERROR(HLOOKUP(D29,mens_declare,$A$4,FALSE))=TRUE,\"\",HLOOKUP(D29,mens_declare,$A$4,FALSE))","v":""},{"$f":"IF(ISERROR(VLOOKUP(A29,matchday,2,FALSE))=TRUE,\"\",VLOOKUP(A29,matchday,2,FALSE))","v":""},{"$f":"IF(ISERROR(VLOOKUP(D29,$D$3:$G$18,4,FALSE))=TRUE,0,VLOOKUP(D29,$D$3:$G$18,4,FALSE))","v":"00:00:00"}]
[{"$f":"IF(D30=\"\",\"\",IF(D30>10,D30/11,D30))","v":0},null,2,0,"","","00:00:00"]
[0,null,3,0,"","","00:00:00"]
[0,null,4,0,"","","00:00:00"]
[0,null,5,0,"","","00:00:00"]
[0,null,6,0,"","","00:00:00"]
[0,null,7,0,"","","00:00:00"]
[0,null,8,0,"","","00:00:00"]

{"sheet":"M_3000sc","index":31,"n_rows":36,"n_cols":19,"rows_kept":36,"cut":false,"hidden":false,"merged":[[0,0,0,2],[0,3,0,6],[1,3,1,4]]}
["Home",null,null,{"$f":"CONCATENATE('Match Day'!I8,\" \",'Match Day'!I10,\" \",'Match Day'!I12)","v":"Division 4W Match 1 Litherland"}]
[5,null,null,"Men's 3000m S/Chase",null,null,"Perf"]
[{"$f":"VLOOKUP(A2,mens_handbook,37,FALSE)","v":6},{"$f":"IF(D3=\"\",\"\",IF(D3>10,D3/11,D3))","v":""},1,null,{"$f":"IF(ISERROR(HLOOKUP(D3,mens_declare,$A$4,FALSE))=TRUE,\"\",HLOOKUP(D3,mens_declare,$A$4,FALSE))","v":""},{"$f":"IF(ISERROR(VLOOKUP(B3,matchday,2,FALSE))=TRUE,\"\",VLOOKUP(B3,matchday,2,FALSE))","v":""},null,{"$f":"IF(G3=\"\",\"\",IF(Y2=\"T\",T3,T4))","v":""},{"$f":"C3","v":1},{"$f":"'Match Day'!B4","v":1},{"$f":"J3","v":1},{"$f":"IF(ISERROR(VLOOKUP(J3,$D$3:$I$18,6,FALSE)=TRUE),\"\",VLOOKUP(J3,$D$3:$I$18,6,FALSE))","v":""},{"$f":"IF(L3=0,0,IF(OR(VLOOKUP(K3*11,$K$11:$L$18,2,FALSE)=0,L3<=VLOOKUP(K3*11,$K$11:$L$18,2,FALSE)),\"A\",\"B\"))","v":"A"},{"$f":"IF(M3=0,0,IF(OR(Q3=\"\",M3=\"B\"),\"\",RANK(Q3,$Q$3:$Q$18,1)))","v":""},{"$f":"IF(M3=0,0,IF(OR(R3=\"\",M3=\"A\"),\"\",RANK(R3,$R$3:$R$18,1)))","v":""},{"$f":"J3","v":1},{"$f":"IF(OR(I3=0,L3=0,M3=\"B\"),\"\",L3)","v":""},{"$f":"IF(OR(I3=0,L3=0,M3=\"A\"),\"\",L3)","v":""},{"$f":"Results!AL4","v":1}]
[{"$f":"VLOOKUP(A2,mens_declare,20,FALSE)","v":8},"",2,null,"","",null,{"$f":"IF(G4=\"\",\"\",IF(G4<G3,\"X\",\"\"))","v":""},2,{"$f":"'Match Day'!B6","v":2},2,"","A","","",2,"","",{"$f":"Results!AL5","v":2}]
[null,"",3,null,"","",null,"",3,{"$f":"'Match Day'!B8","v":3},3,"","A","","",3,"","",{"$f":"Results!AL6","v":3}]
[null,"",4,null,"","",null,"",4,{"$f":"'Match Day'!B10","v":4},4,"","A","","",4,"","",{"$f":"Results!AL7","v":4}]
[null,"",5,null,"","",null,"",5,{"$f":"'Match Day'!B12","v":5},5,"","A","","",5,"","",{"$f":"Results!AL8","v":5}]
[null,"",6,null,"","",null,"",6,{"$f":"'Match Day'!B14","v":6},6,"","A","","",6,"","",{"$f":"Results!AL9","v":6}]
[null,"",7,null,"","",null,"",7,{"$f":"'Match Day'!B16","v":7},7,"","A","","",7,"","",{"$f":"Results!AL10","v":7}]
[null,"",8,null,"","",null,"",8,{"$f":"'Match Day'!B18","v":8},8,"","A","","",8,"","",{"$f":"Results!AL11","v":8}]
[null,"",9,null,"","",null,"",9,{"$f":"J3*11","v":11},11,"",{"$f":"IF(L11=0,0,IF(OR(VLOOKUP(K11/11,$K$3:$L$11,2,FALSE)=0,L11<=VLOOKUP(K11/11,$K$3:$L$10,2,FALSE)),\"A\",\"B\"))","v":"A"},"","",11,"","",{"$f":"Results!AL12","v":11}]
[null,"",10,null,"","",null,"",10,22,22,"","A","","",22,"","",{"$f":"Results!AL13","v":22}]
[null,"",11,null,"","",null,"",11,33,33,"","A","","",33,"","",{"$f":"Results!AL14","v":33}]
[null,"",12,null,"","",null,"",12,44,44,"","A","","",44,"","",{"$f":"Results!AL15","v":44}]
[null,"",13,null,"","",null,"",13,55,55,"","A","","",55,"","",{"$f":"Results!AL16","v":55}]
[null,"",14,null,"","",null,"",14,66,66,"","A","","",66,"","",{"$f":"Results!AL17","v":66}]
[null,"",15,null,"","",null,"",15,77,77,"","A","","",77,"","",{"$f":"Results!AL18","v":77}]
[null,"",16,null,"","",null,"",16,88,88,"","A","","",88,"","",{"$f":"Results!AL19","v":88}]
[null,null,null,null,null,null,null,null,null,null,null,null,null,null,null,null,null,null,{"$f":"Results!AL20","v":99}]
[{"$f":"IF(D20=\"\",\"\",IF(D20>10,D20/11,D20))","v":0},"A",1,{"$f":"IF(ISERROR(VLOOKUP(C20,$N$3:$P$18,3,FALSE))=TRUE,0,VLOOKUP(C20,$N$3:$P$18,3,FALSE))","v":0},{"$f":"IF(ISERROR(HLOOKUP(D20,mens_declare,$A$4,FALSE))=TRUE,\"\",HLOOKUP(D20,mens_declare,$A$4,FALSE))","v":""},{"$f":"IF(ISERROR(VLOOKUP(A20,matchday,2,FALSE))=TRUE,\"\",VLOOKUP(A20,matchday,2,FALSE))","v":""},{"$f":"IF(ISERROR(VLOOKUP(D20,$D$3:$G$18,4,FALSE))=TRUE,0,VLOOKUP(D20,$D$3:$G$18,4,FALSE))","v":"00:00:00"},null,null,null,null,null,null,null,null,null,null,null,{"$f":"Results!AL21","v":97}]
[0,null,2,0,"","","00:00:00",null,null,null,null,null,null,null,null,null,null,null,{"$f":"Results!AL22","v":98}]
[0,null,3,0,"","","00:00:00",null,null,null,null,null,null,null,null,null,null,null,{"$f":"Results!AL23","v":96}]
[0,null,4,0,"","","00:00:00"]
[0,null,5,0,"","","00:00:00"]
[0,null,6,0,"","","00:00:00"]
[0,null,7,0,"","","00:00:00"]
[0,null,8,0,"","","00:00:00"]
[]
[{"$f":"IF(D29=\"\",\"\",IF(D29>10,D29/11,D29))","v":0},"B",1,{"$f":"IF(ISERROR(VLOOKUP(C29,$O$3:$P$18,2,FALSE))=TRUE,0,VLOOKUP(C29,$O$3:$P$18,2,FALSE))","v":0},{"$f":"IF(ISERROR(HLOOKUP(D29,mens_declare,$A$4,FALSE))=TRUE,\"\",HLOOKUP(D29,mens_declare,$A$4,FALSE))","v":""},{"$f":"IF(ISERROR(VLOOKUP(A29,matchday,2,FALSE))=TRUE,\"\",VLOOKUP(A29,matchday,2,FALSE))","v":""},{"$f":"IF(ISERROR(VLOOKUP(D29,$D$3:$G$18,4,FALSE))=TRUE,0,VLOOKUP(D29,$D$3:$G$18,4,FALSE))","v":"00:00:00"}]
[0,null,2,0,"","","00:00:00"]
[0,null,3,0,"","","00:00:00"]
[0,null,4,0,"","","00:00:00"]
[0,null,5,0,"","","00:00:00"]
[0,null,6,0,"","","00:00:00"]
[0,null,7,0,"","","00:00:00"]
[0,null,8,0,"","","00:00:00"]

{"sheet":"M_5000m","index":32,"n_rows":36,"n_cols":19,"rows_kept":36,"cut":false,"hidden":false,"merged":[[0,0,0,2],[0,3,0,6],[1,3,1,4]]}
["Home",null,null,{"$f":"CONCATENATE('Match Day'!I8,\" \",'Match Day'!I10,\" \",'Match Day'!I12)","v":"Division 4W Match 1 Litherland"}]
[21,null,null,"Men's 5000m",null,null,"Perf"]
[{"$f":"VLOOKUP(A2,mens_handbook,37,FALSE)","v":22},{"$f":"IF(D3=\"\",\"\",IF(D3>10,D3/11,D3))","v":""},1,null,{"$f":"IF(ISERROR(HLOOKUP(D3,mens_declare,$A$4,FALSE))=TRUE,\"\",HLOOKUP(D3,mens_declare,$A$4,FALSE))","v":""},{"$f":"IF(ISERROR(VLOOKUP(B3,matchday,2,FALSE))=TRUE,\"\",VLOOKUP(B3,matchday,2,FALSE))","v":""},null,{"$f":"IF(G3=\"\",\"\",IF(Y2=\"T\",T3,T4))","v":""},{"$f":"C3","v":1},{"$f":"'Match Day'!B4","v":1},{"$f":"J3","v":1},{"$f":"IF(ISERROR(VLOOKUP(J3,$D$3:$I$18,6,FALSE)=TRUE),\"\",VLOOKUP(J3,$D$3:$I$18,6,FALSE))","v":""},{"$f":"IF(L3=0,0,IF(OR(VLOOKUP(K3*11,$K$11:$L$18,2,FALSE)=0,L3<=VLOOKUP(K3*11,$K$11:$L$18,2,FALSE)),\"A\",\"B\"))","v":"A"},{"$f":"IF(M3=0,0,IF(OR(Q3=\"\",M3=\"B\"),\"\",RANK(Q3,$Q$3:$Q$18,1)))","v":""},{"$f":"IF(M3=0,0,IF(OR(R3=\"\",M3=\"A\"),\"\",RANK(R3,$R$3:$R$18,1)))","v":""},{"$f":"J3","v":1},{"$f":"IF(OR(I3=0,L3=0,M3=\"B\"),\"\",L3)","v":""},{"$f":"IF(OR(I3=0,L3=0,M3=\"A\"),\"\",L3)","v":""},{"$f":"Results!AL4","v":1}]
[{"$f":"VLOOKUP(A2,mens_declare,20,FALSE)","v":9},"",2,null,"","",null,{"$f":"IF(G4=\"\",\"\",IF(G4<G3,\"X\",\"\"))","v":""},2,{"$f":"'Match Day'!B6","v":2},2,"","A","","",2,"","",{"$f":"Results!AL5","v":2}]
[null,"",3,null,"","",null,"",3,{"$f":"'Match Day'!B8","v":3},3,"","A","","",3,"","",{"$f":"Results!AL6","v":3}]
[null,"",4,null,"","",null,"",4,{"$f":"'Match Day'!B10","v":4},4,"","A","","",4,"","",{"$f":"Results!AL7","v":4}]
[null,"",5,null,"","",null,"",5,{"$f":"'Match Day'!B12","v":5},5,"","A","","",5,"","",{"$f":"Results!AL8","v":5}]
[null,"",6,null,"","",null,"",6,{"$f":"'Match Day'!B14","v":6},6,"","A","","",6,"","",{"$f":"Results!AL9","v":6}]
[null,"",7,null,"","",null,"",7,{"$f":"'Match Day'!B16","v":7},7,"","A","","",7,"","",{"$f":"Results!AL10","v":7}]
[null,"",8,null,"","",null,"",8,{"$f":"'Match Day'!B18","v":8},8,"","A","","",8,"","",{"$f":"Results!AL11","v":8}]
[null,"",9,null,"","",null,"",9,{"$f":"J3*11","v":11},11,"",{"$f":"IF(L11=0,0,IF(OR(VLOOKUP(K11/11,$K$3:$L$11,2,FALSE)=0,L11<=VLOOKUP(K11/11,$K$3:$L$10,2,FALSE)),\"A\",\"B\"))","v":"A"},"","",11,"","",{"$f":"Results!AL12","v":11}]
[null,"",10,null,"","",null,"",10,22,22,"","A","","",22,"","",{"$f":"Results!AL13","v":22}]
[null,"",11,null,"","",null,"",11,33,33,"","A","","",33,"","",{"$f":"Results!AL14","v":33}]
[null,"",12,null,"","",null,"",12,44,44,"","A","","",44,"","",{"$f":"Results!AL15","v":44}]
[null,"",13,null,"","",null,"",13,55,55,"","A","","",55,"","",{"$f":"Results!AL16","v":55}]
[null,"",14,null,"","",null,"",14,66,66,"","A","","",66,"","",{"$f":"Results!AL17","v":66}]
[null,"",15,null,"","",null,"",15,77,77,"","A","","",77,"","",{"$f":"Results!AL18","v":77}]
[null,"",16,null,"","",null,"",16,88,88,"","A","","",88,"","",{"$f":"Results!AL19","v":88}]
[null,null,null,null,null,null,null,null,null,null,null,null,null,null,null,null,null,null,{"$f":"Results!AL20","v":99}]
[{"$f":"IF(D20=\"\",\"\",IF(D20>10,D20/11,D20))","v":0},"A",1,{"$f":"IF(ISERROR(VLOOKUP(C20,$N$3:$P$18,3,FALSE))=TRUE,0,VLOOKUP(C20,$N$3:$P$18,3,FALSE))","v":0},{"$f":"IF(ISERROR(HLOOKUP(D20,mens_declare,$A$4,FALSE))=TRUE,\"\",HLOOKUP(D20,mens_declare,$A$4,FALSE))","v":""},{"$f":"IF(ISERROR(VLOOKUP(A20,matchday,2,FALSE))=TRUE,\"\",VLOOKUP(A20,matchday,2,FALSE))","v":""},{"$f":"IF(ISERROR(VLOOKUP(D20,$D$3:$G$18,4,FALSE))=TRUE,0,VLOOKUP(D20,$D$3:$G$18,4,FALSE))","v":"00:00:00"},null,null,null,null,null,null,null,null,null,null,null,{"$f":"Results!AL21","v":97}]
[0,null,2,0,"","","00:00:00",null,null,null,null,null,null,null,null,null,null,null,{"$f":"Results!AL22","v":98}]
[0,null,3,0,"","","00:00:00",null,null,null,null,null,null,null,null,null,null,null,{"$f":"Results!AL23","v":96}]
[0,null,4,0,"","","00:00:00"]
[0,null,5,0,"","","00:00:00"]
[0,null,6,0,"","","00:00:00"]
[0,null,7,0,"","","00:00:00"]
[0,null,8,0,"","","00:00:00"]
[]
[{"$f":"IF(D29=\"\",\"\",IF(D29>10,D29/11,D29))","v":0},"B",1,{"$f":"IF(ISERROR(VLOOKUP(C29,$O$3:$P$18,2,FALSE))=TRUE,0,VLOOKUP(C29,$O$3:$P$18,2,FALSE))","v":0},{"$f":"IF(ISERROR(HLOOKUP(D29,mens_declare,$A$4,FALSE))=TRUE,\"\",HLOOKUP(D29,mens_declare,$A$4,FALSE))","v":""},{"$f":"IF(ISERROR(VLOOKUP(A29,matchday,2,FALSE))=TRUE,\"\",VLOOKUP(A29,matchday,2,FALSE))","v":""},{"$f":"IF(ISERROR(VLOOKUP(D29,$D$3:$G$18,4,FALSE))=TRUE,0,VLOOKUP(D29,$D$3:$G$18,4,FALSE))","v":"00:00:00"}]
[0,null,2,0,"","","00:00:00"]
[0,null,3,0,"","","00:00:00"]
[0,null,4,0,"","","00:00:00"]
[0,null,5,0,"","","00:00:00"]
[0,null,6,0,"","","00:00:00"]
[0,null,7,0,"","","00:00:00"]
[0,null,8,0,"","","00:00:00"]

{"sheet":"F_1500m","index":33,"n_rows":36,"n_cols":19,"rows_kept":36,"cut":false,"hidden":false,"merged":[[0,0,0,2],[0,3,0,6],[1,3,1,4]]}
["Home",null,null,{"$f":"CONCATENATE('Match Day'!I8,\" \",'Match Day'!I10,\" \",'Match Day'!I12)","v":"Division 4W Match 1 Litherland"}]
[8,null,null,"Women's 1500m",null,null,"Perf"]
[{"$f":"VLOOKUP(A2,mens_handbook,37,FALSE)","v":9},{"$f":"IF(D3=\"\",\"\",IF(D3>10,D3/11,D3))","v":""},1,null,{"$f":"IF(ISERROR(HLOOKUP(D3,womens_declare,$A$4,FALSE))=TRUE,\"\",HLOOKUP(D3,womens_declare,$A$4,FALSE))","v":""},{"$f":"IF(ISERROR(VLOOKUP(B3,matchday,2,FALSE))=TRUE,\"\",VLOOKUP(B3,matchday,2,FALSE))","v":""},null,{"$f":"IF(G3=\"\",\"\",IF(Y2=\"T\",T3,T4))","v":""},{"$f":"C3","v":1},{"$f":"'Match Day'!B4","v":1},{"$f":"J3","v":1},{"$f":"IF(ISERROR(VLOOKUP(J3,$D$3:$I$18,6,FALSE)=TRUE),\"\",VLOOKUP(J3,$D$3:$I$18,6,FALSE))","v":""},{"$f":"IF(L3=0,0,IF(OR(VLOOKUP(K3*11,$K$11:$L$18,2,FALSE)=0,L3<=VLOOKUP(K3*11,$K$11:$L$18,2,FALSE)),\"A\",\"B\"))","v":"A"},{"$f":"IF(M3=0,0,IF(OR(Q3=\"\",M3=\"B\"),\"\",RANK(Q3,$Q$3:$Q$18,1)))","v":""},{"$f":"IF(M3=0,0,IF(OR(R3=\"\",M3=\"A\"),\"\",RANK(R3,$R$3:$R$18,1)))","v":""},{"$f":"J3","v":1},{"$f":"IF(OR(I3=0,L3=0,M3=\"B\"),\"\",L3)","v":""},{"$f":"IF(OR(I3=0,L3=0,M3=\"A\"),\"\",L3)","v":""},{"$f":"Results!AL4","v":1}]
[{"$f":"VLOOKUP(A2,mens_declare,20,FALSE)","v":7},"",2,null,"","",null,{"$f":"IF(G4=\"\",\"\",IF(G4<G3,\"X\",\"\"))","v":""},2,{"$f":"'Match Day'!B6","v":2},2,"","A","","",2,"","",{"$f":"Results!AL5","v":2}]
[null,"",3,null,"","",null,"",3,{"$f":"'Match Day'!B8","v":3},3,"","A","","",3,"","",{"$f":"Results!AL6","v":3}]
[null,"",4,null,"","",null,"",4,{"$f":"'Match Day'!B10","v":4},4,"","A","","",4,"","",{"$f":"Results!AL7","v":4}]
[null,"",5,null,"","",null,"",5,{"$f":"'Match Day'!B12","v":5},5,"","A","","",5,"","",{"$f":"Results!AL8","v":5}]
[null,"",6,null,"","",null,"",6,{"$f":"'Match Day'!B14","v":6},6,"","A","","",6,"","",{"$f":"Results!AL9","v":6}]
[null,"",7,null,"","",null,"",7,{"$f":"'Match Day'!B16","v":7},7,"","A","","",7,"","",{"$f":"Results!AL10","v":7}]
[null,"",8,null,"","",null,"",8,{"$f":"'Match Day'!B18","v":8},8,"","A","","",8,"","",{"$f":"Results!AL11","v":8}]
[null,"",9,null,"","",null,"",9,{"$f":"J3*11","v":11},11,"",{"$f":"IF(L11=0,0,IF(OR(VLOOKUP(K11/11,$K$3:$L$11,2,FALSE)=0,L11<=VLOOKUP(K11/11,$K$3:$L$10,2,FALSE)),\"A\",\"B\"))","v":"A"},"","",11,"","",{"$f":"Results!AL12","v":11}]
[null,"",10,null,"","",null,"",10,22,22,"","A","","",22,"","",{"$f":"Results!AL13","v":22}]
[null,"",11,null,"","",null,"",11,33,33,"","A","","",33,"","",{"$f":"Results!AL14","v":33}]
[null,"",12,null,"","",null,"",12,44,44,"","A","","",44,"","",{"$f":"Results!AL15","v":44}]
[null,"",13,null,"","",null,"",13,55,55,"","A","","",55,"","",{"$f":"Results!AL16","v":55}]
[null,"",14,null,"","",null,"",14,66,66,"","A","","",66,"","",{"$f":"Results!AL17","v":66}]
[null,"",15,null,"","",null,"",15,77,77,"","A","","",77,"","",{"$f":"Results!AL18","v":77}]
[null,"",16,null,"","",null,"",16,88,88,"","A","","",88,"","",{"$f":"Results!AL19","v":88}]
[null,null,null,null,null,null,null,null,null,null,null,null,null,null,null,null,null,null,{"$f":"Results!AL20","v":99}]
[{"$f":"IF(D20=\"\",\"\",IF(D20>10,D20/11,D20))","v":0},"A",1,{"$f":"IF(ISERROR(VLOOKUP(C20,$N$3:$P$18,3,FALSE))=TRUE,0,VLOOKUP(C20,$N$3:$P$18,3,FALSE))","v":0},{"$f":"IF(ISERROR(HLOOKUP(D20,womens_declare,$A$4,FALSE))=TRUE,\"\",HLOOKUP(D20,womens_declare,$A$4,FALSE))","v":""},{"$f":"IF(ISERROR(VLOOKUP(A20,matchday,2,FALSE))=TRUE,\"\",VLOOKUP(A20,matchday,2,FALSE))","v":""},{"$f":"IF(ISERROR(VLOOKUP(D20,$D$3:$G$18,4,FALSE))=TRUE,0,VLOOKUP(D20,$D$3:$G$18,4,FALSE))","v":"00:00:00"},null,null,null,null,null,null,null,null,null,null,null,{"$f":"Results!AL21","v":97}]
[0,null,2,0,"","","00:00:00",null,null,null,null,null,null,null,null,null,null,null,{"$f":"Results!AL22","v":98}]
[0,null,3,0,"","","00:00:00",null,null,null,null,null,null,null,null,null,null,null,{"$f":"Results!AL23","v":96}]
[0,null,4,0,"","","00:00:00"]
[0,null,5,0,"","","00:00:00"]
[0,null,6,0,"","","00:00:00"]
[0,null,7,0,"","","00:00:00"]
[0,null,8,0,"","","00:00:00"]
[]
[{"$f":"IF(D29=\"\",\"\",IF(D29>10,D29/11,D29))","v":0},"B",1,{"$f":"IF(ISERROR(VLOOKUP(C29,$O$3:$P$18,2,FALSE))=TRUE,0,VLOOKUP(C29,$O$3:$P$18,2,FALSE))","v":0},{"$f":"IF(ISERROR(HLOOKUP(D29,womens_declare,$A$4,FALSE))=TRUE,\"\",HLOOKUP(D29,womens_declare,$A$4,FALSE))","v":""},{"$f":"IF(ISERROR(VLOOKUP(A29,matchday,2,FALSE))=TRUE,\"\",VLOOKUP(A29,matchday,2,FALSE))","v":""},{"$f":"IF(ISERROR(VLOOKUP(D29,$D$3:$G$18,4,FALSE))=TRUE,0,VLOOKUP(D29,$D$3:$G$18,4,FALSE))","v":"00:00:00"}]
[0,null,2,0,"","","00:00:00"]
[0,null,3,0,"","","00:00:00"]
[0,null,4,0,"","","00:00:00"]
[0,null,5,0,"","","00:00:00"]
[0,null,6,0,"","","00:00:00"]
[0,null,7,0,"","","00:00:00"]
[0,null,8,0,"","","00:00:00"]

{"sheet":"F_3000m","index":34,"n_rows":36,"n_cols":19,"rows_kept":36,"cut":false,"hidden":false,"merged":[[0,0,0,2],[0,3,0,6],[1,3,1,4]]}
["Home",null,null,{"$f":"CONCATENATE('Match Day'!I8,\" \",'Match Day'!I10,\" \",'Match Day'!I12)","v":"Division 4W Match 1 Litherland"}]
[21,null,null,"Women's 3000m",null,null,"Perf"]
[{"$f":"VLOOKUP(A2,mens_handbook,37,FALSE)","v":22},{"$f":"IF(D3=\"\",\"\",IF(D3>10,D3/11,D3))","v":""},1,null,{"$f":"IF(ISERROR(HLOOKUP(D3,womens_declare,$A$4,FALSE))=TRUE,\"\",HLOOKUP(D3,womens_declare,$A$4,FALSE))","v":""},{"$f":"IF(ISERROR(VLOOKUP(B3,matchday,2,FALSE))=TRUE,\"\",VLOOKUP(B3,matchday,2,FALSE))","v":""},null,{"$f":"IF(G3=\"\",\"\",IF(Y2=\"T\",T3,T4))","v":""},{"$f":"C3","v":1},{"$f":"'Match Day'!B4","v":1},{"$f":"J3","v":1},{"$f":"IF(ISERROR(VLOOKUP(J3,$D$3:$I$18,6,FALSE)=TRUE),\"\",VLOOKUP(J3,$D$3:$I$18,6,FALSE))","v":""},{"$f":"IF(L3=0,0,IF(OR(VLOOKUP(K3*11,$K$11:$L$18,2,FALSE)=0,L3<=VLOOKUP(K3*11,$K$11:$L$18,2,FALSE)),\"A\",\"B\"))","v":"A"},{"$f":"IF(M3=0,0,IF(OR(Q3=\"\",M3=\"B\"),\"\",RANK(Q3,$Q$3:$Q$18,1)))","v":""},{"$f":"IF(M3=0,0,IF(OR(R3=\"\",M3=\"A\"),\"\",RANK(R3,$R$3:$R$18,1)))","v":""},{"$f":"J3","v":1},{"$f":"IF(OR(I3=0,L3=0,M3=\"B\"),\"\",L3)","v":""},{"$f":"IF(OR(I3=0,L3=0,M3=\"A\"),\"\",L3)","v":""},{"$f":"Results!AL4","v":1}]
[{"$f":"VLOOKUP(A2,mens_declare,20,FALSE)","v":9},"",2,null,"","",null,{"$f":"IF(G4=\"\",\"\",IF(G4<G3,\"X\",\"\"))","v":""},2,{"$f":"'Match Day'!B6","v":2},2,"","A","","",2,"","",{"$f":"Results!AL5","v":2}]
[null,"",3,null,"","",null,"",3,{"$f":"'Match Day'!B8","v":3},3,"","A","","",3,"","",{"$f":"Results!AL6","v":3}]
[null,"",4,null,"","",null,"",4,{"$f":"'Match Day'!B10","v":4},4,"","A","","",4,"","",{"$f":"Results!AL7","v":4}]
[null,"",5,null,"","",null,"",5,{"$f":"'Match Day'!B12","v":5},5,"","A","","",5,"","",{"$f":"Results!AL8","v":5}]
[null,"",6,null,"","",null,"",6,{"$f":"'Match Day'!B14","v":6},6,"","A","","",6,"","",{"$f":"Results!AL9","v":6}]
[null,"",7,null,"","",null,"",7,{"$f":"'Match Day'!B16","v":7},7,"","A","","",7,"","",{"$f":"Results!AL10","v":7}]
[null,"",8,null,"","",null,"",8,{"$f":"'Match Day'!B18","v":8},8,"","A","","",8,"","",{"$f":"Results!AL11","v":8}]
[null,"",9,null,"","",null,"",9,{"$f":"J3*11","v":11},11,"",{"$f":"IF(L11=0,0,IF(OR(VLOOKUP(K11/11,$K$3:$L$11,2,FALSE)=0,L11<=VLOOKUP(K11/11,$K$3:$L$10,2,FALSE)),\"A\",\"B\"))","v":"A"},"","",11,"","",{"$f":"Results!AL12","v":11}]
[null,"",10,null,"","",null,"",10,22,22,"","A","","",22,"","",{"$f":"Results!AL13","v":22}]
[null,"",11,null,"","",null,"",11,33,33,"","A","","",33,"","",{"$f":"Results!AL14","v":33}]
[null,"",12,null,"","",null,"",12,44,44,"","A","","",44,"","",{"$f":"Results!AL15","v":44}]
[null,"",13,null,"","",null,"",13,55,55,"","A","","",55,"","",{"$f":"Results!AL16","v":55}]
[null,"",14,null,"","",null,"",14,66,66,"","A","","",66,"","",{"$f":"Results!AL17","v":66}]
[null,"",15,null,"","",null,"",15,77,77,"","A","","",77,"","",{"$f":"Results!AL18","v":77}]
[null,"",16,null,"","",null,"",16,88,88,"","A","","",88,"","",{"$f":"Results!AL19","v":88}]
[null,null,null,null,null,null,null,null,null,null,null,null,null,null,null,null,null,null,{"$f":"Results!AL20","v":99}]
[{"$f":"IF(D20=\"\",\"\",IF(D20>10,D20/11,D20))","v":0},"A",1,{"$f":"IF(ISERROR(VLOOKUP(C20,$N$3:$P$18,3,FALSE))=TRUE,0,VLOOKUP(C20,$N$3:$P$18,3,FALSE))","v":0},{"$f":"IF(ISERROR(HLOOKUP(D20,womens_declare,$A$4,FALSE))=TRUE,\"\",HLOOKUP(D20,womens_declare,$A$4,FALSE))","v":""},{"$f":"IF(ISERROR(VLOOKUP(A20,matchday,2,FALSE))=TRUE,\"\",VLOOKUP(A20,matchday,2,FALSE))","v":""},{"$f":"IF(ISERROR(VLOOKUP(D20,$D$3:$G$18,4,FALSE))=TRUE,0,VLOOKUP(D20,$D$3:$G$18,4,FALSE))","v":"00:00:00"},null,null,null,null,null,null,null,null,null,null,null,{"$f":"Results!AL21","v":97}]
[0,null,2,0,"","","00:00:00",null,null,null,null,null,null,null,null,null,null,null,{"$f":"Results!AL22","v":98}]
[0,null,3,0,"","","00:00:00",null,null,null,null,null,null,null,null,null,null,null,{"$f":"Results!AL23","v":96}]
[0,null,4,0,"","","00:00:00"]
[0,null,5,0,"","","00:00:00"]
[0,null,6,0,"","","00:00:00"]
[0,null,7,0,"","","00:00:00"]
[0,null,8,0,"","","00:00:00"]
[]
[{"$f":"IF(D29=\"\",\"\",IF(D29>10,D29/11,D29))","v":0},"B",1,{"$f":"IF(ISERROR(VLOOKUP(C29,$O$3:$P$18,2,FALSE))=TRUE,0,VLOOKUP(C29,$O$3:$P$18,2,FALSE))","v":0},{"$f":"IF(ISERROR(HLOOKUP(D29,womens_declare,$A$4,FALSE))=TRUE,\"\",HLOOKUP(D29,womens_declare,$A$4,FALSE))","v":""},{"$f":"IF(ISERROR(VLOOKUP(A29,matchday,2,FALSE))=TRUE,\"\",VLOOKUP(A29,matchday,2,FALSE))","v":""},{"$f":"IF(ISERROR(VLOOKUP(D29,$D$3:$G$18,4,FALSE))=TRUE,0,VLOOKUP(D29,$D$3:$G$18,4,FALSE))","v":"00:00:00"}]
[0,null,2,0,"","","00:00:00"]
[0,null,3,0,"","","00:00:00"]
[0,null,4,0,"","","00:00:00"]
[0,null,5,0,"","","00:00:00"]
[0,null,6,0,"","","00:00:00"]
[0,null,7,0,"","","00:00:00"]
[0,null,8,0,"","","00:00:00"]